{"text_format":"1","workbook":"xlsx","n_sheets":19,"sheets":["👩🏻‍🏫 Bienvenue !","🥧 01","🎿 02","🌱 03","🐟 04","🎾 05","☀️ 06","🧳 07","🏖 08","📝  09","🎃 10","🍂 11","🎄 12","🗂 Synthèse annuelle","📊 Graphiques","🧮 Simulation","🧾 Facture","coulisses 2","coulisses"],"not_rendered":{"charts":5,"images":2,"macros":0,"external_links":3,"defined_names":58,"comments":0,"pivot_tables":0},"unopened":[],"bounds":{"document_bytes":16777216,"sheet_cells":100000,"rows_first":2000,"rows_last":500,"rows_between":2000,"halvings":0,"cell_chars":16384,"cell_head_chars":4096},"cells_cut":0,"cells_raw":0,"read":"whole","date_system":"1900"}

{"sheet":"👩🏻‍🏫 Bienvenue !","index":0,"n_rows":92,"n_cols":11,"rows_kept":92,"cut":false,"hidden":false,"merged":[[91,1,91,8],[90,3,90,8],[89,3,89,8],[88,1,90,1],[88,3,88,8],[4,3,4,8],[9,3,9,8],[13,3,13,8],[84,3,84,8],[86,3,86,8],[23,3,23,8],[47,3,47,8],[24,3,24,8],[17,3,17,8],[70,3,70,8]]}
[null,null,null,null,null,"Bienvenue",{"$f":"$I$7&\" !\"","v":" !"},null,{"$f":"K7","v":0}]
[]
[]
[]
[null,"👩🏻‍🏫",null,"Bonjour et bienvenue ! Tapez votre nom dans la case violette et choisissez votre icône dans la liste en cliquant sur l'emoji ! Vous pouvez aussi copier-coller un emoji du site getemoji.com par exemple."]
[]
[null,null,null,null,null,null,"Bonjour ! Je m'appelle"]
[]
[null,{"$f":"$B$5","v":"👩🏻‍🏫"},null,{"$f":"\"Enchantée \"&I7&\" !\"","v":"Enchantée  !"}]
[null,{"$f":"$B$5","v":"👩🏻‍🏫"},null,"Comment s'appelle votre micro-entreprise ? "]
[]
[null,null,null,null,null,null,"Ma micro-entreprise s'appelle",null,null,null,{"$f":"$K$7","v":0}]
[]
[null,{"$f":"B5","v":"👩🏻‍🏫"},null,{"$f":"I12&\" ? Joli nom !\" & \" Dites-moi l'année pour laquelle vous allez faire votre comptabilité.\"","v":" ? Joli nom ! Dites-moi l'année pour laquelle vous allez faire votre comptabilité."}]
[]
[null,null,null,null,null,null,null,null,null,null,{"$f":"$K$7","v":0}]
[]
[null,{"$f":"B48","v":"👩🏻‍🏫"},null,"Parlons maintenant des vos taux de cotisations. Vous pouvez avoir jusqu'à trois taux de cotisations différents en fonction de vos activités et de vos choix lors de la création de votre micro-entreprise."]
[]
[null,null,null,null,null,null,"Taux 1",null,null,null,{"$f":"$K$7","v":0}]
[null,null,null,null,null,null,"Taux 2"]
[null,null,null,null,null,null,"Taux 3"]
[]
[null,{"$f":"B9","v":"👩🏻‍🏫"},null,{"$f":"\"Parlons maintenant de vos recettes pour votre projet \"&I12&\" : vous pouvez choisir jusqu'à 20 catégories de recettes. Vous pourrez ensuite suivre la composition de votre chiffre d'affaires dans la synthèse.\"","v":"Parlons maintenant de vos recettes pour votre projet  : vous pouvez choisir jusqu'à 20 catégories de recettes. Vous pourrez ensuite suivre la composition de votre chiffre d'affaires dans la synthèse."}]
[null,null,null,"Si vos produits et services appartiennent à plusieurs catégories de taux de cotisations, je vous conseille de les séparer dans ces catégories pour faciliter votre déclaration."]
[null,null,null,null,null,null,"Taux correspondant",null,"Catégorie de recette"]
[null,null,null,null,null,"Catégorie 1",null,null,null,null,{"$f":"$K$7","v":0}]
[null,null,null,null,null,"Catégorie 2"]
[null,null,null,null,null,"Catégorie 3"]
[null,null,null,null,null,"Catégorie 4"]
[null,null,null,null,null,"Catégorie 5"]
[null,null,null,null,null,"Catégorie 6"]
[null,null,null,null,null,"Catégorie 7"]
[null,null,null,null,null,"Catégorie 8"]
[null,null,null,null,null,"Catégorie 9"]
[null,null,null,null,null,"Catégorie 10"]
[null,null,null,null,null,"Catégorie 11"]
[null,null,null,null,null,"Catégorie 12"]
[null,null,null,null,null,"Catégorie 13"]
[null,null,null,null,null,"Catégorie 14"]
[null,null,null,null,null,"Catégorie 15"]
[null,null,null,null,null,"Catégorie 16"]
[null,null,null,null,null,"Catégorie 17"]
[null,null,null,null,null,"Catégorie 18"]
[null,null,null,null,null,"Catégorie 19"]
[null,null,null,null,null,"Catégorie 20"]
[]
[null,{"$f":"B24","v":"👩🏻‍🏫"},null,{"$f":"\"Parlons de vos dépenses pour votre projet \"&I12&\" : vous pouvez choisir jusqu'à 20 catégories de dépenses. Vous pourrez ensuite suivre leur évolution en détail dans la synthèse.\"","v":"Parlons de vos dépenses pour votre projet  : vous pouvez choisir jusqu'à 20 catégories de dépenses. Vous pourrez ensuite suivre leur évolution en détail dans la synthèse."}]
[]
[null,null,null,null,null,null,"Catégorie 1",null,null,null,{"$f":"$K$7","v":0}]
[null,null,null,null,null,null,"Catégorie 2"]
[null,null,null,null,null,null,"Catégorie 3"]
[null,null,null,null,null,null,"Catégorie 4"]
[null,null,null,null,null,null,"Catégorie 5"]
[null,null,null,null,null,null,"Catégorie 6"]
[null,null,null,null,null,null,"Catégorie 7"]
[null,null,null,null,null,null,"Catégorie 8"]
[null,null,null,null,null,null,"Catégorie 9"]
[null,null,null,null,null,null,"Catégorie 10"]
[null,null,null,null,null,null,"Catégorie 11"]
[null,null,null,null,null,null,"Catégorie 12"]
[null,null,null,null,null,null,"Catégorie 13"]
[null,null,null,null,null,null,"Catégorie 14"]
[null,null,null,null,null,null,"Catégorie 15"]
[null,null,null,null,null,null,"Catégorie 16"]
[null,null,null,null,null,null,"Catégorie 17"]
[null,null,null,null,null,null,"Catégorie 18"]
[null,null,null,null,null,null,"Catégorie 19"]
[null,null,null,null,null,null,"Catégorie 20",null,"Cotisations sociales"]
[]
[null,{"$f":"B48","v":"👩🏻‍🏫"},null,"Vous pouvez choisir 10 axes. Ils vous permettront de calculer votre profit (recettes - dépenses) pour des sous-activités de votre projet. Par exemple, vous pouvez avoir un axe \"Prestations\" et un axe \"Ventes de marchandises\" ou alors un axe par type de clients \"Professionnels\" et \"Particuliers\". Cela vous permettra d'analyser votre activité et de voir ce qui est rentable."]
[]
[null,null,null,null,null,null,"Axe 1"]
[null,null,null,null,null,null,"Axe 2"]
[null,null,null,null,null,null,"Axe 3"]
[null,null,null,null,null,null,"Axe 4"]
[null,null,null,null,null,null,"Axe 5"]
[null,null,null,null,null,null,"Axe 6"]
[null,null,null,null,null,null,"Axe 7"]
[null,null,null,null,null,null,"Axe 8"]
[null,null,null,null,null,null,"Axe 9"]
[null,null,null,null,null,null,"Axe 10"]
[]
[]
[null,{"$f":"B5","v":"👩🏻‍🏫"},null,"Ok, c'est noté ! Pour utiliser ce fichier, il vous suffit de saisir vos recettes et vos dépenses chaque mois dans les onglets \"01 à 12\" tout en bas de l'écran. "]
[]
[null,null,null,"OK, merci !",null,null,null,null,null,null,{"$f":"$K$7","v":0}]
[]
[null,{"$f":"B5","v":"👩🏻‍🏫"},null,"Pour rappel, n'oubliez pas d'imprimer en PDF l'onglet mensuel à chaque déclaration, pour être en règle. La date de création du fichier PDF obtenu fera foi en cas de contrôle."]
[null,null,null,"Pour utiliser au mieux cet outil, référez-vous à la fiche d'instructions. "]
[null,null,null,{"$f":" \"Je vous souhaite plein de succès avec\"&\" \"&I12&\". \"&\"A bientôt, \"&I7&\" !\"","v":"Je vous souhaite plein de succès avec . A bientôt,  !"}]
[null,"Ce fichier est à usage privé et ne peut pas faire l'objet d'une vente ou d'un partage public."]

{"sheet":"🥧 01","index":1,"n_rows":304,"n_cols":24,"rows_kept":304,"cut":false,"hidden":false,"merged":[[1,1,1,4],[1,9,1,12]]}
[null,{"$f":"'👩🏻‍🏫 Bienvenue !'!K7","v":0},null,{"$f":" '👩🏻‍🏫 Bienvenue !'!I12&\" - \"&\"Janvier \"&'👩🏻‍🏫 Bienvenue !'!I16","v":" - Janvier "},null,null,null,null,null,null,null,null,null,null,"VOTRE PROFIT DU MOIS",{"$f":"H2-P2","v":0}]
[null,"Vos recettes 💰",null,null,null,null,"TOTAL",{"$f":"SUM(recettesjan[Montant])","v":0},null,"Vos dépenses 🧾",null,null,null,null,"TOTAL",{"$f":"SUM(depensesjan[Montant])","v":0}]
[]
[null,"Date","Mode de paiement","N°","Libellé et nom du client","Catégorie","Axe","Montant",null,"Date","Mode de paiement","N°","Libellé","Catégorie","Axe","Montant",null,"taux "]
[null,null,null,null,null,null,null,null,null,null,null,"J1","Cotisations sociales Novembre - Taux 1","Cotisations sociales",null,null,null,{"$f":"VLOOKUP(recettesjan[[#This Row],[Catégorie]],'coulisses 2'!$A$1:$B$20,2,0)","v":0},null,"Récapitulatif par type de dépense",{"$f":"SUM(U6:U26)","v":0},null,"Récapitulatif par type de recette",{"$f":"SUM(X6:X26)","v":0}]
[null,null,null,null,null,null,null,null,null,null,null,"J2","Cotisations sociales Novembre - Taux 2","Cotisations sociales",null,null,null,{"$f":"VLOOKUP(recettesjan[[#This Row],[Catégorie]],'coulisses 2'!$A$1:$B$20,2,0)","v":0},null,{"$f":"coulisses!J23","v":0},{"$f":"SUMIF(depensesjan[Catégorie],T6,depensesjan[Montant])","v":0},null,{"$f":"coulisses!J3","v":0},{"$f":"SUMIF(recettesjan[Catégorie],W6,recettesjan[Montant])","v":0}]
[null,null,null,null,null,null,null,null,null,null,null,"J3","Cotisations sociales Novembre - Taux 3","Cotisations sociales",null,null,null,{"$f":"VLOOKUP(recettesjan[[#This Row],[Catégorie]],'coulisses 2'!$A$1:$B$20,2,0)","v":0},null,{"$f":"coulisses!J24","v":0},{"$f":"SUMIF(depensesjan[Catégorie],T7,depensesjan[Montant])","v":0},null,{"$f":"coulisses!J4","v":0},{"$f":"SUMIF(recettesjan[Catégorie],W7,recettesjan[Montant])","v":0}]
[null,null,null,null,null,null,null,null,null,null,null,null,null,null,null,null,null,{"$f":"VLOOKUP(recettesjan[[#This Row],[Catégorie]],'coulisses 2'!$A$1:$B$20,2,0)","v":0},null,{"$f":"coulisses!J25","v":0},{"$f":"SUMIF(depensesjan[Catégorie],T8,depensesjan[Montant])","v":0},null,{"$f":"coulisses!J5","v":0},{"$f":"SUMIF(recettesjan[Catégorie],W8,recettesjan[Montant])","v":0}]
[null,null,null,null,null,null,null,null,null,null,null,null,null,null,null,null,null,{"$f":"VLOOKUP(recettesjan[[#This Row],[Catégorie]],'coulisses 2'!$A$1:$B$20,2,0)","v":0},null,{"$f":"coulisses!J26","v":0},{"$f":"SUMIF(depensesjan[Catégorie],T9,depensesjan[Montant])","v":0},null,{"$f":"coulisses!J6","v":0},{"$f":"SUMIF(recettesjan[Catégorie],W9,recettesjan[Montant])","v":0}]
[null,null,null,null,null,null,null,null,null,null,null,null,null,null,null,null,null,{"$f":"VLOOKUP(recettesjan[[#This Row],[Catégorie]],'coulisses 2'!$A$1:$B$20,2,0)","v":0},null,{"$f":"coulisses!J27","v":0},{"$f":"SUMIF(depensesjan[Catégorie],T10,depensesjan[Montant])","v":0},null,{"$f":"coulisses!J7","v":0},{"$f":"SUMIF(recettesjan[Catégorie],W10,recettesjan[Montant])","v":0}]
[null,null,null,null,null,null,null,null,null,null,null,null,null,null,null,null,null,{"$f":"VLOOKUP(recettesjan[[#This Row],[Catégorie]],'coulisses 2'!$A$1:$B$20,2,0)","v":0},null,{"$f":"coulisses!J28","v":0},{"$f":"SUMIF(depensesjan[Catégorie],T11,depensesjan[Montant])","v":0},null,{"$f":"coulisses!J8","v":0},{"$f":"SUMIF(recettesjan[Catégorie],W11,recettesjan[Montant])","v":0}]
[null,null,null,null,null,null,null,null,null,null,null,null,null,null,null,null,null,{"$f":"VLOOKUP(recettesjan[[#This Row],[Catégorie]],'coulisses 2'!$A$1:$B$20,2,0)","v":0},null,{"$f":"coulisses!J29","v":0},{"$f":"SUMIF(depensesjan[Catégorie],T12,depensesjan[Montant])","v":0},null,{"$f":"coulisses!J9","v":0},{"$f":"SUMIF(recettesjan[Catégorie],W12,recettesjan[Montant])","v":0}]
[null,null,null,null,null,null,null,null,null,null,null,null,null,null,null,null,null,{"$f":"VLOOKUP(recettesjan[[#This Row],[Catégorie]],'coulisses 2'!$A$1:$B$20,2,0)","v":0},null,{"$f":"coulisses!J30","v":0},{"$f":"SUMIF(depensesjan[Catégorie],T13,depensesjan[Montant])","v":0},null,{"$f":"coulisses!J10","v":0},{"$f":"SUMIF(recettesjan[Catégorie],W13,recettesjan[Montant])","v":0}]
[null,null,null,null,null,null,null,null,null,null,null,null,null,null,null,null,null,{"$f":"VLOOKUP(recettesjan[[#This Row],[Catégorie]],'coulisses 2'!$A$1:$B$20,2,0)","v":0},null,{"$f":"coulisses!J31","v":0},{"$f":"SUMIF(depensesjan[Catégorie],T14,depensesjan[Montant])","v":0},null,{"$f":"coulisses!J11","v":0},{"$f":"SUMIF(recettesjan[Catégorie],W14,recettesjan[Montant])","v":0}]
[null,null,null,null,null,null,null,null,null,null,null,null,null,null,null,null,null,{"$f":"VLOOKUP(recettesjan[[#This Row],[Catégorie]],'coulisses 2'!$A$1:$B$20,2,0)","v":0},null,{"$f":"coulisses!J32","v":0},{"$f":"SUMIF(depensesjan[Catégorie],T15,depensesjan[Montant])","v":0},null,{"$f":"coulisses!J12","v":0},{"$f":"SUMIF(recettesjan[Catégorie],W15,recettesjan[Montant])","v":0}]
[null,null,null,null,null,null,null,null,null,null,null,null,null,null,null,null,null,{"$f":"VLOOKUP(recettesjan[[#This Row],[Catégorie]],'coulisses 2'!$A$1:$B$20,2,0)","v":0},null,{"$f":"coulisses!J33","v":0},{"$f":"SUMIF(depensesjan[Catégorie],T16,depensesjan[Montant])","v":0},null,{"$f":"coulisses!J13","v":0},{"$f":"SUMIF(recettesjan[Catégorie],W16,recettesjan[Montant])","v":0}]
[null,null,null,null,null,null,null,null,null,null,null,null,null,null,null,null,null,{"$f":"VLOOKUP(recettesjan[[#This Row],[Catégorie]],'coulisses 2'!$A$1:$B$20,2,0)","v":0},null,{"$f":"coulisses!J34","v":0},{"$f":"SUMIF(depensesjan[Catégorie],T17,depensesjan[Montant])","v":0},null,{"$f":"coulisses!J14","v":0},{"$f":"SUMIF(recettesjan[Catégorie],W17,recettesjan[Montant])","v":0}]
[null,null,null,null,null,null,null,null,null,null,null,null,null,null,null,null,null,{"$f":"VLOOKUP(recettesjan[[#This Row],[Catégorie]],'coulisses 2'!$A$1:$B$20,2,0)","v":0},null,{"$f":"coulisses!J35","v":0},{"$f":"SUMIF(depensesjan[Catégorie],T18,depensesjan[Montant])","v":0},null,{"$f":"coulisses!J15","v":0},{"$f":"SUMIF(recettesjan[Catégorie],W18,recettesjan[Montant])","v":0}]
[null,null,null,null,null,null,null,null,null,null,null,null,null,null,null,null,null,{"$f":"VLOOKUP(recettesjan[[#This Row],[Catégorie]],'coulisses 2'!$A$1:$B$20,2,0)","v":0},null,{"$f":"coulisses!J36","v":0},{"$f":"SUMIF(depensesjan[Catégorie],T19,depensesjan[Montant])","v":0},null,{"$f":"coulisses!J16","v":0},{"$f":"SUMIF(recettesjan[Catégorie],W19,recettesjan[Montant])","v":0}]
[null,null,null,null,null,null,null,null,null,null,null,null,null,null,null,null,null,{"$f":"VLOOKUP(recettesjan[[#This Row],[Catégorie]],'coulisses 2'!$A$1:$B$20,2,0)","v":0},null,{"$f":"coulisses!J37","v":0},{"$f":"SUMIF(depensesjan[Catégorie],T20,depensesjan[Montant])","v":0},null,{"$f":"coulisses!J17","v":0},{"$f":"SUMIF(recettesjan[Catégorie],W20,recettesjan[Montant])","v":0}]
[null,null,null,null,null,null,null,null,null,null,null,null,null,null,null,null,null,{"$f":"VLOOKUP(recettesjan[[#This Row],[Catégorie]],'coulisses 2'!$A$1:$B$20,2,0)","v":0},null,{"$f":"coulisses!J38","v":0},{"$f":"SUMIF(depensesjan[Catégorie],T21,depensesjan[Montant])","v":0},null,{"$f":"coulisses!J18","v":0},{"$f":"SUMIF(recettesjan[Catégorie],W21,recettesjan[Montant])","v":0}]
[null,null,null,null,null,null,null,null,null,null,null,null,null,null,null,null,null,{"$f":"VLOOKUP(recettesjan[[#This Row],[Catégorie]],'coulisses 2'!$A$1:$B$20,2,0)","v":0},null,{"$f":"coulisses!J39","v":0},{"$f":"SUMIF(depensesjan[Catégorie],T22,depensesjan[Montant])","v":0},null,{"$f":"coulisses!J19","v":0},{"$f":"SUMIF(recettesjan[Catégorie],W22,recettesjan[Montant])","v":0}]
[null,null,null,null,null,null,null,null,null,null,null,null,null,null,null,null,null,{"$f":"VLOOKUP(recettesjan[[#This Row],[Catégorie]],'coulisses 2'!$A$1:$B$20,2,0)","v":0},null,{"$f":"coulisses!J40","v":0},{"$f":"SUMIF(depensesjan[Catégorie],T23,depensesjan[Montant])","v":0},null,{"$f":"coulisses!J20","v":0},{"$f":"SUMIF(recettesjan[Catégorie],W23,recettesjan[Montant])","v":0}]
[null,null,null,null,null,null,null,null,null,null,null,null,null,null,null,null,null,{"$f":"VLOOKUP(recettesjan[[#This Row],[Catégorie]],'coulisses 2'!$A$1:$B$20,2,0)","v":0},null,{"$f":"coulisses!J41","v":0},{"$f":"SUMIF(depensesjan[Catégorie],T24,depensesjan[Montant])","v":0},null,{"$f":"coulisses!J21","v":0},{"$f":"SUMIF(recettesjan[Catégorie],W24,recettesjan[Montant])","v":0}]
[null,null,null,null,null,null,null,null,null,null,null,null,null,null,null,null,null,{"$f":"VLOOKUP(recettesjan[[#This Row],[Catégorie]],'coulisses 2'!$A$1:$B$20,2,0)","v":0},null,{"$f":"coulisses!J42","v":"Cotisations sociales"},{"$f":"SUMIF(depensesjan[Catégorie],T25,depensesjan[Montant])","v":0},null,{"$f":"coulisses!J22","v":0},{"$f":"SUMIF(recettesjan[Catégorie],W25,recettesjan[Montant])","v":0}]
[null,null,null,null,null,null,null,null,null,null,null,null,null,null,null,null,null,{"$f":"VLOOKUP(recettesjan[[#This Row],[Catégorie]],'coulisses 2'!$A$1:$B$20,2,0)","v":0}]
[null,null,null,null,null,null,null,null,null,null,null,null,null,null,null,null,null,{"$f":"VLOOKUP(recettesjan[[#This Row],[Catégorie]],'coulisses 2'!$A$1:$B$20,2,0)","v":0}]
[null,null,null,null,null,null,null,null,null,null,null,null,null,null,null,null,null,{"$f":"VLOOKUP(recettesjan[[#This Row],[Catégorie]],'coulisses 2'!$A$1:$B$20,2,0)","v":0},null,"Estimation des charges dues sur le CA du mois",null,"CA","Taux","A payer"]
[null,null,null,null,null,null,null,null,null,null,null,null,null,null,null,null,null,{"$f":"VLOOKUP(recettesjan[[#This Row],[Catégorie]],'coulisses 2'!$A$1:$B$20,2,0)","v":0},null,"Taux 1",null,{"$f":"SUMIF($R:$R,W29,$H:$H)","v":0},{"$f":"'👩🏻‍🏫 Bienvenue !'!I20","v":0},{"$f":"W29*V29","v":0}]
[null,null,null,null,null,null,null,null,null,null,null,null,null,null,null,null,null,{"$f":"VLOOKUP(recettesjan[[#This Row],[Catégorie]],'coulisses 2'!$A$1:$B$20,2,0)","v":0},null,"Taux 2",null,{"$f":"SUMIF($R:$R,W30,$H:$H)","v":0},{"$f":"'👩🏻‍🏫 Bienvenue !'!I21","v":0},{"$f":"W30*V30","v":0}]
[null,null,null,null,null,null,null,null,null,null,null,null,null,null,null,null,null,{"$f":"VLOOKUP(recettesjan[[#This Row],[Catégorie]],'coulisses 2'!$A$1:$B$20,2,0)","v":0},null,"Taux 3",null,{"$f":"SUMIF($R:$R,W31,$H:$H)","v":0},{"$f":"'👩🏻‍🏫 Bienvenue !'!I22","v":0},{"$f":"W31*V31","v":0}]
[null,null,null,null,null,null,null,null,null,null,null,null,null,null,null,null,null,{"$f":"VLOOKUP(recettesjan[[#This Row],[Catégorie]],'coulisses 2'!$A$1:$B$20,2,0)","v":0},null,"TOTAL",null,null,null,{"$f":"SUM(X29:X31)","v":0}]
[null,null,null,null,null,null,null,null,null,null,null,null,null,null,null,null,null,{"$f":"VLOOKUP(recettesjan[[#This Row],[Catégorie]],'coulisses 2'!$A$1:$B$20,2,0)","v":0}]
[null,null,null,null,null,null,null,null,null,null,null,null,null,null,null,null,null,{"$f":"VLOOKUP(recettesjan[[#This Row],[Catégorie]],'coulisses 2'!$A$1:$B$20,2,0)","v":0},null,"Rapprochement bancaire"]
[null,null,null,null,null,null,null,null,null,null,null,null,null,null,null,null,null,{"$f":"VLOOKUP(recettesjan[[#This Row],[Catégorie]],'coulisses 2'!$A$1:$B$20,2,0)","v":0},null,"Solde du mois précédent"]
[null,null,null,null,null,null,null,null,null,null,null,null,null,null,null,null,null,{"$f":"VLOOKUP(recettesjan[[#This Row],[Catégorie]],'coulisses 2'!$A$1:$B$20,2,0)","v":0},null,"Profit du mois",{"$f":"P1","v":0}]
[null,null,null,null,null,null,null,null,null,null,null,null,null,null,null,null,null,{"$f":"VLOOKUP(recettesjan[[#This Row],[Catégorie]],'coulisses 2'!$A$1:$B$20,2,0)","v":0},null,"Ecritures à rapprocher :"]
[null,null,null,null,null,null,null,null,null,null,null,null,null,null,null,null,null,{"$f":"VLOOKUP(recettesjan[[#This Row],[Catégorie]],'coulisses 2'!$A$1:$B$20,2,0)","v":0}]
[null,null,null,null,null,null,null,null,null,null,null,null,null,null,null,null,null,{"$f":"VLOOKUP(recettesjan[[#This Row],[Catégorie]],'coulisses 2'!$A$1:$B$20,2,0)","v":0},null,"Revenus perso janvier 2021"]
[null,null,null,null,null,null,null,null,null,null,null,null,null,null,null,null,null,{"$f":"VLOOKUP(recettesjan[[#This Row],[Catégorie]],'coulisses 2'!$A$1:$B$20,2,0)","v":0}]
[null,null,null,null,null,null,null,null,null,null,null,null,null,null,null,null,null,{"$f":"VLOOKUP(recettesjan[[#This Row],[Catégorie]],'coulisses 2'!$A$1:$B$20,2,0)","v":0}]
[null,null,null,null,null,null,null,null,null,null,null,null,null,null,null,null,null,{"$f":"VLOOKUP(recettesjan[[#This Row],[Catégorie]],'coulisses 2'!$A$1:$B$20,2,0)","v":0}]
[null,null,null,null,null,null,null,null,null,null,null,null,null,null,null,null,null,{"$f":"VLOOKUP(recettesjan[[#This Row],[Catégorie]],'coulisses 2'!$A$1:$B$20,2,0)","v":0}]
[null,null,null,null,null,null,null,null,null,null,null,null,null,null,null,null,null,{"$f":"VLOOKUP(recettesjan[[#This Row],[Catégorie]],'coulisses 2'!$A$1:$B$20,2,0)","v":0}]
[null,null,null,null,null,null,null,null,null,null,null,null,null,null,null,null,null,{"$f":"VLOOKUP(recettesjan[[#This Row],[Catégorie]],'coulisses 2'!$A$1:$B$20,2,0)","v":0}]
[null,null,null,null,null,null,null,null,null,null,null,null,null,null,null,null,null,{"$f":"VLOOKUP(recettesjan[[#This Row],[Catégorie]],'coulisses 2'!$A$1:$B$20,2,0)","v":0},null,"Solde final du mois",{"$f":"U35+U36+SUM(U38:U45)","v":0}]
[null,null,null,null,null,null,null,null,null,null,null,null,null,null,null,null,null,{"$f":"VLOOKUP(recettesjan[[#This Row],[Catégorie]],'coulisses 2'!$A$1:$B$20,2,0)","v":0},null,"Solde du relevé bancaire"]
[null,null,null,null,null,null,null,null,null,null,null,null,null,null,null,null,null,{"$f":"VLOOKUP(recettesjan[[#This Row],[Catégorie]],'coulisses 2'!$A$1:$B$20,2,0)","v":0},null,"Contrôle (doit être à 0)",{"$f":"U46-U47","v":0}]
[null,null,null,null,null,null,null,null,null,null,null,null,null,null,null,null,null,{"$f":"VLOOKUP(recettesjan[[#This Row],[Catégorie]],'coulisses 2'!$A$1:$B$20,2,0)","v":0}]
[null,null,null,null,null,null,null,null,null,null,null,null,null,null,null,null,null,{"$f":"VLOOKUP(recettesjan[[#This Row],[Catégorie]],'coulisses 2'!$A$1:$B$20,2,0)","v":0},null,"Résultat par axe","CA","Dépenses","Résultat"]
[null,null,null,null,null,null,null,null,null,null,null,null,null,null,null,null,null,{"$f":"VLOOKUP(recettesjan[[#This Row],[Catégorie]],'coulisses 2'!$A$1:$B$20,2,0)","v":0},null,{"$f":"'👩🏻‍🏫 Bienvenue !'!I73","v":0},{"$f":"SUMIF(recettesjan[Axe],T51,recettesjan[Montant])","v":0},{"$f":"SUMIF(depensesjan[Axe],T51,depensesjan[Montant])","v":0},{"$f":"U51-V51","v":0}]
[null,null,null,null,null,null,null,null,null,null,null,null,null,null,null,null,null,{"$f":"VLOOKUP(recettesjan[[#This Row],[Catégorie]],'coulisses 2'!$A$1:$B$20,2,0)","v":0},null,{"$f":"'👩🏻‍🏫 Bienvenue !'!I74","v":0},{"$f":"SUMIF(recettesjan[Axe],T52,recettesjan[Montant])","v":0},{"$f":"SUMIF(depensesjan[Axe],T52,depensesjan[Montant])","v":0},{"$f":"U52-V52","v":0}]
[null,null,null,null,null,null,null,null,null,null,null,null,null,null,null,null,null,{"$f":"VLOOKUP(recettesjan[[#This Row],[Catégorie]],'coulisses 2'!$A$1:$B$20,2,0)","v":0},null,{"$f":"'👩🏻‍🏫 Bienvenue !'!I75","v":0},{"$f":"SUMIF(recettesjan[Axe],T53,recettesjan[Montant])","v":0},{"$f":"SUMIF(depensesjan[Axe],T53,depensesjan[Montant])","v":0},0]
[null,null,null,null,null,null,null,null,null,null,null,null,null,null,null,null,null,{"$f":"VLOOKUP(recettesjan[[#This Row],[Catégorie]],'coulisses 2'!$A$1:$B$20,2,0)","v":0},null,{"$f":"'👩🏻‍🏫 Bienvenue !'!I76","v":0},{"$f":"SUMIF(recettesjan[Axe],T54,recettesjan[Montant])","v":0},{"$f":"SUMIF(depensesjan[Axe],T54,depensesjan[Montant])","v":0},0]
[null,null,null,null,null,null,null,null,null,null,null,null,null,null,null,null,null,{"$f":"VLOOKUP(recettesjan[[#This Row],[Catégorie]],'coulisses 2'!$A$1:$B$20,2,0)","v":0},null,{"$f":"'👩🏻‍🏫 Bienvenue !'!I77","v":0},{"$f":"SUMIF(recettesjan[Axe],T55,recettesjan[Montant])","v":0},{"$f":"SUMIF(depensesjan[Axe],T55,depensesjan[Montant])","v":0},0]
[null,null,null,null,null,null,null,null,null,null,null,null,null,null,null,null,null,{"$f":"VLOOKUP(recettesjan[[#This Row],[Catégorie]],'coulisses 2'!$A$1:$B$20,2,0)","v":0},null,{"$f":"'👩🏻‍🏫 Bienvenue !'!I78","v":0},{"$f":"SUMIF(recettesjan[Axe],T56,recettesjan[Montant])","v":0},{"$f":"SUMIF(depensesjan[Axe],T56,depensesjan[Montant])","v":0},0]
[null,null,null,null,null,null,null,null,null,null,null,null,null,null,null,null,null,{"$f":"VLOOKUP(recettesjan[[#This Row],[Catégorie]],'coulisses 2'!$A$1:$B$20,2,0)","v":0},null,{"$f":"'👩🏻‍🏫 Bienvenue !'!I79","v":0},{"$f":"SUMIF(recettesjan[Axe],T57,recettesjan[Montant])","v":0},{"$f":"SUMIF(depensesjan[Axe],T57,depensesjan[Montant])","v":0},0]
[null,null,null,null,null,null,null,null,null,null,null,null,null,null,null,null,null,{"$f":"VLOOKUP(recettesjan[[#This Row],[Catégorie]],'coulisses 2'!$A$1:$B$20,2,0)","v":0},null,{"$f":"'👩🏻‍🏫 Bienvenue !'!I80","v":0},{"$f":"SUMIF(recettesjan[Axe],T58,recettesjan[Montant])","v":0},{"$f":"SUMIF(depensesjan[Axe],T58,depensesjan[Montant])","v":0},0]
[null,null,null,null,null,null,null,null,null,null,null,null,null,null,null,null,null,{"$f":"VLOOKUP(recettesjan[[#This Row],[Catégorie]],'coulisses 2'!$A$1:$B$20,2,0)","v":0},null,{"$f":"'👩🏻‍🏫 Bienvenue !'!I81","v":0},{"$f":"SUMIF(recettesjan[Axe],T59,recettesjan[Montant])","v":0},{"$f":"SUMIF(depensesjan[Axe],T59,depensesjan[Montant])","v":0},0]
[null,null,null,null,null,null,null,null,null,null,null,null,null,null,null,null,null,{"$f":"VLOOKUP(recettesjan[[#This Row],[Catégorie]],'coulisses 2'!$A$1:$B$20,2,0)","v":0},null,{"$f":"'👩🏻‍🏫 Bienvenue !'!I82","v":0},{"$f":"SUMIF(recettesjan[Axe],T60,recettesjan[Montant])","v":0},{"$f":"SUMIF(depensesjan[Axe],T60,depensesjan[Montant])","v":0},0]
[null,null,null,null,null,null,null,null,null,null,null,null,null,null,null,null,null,{"$f":"VLOOKUP(recettesjan[[#This Row],[Catégorie]],'coulisses 2'!$A$1:$B$20,2,0)","v":0}]
[null,null,null,null,null,null,null,null,null,null,null,null,null,null,null,null,null,{"$f":"VLOOKUP(recettesjan[[#This Row],[Catégorie]],'coulisses 2'!$A$1:$B$20,2,0)","v":0}]
[null,null,null,null,null,null,null,null,null,null,null,null,null,null,null,null,null,{"$f":"VLOOKUP(recettesjan[[#This Row],[Catégorie]],'coulisses 2'!$A$1:$B$20,2,0)","v":0}]
[null,null,null,null,null,null,null,null,null,null,null,null,null,null,null,null,null,{"$f":"VLOOKUP(recettesjan[[#This Row],[Catégorie]],'coulisses 2'!$A$1:$B$20,2,0)","v":0}]
[null,null,null,null,null,null,null,null,null,null,null,null,null,null,null,null,null,{"$f":"VLOOKUP(recettesjan[[#This Row],[Catégorie]],'coulisses 2'!$A$1:$B$20,2,0)","v":0}]
[null,null,null,null,null,null,null,null,null,null,null,null,null,null,null,null,null,{"$f":"VLOOKUP(recettesjan[[#This Row],[Catégorie]],'coulisses 2'!$A$1:$B$20,2,0)","v":0}]
[null,null,null,null,null,null,null,null,null,null,null,null,null,null,null,null,null,{"$f":"VLOOKUP(recettesjan[[#This Row],[Catégorie]],'coulisses 2'!$A$1:$B$20,2,0)","v":0}]
[null,null,null,null,null,null,null,null,null,null,null,null,null,null,null,null,null,{"$f":"VLOOKUP(recettesjan[[#This Row],[Catégorie]],'coulisses 2'!$A$1:$B$20,2,0)","v":0}]
[null,null,null,null,null,null,null,null,null,null,null,null,null,null,null,null,null,{"$f":"VLOOKUP(recettesjan[[#This Row],[Catégorie]],'coulisses 2'!$A$1:$B$20,2,0)","v":0}]
[null,null,null,null,null,null,null,null,null,null,null,null,null,null,null,null,null,{"$f":"VLOOKUP(recettesjan[[#This Row],[Catégorie]],'coulisses 2'!$A$1:$B$20,2,0)","v":0}]
[null,null,null,null,null,null,null,null,null,null,null,null,null,null,null,null,null,{"$f":"VLOOKUP(recettesjan[[#This Row],[Catégorie]],'coulisses 2'!$A$1:$B$20,2,0)","v":0}]
[null,null,null,null,null,null,null,null,null,null,null,null,null,null,null,null,null,{"$f":"VLOOKUP(recettesjan[[#This Row],[Catégorie]],'coulisses 2'!$A$1:$B$20,2,0)","v":0}]
[null,null,null,null,null,null,null,null,null,null,null,null,null,null,null,null,null,{"$f":"VLOOKUP(recettesjan[[#This Row],[Catégorie]],'coulisses 2'!$A$1:$B$20,2,0)","v":0}]
[null,null,null,null,null,null,null,null,null,null,null,null,null,null,null,null,null,{"$f":"VLOOKUP(recettesjan[[#This Row],[Catégorie]],'coulisses 2'!$A$1:$B$20,2,0)","v":0}]
[null,null,null,null,null,null,null,null,null,null,null,null,null,null,null,null,null,{"$f":"VLOOKUP(recettesjan[[#This Row],[Catégorie]],'coulisses 2'!$A$1:$B$20,2,0)","v":0}]
[null,null,null,null,null,null,null,null,null,null,null,null,null,null,null,null,null,{"$f":"VLOOKUP(recettesjan[[#This Row],[Catégorie]],'coulisses 2'!$A$1:$B$20,2,0)","v":0}]
[null,null,null,null,null,null,null,null,null,null,null,null,null,null,null,null,null,{"$f":"VLOOKUP(recettesjan[[#This Row],[Catégorie]],'coulisses 2'!$A$1:$B$20,2,0)","v":0}]
[null,null,null,null,null,null,null,null,null,null,null,null,null,null,null,null,null,{"$f":"VLOOKUP(recettesjan[[#This Row],[Catégorie]],'coulisses 2'!$A$1:$B$20,2,0)","v":0}]
[null,null,null,null,null,null,null,null,null,null,null,null,null,null,null,null,null,{"$f":"VLOOKUP(recettesjan[[#This Row],[Catégorie]],'coulisses 2'!$A$1:$B$20,2,0)","v":0}]
[null,null,null,null,null,null,null,null,null,null,null,null,null,null,null,null,null,{"$f":"VLOOKUP(recettesjan[[#This Row],[Catégorie]],'coulisses 2'!$A$1:$B$20,2,0)","v":0}]
[null,null,null,null,null,null,null,null,null,null,null,null,null,null,null,null,null,{"$f":"VLOOKUP(recettesjan[[#This Row],[Catégorie]],'coulisses 2'!$A$1:$B$20,2,0)","v":0}]
[null,null,null,null,null,null,null,null,null,null,null,null,null,null,null,null,null,{"$f":"VLOOKUP(recettesjan[[#This Row],[Catégorie]],'coulisses 2'!$A$1:$B$20,2,0)","v":0}]
[null,null,null,null,null,null,null,null,null,null,null,null,null,null,null,null,null,{"$f":"VLOOKUP(recettesjan[[#This Row],[Catégorie]],'coulisses 2'!$A$1:$B$20,2,0)","v":0}]
[null,null,null,null,null,null,null,null,null,null,null,null,null,null,null,null,null,{"$f":"VLOOKUP(recettesjan[[#This Row],[Catégorie]],'coulisses 2'!$A$1:$B$20,2,0)","v":0}]
[null,null,null,null,null,null,null,null,null,null,null,null,null,null,null,null,null,{"$f":"VLOOKUP(recettesjan[[#This Row],[Catégorie]],'coulisses 2'!$A$1:$B$20,2,0)","v":0}]
[null,null,null,null,null,null,null,null,null,null,null,null,null,null,null,null,null,{"$f":"VLOOKUP(recettesjan[[#This Row],[Catégorie]],'coulisses 2'!$A$1:$B$20,2,0)","v":0}]
[null,null,null,null,null,null,null,null,null,null,null,null,null,null,null,null,null,{"$f":"VLOOKUP(recettesjan[[#This Row],[Catégorie]],'coulisses 2'!$A$1:$B$20,2,0)","v":0}]
[null,null,null,null,null,null,null,null,null,null,null,null,null,null,null,null,null,{"$f":"VLOOKUP(recettesjan[[#This Row],[Catégorie]],'coulisses 2'!$A$1:$B$20,2,0)","v":0}]
[null,null,null,null,null,null,null,null,null,null,null,null,null,null,null,null,null,{"$f":"VLOOKUP(recettesjan[[#This Row],[Catégorie]],'coulisses 2'!$A$1:$B$20,2,0)","v":0}]
[null,null,null,null,null,null,null,null,null,null,null,null,null,null,null,null,null,{"$f":"VLOOKUP(recettesjan[[#This Row],[Catégorie]],'coulisses 2'!$A$1:$B$20,2,0)","v":0}]
[null,null,null,null,null,null,null,null,null,null,null,null,null,null,null,null,null,{"$f":"VLOOKUP(recettesjan[[#This Row],[Catégorie]],'coulisses 2'!$A$1:$B$20,2,0)","v":0}]
[null,null,null,null,null,null,null,null,null,null,null,null,null,null,null,null,null,{"$f":"VLOOKUP(recettesjan[[#This Row],[Catégorie]],'coulisses 2'!$A$1:$B$20,2,0)","v":0}]
[null,null,null,null,null,null,null,null,null,null,null,null,null,null,null,null,null,{"$f":"VLOOKUP(recettesjan[[#This Row],[Catégorie]],'coulisses 2'!$A$1:$B$20,2,0)","v":0}]
[null,null,null,null,null,null,null,null,null,null,null,null,null,null,null,null,null,{"$f":"VLOOKUP(recettesjan[[#This Row],[Catégorie]],'coulisses 2'!$A$1:$B$20,2,0)","v":0}]
[null,null,null,null,null,null,null,null,null,null,null,null,null,null,null,null,null,{"$f":"VLOOKUP(recettesjan[[#This Row],[Catégorie]],'coulisses 2'!$A$1:$B$20,2,0)","v":0}]
[null,null,null,null,null,null,null,null,null,null,null,null,null,null,null,null,null,{"$f":"VLOOKUP(recettesjan[[#This Row],[Catégorie]],'coulisses 2'!$A$1:$B$20,2,0)","v":0}]
[null,null,null,null,null,null,null,null,null,null,null,null,null,null,null,null,null,{"$f":"VLOOKUP(recettesjan[[#This Row],[Catégorie]],'coulisses 2'!$A$1:$B$20,2,0)","v":0}]
[null,null,null,null,null,null,null,null,null,null,null,null,null,null,null,null,null,{"$f":"VLOOKUP(recettesjan[[#This Row],[Catégorie]],'coulisses 2'!$A$1:$B$20,2,0)","v":0}]
[null,null,null,null,null,null,null,null,null,null,null,null,null,null,null,null,null,{"$f":"VLOOKUP(recettesjan[[#This Row],[Catégorie]],'coulisses 2'!$A$1:$B$20,2,0)","v":0}]
[null,null,null,null,null,null,null,null,null,null,null,null,null,null,null,null,null,{"$f":"VLOOKUP(recettesjan[[#This Row],[Catégorie]],'coulisses 2'!$A$1:$B$20,2,0)","v":0}]
[null,null,null,null,null,null,null,null,null,null,null,null,null,null,null,null,null,{"$f":"VLOOKUP(recettesjan[[#This Row],[Catégorie]],'coulisses 2'!$A$1:$B$20,2,0)","v":0}]
[null,null,null,null,null,null,null,null,null,null,null,null,null,null,null,null,null,{"$f":"VLOOKUP(recettesjan[[#This Row],[Catégorie]],'coulisses 2'!$A$1:$B$20,2,0)","v":0}]
[null,null,null,null,null,null,null,null,null,null,null,null,null,null,null,null,null,{"$f":"VLOOKUP(recettesjan[[#This Row],[Catégorie]],'coulisses 2'!$A$1:$B$20,2,0)","v":0}]
[null,null,null,null,null,null,null,null,null,null,null,null,null,null,null,null,null,{"$f":"VLOOKUP(recettesjan[[#This Row],[Catégorie]],'coulisses 2'!$A$1:$B$20,2,0)","v":0}]
[null,null,null,null,null,null,null,null,null,null,null,null,null,null,null,null,null,{"$f":"VLOOKUP(recettesjan[[#This Row],[Catégorie]],'coulisses 2'!$A$1:$B$20,2,0)","v":0}]
[null,null,null,null,null,null,null,null,null,null,null,null,null,null,null,null,null,{"$f":"VLOOKUP(recettesjan[[#This Row],[Catégorie]],'coulisses 2'!$A$1:$B$20,2,0)","v":0}]
[null,null,null,null,null,null,null,null,null,null,null,null,null,null,null,null,null,{"$f":"VLOOKUP(recettesjan[[#This Row],[Catégorie]],'coulisses 2'!$A$1:$B$20,2,0)","v":0}]
[null,null,null,null,null,null,null,null,null,null,null,null,null,null,null,null,null,{"$f":"VLOOKUP(recettesjan[[#This Row],[Catégorie]],'coulisses 2'!$A$1:$B$20,2,0)","v":0}]
[null,null,null,null,null,null,null,null,null,null,null,null,null,null,null,null,null,{"$f":"VLOOKUP(recettesjan[[#This Row],[Catégorie]],'coulisses 2'!$A$1:$B$20,2,0)","v":0}]
[null,null,null,null,null,null,null,null,null,null,null,null,null,null,null,null,null,{"$f":"VLOOKUP(recettesjan[[#This Row],[Catégorie]],'coulisses 2'!$A$1:$B$20,2,0)","v":0}]
[null,null,null,null,null,null,null,null,null,null,null,null,null,null,null,null,null,{"$f":"VLOOKUP(recettesjan[[#This Row],[Catégorie]],'coulisses 2'!$A$1:$B$20,2,0)","v":0}]
[null,null,null,null,null,null,null,null,null,null,null,null,null,null,null,null,null,{"$f":"VLOOKUP(recettesjan[[#This Row],[Catégorie]],'coulisses 2'!$A$1:$B$20,2,0)","v":0}]
[null,null,null,null,null,null,null,null,null,null,null,null,null,null,null,null,null,{"$f":"VLOOKUP(recettesjan[[#This Row],[Catégorie]],'coulisses 2'!$A$1:$B$20,2,0)","v":0}]
[null,null,null,null,null,null,null,null,null,null,null,null,null,null,null,null,null,{"$f":"VLOOKUP(recettesjan[[#This Row],[Catégorie]],'coulisses 2'!$A$1:$B$20,2,0)","v":0}]
[null,null,null,null,null,null,null,null,null,null,null,null,null,null,null,null,null,{"$f":"VLOOKUP(recettesjan[[#This Row],[Catégorie]],'coulisses 2'!$A$1:$B$20,2,0)","v":0}]
[null,null,null,null,null,null,null,null,null,null,null,null,null,null,null,null,null,{"$f":"VLOOKUP(recettesjan[[#This Row],[Catégorie]],'coulisses 2'!$A$1:$B$20,2,0)","v":0}]
[null,null,null,null,null,null,null,null,null,null,null,null,null,null,null,null,null,{"$f":"VLOOKUP(recettesjan[[#This Row],[Catégorie]],'coulisses 2'!$A$1:$B$20,2,0)","v":0}]
[null,null,null,null,null,null,null,null,null,null,null,null,null,null,null,null,null,{"$f":"VLOOKUP(recettesjan[[#This Row],[Catégorie]],'coulisses 2'!$A$1:$B$20,2,0)","v":0}]
[null,null,null,null,null,null,null,null,null,null,null,null,null,null,null,null,null,{"$f":"VLOOKUP(recettesjan[[#This Row],[Catégorie]],'coulisses 2'!$A$1:$B$20,2,0)","v":0}]
[null,null,null,null,null,null,null,null,null,null,null,null,null,null,null,null,null,{"$f":"VLOOKUP(recettesjan[[#This Row],[Catégorie]],'coulisses 2'!$A$1:$B$20,2,0)","v":0}]
[null,null,null,null,null,null,null,null,null,null,null,null,null,null,null,null,null,{"$f":"VLOOKUP(recettesjan[[#This Row],[Catégorie]],'coulisses 2'!$A$1:$B$20,2,0)","v":0}]
[null,null,null,null,null,null,null,null,null,null,null,null,null,null,null,null,null,{"$f":"VLOOKUP(recettesjan[[#This Row],[Catégorie]],'coulisses 2'!$A$1:$B$20,2,0)","v":0}]
[null,null,null,null,null,null,null,null,null,null,null,null,null,null,null,null,null,{"$f":"VLOOKUP(recettesjan[[#This Row],[Catégorie]],'coulisses 2'!$A$1:$B$20,2,0)","v":0}]
[null,null,null,null,null,null,null,null,null,null,null,null,null,null,null,null,null,{"$f":"VLOOKUP(recettesjan[[#This Row],[Catégorie]],'coulisses 2'!$A$1:$B$20,2,0)","v":0}]
[null,null,null,null,null,null,null,null,null,null,null,null,null,null,null,null,null,{"$f":"VLOOKUP(recettesjan[[#This Row],[Catégorie]],'coulisses 2'!$A$1:$B$20,2,0)","v":0}]
[null,null,null,null,null,null,null,null,null,null,null,null,null,null,null,null,null,{"$f":"VLOOKUP(recettesjan[[#This Row],[Catégorie]],'coulisses 2'!$A$1:$B$20,2,0)","v":0}]
[null,null,null,null,null,null,null,null,null,null,null,null,null,null,null,null,null,{"$f":"VLOOKUP(recettesjan[[#This Row],[Catégorie]],'coulisses 2'!$A$1:$B$20,2,0)","v":0}]
[null,null,null,null,null,null,null,null,null,null,null,null,null,null,null,null,null,{"$f":"VLOOKUP(recettesjan[[#This Row],[Catégorie]],'coulisses 2'!$A$1:$B$20,2,0)","v":0}]
[null,null,null,null,null,null,null,null,null,null,null,null,null,null,null,null,null,{"$f":"VLOOKUP(recettesjan[[#This Row],[Catégorie]],'coulisses 2'!$A$1:$B$20,2,0)","v":0}]
[null,null,null,null,null,null,null,null,null,null,null,null,null,null,null,null,null,{"$f":"VLOOKUP(recettesjan[[#This Row],[Catégorie]],'coulisses 2'!$A$1:$B$20,2,0)","v":0}]
[null,null,null,null,null,null,null,null,null,null,null,null,null,null,null,null,null,{"$f":"VLOOKUP(recettesjan[[#This Row],[Catégorie]],'coulisses 2'!$A$1:$B$20,2,0)","v":0}]
[null,null,null,null,null,null,null,null,null,null,null,null,null,null,null,null,null,{"$f":"VLOOKUP(recettesjan[[#This Row],[Catégorie]],'coulisses 2'!$A$1:$B$20,2,0)","v":0}]
[null,null,null,null,null,null,null,null,null,null,null,null,null,null,null,null,null,{"$f":"VLOOKUP(recettesjan[[#This Row],[Catégorie]],'coulisses 2'!$A$1:$B$20,2,0)","v":0}]
[null,null,null,null,null,null,null,null,null,null,null,null,null,null,null,null,null,{"$f":"VLOOKUP(recettesjan[[#This Row],[Catégorie]],'coulisses 2'!$A$1:$B$20,2,0)","v":0}]
[null,null,null,null,null,null,null,null,null,null,null,null,null,null,null,null,null,{"$f":"VLOOKUP(recettesjan[[#This Row],[Catégorie]],'coulisses 2'!$A$1:$B$20,2,0)","v":0}]
[null,null,null,null,null,null,null,null,null,null,null,null,null,null,null,null,null,{"$f":"VLOOKUP(recettesjan[[#This Row],[Catégorie]],'coulisses 2'!$A$1:$B$20,2,0)","v":0}]
[null,null,null,null,null,null,null,null,null,null,null,null,null,null,null,null,null,{"$f":"VLOOKUP(recettesjan[[#This Row],[Catégorie]],'coulisses 2'!$A$1:$B$20,2,0)","v":0}]
[null,null,null,null,null,null,null,null,null,null,null,null,null,null,null,null,null,{"$f":"VLOOKUP(recettesjan[[#This Row],[Catégorie]],'coulisses 2'!$A$1:$B$20,2,0)","v":0}]
[null,null,null,null,null,null,null,null,null,null,null,null,null,null,null,null,null,{"$f":"VLOOKUP(recettesjan[[#This Row],[Catégorie]],'coulisses 2'!$A$1:$B$20,2,0)","v":0}]
[null,null,null,null,null,null,null,null,null,null,null,null,null,null,null,null,null,{"$f":"VLOOKUP(recettesjan[[#This Row],[Catégorie]],'coulisses 2'!$A$1:$B$20,2,0)","v":0}]
[null,null,null,null,null,null,null,null,null,null,null,null,null,null,null,null,null,{"$f":"VLOOKUP(recettesjan[[#This Row],[Catégorie]],'coulisses 2'!$A$1:$B$20,2,0)","v":0}]
[null,null,null,null,null,null,null,null,null,null,null,null,null,null,null,null,null,{"$f":"VLOOKUP(recettesjan[[#This Row],[Catégorie]],'coulisses 2'!$A$1:$B$20,2,0)","v":0}]
[null,null,null,null,null,null,null,null,null,null,null,null,null,null,null,null,null,{"$f":"VLOOKUP(recettesjan[[#This Row],[Catégorie]],'coulisses 2'!$A$1:$B$20,2,0)","v":0}]
[null,null,null,null,null,null,null,null,null,null,null,null,null,null,null,null,null,{"$f":"VLOOKUP(recettesjan[[#This Row],[Catégorie]],'coulisses 2'!$A$1:$B$20,2,0)","v":0}]
[null,null,null,null,null,null,null,null,null,null,null,null,null,null,null,null,null,{"$f":"VLOOKUP(recettesjan[[#This Row],[Catégorie]],'coulisses 2'!$A$1:$B$20,2,0)","v":0}]
[null,null,null,null,null,null,null,null,null,null,null,null,null,null,null,null,null,{"$f":"VLOOKUP(recettesjan[[#This Row],[Catégorie]],'coulisses 2'!$A$1:$B$20,2,0)","v":0}]
[null,null,null,null,null,null,null,null,null,null,null,null,null,null,null,null,null,{"$f":"VLOOKUP(recettesjan[[#This Row],[Catégorie]],'coulisses 2'!$A$1:$B$20,2,0)","v":0}]
[null,null,null,null,null,null,null,null,null,null,null,null,null,null,null,null,null,{"$f":"VLOOKUP(recettesjan[[#This Row],[Catégorie]],'coulisses 2'!$A$1:$B$20,2,0)","v":0}]
[null,null,null,null,null,null,null,null,null,null,null,null,null,null,null,null,null,{"$f":"VLOOKUP(recettesjan[[#This Row],[Catégorie]],'coulisses 2'!$A$1:$B$20,2,0)","v":0}]
[null,null,null,null,null,null,null,null,null,null,null,null,null,null,null,null,null,{"$f":"VLOOKUP(recettesjan[[#This Row],[Catégorie]],'coulisses 2'!$A$1:$B$20,2,0)","v":0}]
[null,null,null,null,null,null,null,null,null,null,null,null,null,null,null,null,null,{"$f":"VLOOKUP(recettesjan[[#This Row],[Catégorie]],'coulisses 2'!$A$1:$B$20,2,0)","v":0}]
[null,null,null,null,null,null,null,null,null,null,null,null,null,null,null,null,null,{"$f":"VLOOKUP(recettesjan[[#This Row],[Catégorie]],'coulisses 2'!$A$1:$B$20,2,0)","v":0}]
[null,null,null,null,null,null,null,null,null,null,null,null,null,null,null,null,null,{"$f":"VLOOKUP(recettesjan[[#This Row],[Catégorie]],'coulisses 2'!$A$1:$B$20,2,0)","v":0}]
[null,null,null,null,null,null,null,null,null,null,null,null,null,null,null,null,null,{"$f":"VLOOKUP(recettesjan[[#This Row],[Catégorie]],'coulisses 2'!$A$1:$B$20,2,0)","v":0}]
[null,null,null,null,null,null,null,null,null,null,null,null,null,null,null,null,null,{"$f":"VLOOKUP(recettesjan[[#This Row],[Catégorie]],'coulisses 2'!$A$1:$B$20,2,0)","v":0}]
[null,null,null,null,null,null,null,null,null,null,null,null,null,null,null,null,null,{"$f":"VLOOKUP(recettesjan[[#This Row],[Catégorie]],'coulisses 2'!$A$1:$B$20,2,0)","v":0}]
[null,null,null,null,null,null,null,null,null,null,null,null,null,null,null,null,null,{"$f":"VLOOKUP(recettesjan[[#This Row],[Catégorie]],'coulisses 2'!$A$1:$B$20,2,0)","v":0}]
[null,null,null,null,null,null,null,null,null,null,null,null,null,null,null,null,null,{"$f":"VLOOKUP(recettesjan[[#This Row],[Catégorie]],'coulisses 2'!$A$1:$B$20,2,0)","v":0}]
[null,null,null,null,null,null,null,null,null,null,null,null,null,null,null,null,null,{"$f":"VLOOKUP(recettesjan[[#This Row],[Catégorie]],'coulisses 2'!$A$1:$B$20,2,0)","v":0}]
[null,null,null,null,null,null,null,null,null,null,null,null,null,null,null,null,null,{"$f":"VLOOKUP(recettesjan[[#This Row],[Catégorie]],'coulisses 2'!$A$1:$B$20,2,0)","v":0}]
[null,null,null,null,null,null,null,null,null,null,null,null,null,null,null,null,null,{"$f":"VLOOKUP(recettesjan[[#This Row],[Catégorie]],'coulisses 2'!$A$1:$B$20,2,0)","v":0}]
[null,null,null,null,null,null,null,null,null,null,null,null,null,null,null,null,null,{"$f":"VLOOKUP(recettesjan[[#This Row],[Catégorie]],'coulisses 2'!$A$1:$B$20,2,0)","v":0}]
[null,null,null,null,null,null,null,null,null,null,null,null,null,null,null,null,null,{"$f":"VLOOKUP(recettesjan[[#This Row],[Catégorie]],'coulisses 2'!$A$1:$B$20,2,0)","v":0}]
[null,null,null,null,null,null,null,null,null,null,null,null,null,null,null,null,null,{"$f":"VLOOKUP(recettesjan[[#This Row],[Catégorie]],'coulisses 2'!$A$1:$B$20,2,0)","v":0}]
[null,null,null,null,null,null,null,null,null,null,null,null,null,null,null,null,null,{"$f":"VLOOKUP(recettesjan[[#This Row],[Catégorie]],'coulisses 2'!$A$1:$B$20,2,0)","v":0}]
[null,null,null,null,null,null,null,null,null,null,null,null,null,null,null,null,null,{"$f":"VLOOKUP(recettesjan[[#This Row],[Catégorie]],'coulisses 2'!$A$1:$B$20,2,0)","v":0}]
[null,null,null,null,null,null,null,null,null,null,null,null,null,null,null,null,null,{"$f":"VLOOKUP(recettesjan[[#This Row],[Catégorie]],'coulisses 2'!$A$1:$B$20,2,0)","v":0}]
[null,null,null,null,null,null,null,null,null,null,null,null,null,null,null,null,null,{"$f":"VLOOKUP(recettesjan[[#This Row],[Catégorie]],'coulisses 2'!$A$1:$B$20,2,0)","v":0}]
[null,null,null,null,null,null,null,null,null,null,null,null,null,null,null,null,null,{"$f":"VLOOKUP(recettesjan[[#This Row],[Catégorie]],'coulisses 2'!$A$1:$B$20,2,0)","v":0}]
[null,null,null,null,null,null,null,null,null,null,null,null,null,null,null,null,null,{"$f":"VLOOKUP(recettesjan[[#This Row],[Catégorie]],'coulisses 2'!$A$1:$B$20,2,0)","v":0}]
[null,null,null,null,null,null,null,null,null,null,null,null,null,null,null,null,null,{"$f":"VLOOKUP(recettesjan[[#This Row],[Catégorie]],'coulisses 2'!$A$1:$B$20,2,0)","v":0}]
[null,null,null,null,null,null,null,null,null,null,null,null,null,null,null,null,null,{"$f":"VLOOKUP(recettesjan[[#This Row],[Catégorie]],'coulisses 2'!$A$1:$B$20,2,0)","v":0}]
[null,null,null,null,null,null,null,null,null,null,null,null,null,null,null,null,null,{"$f":"VLOOKUP(recettesjan[[#This Row],[Catégorie]],'coulisses 2'!$A$1:$B$20,2,0)","v":0}]
[null,null,null,null,null,null,null,null,null,null,null,null,null,null,null,null,null,{"$f":"VLOOKUP(recettesjan[[#This Row],[Catégorie]],'coulisses 2'!$A$1:$B$20,2,0)","v":0}]
[null,null,null,null,null,null,null,null,null,null,null,null,null,null,null,null,null,{"$f":"VLOOKUP(recettesjan[[#This Row],[Catégorie]],'coulisses 2'!$A$1:$B$20,2,0)","v":0}]
[null,null,null,null,null,null,null,null,null,null,null,null,null,null,null,null,null,{"$f":"VLOOKUP(recettesjan[[#This Row],[Catégorie]],'coulisses 2'!$A$1:$B$20,2,0)","v":0}]
[null,null,null,null,null,null,null,null,null,null,null,null,null,null,null,null,null,{"$f":"VLOOKUP(recettesjan[[#This Row],[Catégorie]],'coulisses 2'!$A$1:$B$20,2,0)","v":0}]
[null,null,null,null,null,null,null,null,null,null,null,null,null,null,null,null,null,{"$f":"VLOOKUP(recettesjan[[#This Row],[Catégorie]],'coulisses 2'!$A$1:$B$20,2,0)","v":0}]
[null,null,null,null,null,null,null,null,null,null,null,null,null,null,null,null,null,{"$f":"VLOOKUP(recettesjan[[#This Row],[Catégorie]],'coulisses 2'!$A$1:$B$20,2,0)","v":0}]
[null,null,null,null,null,null,null,null,null,null,null,null,null,null,null,null,null,{"$f":"VLOOKUP(recettesjan[[#This Row],[Catégorie]],'coulisses 2'!$A$1:$B$20,2,0)","v":0}]
[null,null,null,null,null,null,null,null,null,null,null,null,null,null,null,null,null,{"$f":"VLOOKUP(recettesjan[[#This Row],[Catégorie]],'coulisses 2'!$A$1:$B$20,2,0)","v":0}]
[null,null,null,null,null,null,null,null,null,null,null,null,null,null,null,null,null,{"$f":"VLOOKUP(recettesjan[[#This Row],[Catégorie]],'coulisses 2'!$A$1:$B$20,2,0)","v":0}]
[null,null,null,null,null,null,null,null,null,null,null,null,null,null,null,null,null,{"$f":"VLOOKUP(recettesjan[[#This Row],[Catégorie]],'coulisses 2'!$A$1:$B$20,2,0)","v":0}]
[null,null,null,null,null,null,null,null,null,null,null,null,null,null,null,null,null,{"$f":"VLOOKUP(recettesjan[[#This Row],[Catégorie]],'coulisses 2'!$A$1:$B$20,2,0)","v":0}]
[null,null,null,null,null,null,null,null,null,null,null,null,null,null,null,null,null,{"$f":"VLOOKUP(recettesjan[[#This Row],[Catégorie]],'coulisses 2'!$A$1:$B$20,2,0)","v":0}]
[null,null,null,null,null,null,null,null,null,null,null,null,null,null,null,null,null,{"$f":"VLOOKUP(recettesjan[[#This Row],[Catégorie]],'coulisses 2'!$A$1:$B$20,2,0)","v":0}]
[null,null,null,null,null,null,null,null,null,null,null,null,null,null,null,null,null,{"$f":"VLOOKUP(recettesjan[[#This Row],[Catégorie]],'coulisses 2'!$A$1:$B$20,2,0)","v":0}]
[null,null,null,null,null,null,null,null,null,null,null,null,null,null,null,null,null,{"$f":"VLOOKUP(recettesjan[[#This Row],[Catégorie]],'coulisses 2'!$A$1:$B$20,2,0)","v":0}]
[null,null,null,null,null,null,null,null,null,null,null,null,null,null,null,null,null,{"$f":"VLOOKUP(recettesjan[[#This Row],[Catégorie]],'coulisses 2'!$A$1:$B$20,2,0)","v":0}]
[null,null,null,null,null,null,null,null,null,null,null,null,null,null,null,null,null,{"$f":"VLOOKUP(recettesjan[[#This Row],[Catégorie]],'coulisses 2'!$A$1:$B$20,2,0)","v":0}]
[null,null,null,null,null,null,null,null,null,null,null,null,null,null,null,null,null,{"$f":"VLOOKUP(recettesjan[[#This Row],[Catégorie]],'coulisses 2'!$A$1:$B$20,2,0)","v":0}]
[null,null,null,null,null,null,null,null,null,null,null,null,null,null,null,null,null,{"$f":"VLOOKUP(recettesjan[[#This Row],[Catégorie]],'coulisses 2'!$A$1:$B$20,2,0)","v":0}]
[null,null,null,null,null,null,null,null,null,null,null,null,null,null,null,null,null,{"$f":"VLOOKUP(recettesjan[[#This Row],[Catégorie]],'coulisses 2'!$A$1:$B$20,2,0)","v":0}]
[null,null,null,null,null,null,null,null,null,null,null,null,null,null,null,null,null,{"$f":"VLOOKUP(recettesjan[[#This Row],[Catégorie]],'coulisses 2'!$A$1:$B$20,2,0)","v":0}]
[null,null,null,null,null,null,null,null,null,null,null,null,null,null,null,null,null,{"$f":"VLOOKUP(recettesjan[[#This Row],[Catégorie]],'coulisses 2'!$A$1:$B$20,2,0)","v":0}]
[null,null,null,null,null,null,null,null,null,null,null,null,null,null,null,null,null,{"$f":"VLOOKUP(recettesjan[[#This Row],[Catégorie]],'coulisses 2'!$A$1:$B$20,2,0)","v":0}]
[null,null,null,null,null,null,null,null,null,null,null,null,null,null,null,null,null,{"$f":"VLOOKUP(recettesjan[[#This Row],[Catégorie]],'coulisses 2'!$A$1:$B$20,2,0)","v":0}]
[null,null,null,null,null,null,null,null,null,null,null,null,null,null,null,null,null,{"$f":"VLOOKUP(recettesjan[[#This Row],[Catégorie]],'coulisses 2'!$A$1:$B$20,2,0)","v":0}]
[null,null,null,null,null,null,null,null,null,null,null,null,null,null,null,null,null,{"$f":"VLOOKUP(recettesjan[[#This Row],[Catégorie]],'coulisses 2'!$A$1:$B$20,2,0)","v":0}]
[null,null,null,null,null,null,null,null,null,null,null,null,null,null,null,null,null,{"$f":"VLOOKUP(recettesjan[[#This Row],[Catégorie]],'coulisses 2'!$A$1:$B$20,2,0)","v":0}]
[null,null,null,null,null,null,null,null,null,null,null,null,null,null,null,null,null,{"$f":"VLOOKUP(recettesjan[[#This Row],[Catégorie]],'coulisses 2'!$A$1:$B$20,2,0)","v":0}]
[null,null,null,null,null,null,null,null,null,null,null,null,null,null,null,null,null,{"$f":"VLOOKUP(recettesjan[[#This Row],[Catégorie]],'coulisses 2'!$A$1:$B$20,2,0)","v":0}]
[null,null,null,null,null,null,null,null,null,null,null,null,null,null,null,null,null,{"$f":"VLOOKUP(recettesjan[[#This Row],[Catégorie]],'coulisses 2'!$A$1:$B$20,2,0)","v":0}]
[null,null,null,null,null,null,null,null,null,null,null,null,null,null,null,null,null,{"$f":"VLOOKUP(recettesjan[[#This Row],[Catégorie]],'coulisses 2'!$A$1:$B$20,2,0)","v":0}]
[null,null,null,null,null,null,null,null,null,null,null,null,null,null,null,null,null,{"$f":"VLOOKUP(recettesjan[[#This Row],[Catégorie]],'coulisses 2'!$A$1:$B$20,2,0)","v":0}]
[null,null,null,null,null,null,null,null,null,null,null,null,null,null,null,null,null,{"$f":"VLOOKUP(recettesjan[[#This Row],[Catégorie]],'coulisses 2'!$A$1:$B$20,2,0)","v":0}]
[null,null,null,null,null,null,null,null,null,null,null,null,null,null,null,null,null,{"$f":"VLOOKUP(recettesjan[[#This Row],[Catégorie]],'coulisses 2'!$A$1:$B$20,2,0)","v":0}]
[null,null,null,null,null,null,null,null,null,null,null,null,null,null,null,null,null,{"$f":"VLOOKUP(recettesjan[[#This Row],[Catégorie]],'coulisses 2'!$A$1:$B$20,2,0)","v":0}]
[null,null,null,null,null,null,null,null,null,null,null,null,null,null,null,null,null,{"$f":"VLOOKUP(recettesjan[[#This Row],[Catégorie]],'coulisses 2'!$A$1:$B$20,2,0)","v":0}]
[null,null,null,null,null,null,null,null,null,null,null,null,null,null,null,null,null,{"$f":"VLOOKUP(recettesjan[[#This Row],[Catégorie]],'coulisses 2'!$A$1:$B$20,2,0)","v":0}]
[null,null,null,null,null,null,null,null,null,null,null,null,null,null,null,null,null,{"$f":"VLOOKUP(recettesjan[[#This Row],[Catégorie]],'coulisses 2'!$A$1:$B$20,2,0)","v":0}]
[null,null,null,null,null,null,null,null,null,null,null,null,null,null,null,null,null,{"$f":"VLOOKUP(recettesjan[[#This Row],[Catégorie]],'coulisses 2'!$A$1:$B$20,2,0)","v":0}]
[null,null,null,null,null,null,null,null,null,null,null,null,null,null,null,null,null,{"$f":"VLOOKUP(recettesjan[[#This Row],[Catégorie]],'coulisses 2'!$A$1:$B$20,2,0)","v":0}]
[null,null,null,null,null,null,null,null,null,null,null,null,null,null,null,null,null,{"$f":"VLOOKUP(recettesjan[[#This Row],[Catégorie]],'coulisses 2'!$A$1:$B$20,2,0)","v":0}]
[null,null,null,null,null,null,null,null,null,null,null,null,null,null,null,null,null,{"$f":"VLOOKUP(recettesjan[[#This Row],[Catégorie]],'coulisses 2'!$A$1:$B$20,2,0)","v":0}]
[null,null,null,null,null,null,null,null,null,null,null,null,null,null,null,null,null,{"$f":"VLOOKUP(recettesjan[[#This Row],[Catégorie]],'coulisses 2'!$A$1:$B$20,2,0)","v":0}]
[null,null,null,null,null,null,null,null,null,null,null,null,null,null,null,null,null,{"$f":"VLOOKUP(recettesjan[[#This Row],[Catégorie]],'coulisses 2'!$A$1:$B$20,2,0)","v":0}]
[null,null,null,null,null,null,null,null,null,null,null,null,null,null,null,null,null,{"$f":"VLOOKUP(recettesjan[[#This Row],[Catégorie]],'coulisses 2'!$A$1:$B$20,2,0)","v":0}]
[null,null,null,null,null,null,null,null,null,null,null,null,null,null,null,null,null,{"$f":"VLOOKUP(recettesjan[[#This Row],[Catégorie]],'coulisses 2'!$A$1:$B$20,2,0)","v":0}]
[null,null,null,null,null,null,null,null,null,null,null,null,null,null,null,null,null,{"$f":"VLOOKUP(recettesjan[[#This Row],[Catégorie]],'coulisses 2'!$A$1:$B$20,2,0)","v":0}]
[null,null,null,null,null,null,null,null,null,null,null,null,null,null,null,null,null,{"$f":"VLOOKUP(recettesjan[[#This Row],[Catégorie]],'coulisses 2'!$A$1:$B$20,2,0)","v":0}]
[null,null,null,null,null,null,null,null,null,null,null,null,null,null,null,null,null,{"$f":"VLOOKUP(recettesjan[[#This Row],[Catégorie]],'coulisses 2'!$A$1:$B$20,2,0)","v":0}]
[null,null,null,null,null,null,null,null,null,null,null,null,null,null,null,null,null,{"$f":"VLOOKUP(recettesjan[[#This Row],[Catégorie]],'coulisses 2'!$A$1:$B$20,2,0)","v":0}]
[null,null,null,null,null,null,null,null,null,null,null,null,null,null,null,null,null,{"$f":"VLOOKUP(recettesjan[[#This Row],[Catégorie]],'coulisses 2'!$A$1:$B$20,2,0)","v":0}]
[null,null,null,null,null,null,null,null,null,null,null,null,null,null,null,null,null,{"$f":"VLOOKUP(recettesjan[[#This Row],[Catégorie]],'coulisses 2'!$A$1:$B$20,2,0)","v":0}]
[null,null,null,null,null,null,null,null,null,null,null,null,null,null,null,null,null,{"$f":"VLOOKUP(recettesjan[[#This Row],[Catégorie]],'coulisses 2'!$A$1:$B$20,2,0)","v":0}]
[null,null,null,null,null,null,null,null,null,null,null,null,null,null,null,null,null,{"$f":"VLOOKUP(recettesjan[[#This Row],[Catégorie]],'coulisses 2'!$A$1:$B$20,2,0)","v":0}]
[null,null,null,null,null,null,null,null,null,null,null,null,null,null,null,null,null,{"$f":"VLOOKUP(recettesjan[[#This Row],[Catégorie]],'coulisses 2'!$A$1:$B$20,2,0)","v":0}]
[null,null,null,null,null,null,null,null,null,null,null,null,null,null,null,null,null,{"$f":"VLOOKUP(recettesjan[[#This Row],[Catégorie]],'coulisses 2'!$A$1:$B$20,2,0)","v":0}]
[null,null,null,null,null,null,null,null,null,null,null,null,null,null,null,null,null,{"$f":"VLOOKUP(recettesjan[[#This Row],[Catégorie]],'coulisses 2'!$A$1:$B$20,2,0)","v":0}]
[null,null,null,null,null,null,null,null,null,null,null,null,null,null,null,null,null,{"$f":"VLOOKUP(recettesjan[[#This Row],[Catégorie]],'coulisses 2'!$A$1:$B$20,2,0)","v":0}]
[null,null,null,null,null,null,null,null,null,null,null,null,null,null,null,null,null,{"$f":"VLOOKUP(recettesjan[[#This Row],[Catégorie]],'coulisses 2'!$A$1:$B$20,2,0)","v":0}]
[null,null,null,null,null,null,null,null,null,null,null,null,null,null,null,null,null,{"$f":"VLOOKUP(recettesjan[[#This Row],[Catégorie]],'coulisses 2'!$A$1:$B$20,2,0)","v":0}]
[null,null,null,null,null,null,null,null,null,null,null,null,null,null,null,null,null,{"$f":"VLOOKUP(recettesjan[[#This Row],[Catégorie]],'coulisses 2'!$A$1:$B$20,2,0)","v":0}]
[null,null,null,null,null,null,null,null,null,null,null,null,null,null,null,null,null,{"$f":"VLOOKUP(recettesjan[[#This Row],[Catégorie]],'coulisses 2'!$A$1:$B$20,2,0)","v":0}]
[null,null,null,null,null,null,null,null,null,null,null,null,null,null,null,null,null,{"$f":"VLOOKUP(recettesjan[[#This Row],[Catégorie]],'coulisses 2'!$A$1:$B$20,2,0)","v":0}]
[null,null,null,null,null,null,null,null,null,null,null,null,null,null,null,null,null,{"$f":"VLOOKUP(recettesjan[[#This Row],[Catégorie]],'coulisses 2'!$A$1:$B$20,2,0)","v":0}]
[null,null,null,null,null,null,null,null,null,null,null,null,null,null,null,null,null,{"$f":"VLOOKUP(recettesjan[[#This Row],[Catégorie]],'coulisses 2'!$A$1:$B$20,2,0)","v":0}]
[null,null,null,null,null,null,null,null,null,null,null,null,null,null,null,null,null,{"$f":"VLOOKUP(recettesjan[[#This Row],[Catégorie]],'coulisses 2'!$A$1:$B$20,2,0)","v":0}]
[null,null,null,null,null,null,null,null,null,null,null,null,null,null,null,null,null,{"$f":"VLOOKUP(recettesjan[[#This Row],[Catégorie]],'coulisses 2'!$A$1:$B$20,2,0)","v":0}]
[null,null,null,null,null,null,null,null,null,null,null,null,null,null,null,null,null,{"$f":"VLOOKUP(recettesjan[[#This Row],[Catégorie]],'coulisses 2'!$A$1:$B$20,2,0)","v":0}]
[null,null,null,null,null,null,null,null,null,null,null,null,null,null,null,null,null,{"$f":"VLOOKUP(recettesjan[[#This Row],[Catégorie]],'coulisses 2'!$A$1:$B$20,2,0)","v":0}]
[null,null,null,null,null,null,null,null,null,null,null,null,null,null,null,null,null,{"$f":"VLOOKUP(recettesjan[[#This Row],[Catégorie]],'coulisses 2'!$A$1:$B$20,2,0)","v":0}]
[null,null,null,null,null,null,null,null,null,null,null,null,null,null,null,null,null,{"$f":"VLOOKUP(recettesjan[[#This Row],[Catégorie]],'coulisses 2'!$A$1:$B$20,2,0)","v":0}]
[null,null,null,null,null,null,null,null,null,null,null,null,null,null,null,null,null,{"$f":"VLOOKUP(recettesjan[[#This Row],[Catégorie]],'coulisses 2'!$A$1:$B$20,2,0)","v":0}]
[null,null,null,null,null,null,null,null,null,null,null,null,null,null,null,null,null,{"$f":"VLOOKUP(recettesjan[[#This Row],[Catégorie]],'coulisses 2'!$A$1:$B$20,2,0)","v":0}]
[null,null,null,null,null,null,null,null,null,null,null,null,null,null,null,null,null,{"$f":"VLOOKUP(recettesjan[[#This Row],[Catégorie]],'coulisses 2'!$A$1:$B$20,2,0)","v":0}]
[null,null,null,null,null,null,null,null,null,null,null,null,null,null,null,null,null,{"$f":"VLOOKUP(recettesjan[[#This Row],[Catégorie]],'coulisses 2'!$A$1:$B$20,2,0)","v":0}]
[null,null,null,null,null,null,null,null,null,null,null,null,null,null,null,null,null,{"$f":"VLOOKUP(recettesjan[[#This Row],[Catégorie]],'coulisses 2'!$A$1:$B$20,2,0)","v":0}]
[null,null,null,null,null,null,null,null,null,null,null,null,null,null,null,null,null,{"$f":"VLOOKUP(recettesjan[[#This Row],[Catégorie]],'coulisses 2'!$A$1:$B$20,2,0)","v":0}]
[null,null,null,null,null,null,null,null,null,null,null,null,null,null,null,null,null,{"$f":"VLOOKUP(recettesjan[[#This Row],[Catégorie]],'coulisses 2'!$A$1:$B$20,2,0)","v":0}]
[null,null,null,null,null,null,null,null,null,null,null,null,null,null,null,null,null,{"$f":"VLOOKUP(recettesjan[[#This Row],[Catégorie]],'coulisses 2'!$A$1:$B$20,2,0)","v":0}]
[null,null,null,null,null,null,null,null,null,null,null,null,null,null,null,null,null,{"$f":"VLOOKUP(recettesjan[[#This Row],[Catégorie]],'coulisses 2'!$A$1:$B$20,2,0)","v":0}]
[null,null,null,null,null,null,null,null,null,null,null,null,null,null,null,null,null,{"$f":"VLOOKUP(recettesjan[[#This Row],[Catégorie]],'coulisses 2'!$A$1:$B$20,2,0)","v":0}]
[null,null,null,null,null,null,null,null,null,null,null,null,null,null,null,null,null,{"$f":"VLOOKUP(recettesjan[[#This Row],[Catégorie]],'coulisses 2'!$A$1:$B$20,2,0)","v":0}]
[null,null,null,null,null,null,null,null,null,null,null,null,null,null,null,null,null,{"$f":"VLOOKUP(recettesjan[[#This Row],[Catégorie]],'coulisses 2'!$A$1:$B$20,2,0)","v":0}]
[null,null,null,null,null,null,null,null,null,null,null,null,null,null,null,null,null,{"$f":"VLOOKUP(recettesjan[[#This Row],[Catégorie]],'coulisses 2'!$A$1:$B$20,2,0)","v":0}]
[null,null,null,null,null,null,null,null,null,null,null,null,null,null,null,null,null,{"$f":"VLOOKUP(recettesjan[[#This Row],[Catégorie]],'coulisses 2'!$A$1:$B$20,2,0)","v":0}]
[null,null,null,null,null,null,null,null,null,null,null,null,null,null,null,null,null,{"$f":"VLOOKUP(recettesjan[[#This Row],[Catégorie]],'coulisses 2'!$A$1:$B$20,2,0)","v":0}]
[null,null,null,null,null,null,null,null,null,null,null,null,null,null,null,null,null,{"$f":"VLOOKUP(recettesjan[[#This Row],[Catégorie]],'coulisses 2'!$A$1:$B$20,2,0)","v":0}]
[null,null,null,null,null,null,null,null,null,null,null,null,null,null,null,null,null,{"$f":"VLOOKUP(recettesjan[[#This Row],[Catégorie]],'coulisses 2'!$A$1:$B$20,2,0)","v":0}]
[null,null,null,null,null,null,null,null,null,null,null,null,null,null,null,null,null,{"$f":"VLOOKUP(recettesjan[[#This Row],[Catégorie]],'coulisses 2'!$A$1:$B$20,2,0)","v":0}]
[null,null,null,null,null,null,null,null,null,null,null,null,null,null,null,null,null,{"$f":"VLOOKUP(recettesjan[[#This Row],[Catégorie]],'coulisses 2'!$A$1:$B$20,2,0)","v":0}]
[null,null,null,null,null,null,null,null,null,null,null,null,null,null,null,null,null,{"$f":"VLOOKUP(recettesjan[[#This Row],[Catégorie]],'coulisses 2'!$A$1:$B$20,2,0)","v":0}]
[null,null,null,null,null,null,null,null,null,null,null,null,null,null,null,null,null,{"$f":"VLOOKUP(recettesjan[[#This Row],[Catégorie]],'coulisses 2'!$A$1:$B$20,2,0)","v":0}]
[null,null,null,null,null,null,null,null,null,null,null,null,null,null,null,null,null,{"$f":"VLOOKUP(recettesjan[[#This Row],[Catégorie]],'coulisses 2'!$A$1:$B$20,2,0)","v":0}]
[null,null,null,null,null,null,null,null,null,null,null,null,null,null,null,null,null,{"$f":"VLOOKUP(recettesjan[[#This Row],[Catégorie]],'coulisses 2'!$A$1:$B$20,2,0)","v":0}]
[null,null,null,null,null,null,null,null,null,null,null,null,null,null,null,null,null,{"$f":"VLOOKUP(recettesjan[[#This Row],[Catégorie]],'coulisses 2'!$A$1:$B$20,2,0)","v":0}]
[null,null,null,null,null,null,null,null,null,null,null,null,null,null,null,null,null,{"$f":"VLOOKUP(recettesjan[[#This Row],[Catégorie]],'coulisses 2'!$A$1:$B$20,2,0)","v":0}]
[null,null,null,null,null,null,null,null,null,null,null,null,null,null,null,null,null,{"$f":"VLOOKUP(recettesjan[[#This Row],[Catégorie]],'coulisses 2'!$A$1:$B$20,2,0)","v":0}]
[null,null,null,null,null,null,null,null,null,null,null,null,null,null,null,null,null,{"$f":"VLOOKUP(recettesjan[[#This Row],[Catégorie]],'coulisses 2'!$A$1:$B$20,2,0)","v":0}]
[null,null,null,null,null,null,null,null,null,null,null,null,null,null,null,null,null,{"$f":"VLOOKUP(recettesjan[[#This Row],[Catégorie]],'coulisses 2'!$A$1:$B$20,2,0)","v":0}]
[null,null,null,null,null,null,null,null,null,null,null,null,null,null,null,null,null,{"$f":"VLOOKUP(recettesjan[[#This Row],[Catégorie]],'coulisses 2'!$A$1:$B$20,2,0)","v":0}]
[null,null,null,null,null,null,null,null,null,null,null,null,null,null,null,null,null,{"$f":"VLOOKUP(recettesjan[[#This Row],[Catégorie]],'coulisses 2'!$A$1:$B$20,2,0)","v":0}]
[null,null,null,null,null,null,null,null,null,null,null,null,null,null,null,null,null,{"$f":"VLOOKUP(recettesjan[[#This Row],[Catégorie]],'coulisses 2'!$A$1:$B$20,2,0)","v":0}]
[null,null,null,null,null,null,null,null,null,null,null,null,null,null,null,null,null,{"$f":"VLOOKUP(recettesjan[[#This Row],[Catégorie]],'coulisses 2'!$A$1:$B$20,2,0)","v":0}]
[null,null,null,null,null,null,null,null,null,null,null,null,null,null,null,null,null,{"$f":"VLOOKUP(recettesjan[[#This Row],[Catégorie]],'coulisses 2'!$A$1:$B$20,2,0)","v":0}]
[null,null,null,null,null,null,null,null,null,null,null,null,null,null,null,null,null,{"$f":"VLOOKUP(recettesjan[[#This Row],[Catégorie]],'coulisses 2'!$A$1:$B$20,2,0)","v":0}]
[null,null,null,null,null,null,null,null,null,null,null,null,null,null,null,null,null,{"$f":"VLOOKUP(recettesjan[[#This Row],[Catégorie]],'coulisses 2'!$A$1:$B$20,2,0)","v":0}]
[null,null,null,null,null,null,null,null,null,null,null,null,null,null,null,null,null,{"$f":"VLOOKUP(recettesjan[[#This Row],[Catégorie]],'coulisses 2'!$A$1:$B$20,2,0)","v":0}]
[null,null,null,null,null,null,null,null,null,null,null,null,null,null,null,null,null,{"$f":"VLOOKUP(recettesjan[[#This Row],[Catégorie]],'coulisses 2'!$A$1:$B$20,2,0)","v":0}]
[null,null,null,null,null,null,null,null,null,null,null,null,null,null,null,null,null,{"$f":"VLOOKUP(recettesjan[[#This Row],[Catégorie]],'coulisses 2'!$A$1:$B$20,2,0)","v":0}]
[null,null,null,null,null,null,null,null,null,null,null,null,null,null,null,null,null,{"$f":"VLOOKUP(recettesjan[[#This Row],[Catégorie]],'coulisses 2'!$A$1:$B$20,2,0)","v":0}]
[null,null,null,null,null,null,null,null,null,null,null,null,null,null,null,null,null,{"$f":"VLOOKUP(recettesjan[[#This Row],[Catégorie]],'coulisses 2'!$A$1:$B$20,2,0)","v":0}]
[null,null,null,null,null,null,null,null,null,null,null,null,null,null,null,null,null,{"$f":"VLOOKUP(recettesjan[[#This Row],[Catégorie]],'coulisses 2'!$A$1:$B$20,2,0)","v":0}]
[null,null,null,null,null,null,null,null,null,null,null,null,null,null,null,null,null,{"$f":"VLOOKUP(recettesjan[[#This Row],[Catégorie]],'coulisses 2'!$A$1:$B$20,2,0)","v":0}]
[null,null,null,null,null,null,null,null,null,null,null,null,null,null,null,null,null,{"$f":"VLOOKUP(recettesjan[[#This Row],[Catégorie]],'coulisses 2'!$A$1:$B$20,2,0)","v":0}]
[null,null,null,null,null,null,null,null,null,null,null,null,null,null,null,null,null,{"$f":"VLOOKUP(recettesjan[[#This Row],[Catégorie]],'coulisses 2'!$A$1:$B$20,2,0)","v":0}]
[null,null,null,null,null,null,null,null,null,null,null,null,null,null,null,null,null,{"$f":"VLOOKUP(recettesjan[[#This Row],[Catégorie]],'coulisses 2'!$A$1:$B$20,2,0)","v":0}]
[null,null,null,null,null,null,null,null,null,null,null,null,null,null,null,null,null,{"$f":"VLOOKUP(recettesjan[[#This Row],[Catégorie]],'coulisses 2'!$A$1:$B$20,2,0)","v":0}]
[null,null,null,null,null,null,null,null,null,null,null,null,null,null,null,null,null,{"$f":"VLOOKUP(recettesjan[[#This Row],[Catégorie]],'coulisses 2'!$A$1:$B$20,2,0)","v":0}]
[null,null,null,null,null,null,null,null,null,null,null,null,null,null,null,null,null,{"$f":"VLOOKUP(recettesjan[[#This Row],[Catégorie]],'coulisses 2'!$A$1:$B$20,2,0)","v":0}]
[null,null,null,null,null,null,null,null,null,null,null,null,null,null,null,null,null,{"$f":"VLOOKUP(recettesjan[[#This Row],[Catégorie]],'coulisses 2'!$A$1:$B$20,2,0)","v":0}]
[null,null,null,null,null,null,null,null,null,null,null,null,null,null,null,null,null,{"$f":"VLOOKUP(recettesjan[[#This Row],[Catégorie]],'coulisses 2'!$A$1:$B$20,2,0)","v":0}]
[null,null,null,null,null,null,null,null,null,null,null,null,null,null,null,null,null,{"$f":"VLOOKUP(recettesjan[[#This Row],[Catégorie]],'coulisses 2'!$A$1:$B$20,2,0)","v":0}]
[null,null,null,null,null,null,null,null,null,null,null,null,null,null,null,null,null,{"$f":"VLOOKUP(recettesjan[[#This Row],[Catégorie]],'coulisses 2'!$A$1:$B$20,2,0)","v":0}]
[null,null,null,null,null,null,null,null,null,null,null,null,null,null,null,null,null,{"$f":"VLOOKUP(recettesjan[[#This Row],[Catégorie]],'coulisses 2'!$A$1:$B$20,2,0)","v":0}]
[null,null,null,null,null,null,null,null,null,null,null,null,null,null,null,null,null,{"$f":"VLOOKUP(recettesjan[[#This Row],[Catégorie]],'coulisses 2'!$A$1:$B$20,2,0)","v":0}]
[null,null,null,null,null,null,null,null,null,null,null,null,null,null,null,null,null,{"$f":"VLOOKUP(recettesjan[[#This Row],[Catégorie]],'coulisses 2'!$A$1:$B$20,2,0)","v":0}]
[null,null,null,null,null,null,null,null,null,null,null,null,null,null,null,null,null,{"$f":"VLOOKUP(recettesjan[[#This Row],[Catégorie]],'coulisses 2'!$A$1:$B$20,2,0)","v":0}]
[null,null,null,null,null,null,null,null,null,null,null,null,null,null,null,null,null,{"$f":"VLOOKUP(recettesjan[[#This Row],[Catégorie]],'coulisses 2'!$A$1:$B$20,2,0)","v":0}]
[null,null,null,null,null,null,null,null,null,null,null,null,null,null,null,null,null,{"$f":"VLOOKUP(recettesjan[[#This Row],[Catégorie]],'coulisses 2'!$A$1:$B$20,2,0)","v":0}]
[null,null,null,null,null,null,null,null,null,null,null,null,null,null,null,null,null,{"$f":"VLOOKUP(recettesjan[[#This Row],[Catégorie]],'coulisses 2'!$A$1:$B$20,2,0)","v":0}]
[null,null,null,null,null,null,null,null,null,null,null,null,null,null,null,null,null,{"$f":"VLOOKUP(recettesjan[[#This Row],[Catégorie]],'coulisses 2'!$A$1:$B$20,2,0)","v":0}]

{"sheet":"🎿 02","index":2,"n_rows":304,"n_cols":24,"rows_kept":304,"cut":false,"hidden":false,"merged":[[1,1,1,4],[1,9,1,12]]}
[null,{"$f":"'👩🏻‍🏫 Bienvenue !'!K7","v":0},null,{"$f":"'👩🏻‍🏫 Bienvenue !'!I12&\" - \"&\"Février \"&'👩🏻‍🏫 Bienvenue !'!I16","v":" - Février "},null,null,null,null,null,null,null,null,null,null,"VOTRE PROFIT DU MOIS",{"$f":"H2-P2","v":0}]
[null,"Vos recettes 💰",null,null,null,null,"TOTAL",{"$f":"SUM(recettesfev[Montant])","v":0},null,"Vos dépenses 🧾",null,null,null,null,"TOTAL",{"$f":"SUM(depensesfev[Montant])","v":0}]
[]
[null,"Date","Mode de paiement","N°","Libellé et nom du client","Catégorie","Axe","Montant",null,"Date","Mode de paiement","N°","Libellé","Catégorie","Axe","Montant",null,"Taux"]
[null,null,null,null,null,null,null,null,null,null,null,"F1","Cotisations sociales Décembre - Taux 1","Cotisations sociales",null,null,null,{"$f":"VLOOKUP(recettesfev[[#This Row],[Catégorie]],'coulisses 2'!$A$1:$B$20,2,0)","v":0},null,"Récapitulatif par type de dépense",{"$f":"SUM(U6:U26)","v":0},null,"Récapitulatif par type de recette",{"$f":"SUM(X6:X26)","v":0}]
[null,null,null,null,null,null,null,null,null,null,null,"F2","Cotisations sociales Décembre - Taux 2","Cotisations sociales",null,null,null,{"$f":"VLOOKUP(recettesfev[[#This Row],[Catégorie]],'coulisses 2'!$A$1:$B$20,2,0)","v":0},null,{"$f":"coulisses!J23","v":0},{"$f":"SUMIF(depensesfev[Catégorie],T6,depensesfev[Montant])","v":0},null,{"$f":"coulisses!J3","v":0},{"$f":"SUMIF(recettesfev[Catégorie],W6,recettesfev[Montant])","v":0}]
[null,null,null,null,null,null,null,null,null,null,null,"F3","Cotisations sociales Décembre - Taux 3","Cotisations sociales",null,null,null,{"$f":"VLOOKUP(recettesfev[[#This Row],[Catégorie]],'coulisses 2'!$A$1:$B$20,2,0)","v":0},null,{"$f":"coulisses!J24","v":0},{"$f":"SUMIF(depensesfev[Catégorie],T7,depensesfev[Montant])","v":0},null,{"$f":"coulisses!J4","v":0},{"$f":"SUMIF(recettesfev[Catégorie],W7,recettesfev[Montant])","v":0}]
[null,null,null,null,null,null,null,null,null,null,null,null,null,null,null,null,null,{"$f":"VLOOKUP(recettesfev[[#This Row],[Catégorie]],'coulisses 2'!$A$1:$B$20,2,0)","v":0},null,{"$f":"coulisses!J25","v":0},{"$f":"SUMIF(depensesfev[Catégorie],T8,depensesfev[Montant])","v":0},null,{"$f":"coulisses!J5","v":0},{"$f":"SUMIF(recettesfev[Catégorie],W8,recettesfev[Montant])","v":0}]
[null,null,null,null,null,null,null,null,null,null,null,null,null,null,null,null,null,{"$f":"VLOOKUP(recettesfev[[#This Row],[Catégorie]],'coulisses 2'!$A$1:$B$20,2,0)","v":0},null,{"$f":"coulisses!J26","v":0},{"$f":"SUMIF(depensesfev[Catégorie],T9,depensesfev[Montant])","v":0},null,{"$f":"coulisses!J6","v":0},{"$f":"SUMIF(recettesfev[Catégorie],W9,recettesfev[Montant])","v":0}]
[null,null,null,null,null,null,null,null,null,null,null,null,null,null,null,null,null,{"$f":"VLOOKUP(recettesfev[[#This Row],[Catégorie]],'coulisses 2'!$A$1:$B$20,2,0)","v":0},null,{"$f":"coulisses!J27","v":0},{"$f":"SUMIF(depensesfev[Catégorie],T10,depensesfev[Montant])","v":0},null,{"$f":"coulisses!J7","v":0},{"$f":"SUMIF(recettesfev[Catégorie],W10,recettesfev[Montant])","v":0}]
[null,null,null,null,null,null,null,null,null,null,null,null,null,null,null,null,null,{"$f":"VLOOKUP(recettesfev[[#This Row],[Catégorie]],'coulisses 2'!$A$1:$B$20,2,0)","v":0},null,{"$f":"coulisses!J28","v":0},{"$f":"SUMIF(depensesfev[Catégorie],T11,depensesfev[Montant])","v":0},null,{"$f":"coulisses!J8","v":0},{"$f":"SUMIF(recettesfev[Catégorie],W11,recettesfev[Montant])","v":0}]
[null,null,null,null,null,null,null,null,null,null,null,null,null,null,null,null,null,{"$f":"VLOOKUP(recettesfev[[#This Row],[Catégorie]],'coulisses 2'!$A$1:$B$20,2,0)","v":0},null,{"$f":"coulisses!J29","v":0},{"$f":"SUMIF(depensesfev[Catégorie],T12,depensesfev[Montant])","v":0},null,{"$f":"coulisses!J9","v":0},{"$f":"SUMIF(recettesfev[Catégorie],W12,recettesfev[Montant])","v":0}]
[null,null,null,null,null,null,null,null,null,null,null,null,null,null,null,null,null,{"$f":"VLOOKUP(recettesfev[[#This Row],[Catégorie]],'coulisses 2'!$A$1:$B$20,2,0)","v":0},null,{"$f":"coulisses!J30","v":0},{"$f":"SUMIF(depensesfev[Catégorie],T13,depensesfev[Montant])","v":0},null,{"$f":"coulisses!J10","v":0},{"$f":"SUMIF(recettesfev[Catégorie],W13,recettesfev[Montant])","v":0}]
[null,null,null,null,null,null,null,null,null,null,null,null,null,null,null,null,null,{"$f":"VLOOKUP(recettesfev[[#This Row],[Catégorie]],'coulisses 2'!$A$1:$B$20,2,0)","v":0},null,{"$f":"coulisses!J31","v":0},{"$f":"SUMIF(depensesfev[Catégorie],T14,depensesfev[Montant])","v":0},null,{"$f":"coulisses!J11","v":0},{"$f":"SUMIF(recettesfev[Catégorie],W14,recettesfev[Montant])","v":0}]
[null,null,null,null,null,null,null,null,null,null,null,null,null,null,null,null,null,{"$f":"VLOOKUP(recettesfev[[#This Row],[Catégorie]],'coulisses 2'!$A$1:$B$20,2,0)","v":0},null,{"$f":"coulisses!J32","v":0},{"$f":"SUMIF(depensesfev[Catégorie],T15,depensesfev[Montant])","v":0},null,{"$f":"coulisses!J12","v":0},{"$f":"SUMIF(recettesfev[Catégorie],W15,recettesfev[Montant])","v":0}]
[null,null,null,null,null,null,null,null,null,null,null,null,null,null,null,null,null,{"$f":"VLOOKUP(recettesfev[[#This Row],[Catégorie]],'coulisses 2'!$A$1:$B$20,2,0)","v":0},null,{"$f":"coulisses!J33","v":0},{"$f":"SUMIF(depensesfev[Catégorie],T16,depensesfev[Montant])","v":0},null,{"$f":"coulisses!J13","v":0},{"$f":"SUMIF(recettesfev[Catégorie],W16,recettesfev[Montant])","v":0}]
[null,null,null,null,null,null,null,null,null,null,null,null,null,null,null,null,null,{"$f":"VLOOKUP(recettesfev[[#This Row],[Catégorie]],'coulisses 2'!$A$1:$B$20,2,0)","v":0},null,{"$f":"coulisses!J34","v":0},{"$f":"SUMIF(depensesfev[Catégorie],T17,depensesfev[Montant])","v":0},null,{"$f":"coulisses!J14","v":0},{"$f":"SUMIF(recettesfev[Catégorie],W17,recettesfev[Montant])","v":0}]
[null,null,null,null,null,null,null,null,null,null,null,null,null,null,null,null,null,{"$f":"VLOOKUP(recettesfev[[#This Row],[Catégorie]],'coulisses 2'!$A$1:$B$20,2,0)","v":0},null,{"$f":"coulisses!J35","v":0},{"$f":"SUMIF(depensesfev[Catégorie],T18,depensesfev[Montant])","v":0},null,{"$f":"coulisses!J15","v":0},{"$f":"SUMIF(recettesfev[Catégorie],W18,recettesfev[Montant])","v":0}]
[null,null,null,null,null,null,null,null,null,null,null,null,null,null,null,null,null,{"$f":"VLOOKUP(recettesfev[[#This Row],[Catégorie]],'coulisses 2'!$A$1:$B$20,2,0)","v":0},null,{"$f":"coulisses!J36","v":0},{"$f":"SUMIF(depensesfev[Catégorie],T19,depensesfev[Montant])","v":0},null,{"$f":"coulisses!J16","v":0},{"$f":"SUMIF(recettesfev[Catégorie],W19,recettesfev[Montant])","v":0}]
[null,null,null,null,null,null,null,null,null,null,null,null,null,null,null,null,null,{"$f":"VLOOKUP(recettesfev[[#This Row],[Catégorie]],'coulisses 2'!$A$1:$B$20,2,0)","v":0},null,{"$f":"coulisses!J37","v":0},{"$f":"SUMIF(depensesfev[Catégorie],T20,depensesfev[Montant])","v":0},null,{"$f":"coulisses!J17","v":0},{"$f":"SUMIF(recettesfev[Catégorie],W20,recettesfev[Montant])","v":0}]
[null,null,null,null,null,null,null,null,null,null,null,null,null,null,null,null,null,{"$f":"VLOOKUP(recettesfev[[#This Row],[Catégorie]],'coulisses 2'!$A$1:$B$20,2,0)","v":0},null,{"$f":"coulisses!J38","v":0},{"$f":"SUMIF(depensesfev[Catégorie],T21,depensesfev[Montant])","v":0},null,{"$f":"coulisses!J18","v":0},{"$f":"SUMIF(recettesfev[Catégorie],W21,recettesfev[Montant])","v":0}]
[null,null,null,null,null,null,null,null,null,null,null,null,null,null,null,null,null,{"$f":"VLOOKUP(recettesfev[[#This Row],[Catégorie]],'coulisses 2'!$A$1:$B$20,2,0)","v":0},null,{"$f":"coulisses!J39","v":0},{"$f":"SUMIF(depensesfev[Catégorie],T22,depensesfev[Montant])","v":0},null,{"$f":"coulisses!J19","v":0},{"$f":"SUMIF(recettesfev[Catégorie],W22,recettesfev[Montant])","v":0}]
[null,null,null,null,null,null,null,null,null,null,null,null,null,null,null,null,null,{"$f":"VLOOKUP(recettesfev[[#This Row],[Catégorie]],'coulisses 2'!$A$1:$B$20,2,0)","v":0},null,{"$f":"coulisses!J40","v":0},{"$f":"SUMIF(depensesfev[Catégorie],T23,depensesfev[Montant])","v":0},null,{"$f":"coulisses!J20","v":0},{"$f":"SUMIF(recettesfev[Catégorie],W23,recettesfev[Montant])","v":0}]
[null,null,null,null,null,null,null,null,null,null,null,null,null,null,null,null,null,{"$f":"VLOOKUP(recettesfev[[#This Row],[Catégorie]],'coulisses 2'!$A$1:$B$20,2,0)","v":0},null,{"$f":"coulisses!J41","v":0},{"$f":"SUMIF(depensesfev[Catégorie],T24,depensesfev[Montant])","v":0},null,{"$f":"coulisses!J21","v":0},{"$f":"SUMIF(recettesfev[Catégorie],W24,recettesfev[Montant])","v":0}]
[null,null,null,null,null,null,null,null,null,null,null,null,null,null,null,null,null,{"$f":"VLOOKUP(recettesfev[[#This Row],[Catégorie]],'coulisses 2'!$A$1:$B$20,2,0)","v":0},null,{"$f":"coulisses!J42","v":"Cotisations sociales"},{"$f":"SUMIF(depensesfev[Catégorie],T25,depensesfev[Montant])","v":0},null,{"$f":"coulisses!J22","v":0},{"$f":"SUMIF(recettesfev[Catégorie],W25,recettesfev[Montant])","v":0}]
[null,null,null,null,null,null,null,null,null,null,null,null,null,null,null,null,null,{"$f":"VLOOKUP(recettesfev[[#This Row],[Catégorie]],'coulisses 2'!$A$1:$B$20,2,0)","v":0}]
[null,null,null,null,null,null,null,null,null,null,null,null,null,null,null,null,null,{"$f":"VLOOKUP(recettesfev[[#This Row],[Catégorie]],'coulisses 2'!$A$1:$B$20,2,0)","v":0}]
[null,null,null,null,null,null,null,null,null,null,null,null,null,null,null,null,null,{"$f":"VLOOKUP(recettesfev[[#This Row],[Catégorie]],'coulisses 2'!$A$1:$B$20,2,0)","v":0},null,"Estimation des charges dues sur le CA du mois",null,"CA","Taux","A payer"]
[null,null,null,null,null,null,null,null,null,null,null,null,null,null,null,null,null,{"$f":"VLOOKUP(recettesfev[[#This Row],[Catégorie]],'coulisses 2'!$A$1:$B$20,2,0)","v":0},null,"Taux 1",null,{"$f":"SUMIF(R:R,W29,H:H)","v":0},{"$f":"'👩🏻‍🏫 Bienvenue !'!I20","v":0},{"$f":"W29*V29","v":0}]
[null,null,null,null,null,null,null,null,null,null,null,null,null,null,null,null,null,{"$f":"VLOOKUP(recettesfev[[#This Row],[Catégorie]],'coulisses 2'!$A$1:$B$20,2,0)","v":0},null,"Taux 2",null,{"$f":"SUMIF(R:R,W30,H:H)","v":0},{"$f":"'👩🏻‍🏫 Bienvenue !'!I21","v":0},{"$f":"W30*V30","v":0}]
[null,null,null,null,null,null,null,null,null,null,null,null,null,null,null,null,null,{"$f":"VLOOKUP(recettesfev[[#This Row],[Catégorie]],'coulisses 2'!$A$1:$B$20,2,0)","v":0},null,"Taux 3",null,{"$f":"SUMIF(R:R,W31,H:H)","v":0},{"$f":"'👩🏻‍🏫 Bienvenue !'!I22","v":0},{"$f":"W31*V31","v":0}]
[null,null,null,null,null,null,null,null,null,null,null,null,null,null,null,null,null,{"$f":"VLOOKUP(recettesfev[[#This Row],[Catégorie]],'coulisses 2'!$A$1:$B$20,2,0)","v":0},null,"TOTAL",null,null,null,{"$f":"SUM(X29:X31)","v":0}]
[null,null,null,null,null,null,null,null,null,null,null,null,null,null,null,null,null,{"$f":"VLOOKUP(recettesfev[[#This Row],[Catégorie]],'coulisses 2'!$A$1:$B$20,2,0)","v":0}]
[null,null,null,null,null,null,null,null,null,null,null,null,null,null,null,null,null,{"$f":"VLOOKUP(recettesfev[[#This Row],[Catégorie]],'coulisses 2'!$A$1:$B$20,2,0)","v":0},null,"Rapprochement bancaire"]
[null,null,null,null,null,null,null,null,null,null,null,null,null,null,null,null,null,{"$f":"VLOOKUP(recettesfev[[#This Row],[Catégorie]],'coulisses 2'!$A$1:$B$20,2,0)","v":0},null,"Solde du mois précédent",{"$f":"'🥧 01'!U46","v":0}]
[null,null,null,null,null,null,null,null,null,null,null,null,null,null,null,null,null,{"$f":"VLOOKUP(recettesfev[[#This Row],[Catégorie]],'coulisses 2'!$A$1:$B$20,2,0)","v":0},null,"Profit du mois",{"$f":"P1","v":0}]
[null,null,null,null,null,null,null,null,null,null,null,null,null,null,null,null,null,{"$f":"VLOOKUP(recettesfev[[#This Row],[Catégorie]],'coulisses 2'!$A$1:$B$20,2,0)","v":0},null,"Ecritures à rapprocher :"]
[null,null,null,null,null,null,null,null,null,null,null,null,null,null,null,null,null,{"$f":"VLOOKUP(recettesfev[[#This Row],[Catégorie]],'coulisses 2'!$A$1:$B$20,2,0)","v":0}]
[null,null,null,null,null,null,null,null,null,null,null,null,null,null,null,null,null,{"$f":"VLOOKUP(recettesfev[[#This Row],[Catégorie]],'coulisses 2'!$A$1:$B$20,2,0)","v":0}]
[null,null,null,null,null,null,null,null,null,null,null,null,null,null,null,null,null,{"$f":"VLOOKUP(recettesfev[[#This Row],[Catégorie]],'coulisses 2'!$A$1:$B$20,2,0)","v":0}]
[null,null,null,null,null,null,null,null,null,null,null,null,null,null,null,null,null,{"$f":"VLOOKUP(recettesfev[[#This Row],[Catégorie]],'coulisses 2'!$A$1:$B$20,2,0)","v":0}]
[null,null,null,null,null,null,null,null,null,null,null,null,null,null,null,null,null,{"$f":"VLOOKUP(recettesfev[[#This Row],[Catégorie]],'coulisses 2'!$A$1:$B$20,2,0)","v":0}]
[null,null,null,null,null,null,null,null,null,null,null,null,null,null,null,null,null,{"$f":"VLOOKUP(recettesfev[[#This Row],[Catégorie]],'coulisses 2'!$A$1:$B$20,2,0)","v":0}]
[null,null,null,null,null,null,null,null,null,null,null,null,null,null,null,null,null,{"$f":"VLOOKUP(recettesfev[[#This Row],[Catégorie]],'coulisses 2'!$A$1:$B$20,2,0)","v":0}]
[null,null,null,null,null,null,null,null,null,null,null,null,null,null,null,null,null,{"$f":"VLOOKUP(recettesfev[[#This Row],[Catégorie]],'coulisses 2'!$A$1:$B$20,2,0)","v":0}]
[null,null,null,null,null,null,null,null,null,null,null,null,null,null,null,null,null,{"$f":"VLOOKUP(recettesfev[[#This Row],[Catégorie]],'coulisses 2'!$A$1:$B$20,2,0)","v":0},null,"Solde final du mois",{"$f":"U35+U36+SUM(U38:U45)","v":0}]
[null,null,null,null,null,null,null,null,null,null,null,null,null,null,null,null,null,{"$f":"VLOOKUP(recettesfev[[#This Row],[Catégorie]],'coulisses 2'!$A$1:$B$20,2,0)","v":0},null,"Solde du relevé bancaire"]
[null,null,null,null,null,null,null,null,null,null,null,null,null,null,null,null,null,{"$f":"VLOOKUP(recettesfev[[#This Row],[Catégorie]],'coulisses 2'!$A$1:$B$20,2,0)","v":0},null,"Contrôle (doit être à 0)",{"$f":"U46-U47","v":0}]
[null,null,null,null,null,null,null,null,null,null,null,null,null,null,null,null,null,{"$f":"VLOOKUP(recettesfev[[#This Row],[Catégorie]],'coulisses 2'!$A$1:$B$20,2,0)","v":0}]
[null,null,null,null,null,null,null,null,null,null,null,null,null,null,null,null,null,{"$f":"VLOOKUP(recettesfev[[#This Row],[Catégorie]],'coulisses 2'!$A$1:$B$20,2,0)","v":0},null,"Résultat par axe","CA","Dépenses","Résultat"]
[null,null,null,null,null,null,null,null,null,null,null,null,null,null,null,null,null,{"$f":"VLOOKUP(recettesfev[[#This Row],[Catégorie]],'coulisses 2'!$A$1:$B$20,2,0)","v":0},null,{"$f":"'👩🏻‍🏫 Bienvenue !'!I73","v":0},{"$f":"SUMIF(recettesfev[Axe],T51,recettesfev[Montant])","v":0},{"$f":"SUMIF(depensesfev[Axe],T51,depensesfev[Montant])","v":0},{"$f":"U51-V51","v":0}]
[null,null,null,null,null,null,null,null,null,null,null,null,null,null,null,null,null,{"$f":"VLOOKUP(recettesfev[[#This Row],[Catégorie]],'coulisses 2'!$A$1:$B$20,2,0)","v":0},null,{"$f":"'👩🏻‍🏫 Bienvenue !'!I74","v":0},{"$f":"SUMIF(recettesfev[Axe],T52,recettesfev[Montant])","v":0},{"$f":"SUMIF(depensesfev[Axe],T52,depensesfev[Montant])","v":0},{"$f":"U52-V52","v":0}]
[null,null,null,null,null,null,null,null,null,null,null,null,null,null,null,null,null,{"$f":"VLOOKUP(recettesfev[[#This Row],[Catégorie]],'coulisses 2'!$A$1:$B$20,2,0)","v":0},null,{"$f":"'👩🏻‍🏫 Bienvenue !'!I75","v":0},{"$f":"SUMIF(recettesfev[Axe],T53,recettesfev[Montant])","v":0},{"$f":"SUMIF(depensesfev[Axe],T53,depensesfev[Montant])","v":0},0]
[null,null,null,null,null,null,null,null,null,null,null,null,null,null,null,null,null,{"$f":"VLOOKUP(recettesfev[[#This Row],[Catégorie]],'coulisses 2'!$A$1:$B$20,2,0)","v":0},null,{"$f":"'👩🏻‍🏫 Bienvenue !'!I76","v":0},{"$f":"SUMIF(recettesfev[Axe],T54,recettesfev[Montant])","v":0},{"$f":"SUMIF(depensesfev[Axe],T54,depensesfev[Montant])","v":0},0]
[null,null,null,null,null,null,null,null,null,null,null,null,null,null,null,null,null,{"$f":"VLOOKUP(recettesfev[[#This Row],[Catégorie]],'coulisses 2'!$A$1:$B$20,2,0)","v":0},null,{"$f":"'👩🏻‍🏫 Bienvenue !'!I77","v":0},{"$f":"SUMIF(recettesfev[Axe],T55,recettesfev[Montant])","v":0},{"$f":"SUMIF(depensesfev[Axe],T55,depensesfev[Montant])","v":0},0]
[null,null,null,null,null,null,null,null,null,null,null,null,null,null,null,null,null,{"$f":"VLOOKUP(recettesfev[[#This Row],[Catégorie]],'coulisses 2'!$A$1:$B$20,2,0)","v":0},null,{"$f":"'👩🏻‍🏫 Bienvenue !'!I78","v":0},{"$f":"SUMIF(recettesfev[Axe],T56,recettesfev[Montant])","v":0},{"$f":"SUMIF(depensesfev[Axe],T56,depensesfev[Montant])","v":0},0]
[null,null,null,null,null,null,null,null,null,null,null,null,null,null,null,null,null,{"$f":"VLOOKUP(recettesfev[[#This Row],[Catégorie]],'coulisses 2'!$A$1:$B$20,2,0)","v":0},null,{"$f":"'👩🏻‍🏫 Bienvenue !'!I79","v":0},{"$f":"SUMIF(recettesfev[Axe],T57,recettesfev[Montant])","v":0},{"$f":"SUMIF(depensesfev[Axe],T57,depensesfev[Montant])","v":0},0]
[null,null,null,null,null,null,null,null,null,null,null,null,null,null,null,null,null,{"$f":"VLOOKUP(recettesfev[[#This Row],[Catégorie]],'coulisses 2'!$A$1:$B$20,2,0)","v":0},null,{"$f":"'👩🏻‍🏫 Bienvenue !'!I80","v":0},{"$f":"SUMIF(recettesfev[Axe],T58,recettesfev[Montant])","v":0},{"$f":"SUMIF(depensesfev[Axe],T58,depensesfev[Montant])","v":0},0]
[null,null,null,null,null,null,null,null,null,null,null,null,null,null,null,null,null,{"$f":"VLOOKUP(recettesfev[[#This Row],[Catégorie]],'coulisses 2'!$A$1:$B$20,2,0)","v":0},null,{"$f":"'👩🏻‍🏫 Bienvenue !'!I81","v":0},{"$f":"SUMIF(recettesfev[Axe],T59,recettesfev[Montant])","v":0},{"$f":"SUMIF(depensesfev[Axe],T59,depensesfev[Montant])","v":0},0]
[null,null,null,null,null,null,null,null,null,null,null,null,null,null,null,null,null,{"$f":"VLOOKUP(recettesfev[[#This Row],[Catégorie]],'coulisses 2'!$A$1:$B$20,2,0)","v":0},null,{"$f":"'👩🏻‍🏫 Bienvenue !'!I82","v":0},{"$f":"SUMIF(recettesfev[Axe],T60,recettesfev[Montant])","v":0},{"$f":"SUMIF(depensesfev[Axe],T60,depensesfev[Montant])","v":0},0]
[null,null,null,null,null,null,null,null,null,null,null,null,null,null,null,null,null,{"$f":"VLOOKUP(recettesfev[[#This Row],[Catégorie]],'coulisses 2'!$A$1:$B$20,2,0)","v":0}]
[null,null,null,null,null,null,null,null,null,null,null,null,null,null,null,null,null,{"$f":"VLOOKUP(recettesfev[[#This Row],[Catégorie]],'coulisses 2'!$A$1:$B$20,2,0)","v":0}]
[null,null,null,null,null,null,null,null,null,null,null,null,null,null,null,null,null,{"$f":"VLOOKUP(recettesfev[[#This Row],[Catégorie]],'coulisses 2'!$A$1:$B$20,2,0)","v":0}]
[null,null,null,null,null,null,null,null,null,null,null,null,null,null,null,null,null,{"$f":"VLOOKUP(recettesfev[[#This Row],[Catégorie]],'coulisses 2'!$A$1:$B$20,2,0)","v":0}]
[null,null,null,null,null,null,null,null,null,null,null,null,null,null,null,null,null,{"$f":"VLOOKUP(recettesfev[[#This Row],[Catégorie]],'coulisses 2'!$A$1:$B$20,2,0)","v":0}]
[null,null,null,null,null,null,null,null,null,null,null,null,null,null,null,null,null,{"$f":"VLOOKUP(recettesfev[[#This Row],[Catégorie]],'coulisses 2'!$A$1:$B$20,2,0)","v":0}]
[null,null,null,null,null,null,null,null,null,null,null,null,null,null,null,null,null,{"$f":"VLOOKUP(recettesfev[[#This Row],[Catégorie]],'coulisses 2'!$A$1:$B$20,2,0)","v":0}]
[null,null,null,null,null,null,null,null,null,null,null,null,null,null,null,null,null,{"$f":"VLOOKUP(recettesfev[[#This Row],[Catégorie]],'coulisses 2'!$A$1:$B$20,2,0)","v":0}]
[null,null,null,null,null,null,null,null,null,null,null,null,null,null,null,null,null,{"$f":"VLOOKUP(recettesfev[[#This Row],[Catégorie]],'coulisses 2'!$A$1:$B$20,2,0)","v":0}]
[null,null,null,null,null,null,null,null,null,null,null,null,null,null,null,null,null,{"$f":"VLOOKUP(recettesfev[[#This Row],[Catégorie]],'coulisses 2'!$A$1:$B$20,2,0)","v":0}]
[null,null,null,null,null,null,null,null,null,null,null,null,null,null,null,null,null,{"$f":"VLOOKUP(recettesfev[[#This Row],[Catégorie]],'coulisses 2'!$A$1:$B$20,2,0)","v":0}]
[null,null,null,null,null,null,null,null,null,null,null,null,null,null,null,null,null,{"$f":"VLOOKUP(recettesfev[[#This Row],[Catégorie]],'coulisses 2'!$A$1:$B$20,2,0)","v":0}]
[null,null,null,null,null,null,null,null,null,null,null,null,null,null,null,null,null,{"$f":"VLOOKUP(recettesfev[[#This Row],[Catégorie]],'coulisses 2'!$A$1:$B$20,2,0)","v":0}]
[null,null,null,null,null,null,null,null,null,null,null,null,null,null,null,null,null,{"$f":"VLOOKUP(recettesfev[[#This Row],[Catégorie]],'coulisses 2'!$A$1:$B$20,2,0)","v":0}]
[null,null,null,null,null,null,null,null,null,null,null,null,null,null,null,null,null,{"$f":"VLOOKUP(recettesfev[[#This Row],[Catégorie]],'coulisses 2'!$A$1:$B$20,2,0)","v":0}]
[null,null,null,null,null,null,null,null,null,null,null,null,null,null,null,null,null,{"$f":"VLOOKUP(recettesfev[[#This Row],[Catégorie]],'coulisses 2'!$A$1:$B$20,2,0)","v":0}]
[null,null,null,null,null,null,null,null,null,null,null,null,null,null,null,null,null,{"$f":"VLOOKUP(recettesfev[[#This Row],[Catégorie]],'coulisses 2'!$A$1:$B$20,2,0)","v":0}]
[null,null,null,null,null,null,null,null,null,null,null,null,null,null,null,null,null,{"$f":"VLOOKUP(recettesfev[[#This Row],[Catégorie]],'coulisses 2'!$A$1:$B$20,2,0)","v":0}]
[null,null,null,null,null,null,null,null,null,null,null,null,null,null,null,null,null,{"$f":"VLOOKUP(recettesfev[[#This Row],[Catégorie]],'coulisses 2'!$A$1:$B$20,2,0)","v":0}]
[null,null,null,null,null,null,null,null,null,null,null,null,null,null,null,null,null,{"$f":"VLOOKUP(recettesfev[[#This Row],[Catégorie]],'coulisses 2'!$A$1:$B$20,2,0)","v":0}]
[null,null,null,null,null,null,null,null,null,null,null,null,null,null,null,null,null,{"$f":"VLOOKUP(recettesfev[[#This Row],[Catégorie]],'coulisses 2'!$A$1:$B$20,2,0)","v":0}]
[null,null,null,null,null,null,null,null,null,null,null,null,null,null,null,null,null,{"$f":"VLOOKUP(recettesfev[[#This Row],[Catégorie]],'coulisses 2'!$A$1:$B$20,2,0)","v":0}]
[null,null,null,null,null,null,null,null,null,null,null,null,null,null,null,null,null,{"$f":"VLOOKUP(recettesfev[[#This Row],[Catégorie]],'coulisses 2'!$A$1:$B$20,2,0)","v":0}]
[null,null,null,null,null,null,null,null,null,null,null,null,null,null,null,null,null,{"$f":"VLOOKUP(recettesfev[[#This Row],[Catégorie]],'coulisses 2'!$A$1:$B$20,2,0)","v":0}]
[null,null,null,null,null,null,null,null,null,null,null,null,null,null,null,null,null,{"$f":"VLOOKUP(recettesfev[[#This Row],[Catégorie]],'coulisses 2'!$A$1:$B$20,2,0)","v":0}]
[null,null,null,null,null,null,null,null,null,null,null,null,null,null,null,null,null,{"$f":"VLOOKUP(recettesfev[[#This Row],[Catégorie]],'coulisses 2'!$A$1:$B$20,2,0)","v":0}]
[null,null,null,null,null,null,null,null,null,null,null,null,null,null,null,null,null,{"$f":"VLOOKUP(recettesfev[[#This Row],[Catégorie]],'coulisses 2'!$A$1:$B$20,2,0)","v":0}]
[null,null,null,null,null,null,null,null,null,null,null,null,null,null,null,null,null,{"$f":"VLOOKUP(recettesfev[[#This Row],[Catégorie]],'coulisses 2'!$A$1:$B$20,2,0)","v":0}]
[null,null,null,null,null,null,null,null,null,null,null,null,null,null,null,null,null,{"$f":"VLOOKUP(recettesfev[[#This Row],[Catégorie]],'coulisses 2'!$A$1:$B$20,2,0)","v":0}]
[null,null,null,null,null,null,null,null,null,null,null,null,null,null,null,null,null,{"$f":"VLOOKUP(recettesfev[[#This Row],[Catégorie]],'coulisses 2'!$A$1:$B$20,2,0)","v":0}]
[null,null,null,null,null,null,null,null,null,null,null,null,null,null,null,null,null,{"$f":"VLOOKUP(recettesfev[[#This Row],[Catégorie]],'coulisses 2'!$A$1:$B$20,2,0)","v":0}]
[null,null,null,null,null,null,null,null,null,null,null,null,null,null,null,null,null,{"$f":"VLOOKUP(recettesfev[[#This Row],[Catégorie]],'coulisses 2'!$A$1:$B$20,2,0)","v":0}]
[null,null,null,null,null,null,null,null,null,null,null,null,null,null,null,null,null,{"$f":"VLOOKUP(recettesfev[[#This Row],[Catégorie]],'coulisses 2'!$A$1:$B$20,2,0)","v":0}]
[null,null,null,null,null,null,null,null,null,null,null,null,null,null,null,null,null,{"$f":"VLOOKUP(recettesfev[[#This Row],[Catégorie]],'coulisses 2'!$A$1:$B$20,2,0)","v":0}]
[null,null,null,null,null,null,null,null,null,null,null,null,null,null,null,null,null,{"$f":"VLOOKUP(recettesfev[[#This Row],[Catégorie]],'coulisses 2'!$A$1:$B$20,2,0)","v":0}]
[null,null,null,null,null,null,null,null,null,null,null,null,null,null,null,null,null,{"$f":"VLOOKUP(recettesfev[[#This Row],[Catégorie]],'coulisses 2'!$A$1:$B$20,2,0)","v":0}]
[null,null,null,null,null,null,null,null,null,null,null,null,null,null,null,null,null,{"$f":"VLOOKUP(recettesfev[[#This Row],[Catégorie]],'coulisses 2'!$A$1:$B$20,2,0)","v":0}]
[null,null,null,null,null,null,null,null,null,null,null,null,null,null,null,null,null,{"$f":"VLOOKUP(recettesfev[[#This Row],[Catégorie]],'coulisses 2'!$A$1:$B$20,2,0)","v":0}]
[null,null,null,null,null,null,null,null,null,null,null,null,null,null,null,null,null,{"$f":"VLOOKUP(recettesfev[[#This Row],[Catégorie]],'coulisses 2'!$A$1:$B$20,2,0)","v":0}]
[null,null,null,null,null,null,null,null,null,null,null,null,null,null,null,null,null,{"$f":"VLOOKUP(recettesfev[[#This Row],[Catégorie]],'coulisses 2'!$A$1:$B$20,2,0)","v":0}]
[null,null,null,null,null,null,null,null,null,null,null,null,null,null,null,null,null,{"$f":"VLOOKUP(recettesfev[[#This Row],[Catégorie]],'coulisses 2'!$A$1:$B$20,2,0)","v":0}]
[null,null,null,null,null,null,null,null,null,null,null,null,null,null,null,null,null,{"$f":"VLOOKUP(recettesfev[[#This Row],[Catégorie]],'coulisses 2'!$A$1:$B$20,2,0)","v":0}]
[null,null,null,null,null,null,null,null,null,null,null,null,null,null,null,null,null,{"$f":"VLOOKUP(recettesfev[[#This Row],[Catégorie]],'coulisses 2'!$A$1:$B$20,2,0)","v":0}]
[null,null,null,null,null,null,null,null,null,null,null,null,null,null,null,null,null,{"$f":"VLOOKUP(recettesfev[[#This Row],[Catégorie]],'coulisses 2'!$A$1:$B$20,2,0)","v":0}]
[null,null,null,null,null,null,null,null,null,null,null,null,null,null,null,null,null,{"$f":"VLOOKUP(recettesfev[[#This Row],[Catégorie]],'coulisses 2'!$A$1:$B$20,2,0)","v":0}]
[null,null,null,null,null,null,null,null,null,null,null,null,null,null,null,null,null,{"$f":"VLOOKUP(recettesfev[[#This Row],[Catégorie]],'coulisses 2'!$A$1:$B$20,2,0)","v":0}]
[null,null,null,null,null,null,null,null,null,null,null,null,null,null,null,null,null,{"$f":"VLOOKUP(recettesfev[[#This Row],[Catégorie]],'coulisses 2'!$A$1:$B$20,2,0)","v":0}]
[null,null,null,null,null,null,null,null,null,null,null,null,null,null,null,null,null,{"$f":"VLOOKUP(recettesfev[[#This Row],[Catégorie]],'coulisses 2'!$A$1:$B$20,2,0)","v":0}]
[null,null,null,null,null,null,null,null,null,null,null,null,null,null,null,null,null,{"$f":"VLOOKUP(recettesfev[[#This Row],[Catégorie]],'coulisses 2'!$A$1:$B$20,2,0)","v":0}]
[null,null,null,null,null,null,null,null,null,null,null,null,null,null,null,null,null,{"$f":"VLOOKUP(recettesfev[[#This Row],[Catégorie]],'coulisses 2'!$A$1:$B$20,2,0)","v":0}]
[null,null,null,null,null,null,null,null,null,null,null,null,null,null,null,null,null,{"$f":"VLOOKUP(recettesfev[[#This Row],[Catégorie]],'coulisses 2'!$A$1:$B$20,2,0)","v":0}]
[null,null,null,null,null,null,null,null,null,null,null,null,null,null,null,null,null,{"$f":"VLOOKUP(recettesfev[[#This Row],[Catégorie]],'coulisses 2'!$A$1:$B$20,2,0)","v":0}]
[null,null,null,null,null,null,null,null,null,null,null,null,null,null,null,null,null,{"$f":"VLOOKUP(recettesfev[[#This Row],[Catégorie]],'coulisses 2'!$A$1:$B$20,2,0)","v":0}]
[null,null,null,null,null,null,null,null,null,null,null,null,null,null,null,null,null,{"$f":"VLOOKUP(recettesfev[[#This Row],[Catégorie]],'coulisses 2'!$A$1:$B$20,2,0)","v":0}]
[null,null,null,null,null,null,null,null,null,null,null,null,null,null,null,null,null,{"$f":"VLOOKUP(recettesfev[[#This Row],[Catégorie]],'coulisses 2'!$A$1:$B$20,2,0)","v":0}]
[null,null,null,null,null,null,null,null,null,null,null,null,null,null,null,null,null,{"$f":"VLOOKUP(recettesfev[[#This Row],[Catégorie]],'coulisses 2'!$A$1:$B$20,2,0)","v":0}]
[null,null,null,null,null,null,null,null,null,null,null,null,null,null,null,null,null,{"$f":"VLOOKUP(recettesfev[[#This Row],[Catégorie]],'coulisses 2'!$A$1:$B$20,2,0)","v":0}]
[null,null,null,null,null,null,null,null,null,null,null,null,null,null,null,null,null,{"$f":"VLOOKUP(recettesfev[[#This Row],[Catégorie]],'coulisses 2'!$A$1:$B$20,2,0)","v":0}]
[null,null,null,null,null,null,null,null,null,null,null,null,null,null,null,null,null,{"$f":"VLOOKUP(recettesfev[[#This Row],[Catégorie]],'coulisses 2'!$A$1:$B$20,2,0)","v":0}]
[null,null,null,null,null,null,null,null,null,null,null,null,null,null,null,null,null,{"$f":"VLOOKUP(recettesfev[[#This Row],[Catégorie]],'coulisses 2'!$A$1:$B$20,2,0)","v":0}]
[null,null,null,null,null,null,null,null,null,null,null,null,null,null,null,null,null,{"$f":"VLOOKUP(recettesfev[[#This Row],[Catégorie]],'coulisses 2'!$A$1:$B$20,2,0)","v":0}]
[null,null,null,null,null,null,null,null,null,null,null,null,null,null,null,null,null,{"$f":"VLOOKUP(recettesfev[[#This Row],[Catégorie]],'coulisses 2'!$A$1:$B$20,2,0)","v":0}]
[null,null,null,null,null,null,null,null,null,null,null,null,null,null,null,null,null,{"$f":"VLOOKUP(recettesfev[[#This Row],[Catégorie]],'coulisses 2'!$A$1:$B$20,2,0)","v":0}]
[null,null,null,null,null,null,null,null,null,null,null,null,null,null,null,null,null,{"$f":"VLOOKUP(recettesfev[[#This Row],[Catégorie]],'coulisses 2'!$A$1:$B$20,2,0)","v":0}]
[null,null,null,null,null,null,null,null,null,null,null,null,null,null,null,null,null,{"$f":"VLOOKUP(recettesfev[[#This Row],[Catégorie]],'coulisses 2'!$A$1:$B$20,2,0)","v":0}]
[null,null,null,null,null,null,null,null,null,null,null,null,null,null,null,null,null,{"$f":"VLOOKUP(recettesfev[[#This Row],[Catégorie]],'coulisses 2'!$A$1:$B$20,2,0)","v":0}]
[null,null,null,null,null,null,null,null,null,null,null,null,null,null,null,null,null,{"$f":"VLOOKUP(recettesfev[[#This Row],[Catégorie]],'coulisses 2'!$A$1:$B$20,2,0)","v":0}]
[null,null,null,null,null,null,null,null,null,null,null,null,null,null,null,null,null,{"$f":"VLOOKUP(recettesfev[[#This Row],[Catégorie]],'coulisses 2'!$A$1:$B$20,2,0)","v":0}]
[null,null,null,null,null,null,null,null,null,null,null,null,null,null,null,null,null,{"$f":"VLOOKUP(recettesfev[[#This Row],[Catégorie]],'coulisses 2'!$A$1:$B$20,2,0)","v":0}]
[null,null,null,null,null,null,null,null,null,null,null,null,null,null,null,null,null,{"$f":"VLOOKUP(recettesfev[[#This Row],[Catégorie]],'coulisses 2'!$A$1:$B$20,2,0)","v":0}]
[null,null,null,null,null,null,null,null,null,null,null,null,null,null,null,null,null,{"$f":"VLOOKUP(recettesfev[[#This Row],[Catégorie]],'coulisses 2'!$A$1:$B$20,2,0)","v":0}]
[null,null,null,null,null,null,null,null,null,null,null,null,null,null,null,null,null,{"$f":"VLOOKUP(recettesfev[[#This Row],[Catégorie]],'coulisses 2'!$A$1:$B$20,2,0)","v":0}]
[null,null,null,null,null,null,null,null,null,null,null,null,null,null,null,null,null,{"$f":"VLOOKUP(recettesfev[[#This Row],[Catégorie]],'coulisses 2'!$A$1:$B$20,2,0)","v":0}]
[null,null,null,null,null,null,null,null,null,null,null,null,null,null,null,null,null,{"$f":"VLOOKUP(recettesfev[[#This Row],[Catégorie]],'coulisses 2'!$A$1:$B$20,2,0)","v":0}]
[null,null,null,null,null,null,null,null,null,null,null,null,null,null,null,null,null,{"$f":"VLOOKUP(recettesfev[[#This Row],[Catégorie]],'coulisses 2'!$A$1:$B$20,2,0)","v":0}]
[null,null,null,null,null,null,null,null,null,null,null,null,null,null,null,null,null,{"$f":"VLOOKUP(recettesfev[[#This Row],[Catégorie]],'coulisses 2'!$A$1:$B$20,2,0)","v":0}]
[null,null,null,null,null,null,null,null,null,null,null,null,null,null,null,null,null,{"$f":"VLOOKUP(recettesfev[[#This Row],[Catégorie]],'coulisses 2'!$A$1:$B$20,2,0)","v":0}]
[null,null,null,null,null,null,null,null,null,null,null,null,null,null,null,null,null,{"$f":"VLOOKUP(recettesfev[[#This Row],[Catégorie]],'coulisses 2'!$A$1:$B$20,2,0)","v":0}]
[null,null,null,null,null,null,null,null,null,null,null,null,null,null,null,null,null,{"$f":"VLOOKUP(recettesfev[[#This Row],[Catégorie]],'coulisses 2'!$A$1:$B$20,2,0)","v":0}]
[null,null,null,null,null,null,null,null,null,null,null,null,null,null,null,null,null,{"$f":"VLOOKUP(recettesfev[[#This Row],[Catégorie]],'coulisses 2'!$A$1:$B$20,2,0)","v":0}]
[null,null,null,null,null,null,null,null,null,null,null,null,null,null,null,null,null,{"$f":"VLOOKUP(recettesfev[[#This Row],[Catégorie]],'coulisses 2'!$A$1:$B$20,2,0)","v":0}]
[null,null,null,null,null,null,null,null,null,null,null,null,null,null,null,null,null,{"$f":"VLOOKUP(recettesfev[[#This Row],[Catégorie]],'coulisses 2'!$A$1:$B$20,2,0)","v":0}]
[null,null,null,null,null,null,null,null,null,null,null,null,null,null,null,null,null,{"$f":"VLOOKUP(recettesfev[[#This Row],[Catégorie]],'coulisses 2'!$A$1:$B$20,2,0)","v":0}]
[null,null,null,null,null,null,null,null,null,null,null,null,null,null,null,null,null,{"$f":"VLOOKUP(recettesfev[[#This Row],[Catégorie]],'coulisses 2'!$A$1:$B$20,2,0)","v":0}]
[null,null,null,null,null,null,null,null,null,null,null,null,null,null,null,null,null,{"$f":"VLOOKUP(recettesfev[[#This Row],[Catégorie]],'coulisses 2'!$A$1:$B$20,2,0)","v":0}]
[null,null,null,null,null,null,null,null,null,null,null,null,null,null,null,null,null,{"$f":"VLOOKUP(recettesfev[[#This Row],[Catégorie]],'coulisses 2'!$A$1:$B$20,2,0)","v":0}]
[null,null,null,null,null,null,null,null,null,null,null,null,null,null,null,null,null,{"$f":"VLOOKUP(recettesfev[[#This Row],[Catégorie]],'coulisses 2'!$A$1:$B$20,2,0)","v":0}]
[null,null,null,null,null,null,null,null,null,null,null,null,null,null,null,null,null,{"$f":"VLOOKUP(recettesfev[[#This Row],[Catégorie]],'coulisses 2'!$A$1:$B$20,2,0)","v":0}]
[null,null,null,null,null,null,null,null,null,null,null,null,null,null,null,null,null,{"$f":"VLOOKUP(recettesfev[[#This Row],[Catégorie]],'coulisses 2'!$A$1:$B$20,2,0)","v":0}]
[null,null,null,null,null,null,null,null,null,null,null,null,null,null,null,null,null,{"$f":"VLOOKUP(recettesfev[[#This Row],[Catégorie]],'coulisses 2'!$A$1:$B$20,2,0)","v":0}]
[null,null,null,null,null,null,null,null,null,null,null,null,null,null,null,null,null,{"$f":"VLOOKUP(recettesfev[[#This Row],[Catégorie]],'coulisses 2'!$A$1:$B$20,2,0)","v":0}]
[null,null,null,null,null,null,null,null,null,null,null,null,null,null,null,null,null,{"$f":"VLOOKUP(recettesfev[[#This Row],[Catégorie]],'coulisses 2'!$A$1:$B$20,2,0)","v":0}]
[null,null,null,null,null,null,null,null,null,null,null,null,null,null,null,null,null,{"$f":"VLOOKUP(recettesfev[[#This Row],[Catégorie]],'coulisses 2'!$A$1:$B$20,2,0)","v":0}]
[null,null,null,null,null,null,null,null,null,null,null,null,null,null,null,null,null,{"$f":"VLOOKUP(recettesfev[[#This Row],[Catégorie]],'coulisses 2'!$A$1:$B$20,2,0)","v":0}]
[null,null,null,null,null,null,null,null,null,null,null,null,null,null,null,null,null,{"$f":"VLOOKUP(recettesfev[[#This Row],[Catégorie]],'coulisses 2'!$A$1:$B$20,2,0)","v":0}]
[null,null,null,null,null,null,null,null,null,null,null,null,null,null,null,null,null,{"$f":"VLOOKUP(recettesfev[[#This Row],[Catégorie]],'coulisses 2'!$A$1:$B$20,2,0)","v":0}]
[null,null,null,null,null,null,null,null,null,null,null,null,null,null,null,null,null,{"$f":"VLOOKUP(recettesfev[[#This Row],[Catégorie]],'coulisses 2'!$A$1:$B$20,2,0)","v":0}]
[null,null,null,null,null,null,null,null,null,null,null,null,null,null,null,null,null,{"$f":"VLOOKUP(recettesfev[[#This Row],[Catégorie]],'coulisses 2'!$A$1:$B$20,2,0)","v":0}]
[null,null,null,null,null,null,null,null,null,null,null,null,null,null,null,null,null,{"$f":"VLOOKUP(recettesfev[[#This Row],[Catégorie]],'coulisses 2'!$A$1:$B$20,2,0)","v":0}]
[null,null,null,null,null,null,null,null,null,null,null,null,null,null,null,null,null,{"$f":"VLOOKUP(recettesfev[[#This Row],[Catégorie]],'coulisses 2'!$A$1:$B$20,2,0)","v":0}]
[null,null,null,null,null,null,null,null,null,null,null,null,null,null,null,null,null,{"$f":"VLOOKUP(recettesfev[[#This Row],[Catégorie]],'coulisses 2'!$A$1:$B$20,2,0)","v":0}]
[null,null,null,null,null,null,null,null,null,null,null,null,null,null,null,null,null,{"$f":"VLOOKUP(recettesfev[[#This Row],[Catégorie]],'coulisses 2'!$A$1:$B$20,2,0)","v":0}]
[null,null,null,null,null,null,null,null,null,null,null,null,null,null,null,null,null,{"$f":"VLOOKUP(recettesfev[[#This Row],[Catégorie]],'coulisses 2'!$A$1:$B$20,2,0)","v":0}]
[null,null,null,null,null,null,null,null,null,null,null,null,null,null,null,null,null,{"$f":"VLOOKUP(recettesfev[[#This Row],[Catégorie]],'coulisses 2'!$A$1:$B$20,2,0)","v":0}]
[null,null,null,null,null,null,null,null,null,null,null,null,null,null,null,null,null,{"$f":"VLOOKUP(recettesfev[[#This Row],[Catégorie]],'coulisses 2'!$A$1:$B$20,2,0)","v":0}]
[null,null,null,null,null,null,null,null,null,null,null,null,null,null,null,null,null,{"$f":"VLOOKUP(recettesfev[[#This Row],[Catégorie]],'coulisses 2'!$A$1:$B$20,2,0)","v":0}]
[null,null,null,null,null,null,null,null,null,null,null,null,null,null,null,null,null,{"$f":"VLOOKUP(recettesfev[[#This Row],[Catégorie]],'coulisses 2'!$A$1:$B$20,2,0)","v":0}]
[null,null,null,null,null,null,null,null,null,null,null,null,null,null,null,null,null,{"$f":"VLOOKUP(recettesfev[[#This Row],[Catégorie]],'coulisses 2'!$A$1:$B$20,2,0)","v":0}]
[null,null,null,null,null,null,null,null,null,null,null,null,null,null,null,null,null,{"$f":"VLOOKUP(recettesfev[[#This Row],[Catégorie]],'coulisses 2'!$A$1:$B$20,2,0)","v":0}]
[null,null,null,null,null,null,null,null,null,null,null,null,null,null,null,null,null,{"$f":"VLOOKUP(recettesfev[[#This Row],[Catégorie]],'coulisses 2'!$A$1:$B$20,2,0)","v":0}]
[null,null,null,null,null,null,null,null,null,null,null,null,null,null,null,null,null,{"$f":"VLOOKUP(recettesfev[[#This Row],[Catégorie]],'coulisses 2'!$A$1:$B$20,2,0)","v":0}]
[null,null,null,null,null,null,null,null,null,null,null,null,null,null,null,null,null,{"$f":"VLOOKUP(recettesfev[[#This Row],[Catégorie]],'coulisses 2'!$A$1:$B$20,2,0)","v":0}]
[null,null,null,null,null,null,null,null,null,null,null,null,null,null,null,null,null,{"$f":"VLOOKUP(recettesfev[[#This Row],[Catégorie]],'coulisses 2'!$A$1:$B$20,2,0)","v":0}]
[null,null,null,null,null,null,null,null,null,null,null,null,null,null,null,null,null,{"$f":"VLOOKUP(recettesfev[[#This Row],[Catégorie]],'coulisses 2'!$A$1:$B$20,2,0)","v":0}]
[null,null,null,null,null,null,null,null,null,null,null,null,null,null,null,null,null,{"$f":"VLOOKUP(recettesfev[[#This Row],[Catégorie]],'coulisses 2'!$A$1:$B$20,2,0)","v":0}]
[null,null,null,null,null,null,null,null,null,null,null,null,null,null,null,null,null,{"$f":"VLOOKUP(recettesfev[[#This Row],[Catégorie]],'coulisses 2'!$A$1:$B$20,2,0)","v":0}]
[null,null,null,null,null,null,null,null,null,null,null,null,null,null,null,null,null,{"$f":"VLOOKUP(recettesfev[[#This Row],[Catégorie]],'coulisses 2'!$A$1:$B$20,2,0)","v":0}]
[null,null,null,null,null,null,null,null,null,null,null,null,null,null,null,null,null,{"$f":"VLOOKUP(recettesfev[[#This Row],[Catégorie]],'coulisses 2'!$A$1:$B$20,2,0)","v":0}]
[null,null,null,null,null,null,null,null,null,null,null,null,null,null,null,null,null,{"$f":"VLOOKUP(recettesfev[[#This Row],[Catégorie]],'coulisses 2'!$A$1:$B$20,2,0)","v":0}]
[null,null,null,null,null,null,null,null,null,null,null,null,null,null,null,null,null,{"$f":"VLOOKUP(recettesfev[[#This Row],[Catégorie]],'coulisses 2'!$A$1:$B$20,2,0)","v":0}]
[null,null,null,null,null,null,null,null,null,null,null,null,null,null,null,null,null,{"$f":"VLOOKUP(recettesfev[[#This Row],[Catégorie]],'coulisses 2'!$A$1:$B$20,2,0)","v":0}]
[null,null,null,null,null,null,null,null,null,null,null,null,null,null,null,null,null,{"$f":"VLOOKUP(recettesfev[[#This Row],[Catégorie]],'coulisses 2'!$A$1:$B$20,2,0)","v":0}]
[null,null,null,null,null,null,null,null,null,null,null,null,null,null,null,null,null,{"$f":"VLOOKUP(recettesfev[[#This Row],[Catégorie]],'coulisses 2'!$A$1:$B$20,2,0)","v":0}]
[null,null,null,null,null,null,null,null,null,null,null,null,null,null,null,null,null,{"$f":"VLOOKUP(recettesfev[[#This Row],[Catégorie]],'coulisses 2'!$A$1:$B$20,2,0)","v":0}]
[null,null,null,null,null,null,null,null,null,null,null,null,null,null,null,null,null,{"$f":"VLOOKUP(recettesfev[[#This Row],[Catégorie]],'coulisses 2'!$A$1:$B$20,2,0)","v":0}]
[null,null,null,null,null,null,null,null,null,null,null,null,null,null,null,null,null,{"$f":"VLOOKUP(recettesfev[[#This Row],[Catégorie]],'coulisses 2'!$A$1:$B$20,2,0)","v":0}]
[null,null,null,null,null,null,null,null,null,null,null,null,null,null,null,null,null,{"$f":"VLOOKUP(recettesfev[[#This Row],[Catégorie]],'coulisses 2'!$A$1:$B$20,2,0)","v":0}]
[null,null,null,null,null,null,null,null,null,null,null,null,null,null,null,null,null,{"$f":"VLOOKUP(recettesfev[[#This Row],[Catégorie]],'coulisses 2'!$A$1:$B$20,2,0)","v":0}]
[null,null,null,null,null,null,null,null,null,null,null,null,null,null,null,null,null,{"$f":"VLOOKUP(recettesfev[[#This Row],[Catégorie]],'coulisses 2'!$A$1:$B$20,2,0)","v":0}]
[null,null,null,null,null,null,null,null,null,null,null,null,null,null,null,null,null,{"$f":"VLOOKUP(recettesfev[[#This Row],[Catégorie]],'coulisses 2'!$A$1:$B$20,2,0)","v":0}]
[null,null,null,null,null,null,null,null,null,null,null,null,null,null,null,null,null,{"$f":"VLOOKUP(recettesfev[[#This Row],[Catégorie]],'coulisses 2'!$A$1:$B$20,2,0)","v":0}]
[null,null,null,null,null,null,null,null,null,null,null,null,null,null,null,null,null,{"$f":"VLOOKUP(recettesfev[[#This Row],[Catégorie]],'coulisses 2'!$A$1:$B$20,2,0)","v":0}]
[null,null,null,null,null,null,null,null,null,null,null,null,null,null,null,null,null,{"$f":"VLOOKUP(recettesfev[[#This Row],[Catégorie]],'coulisses 2'!$A$1:$B$20,2,0)","v":0}]
[null,null,null,null,null,null,null,null,null,null,null,null,null,null,null,null,null,{"$f":"VLOOKUP(recettesfev[[#This Row],[Catégorie]],'coulisses 2'!$A$1:$B$20,2,0)","v":0}]
[null,null,null,null,null,null,null,null,null,null,null,null,null,null,null,null,null,{"$f":"VLOOKUP(recettesfev[[#This Row],[Catégorie]],'coulisses 2'!$A$1:$B$20,2,0)","v":0}]
[null,null,null,null,null,null,null,null,null,null,null,null,null,null,null,null,null,{"$f":"VLOOKUP(recettesfev[[#This Row],[Catégorie]],'coulisses 2'!$A$1:$B$20,2,0)","v":0}]
[null,null,null,null,null,null,null,null,null,null,null,null,null,null,null,null,null,{"$f":"VLOOKUP(recettesfev[[#This Row],[Catégorie]],'coulisses 2'!$A$1:$B$20,2,0)","v":0}]
[null,null,null,null,null,null,null,null,null,null,null,null,null,null,null,null,null,{"$f":"VLOOKUP(recettesfev[[#This Row],[Catégorie]],'coulisses 2'!$A$1:$B$20,2,0)","v":0}]
[null,null,null,null,null,null,null,null,null,null,null,null,null,null,null,null,null,{"$f":"VLOOKUP(recettesfev[[#This Row],[Catégorie]],'coulisses 2'!$A$1:$B$20,2,0)","v":0}]
[null,null,null,null,null,null,null,null,null,null,null,null,null,null,null,null,null,{"$f":"VLOOKUP(recettesfev[[#This Row],[Catégorie]],'coulisses 2'!$A$1:$B$20,2,0)","v":0}]
[null,null,null,null,null,null,null,null,null,null,null,null,null,null,null,null,null,{"$f":"VLOOKUP(recettesfev[[#This Row],[Catégorie]],'coulisses 2'!$A$1:$B$20,2,0)","v":0}]
[null,null,null,null,null,null,null,null,null,null,null,null,null,null,null,null,null,{"$f":"VLOOKUP(recettesfev[[#This Row],[Catégorie]],'coulisses 2'!$A$1:$B$20,2,0)","v":0}]
[null,null,null,null,null,null,null,null,null,null,null,null,null,null,null,null,null,{"$f":"VLOOKUP(recettesfev[[#This Row],[Catégorie]],'coulisses 2'!$A$1:$B$20,2,0)","v":0}]
[null,null,null,null,null,null,null,null,null,null,null,null,null,null,null,null,null,{"$f":"VLOOKUP(recettesfev[[#This Row],[Catégorie]],'coulisses 2'!$A$1:$B$20,2,0)","v":0}]
[null,null,null,null,null,null,null,null,null,null,null,null,null,null,null,null,null,{"$f":"VLOOKUP(recettesfev[[#This Row],[Catégorie]],'coulisses 2'!$A$1:$B$20,2,0)","v":0}]
[null,null,null,null,null,null,null,null,null,null,null,null,null,null,null,null,null,{"$f":"VLOOKUP(recettesfev[[#This Row],[Catégorie]],'coulisses 2'!$A$1:$B$20,2,0)","v":0}]
[null,null,null,null,null,null,null,null,null,null,null,null,null,null,null,null,null,{"$f":"VLOOKUP(recettesfev[[#This Row],[Catégorie]],'coulisses 2'!$A$1:$B$20,2,0)","v":0}]
[null,null,null,null,null,null,null,null,null,null,null,null,null,null,null,null,null,{"$f":"VLOOKUP(recettesfev[[#This Row],[Catégorie]],'coulisses 2'!$A$1:$B$20,2,0)","v":0}]
[null,null,null,null,null,null,null,null,null,null,null,null,null,null,null,null,null,{"$f":"VLOOKUP(recettesfev[[#This Row],[Catégorie]],'coulisses 2'!$A$1:$B$20,2,0)","v":0}]
[null,null,null,null,null,null,null,null,null,null,null,null,null,null,null,null,null,{"$f":"VLOOKUP(recettesfev[[#This Row],[Catégorie]],'coulisses 2'!$A$1:$B$20,2,0)","v":0}]
[null,null,null,null,null,null,null,null,null,null,null,null,null,null,null,null,null,{"$f":"VLOOKUP(recettesfev[[#This Row],[Catégorie]],'coulisses 2'!$A$1:$B$20,2,0)","v":0}]
[null,null,null,null,null,null,null,null,null,null,null,null,null,null,null,null,null,{"$f":"VLOOKUP(recettesfev[[#This Row],[Catégorie]],'coulisses 2'!$A$1:$B$20,2,0)","v":0}]
[null,null,null,null,null,null,null,null,null,null,null,null,null,null,null,null,null,{"$f":"VLOOKUP(recettesfev[[#This Row],[Catégorie]],'coulisses 2'!$A$1:$B$20,2,0)","v":0}]
[null,null,null,null,null,null,null,null,null,null,null,null,null,null,null,null,null,{"$f":"VLOOKUP(recettesfev[[#This Row],[Catégorie]],'coulisses 2'!$A$1:$B$20,2,0)","v":0}]
[null,null,null,null,null,null,null,null,null,null,null,null,null,null,null,null,null,{"$f":"VLOOKUP(recettesfev[[#This Row],[Catégorie]],'coulisses 2'!$A$1:$B$20,2,0)","v":0}]
[null,null,null,null,null,null,null,null,null,null,null,null,null,null,null,null,null,{"$f":"VLOOKUP(recettesfev[[#This Row],[Catégorie]],'coulisses 2'!$A$1:$B$20,2,0)","v":0}]
[null,null,null,null,null,null,null,null,null,null,null,null,null,null,null,null,null,{"$f":"VLOOKUP(recettesfev[[#This Row],[Catégorie]],'coulisses 2'!$A$1:$B$20,2,0)","v":0}]
[null,null,null,null,null,null,null,null,null,null,null,null,null,null,null,null,null,{"$f":"VLOOKUP(recettesfev[[#This Row],[Catégorie]],'coulisses 2'!$A$1:$B$20,2,0)","v":0}]
[null,null,null,null,null,null,null,null,null,null,null,null,null,null,null,null,null,{"$f":"VLOOKUP(recettesfev[[#This Row],[Catégorie]],'coulisses 2'!$A$1:$B$20,2,0)","v":0}]
[null,null,null,null,null,null,null,null,null,null,null,null,null,null,null,null,null,{"$f":"VLOOKUP(recettesfev[[#This Row],[Catégorie]],'coulisses 2'!$A$1:$B$20,2,0)","v":0}]
[null,null,null,null,null,null,null,null,null,null,null,null,null,null,null,null,null,{"$f":"VLOOKUP(recettesfev[[#This Row],[Catégorie]],'coulisses 2'!$A$1:$B$20,2,0)","v":0}]
[null,null,null,null,null,null,null,null,null,null,null,null,null,null,null,null,null,{"$f":"VLOOKUP(recettesfev[[#This Row],[Catégorie]],'coulisses 2'!$A$1:$B$20,2,0)","v":0}]
[null,null,null,null,null,null,null,null,null,null,null,null,null,null,null,null,null,{"$f":"VLOOKUP(recettesfev[[#This Row],[Catégorie]],'coulisses 2'!$A$1:$B$20,2,0)","v":0}]
[null,null,null,null,null,null,null,null,null,null,null,null,null,null,null,null,null,{"$f":"VLOOKUP(recettesfev[[#This Row],[Catégorie]],'coulisses 2'!$A$1:$B$20,2,0)","v":0}]
[null,null,null,null,null,null,null,null,null,null,null,null,null,null,null,null,null,{"$f":"VLOOKUP(recettesfev[[#This Row],[Catégorie]],'coulisses 2'!$A$1:$B$20,2,0)","v":0}]
[null,null,null,null,null,null,null,null,null,null,null,null,null,null,null,null,null,{"$f":"VLOOKUP(recettesfev[[#This Row],[Catégorie]],'coulisses 2'!$A$1:$B$20,2,0)","v":0}]
[null,null,null,null,null,null,null,null,null,null,null,null,null,null,null,null,null,{"$f":"VLOOKUP(recettesfev[[#This Row],[Catégorie]],'coulisses 2'!$A$1:$B$20,2,0)","v":0}]
[null,null,null,null,null,null,null,null,null,null,null,null,null,null,null,null,null,{"$f":"VLOOKUP(recettesfev[[#This Row],[Catégorie]],'coulisses 2'!$A$1:$B$20,2,0)","v":0}]
[null,null,null,null,null,null,null,null,null,null,null,null,null,null,null,null,null,{"$f":"VLOOKUP(recettesfev[[#This Row],[Catégorie]],'coulisses 2'!$A$1:$B$20,2,0)","v":0}]
[null,null,null,null,null,null,null,null,null,null,null,null,null,null,null,null,null,{"$f":"VLOOKUP(recettesfev[[#This Row],[Catégorie]],'coulisses 2'!$A$1:$B$20,2,0)","v":0}]
[null,null,null,null,null,null,null,null,null,null,null,null,null,null,null,null,null,{"$f":"VLOOKUP(recettesfev[[#This Row],[Catégorie]],'coulisses 2'!$A$1:$B$20,2,0)","v":0}]
[null,null,null,null,null,null,null,null,null,null,null,null,null,null,null,null,null,{"$f":"VLOOKUP(recettesfev[[#This Row],[Catégorie]],'coulisses 2'!$A$1:$B$20,2,0)","v":0}]
[null,null,null,null,null,null,null,null,null,null,null,null,null,null,null,null,null,{"$f":"VLOOKUP(recettesfev[[#This Row],[Catégorie]],'coulisses 2'!$A$1:$B$20,2,0)","v":0}]
[null,null,null,null,null,null,null,null,null,null,null,null,null,null,null,null,null,{"$f":"VLOOKUP(recettesfev[[#This Row],[Catégorie]],'coulisses 2'!$A$1:$B$20,2,0)","v":0}]
[null,null,null,null,null,null,null,null,null,null,null,null,null,null,null,null,null,{"$f":"VLOOKUP(recettesfev[[#This Row],[Catégorie]],'coulisses 2'!$A$1:$B$20,2,0)","v":0}]
[null,null,null,null,null,null,null,null,null,null,null,null,null,null,null,null,null,{"$f":"VLOOKUP(recettesfev[[#This Row],[Catégorie]],'coulisses 2'!$A$1:$B$20,2,0)","v":0}]
[null,null,null,null,null,null,null,null,null,null,null,null,null,null,null,null,null,{"$f":"VLOOKUP(recettesfev[[#This Row],[Catégorie]],'coulisses 2'!$A$1:$B$20,2,0)","v":0}]
[null,null,null,null,null,null,null,null,null,null,null,null,null,null,null,null,null,{"$f":"VLOOKUP(recettesfev[[#This Row],[Catégorie]],'coulisses 2'!$A$1:$B$20,2,0)","v":0}]
[null,null,null,null,null,null,null,null,null,null,null,null,null,null,null,null,null,{"$f":"VLOOKUP(recettesfev[[#This Row],[Catégorie]],'coulisses 2'!$A$1:$B$20,2,0)","v":0}]
[null,null,null,null,null,null,null,null,null,null,null,null,null,null,null,null,null,{"$f":"VLOOKUP(recettesfev[[#This Row],[Catégorie]],'coulisses 2'!$A$1:$B$20,2,0)","v":0}]
[null,null,null,null,null,null,null,null,null,null,null,null,null,null,null,null,null,{"$f":"VLOOKUP(recettesfev[[#This Row],[Catégorie]],'coulisses 2'!$A$1:$B$20,2,0)","v":0}]
[null,null,null,null,null,null,null,null,null,null,null,null,null,null,null,null,null,{"$f":"VLOOKUP(recettesfev[[#This Row],[Catégorie]],'coulisses 2'!$A$1:$B$20,2,0)","v":0}]
[null,null,null,null,null,null,null,null,null,null,null,null,null,null,null,null,null,{"$f":"VLOOKUP(recettesfev[[#This Row],[Catégorie]],'coulisses 2'!$A$1:$B$20,2,0)","v":0}]
[null,null,null,null,null,null,null,null,null,null,null,null,null,null,null,null,null,{"$f":"VLOOKUP(recettesfev[[#This Row],[Catégorie]],'coulisses 2'!$A$1:$B$20,2,0)","v":0}]
[null,null,null,null,null,null,null,null,null,null,null,null,null,null,null,null,null,{"$f":"VLOOKUP(recettesfev[[#This Row],[Catégorie]],'coulisses 2'!$A$1:$B$20,2,0)","v":0}]
[null,null,null,null,null,null,null,null,null,null,null,null,null,null,null,null,null,{"$f":"VLOOKUP(recettesfev[[#This Row],[Catégorie]],'coulisses 2'!$A$1:$B$20,2,0)","v":0}]
[null,null,null,null,null,null,null,null,null,null,null,null,null,null,null,null,null,{"$f":"VLOOKUP(recettesfev[[#This Row],[Catégorie]],'coulisses 2'!$A$1:$B$20,2,0)","v":0}]
[null,null,null,null,null,null,null,null,null,null,null,null,null,null,null,null,null,{"$f":"VLOOKUP(recettesfev[[#This Row],[Catégorie]],'coulisses 2'!$A$1:$B$20,2,0)","v":0}]
[null,null,null,null,null,null,null,null,null,null,null,null,null,null,null,null,null,{"$f":"VLOOKUP(recettesfev[[#This Row],[Catégorie]],'coulisses 2'!$A$1:$B$20,2,0)","v":0}]
[null,null,null,null,null,null,null,null,null,null,null,null,null,null,null,null,null,{"$f":"VLOOKUP(recettesfev[[#This Row],[Catégorie]],'coulisses 2'!$A$1:$B$20,2,0)","v":0}]
[null,null,null,null,null,null,null,null,null,null,null,null,null,null,null,null,null,{"$f":"VLOOKUP(recettesfev[[#This Row],[Catégorie]],'coulisses 2'!$A$1:$B$20,2,0)","v":0}]
[null,null,null,null,null,null,null,null,null,null,null,null,null,null,null,null,null,{"$f":"VLOOKUP(recettesfev[[#This Row],[Catégorie]],'coulisses 2'!$A$1:$B$20,2,0)","v":0}]
[null,null,null,null,null,null,null,null,null,null,null,null,null,null,null,null,null,{"$f":"VLOOKUP(recettesfev[[#This Row],[Catégorie]],'coulisses 2'!$A$1:$B$20,2,0)","v":0}]
[null,null,null,null,null,null,null,null,null,null,null,null,null,null,null,null,null,{"$f":"VLOOKUP(recettesfev[[#This Row],[Catégorie]],'coulisses 2'!$A$1:$B$20,2,0)","v":0}]
[null,null,null,null,null,null,null,null,null,null,null,null,null,null,null,null,null,{"$f":"VLOOKUP(recettesfev[[#This Row],[Catégorie]],'coulisses 2'!$A$1:$B$20,2,0)","v":0}]
[null,null,null,null,null,null,null,null,null,null,null,null,null,null,null,null,null,{"$f":"VLOOKUP(recettesfev[[#This Row],[Catégorie]],'coulisses 2'!$A$1:$B$20,2,0)","v":0}]
[null,null,null,null,null,null,null,null,null,null,null,null,null,null,null,null,null,{"$f":"VLOOKUP(recettesfev[[#This Row],[Catégorie]],'coulisses 2'!$A$1:$B$20,2,0)","v":0}]
[null,null,null,null,null,null,null,null,null,null,null,null,null,null,null,null,null,{"$f":"VLOOKUP(recettesfev[[#This Row],[Catégorie]],'coulisses 2'!$A$1:$B$20,2,0)","v":0}]
[null,null,null,null,null,null,null,null,null,null,null,null,null,null,null,null,null,{"$f":"VLOOKUP(recettesfev[[#This Row],[Catégorie]],'coulisses 2'!$A$1:$B$20,2,0)","v":0}]
[null,null,null,null,null,null,null,null,null,null,null,null,null,null,null,null,null,{"$f":"VLOOKUP(recettesfev[[#This Row],[Catégorie]],'coulisses 2'!$A$1:$B$20,2,0)","v":0}]
[null,null,null,null,null,null,null,null,null,null,null,null,null,null,null,null,null,{"$f":"VLOOKUP(recettesfev[[#This Row],[Catégorie]],'coulisses 2'!$A$1:$B$20,2,0)","v":0}]
[null,null,null,null,null,null,null,null,null,null,null,null,null,null,null,null,null,{"$f":"VLOOKUP(recettesfev[[#This Row],[Catégorie]],'coulisses 2'!$A$1:$B$20,2,0)","v":0}]
[null,null,null,null,null,null,null,null,null,null,null,null,null,null,null,null,null,{"$f":"VLOOKUP(recettesfev[[#This Row],[Catégorie]],'coulisses 2'!$A$1:$B$20,2,0)","v":0}]
[null,null,null,null,null,null,null,null,null,null,null,null,null,null,null,null,null,{"$f":"VLOOKUP(recettesfev[[#This Row],[Catégorie]],'coulisses 2'!$A$1:$B$20,2,0)","v":0}]
[null,null,null,null,null,null,null,null,null,null,null,null,null,null,null,null,null,{"$f":"VLOOKUP(recettesfev[[#This Row],[Catégorie]],'coulisses 2'!$A$1:$B$20,2,0)","v":0}]
[null,null,null,null,null,null,null,null,null,null,null,null,null,null,null,null,null,{"$f":"VLOOKUP(recettesfev[[#This Row],[Catégorie]],'coulisses 2'!$A$1:$B$20,2,0)","v":0}]
[null,null,null,null,null,null,null,null,null,null,null,null,null,null,null,null,null,{"$f":"VLOOKUP(recettesfev[[#This Row],[Catégorie]],'coulisses 2'!$A$1:$B$20,2,0)","v":0}]
[null,null,null,null,null,null,null,null,null,null,null,null,null,null,null,null,null,{"$f":"VLOOKUP(recettesfev[[#This Row],[Catégorie]],'coulisses 2'!$A$1:$B$20,2,0)","v":0}]
[null,null,null,null,null,null,null,null,null,null,null,null,null,null,null,null,null,{"$f":"VLOOKUP(recettesfev[[#This Row],[Catégorie]],'coulisses 2'!$A$1:$B$20,2,0)","v":0}]
[null,null,null,null,null,null,null,null,null,null,null,null,null,null,null,null,null,{"$f":"VLOOKUP(recettesfev[[#This Row],[Catégorie]],'coulisses 2'!$A$1:$B$20,2,0)","v":0}]
[null,null,null,null,null,null,null,null,null,null,null,null,null,null,null,null,null,{"$f":"VLOOKUP(recettesfev[[#This Row],[Catégorie]],'coulisses 2'!$A$1:$B$20,2,0)","v":0}]
[null,null,null,null,null,null,null,null,null,null,null,null,null,null,null,null,null,{"$f":"VLOOKUP(recettesfev[[#This Row],[Catégorie]],'coulisses 2'!$A$1:$B$20,2,0)","v":0}]
[null,null,null,null,null,null,null,null,null,null,null,null,null,null,null,null,null,{"$f":"VLOOKUP(recettesfev[[#This Row],[Catégorie]],'coulisses 2'!$A$1:$B$20,2,0)","v":0}]
[null,null,null,null,null,null,null,null,null,null,null,null,null,null,null,null,null,{"$f":"VLOOKUP(recettesfev[[#This Row],[Catégorie]],'coulisses 2'!$A$1:$B$20,2,0)","v":0}]
[null,null,null,null,null,null,null,null,null,null,null,null,null,null,null,null,null,{"$f":"VLOOKUP(recettesfev[[#This Row],[Catégorie]],'coulisses 2'!$A$1:$B$20,2,0)","v":0}]
[null,null,null,null,null,null,null,null,null,null,null,null,null,null,null,null,null,{"$f":"VLOOKUP(recettesfev[[#This Row],[Catégorie]],'coulisses 2'!$A$1:$B$20,2,0)","v":0}]
[null,null,null,null,null,null,null,null,null,null,null,null,null,null,null,null,null,{"$f":"VLOOKUP(recettesfev[[#This Row],[Catégorie]],'coulisses 2'!$A$1:$B$20,2,0)","v":0}]
[null,null,null,null,null,null,null,null,null,null,null,null,null,null,null,null,null,{"$f":"VLOOKUP(recettesfev[[#This Row],[Catégorie]],'coulisses 2'!$A$1:$B$20,2,0)","v":0}]
[null,null,null,null,null,null,null,null,null,null,null,null,null,null,null,null,null,{"$f":"VLOOKUP(recettesfev[[#This Row],[Catégorie]],'coulisses 2'!$A$1:$B$20,2,0)","v":0}]
[null,null,null,null,null,null,null,null,null,null,null,null,null,null,null,null,null,{"$f":"VLOOKUP(recettesfev[[#This Row],[Catégorie]],'coulisses 2'!$A$1:$B$20,2,0)","v":0}]
[null,null,null,null,null,null,null,null,null,null,null,null,null,null,null,null,null,{"$f":"VLOOKUP(recettesfev[[#This Row],[Catégorie]],'coulisses 2'!$A$1:$B$20,2,0)","v":0}]
[null,null,null,null,null,null,null,null,null,null,null,null,null,null,null,null,null,{"$f":"VLOOKUP(recettesfev[[#This Row],[Catégorie]],'coulisses 2'!$A$1:$B$20,2,0)","v":0}]
[null,null,null,null,null,null,null,null,null,null,null,null,null,null,null,null,null,{"$f":"VLOOKUP(recettesfev[[#This Row],[Catégorie]],'coulisses 2'!$A$1:$B$20,2,0)","v":0}]
[null,null,null,null,null,null,null,null,null,null,null,null,null,null,null,null,null,{"$f":"VLOOKUP(recettesfev[[#This Row],[Catégorie]],'coulisses 2'!$A$1:$B$20,2,0)","v":0}]
[null,null,null,null,null,null,null,null,null,null,null,null,null,null,null,null,null,{"$f":"VLOOKUP(recettesfev[[#This Row],[Catégorie]],'coulisses 2'!$A$1:$B$20,2,0)","v":0}]
[null,null,null,null,null,null,null,null,null,null,null,null,null,null,null,null,null,{"$f":"VLOOKUP(recettesfev[[#This Row],[Catégorie]],'coulisses 2'!$A$1:$B$20,2,0)","v":0}]
[null,null,null,null,null,null,null,null,null,null,null,null,null,null,null,null,null,{"$f":"VLOOKUP(recettesfev[[#This Row],[Catégorie]],'coulisses 2'!$A$1:$B$20,2,0)","v":0}]
[null,null,null,null,null,null,null,null,null,null,null,null,null,null,null,null,null,{"$f":"VLOOKUP(recettesfev[[#This Row],[Catégorie]],'coulisses 2'!$A$1:$B$20,2,0)","v":0}]
[null,null,null,null,null,null,null,null,null,null,null,null,null,null,null,null,null,{"$f":"VLOOKUP(recettesfev[[#This Row],[Catégorie]],'coulisses 2'!$A$1:$B$20,2,0)","v":0}]
[null,null,null,null,null,null,null,null,null,null,null,null,null,null,null,null,null,{"$f":"VLOOKUP(recettesfev[[#This Row],[Catégorie]],'coulisses 2'!$A$1:$B$20,2,0)","v":0}]
[null,null,null,null,null,null,null,null,null,null,null,null,null,null,null,null,null,{"$f":"VLOOKUP(recettesfev[[#This Row],[Catégorie]],'coulisses 2'!$A$1:$B$20,2,0)","v":0}]
[null,null,null,null,null,null,null,null,null,null,null,null,null,null,null,null,null,{"$f":"VLOOKUP(recettesfev[[#This Row],[Catégorie]],'coulisses 2'!$A$1:$B$20,2,0)","v":0}]
[null,null,null,null,null,null,null,null,null,null,null,null,null,null,null,null,null,{"$f":"VLOOKUP(recettesfev[[#This Row],[Catégorie]],'coulisses 2'!$A$1:$B$20,2,0)","v":0}]
[null,null,null,null,null,null,null,null,null,null,null,null,null,null,null,null,null,{"$f":"VLOOKUP(recettesfev[[#This Row],[Catégorie]],'coulisses 2'!$A$1:$B$20,2,0)","v":0}]
[null,null,null,null,null,null,null,null,null,null,null,null,null,null,null,null,null,{"$f":"VLOOKUP(recettesfev[[#This Row],[Catégorie]],'coulisses 2'!$A$1:$B$20,2,0)","v":0}]
[null,null,null,null,null,null,null,null,null,null,null,null,null,null,null,null,null,{"$f":"VLOOKUP(recettesfev[[#This Row],[Catégorie]],'coulisses 2'!$A$1:$B$20,2,0)","v":0}]
[null,null,null,null,null,null,null,null,null,null,null,null,null,null,null,null,null,{"$f":"VLOOKUP(recettesfev[[#This Row],[Catégorie]],'coulisses 2'!$A$1:$B$20,2,0)","v":0}]
[null,null,null,null,null,null,null,null,null,null,null,null,null,null,null,null,null,{"$f":"VLOOKUP(recettesfev[[#This Row],[Catégorie]],'coulisses 2'!$A$1:$B$20,2,0)","v":0}]
[null,null,null,null,null,null,null,null,null,null,null,null,null,null,null,null,null,{"$f":"VLOOKUP(recettesfev[[#This Row],[Catégorie]],'coulisses 2'!$A$1:$B$20,2,0)","v":0}]
[null,null,null,null,null,null,null,null,null,null,null,null,null,null,null,null,null,{"$f":"VLOOKUP(recettesfev[[#This Row],[Catégorie]],'coulisses 2'!$A$1:$B$20,2,0)","v":0}]
[null,null,null,null,null,null,null,null,null,null,null,null,null,null,null,null,null,{"$f":"VLOOKUP(recettesfev[[#This Row],[Catégorie]],'coulisses 2'!$A$1:$B$20,2,0)","v":0}]
[null,null,null,null,null,null,null,null,null,null,null,null,null,null,null,null,null,{"$f":"VLOOKUP(recettesfev[[#This Row],[Catégorie]],'coulisses 2'!$A$1:$B$20,2,0)","v":0}]
[null,null,null,null,null,null,null,null,null,null,null,null,null,null,null,null,null,{"$f":"VLOOKUP(recettesfev[[#This Row],[Catégorie]],'coulisses 2'!$A$1:$B$20,2,0)","v":0}]
[null,null,null,null,null,null,null,null,null,null,null,null,null,null,null,null,null,{"$f":"VLOOKUP(recettesfev[[#This Row],[Catégorie]],'coulisses 2'!$A$1:$B$20,2,0)","v":0}]

{"sheet":"🌱 03","index":3,"n_rows":304,"n_cols":24,"rows_kept":304,"cut":false,"hidden":false,"merged":[[1,1,1,4],[1,9,1,12]]}
[null,{"$f":"'👩🏻‍🏫 Bienvenue !'!K7","v":0},null,{"$f":" '👩🏻‍🏫 Bienvenue !'!I12&\" - \"&\"Mars \"&'👩🏻‍🏫 Bienvenue !'!I16","v":" - Mars "},null,null,null,null,null,null,null,null,null,null,"VOTRE PROFIT DU MOIS",{"$f":"H2-P2","v":0}]
[null,"Vos recettes 💰",null,null,null,null,"TOTAL",{"$f":"SUM(recettesmar[Montant])","v":0},null,"Vos dépenses 🧾",null,null,null,null,"TOTAL",{"$f":"SUM(depensesmar[Montant])","v":0}]
[]
[null,"Date","Mode de paiement","N°","Libellé et nom du client","Catégorie","Axe","Montant",null,"Date","Mode de paiement","N°","Libellé","Catégorie","Axe","Montant",null,"taux"]
[null,null,null,null,null,null,null,null,null,null,null,"M1","Cotisations sociales Janvier - Taux 1","Cotisations sociales",null,{"$f":"'🥧 01'!X29","v":0},null,{"$f":"VLOOKUP(recettesmar[[#This Row],[Catégorie]],'coulisses 2'!$A$1:$B$20,2,0)","v":0},null,"Récapitulatif par type de dépense",{"$f":"SUM(U6:U26)","v":0},null,"Récapitulatif par type de recette",{"$f":"SUM(X6:X26)","v":0}]
[null,null,null,null,null,null,null,null,null,null,null,"M2","Cotisations sociales Janvier - Taux 2","Cotisations sociales",null,{"$f":"'🥧 01'!X30","v":0},null,{"$f":"VLOOKUP(recettesmar[[#This Row],[Catégorie]],'coulisses 2'!$A$1:$B$20,2,0)","v":0},null,{"$f":"coulisses!J23","v":0},{"$f":"SUMIF(depensesmar[Catégorie],T6,depensesmar[Montant])","v":0},null,{"$f":"coulisses!J3","v":0},{"$f":"SUMIF(recettesmar[Catégorie],W6,recettesmar[Montant])","v":0}]
[null,null,null,null,null,null,null,null,null,null,null,"M3","Cotisations sociales Janvier - Taux 3","Cotisations sociales",null,{"$f":"'🥧 01'!X31","v":0},null,{"$f":"VLOOKUP(recettesmar[[#This Row],[Catégorie]],'coulisses 2'!$A$1:$B$20,2,0)","v":0},null,{"$f":"coulisses!J24","v":0},{"$f":"SUMIF(depensesmar[Catégorie],T7,depensesmar[Montant])","v":0},null,{"$f":"coulisses!J4","v":0},{"$f":"SUMIF(recettesmar[Catégorie],W7,recettesmar[Montant])","v":0}]
[null,null,null,null,null,null,null,null,null,null,null,null,null,null,null,null,null,{"$f":"VLOOKUP(recettesmar[[#This Row],[Catégorie]],'coulisses 2'!$A$1:$B$20,2,0)","v":0},null,{"$f":"coulisses!J25","v":0},{"$f":"SUMIF(depensesmar[Catégorie],T8,depensesmar[Montant])","v":0},null,{"$f":"coulisses!J5","v":0},{"$f":"SUMIF(recettesmar[Catégorie],W8,recettesmar[Montant])","v":0}]
[null,null,null,null,null,null,null,null,null,null,null,null,null,null,null,null,null,{"$f":"VLOOKUP(recettesmar[[#This Row],[Catégorie]],'coulisses 2'!$A$1:$B$20,2,0)","v":0},null,{"$f":"coulisses!J26","v":0},{"$f":"SUMIF(depensesmar[Catégorie],T9,depensesmar[Montant])","v":0},null,{"$f":"coulisses!J6","v":0},{"$f":"SUMIF(recettesmar[Catégorie],W9,recettesmar[Montant])","v":0}]
[null,null,null,null,null,null,null,null,null,null,null,null,null,null,null,null,null,{"$f":"VLOOKUP(recettesmar[[#This Row],[Catégorie]],'coulisses 2'!$A$1:$B$20,2,0)","v":0},null,{"$f":"coulisses!J27","v":0},{"$f":"SUMIF(depensesmar[Catégorie],T10,depensesmar[Montant])","v":0},null,{"$f":"coulisses!J7","v":0},{"$f":"SUMIF(recettesmar[Catégorie],W10,recettesmar[Montant])","v":0}]
[null,null,null,null,null,null,null,null,null,null,null,null,null,null,null,null,null,{"$f":"VLOOKUP(recettesmar[[#This Row],[Catégorie]],'coulisses 2'!$A$1:$B$20,2,0)","v":0},null,{"$f":"coulisses!J28","v":0},{"$f":"SUMIF(depensesmar[Catégorie],T11,depensesmar[Montant])","v":0},null,{"$f":"coulisses!J8","v":0},{"$f":"SUMIF(recettesmar[Catégorie],W11,recettesmar[Montant])","v":0}]
[null,null,null,null,null,null,null,null,null,null,null,null,null,null,null,null,null,{"$f":"VLOOKUP(recettesmar[[#This Row],[Catégorie]],'coulisses 2'!$A$1:$B$20,2,0)","v":0},null,{"$f":"coulisses!J29","v":0},{"$f":"SUMIF(depensesmar[Catégorie],T12,depensesmar[Montant])","v":0},null,{"$f":"coulisses!J9","v":0},{"$f":"SUMIF(recettesmar[Catégorie],W12,recettesmar[Montant])","v":0}]
[null,null,null,null,null,null,null,null,null,null,null,null,null,null,null,null,null,{"$f":"VLOOKUP(recettesmar[[#This Row],[Catégorie]],'coulisses 2'!$A$1:$B$20,2,0)","v":0},null,{"$f":"coulisses!J30","v":0},{"$f":"SUMIF(depensesmar[Catégorie],T13,depensesmar[Montant])","v":0},null,{"$f":"coulisses!J10","v":0},{"$f":"SUMIF(recettesmar[Catégorie],W13,recettesmar[Montant])","v":0}]
[null,null,null,null,null,null,null,null,null,null,null,null,null,null,null,null,null,{"$f":"VLOOKUP(recettesmar[[#This Row],[Catégorie]],'coulisses 2'!$A$1:$B$20,2,0)","v":0},null,{"$f":"coulisses!J31","v":0},{"$f":"SUMIF(depensesmar[Catégorie],T14,depensesmar[Montant])","v":0},null,{"$f":"coulisses!J11","v":0},{"$f":"SUMIF(recettesmar[Catégorie],W14,recettesmar[Montant])","v":0}]
[null,null,null,null,null,null,null,null,null,null,null,null,null,null,null,null,null,{"$f":"VLOOKUP(recettesmar[[#This Row],[Catégorie]],'coulisses 2'!$A$1:$B$20,2,0)","v":0},null,{"$f":"coulisses!J32","v":0},{"$f":"SUMIF(depensesmar[Catégorie],T15,depensesmar[Montant])","v":0},null,{"$f":"coulisses!J12","v":0},{"$f":"SUMIF(recettesmar[Catégorie],W15,recettesmar[Montant])","v":0}]
[null,null,null,null,null,null,null,null,null,null,null,null,null,null,null,null,null,{"$f":"VLOOKUP(recettesmar[[#This Row],[Catégorie]],'coulisses 2'!$A$1:$B$20,2,0)","v":0},null,{"$f":"coulisses!J33","v":0},{"$f":"SUMIF(depensesmar[Catégorie],T16,depensesmar[Montant])","v":0},null,{"$f":"coulisses!J13","v":0},{"$f":"SUMIF(recettesmar[Catégorie],W16,recettesmar[Montant])","v":0}]
[null,null,null,null,null,null,null,null,null,null,null,null,null,null,null,null,null,{"$f":"VLOOKUP(recettesmar[[#This Row],[Catégorie]],'coulisses 2'!$A$1:$B$20,2,0)","v":0},null,{"$f":"coulisses!J34","v":0},{"$f":"SUMIF(depensesmar[Catégorie],T17,depensesmar[Montant])","v":0},null,{"$f":"coulisses!J14","v":0},{"$f":"SUMIF(recettesmar[Catégorie],W17,recettesmar[Montant])","v":0}]
[null,null,null,null,null,null,null,null,null,null,null,null,null,null,null,null,null,{"$f":"VLOOKUP(recettesmar[[#This Row],[Catégorie]],'coulisses 2'!$A$1:$B$20,2,0)","v":0},null,{"$f":"coulisses!J35","v":0},{"$f":"SUMIF(depensesmar[Catégorie],T18,depensesmar[Montant])","v":0},null,{"$f":"coulisses!J15","v":0},{"$f":"SUMIF(recettesmar[Catégorie],W18,recettesmar[Montant])","v":0}]
[null,null,null,null,null,null,null,null,null,null,null,null,null,null,null,null,null,{"$f":"VLOOKUP(recettesmar[[#This Row],[Catégorie]],'coulisses 2'!$A$1:$B$20,2,0)","v":0},null,{"$f":"coulisses!J36","v":0},{"$f":"SUMIF(depensesmar[Catégorie],T19,depensesmar[Montant])","v":0},null,{"$f":"coulisses!J16","v":0},{"$f":"SUMIF(recettesmar[Catégorie],W19,recettesmar[Montant])","v":0}]
[null,null,null,null,null,null,null,null,null,null,null,null,null,null,null,null,null,{"$f":"VLOOKUP(recettesmar[[#This Row],[Catégorie]],'coulisses 2'!$A$1:$B$20,2,0)","v":0},null,{"$f":"coulisses!J37","v":0},{"$f":"SUMIF(depensesmar[Catégorie],T20,depensesmar[Montant])","v":0},null,{"$f":"coulisses!J17","v":0},{"$f":"SUMIF(recettesmar[Catégorie],W20,recettesmar[Montant])","v":0}]
[null,null,null,null,null,null,null,null,null,null,null,null,null,null,null,null,null,{"$f":"VLOOKUP(recettesmar[[#This Row],[Catégorie]],'coulisses 2'!$A$1:$B$20,2,0)","v":0},null,{"$f":"coulisses!J38","v":0},{"$f":"SUMIF(depensesmar[Catégorie],T21,depensesmar[Montant])","v":0},null,{"$f":"coulisses!J18","v":0},{"$f":"SUMIF(recettesmar[Catégorie],W21,recettesmar[Montant])","v":0}]
[null,null,null,null,null,null,null,null,null,null,null,null,null,null,null,null,null,{"$f":"VLOOKUP(recettesmar[[#This Row],[Catégorie]],'coulisses 2'!$A$1:$B$20,2,0)","v":0},null,{"$f":"coulisses!J39","v":0},{"$f":"SUMIF(depensesmar[Catégorie],T22,depensesmar[Montant])","v":0},null,{"$f":"coulisses!J19","v":0},{"$f":"SUMIF(recettesmar[Catégorie],W22,recettesmar[Montant])","v":0}]
[null,null,null,null,null,null,null,null,null,null,null,null,null,null,null,null,null,{"$f":"VLOOKUP(recettesmar[[#This Row],[Catégorie]],'coulisses 2'!$A$1:$B$20,2,0)","v":0},null,{"$f":"coulisses!J40","v":0},{"$f":"SUMIF(depensesmar[Catégorie],T23,depensesmar[Montant])","v":0},null,{"$f":"coulisses!J20","v":0},{"$f":"SUMIF(recettesmar[Catégorie],W23,recettesmar[Montant])","v":0}]
[null,null,null,null,null,null,null,null,null,null,null,null,null,null,null,null,null,{"$f":"VLOOKUP(recettesmar[[#This Row],[Catégorie]],'coulisses 2'!$A$1:$B$20,2,0)","v":0},null,{"$f":"coulisses!J41","v":0},{"$f":"SUMIF(depensesmar[Catégorie],T24,depensesmar[Montant])","v":0},null,{"$f":"coulisses!J21","v":0},{"$f":"SUMIF(recettesmar[Catégorie],W24,recettesmar[Montant])","v":0}]
[null,null,null,null,null,null,null,null,null,null,null,null,null,null,null,null,null,{"$f":"VLOOKUP(recettesmar[[#This Row],[Catégorie]],'coulisses 2'!$A$1:$B$20,2,0)","v":0},null,{"$f":"coulisses!J42","v":"Cotisations sociales"},{"$f":"SUMIF(depensesmar[Catégorie],T25,depensesmar[Montant])","v":0},null,{"$f":"coulisses!J22","v":0},{"$f":"SUMIF(recettesmar[Catégorie],W25,recettesmar[Montant])","v":0}]
[null,null,null,null,null,null,null,null,null,null,null,null,null,null,null,null,null,{"$f":"VLOOKUP(recettesmar[[#This Row],[Catégorie]],'coulisses 2'!$A$1:$B$20,2,0)","v":0}]
[null,null,null,null,null,null,null,null,null,null,null,null,null,null,null,null,null,{"$f":"VLOOKUP(recettesmar[[#This Row],[Catégorie]],'coulisses 2'!$A$1:$B$20,2,0)","v":0}]
[null,null,null,null,null,null,null,null,null,null,null,null,null,null,null,null,null,{"$f":"VLOOKUP(recettesmar[[#This Row],[Catégorie]],'coulisses 2'!$A$1:$B$20,2,0)","v":0},null,"Estimation des charges dues sur le CA du mois",null,"CA","Taux","A payer"]
[null,null,null,null,null,null,null,null,null,null,null,null,null,null,null,null,null,{"$f":"VLOOKUP(recettesmar[[#This Row],[Catégorie]],'coulisses 2'!$A$1:$B$20,2,0)","v":0},null,"Taux 1",null,{"$f":"SUMIF(R:R,W29,H:H)","v":0},{"$f":"'👩🏻‍🏫 Bienvenue !'!I20","v":0},{"$f":"W29*V29","v":0}]
[null,null,null,null,null,null,null,null,null,null,null,null,null,null,null,null,null,{"$f":"VLOOKUP(recettesmar[[#This Row],[Catégorie]],'coulisses 2'!$A$1:$B$20,2,0)","v":0},null,"Taux 2",null,{"$f":"SUMIF(R:R,W30,H:H)","v":0},{"$f":"'👩🏻‍🏫 Bienvenue !'!I21","v":0},{"$f":"W30*V30","v":0}]
[null,null,null,null,null,null,null,null,null,null,null,null,null,null,null,null,null,{"$f":"VLOOKUP(recettesmar[[#This Row],[Catégorie]],'coulisses 2'!$A$1:$B$20,2,0)","v":0},null,"Taux 3",null,{"$f":"SUMIF(R:R,W31,H:H)","v":0},{"$f":"'👩🏻‍🏫 Bienvenue !'!I22","v":0},{"$f":"W31*V31","v":0}]
[null,null,null,null,null,null,null,null,null,null,null,null,null,null,null,null,null,{"$f":"VLOOKUP(recettesmar[[#This Row],[Catégorie]],'coulisses 2'!$A$1:$B$20,2,0)","v":0},null,"TOTAL",null,null,null,{"$f":"SUM(X29:X31)","v":0}]
[null,null,null,null,null,null,null,null,null,null,null,null,null,null,null,null,null,{"$f":"VLOOKUP(recettesmar[[#This Row],[Catégorie]],'coulisses 2'!$A$1:$B$20,2,0)","v":0}]
[null,null,null,null,null,null,null,null,null,null,null,null,null,null,null,null,null,{"$f":"VLOOKUP(recettesmar[[#This Row],[Catégorie]],'coulisses 2'!$A$1:$B$20,2,0)","v":0},null,"Rapprochement bancaire"]
[null,null,null,null,null,null,null,null,null,null,null,null,null,null,null,null,null,{"$f":"VLOOKUP(recettesmar[[#This Row],[Catégorie]],'coulisses 2'!$A$1:$B$20,2,0)","v":0},null,"Solde du mois précédent",{"$f":"'🎿 02'!U46","v":0}]
[null,null,null,null,null,null,null,null,null,null,null,null,null,null,null,null,null,{"$f":"VLOOKUP(recettesmar[[#This Row],[Catégorie]],'coulisses 2'!$A$1:$B$20,2,0)","v":0},null,"Profit du mois",{"$f":"P1","v":0}]
[null,null,null,null,null,null,null,null,null,null,null,null,null,null,null,null,null,{"$f":"VLOOKUP(recettesmar[[#This Row],[Catégorie]],'coulisses 2'!$A$1:$B$20,2,0)","v":0},null,"Ecritures à rapprocher :"]
[null,null,null,null,null,null,null,null,null,null,null,null,null,null,null,null,null,{"$f":"VLOOKUP(recettesmar[[#This Row],[Catégorie]],'coulisses 2'!$A$1:$B$20,2,0)","v":0}]
[null,null,null,null,null,null,null,null,null,null,null,null,null,null,null,null,null,{"$f":"VLOOKUP(recettesmar[[#This Row],[Catégorie]],'coulisses 2'!$A$1:$B$20,2,0)","v":0}]
[null,null,null,null,null,null,null,null,null,null,null,null,null,null,null,null,null,{"$f":"VLOOKUP(recettesmar[[#This Row],[Catégorie]],'coulisses 2'!$A$1:$B$20,2,0)","v":0}]
[null,null,null,null,null,null,null,null,null,null,null,null,null,null,null,null,null,{"$f":"VLOOKUP(recettesmar[[#This Row],[Catégorie]],'coulisses 2'!$A$1:$B$20,2,0)","v":0}]
[null,null,null,null,null,null,null,null,null,null,null,null,null,null,null,null,null,{"$f":"VLOOKUP(recettesmar[[#This Row],[Catégorie]],'coulisses 2'!$A$1:$B$20,2,0)","v":0}]
[null,null,null,null,null,null,null,null,null,null,null,null,null,null,null,null,null,{"$f":"VLOOKUP(recettesmar[[#This Row],[Catégorie]],'coulisses 2'!$A$1:$B$20,2,0)","v":0}]
[null,null,null,null,null,null,null,null,null,null,null,null,null,null,null,null,null,{"$f":"VLOOKUP(recettesmar[[#This Row],[Catégorie]],'coulisses 2'!$A$1:$B$20,2,0)","v":0}]
[null,null,null,null,null,null,null,null,null,null,null,null,null,null,null,null,null,{"$f":"VLOOKUP(recettesmar[[#This Row],[Catégorie]],'coulisses 2'!$A$1:$B$20,2,0)","v":0}]
[null,null,null,null,null,null,null,null,null,null,null,null,null,null,null,null,null,{"$f":"VLOOKUP(recettesmar[[#This Row],[Catégorie]],'coulisses 2'!$A$1:$B$20,2,0)","v":0},null,"Solde final du mois",{"$f":"U35+U36+SUM(U38:U45)","v":0}]
[null,null,null,null,null,null,null,null,null,null,null,null,null,null,null,null,null,{"$f":"VLOOKUP(recettesmar[[#This Row],[Catégorie]],'coulisses 2'!$A$1:$B$20,2,0)","v":0},null,"Solde du relevé bancaire"]
[null,null,null,null,null,null,null,null,null,null,null,null,null,null,null,null,null,{"$f":"VLOOKUP(recettesmar[[#This Row],[Catégorie]],'coulisses 2'!$A$1:$B$20,2,0)","v":0},null,"Contrôle (doit être à 0)",{"$f":"U46-U47","v":0}]
[null,null,null,null,null,null,null,null,null,null,null,null,null,null,null,null,null,{"$f":"VLOOKUP(recettesmar[[#This Row],[Catégorie]],'coulisses 2'!$A$1:$B$20,2,0)","v":0}]
[null,null,null,null,null,null,null,null,null,null,null,null,null,null,null,null,null,{"$f":"VLOOKUP(recettesmar[[#This Row],[Catégorie]],'coulisses 2'!$A$1:$B$20,2,0)","v":0},null,"Résultat par axe","CA","Dépenses","Résultat"]
[null,null,null,null,null,null,null,null,null,null,null,null,null,null,null,null,null,{"$f":"VLOOKUP(recettesmar[[#This Row],[Catégorie]],'coulisses 2'!$A$1:$B$20,2,0)","v":0},null,{"$f":"'👩🏻‍🏫 Bienvenue !'!I73","v":0},{"$f":"SUMIF(recettesmar[Axe],T51,recettesmar[Montant])","v":0},{"$f":"SUMIF(depensesmar[Axe],T51,depensesmar[Montant])","v":0},{"$f":"U51-V51","v":0}]
[null,null,null,null,null,null,null,null,null,null,null,null,null,null,null,null,null,{"$f":"VLOOKUP(recettesmar[[#This Row],[Catégorie]],'coulisses 2'!$A$1:$B$20,2,0)","v":0},null,{"$f":"'👩🏻‍🏫 Bienvenue !'!I74","v":0},{"$f":"SUMIF(recettesmar[Axe],T52,recettesmar[Montant])","v":0},{"$f":"SUMIF(depensesmar[Axe],T52,depensesmar[Montant])","v":0},{"$f":"U52-V52","v":0}]
[null,null,null,null,null,null,null,null,null,null,null,null,null,null,null,null,null,{"$f":"VLOOKUP(recettesmar[[#This Row],[Catégorie]],'coulisses 2'!$A$1:$B$20,2,0)","v":0},null,{"$f":"'👩🏻‍🏫 Bienvenue !'!I75","v":0},{"$f":"SUMIF(recettesmar[Axe],T53,recettesmar[Montant])","v":0},{"$f":"SUMIF(depensesmar[Axe],T53,depensesmar[Montant])","v":0},0]
[null,null,null,null,null,null,null,null,null,null,null,null,null,null,null,null,null,{"$f":"VLOOKUP(recettesmar[[#This Row],[Catégorie]],'coulisses 2'!$A$1:$B$20,2,0)","v":0},null,{"$f":"'👩🏻‍🏫 Bienvenue !'!I76","v":0},{"$f":"SUMIF(recettesmar[Axe],T54,recettesmar[Montant])","v":0},{"$f":"SUMIF(depensesmar[Axe],T54,depensesmar[Montant])","v":0},0]
[null,null,null,null,null,null,null,null,null,null,null,null,null,null,null,null,null,{"$f":"VLOOKUP(recettesmar[[#This Row],[Catégorie]],'coulisses 2'!$A$1:$B$20,2,0)","v":0},null,{"$f":"'👩🏻‍🏫 Bienvenue !'!I77","v":0},{"$f":"SUMIF(recettesmar[Axe],T55,recettesmar[Montant])","v":0},{"$f":"SUMIF(depensesmar[Axe],T55,depensesmar[Montant])","v":0},0]
[null,null,null,null,null,null,null,null,null,null,null,null,null,null,null,null,null,{"$f":"VLOOKUP(recettesmar[[#This Row],[Catégorie]],'coulisses 2'!$A$1:$B$20,2,0)","v":0},null,{"$f":"'👩🏻‍🏫 Bienvenue !'!I78","v":0},{"$f":"SUMIF(recettesmar[Axe],T56,recettesmar[Montant])","v":0},{"$f":"SUMIF(depensesmar[Axe],T56,depensesmar[Montant])","v":0},0]
[null,null,null,null,null,null,null,null,null,null,null,null,null,null,null,null,null,{"$f":"VLOOKUP(recettesmar[[#This Row],[Catégorie]],'coulisses 2'!$A$1:$B$20,2,0)","v":0},null,{"$f":"'👩🏻‍🏫 Bienvenue !'!I79","v":0},{"$f":"SUMIF(recettesmar[Axe],T57,recettesmar[Montant])","v":0},{"$f":"SUMIF(depensesmar[Axe],T57,depensesmar[Montant])","v":0},0]
[null,null,null,null,null,null,null,null,null,null,null,null,null,null,null,null,null,{"$f":"VLOOKUP(recettesmar[[#This Row],[Catégorie]],'coulisses 2'!$A$1:$B$20,2,0)","v":0},null,{"$f":"'👩🏻‍🏫 Bienvenue !'!I80","v":0},{"$f":"SUMIF(recettesmar[Axe],T58,recettesmar[Montant])","v":0},{"$f":"SUMIF(depensesmar[Axe],T58,depensesmar[Montant])","v":0},0]
[null,null,null,null,null,null,null,null,null,null,null,null,null,null,null,null,null,{"$f":"VLOOKUP(recettesmar[[#This Row],[Catégorie]],'coulisses 2'!$A$1:$B$20,2,0)","v":0},null,{"$f":"'👩🏻‍🏫 Bienvenue !'!I81","v":0},{"$f":"SUMIF(recettesmar[Axe],T59,recettesmar[Montant])","v":0},{"$f":"SUMIF(depensesmar[Axe],T59,depensesmar[Montant])","v":0},0]
[null,null,null,null,null,null,null,null,null,null,null,null,null,null,null,null,null,{"$f":"VLOOKUP(recettesmar[[#This Row],[Catégorie]],'coulisses 2'!$A$1:$B$20,2,0)","v":0},null,{"$f":"'👩🏻‍🏫 Bienvenue !'!I82","v":0},{"$f":"SUMIF(recettesmar[Axe],T60,recettesmar[Montant])","v":0},{"$f":"SUMIF(depensesmar[Axe],T60,depensesmar[Montant])","v":0},0]
[null,null,null,null,null,null,null,null,null,null,null,null,null,null,null,null,null,{"$f":"VLOOKUP(recettesmar[[#This Row],[Catégorie]],'coulisses 2'!$A$1:$B$20,2,0)","v":0}]
[null,null,null,null,null,null,null,null,null,null,null,null,null,null,null,null,null,{"$f":"VLOOKUP(recettesmar[[#This Row],[Catégorie]],'coulisses 2'!$A$1:$B$20,2,0)","v":0}]
[null,null,null,null,null,null,null,null,null,null,null,null,null,null,null,null,null,{"$f":"VLOOKUP(recettesmar[[#This Row],[Catégorie]],'coulisses 2'!$A$1:$B$20,2,0)","v":0}]
[null,null,null,null,null,null,null,null,null,null,null,null,null,null,null,null,null,{"$f":"VLOOKUP(recettesmar[[#This Row],[Catégorie]],'coulisses 2'!$A$1:$B$20,2,0)","v":0}]
[null,null,null,null,null,null,null,null,null,null,null,null,null,null,null,null,null,{"$f":"VLOOKUP(recettesmar[[#This Row],[Catégorie]],'coulisses 2'!$A$1:$B$20,2,0)","v":0}]
[null,null,null,null,null,null,null,null,null,null,null,null,null,null,null,null,null,{"$f":"VLOOKUP(recettesmar[[#This Row],[Catégorie]],'coulisses 2'!$A$1:$B$20,2,0)","v":0}]
[null,null,null,null,null,null,null,null,null,null,null,null,null,null,null,null,null,{"$f":"VLOOKUP(recettesmar[[#This Row],[Catégorie]],'coulisses 2'!$A$1:$B$20,2,0)","v":0}]
[null,null,null,null,null,null,null,null,null,null,null,null,null,null,null,null,null,{"$f":"VLOOKUP(recettesmar[[#This Row],[Catégorie]],'coulisses 2'!$A$1:$B$20,2,0)","v":0}]
[null,null,null,null,null,null,null,null,null,null,null,null,null,null,null,null,null,{"$f":"VLOOKUP(recettesmar[[#This Row],[Catégorie]],'coulisses 2'!$A$1:$B$20,2,0)","v":0}]
[null,null,null,null,null,null,null,null,null,null,null,null,null,null,null,null,null,{"$f":"VLOOKUP(recettesmar[[#This Row],[Catégorie]],'coulisses 2'!$A$1:$B$20,2,0)","v":0}]
[null,null,null,null,null,null,null,null,null,null,null,null,null,null,null,null,null,{"$f":"VLOOKUP(recettesmar[[#This Row],[Catégorie]],'coulisses 2'!$A$1:$B$20,2,0)","v":0}]
[null,null,null,null,null,null,null,null,null,null,null,null,null,null,null,null,null,{"$f":"VLOOKUP(recettesmar[[#This Row],[Catégorie]],'coulisses 2'!$A$1:$B$20,2,0)","v":0}]
[null,null,null,null,null,null,null,null,null,null,null,null,null,null,null,null,null,{"$f":"VLOOKUP(recettesmar[[#This Row],[Catégorie]],'coulisses 2'!$A$1:$B$20,2,0)","v":0}]
[null,null,null,null,null,null,null,null,null,null,null,null,null,null,null,null,null,{"$f":"VLOOKUP(recettesmar[[#This Row],[Catégorie]],'coulisses 2'!$A$1:$B$20,2,0)","v":0}]
[null,null,null,null,null,null,null,null,null,null,null,null,null,null,null,null,null,{"$f":"VLOOKUP(recettesmar[[#This Row],[Catégorie]],'coulisses 2'!$A$1:$B$20,2,0)","v":0}]
[null,null,null,null,null,null,null,null,null,null,null,null,null,null,null,null,null,{"$f":"VLOOKUP(recettesmar[[#This Row],[Catégorie]],'coulisses 2'!$A$1:$B$20,2,0)","v":0}]
[null,null,null,null,null,null,null,null,null,null,null,null,null,null,null,null,null,{"$f":"VLOOKUP(recettesmar[[#This Row],[Catégorie]],'coulisses 2'!$A$1:$B$20,2,0)","v":0}]
[null,null,null,null,null,null,null,null,null,null,null,null,null,null,null,null,null,{"$f":"VLOOKUP(recettesmar[[#This Row],[Catégorie]],'coulisses 2'!$A$1:$B$20,2,0)","v":0}]
[null,null,null,null,null,null,null,null,null,null,null,null,null,null,null,null,null,{"$f":"VLOOKUP(recettesmar[[#This Row],[Catégorie]],'coulisses 2'!$A$1:$B$20,2,0)","v":0}]
[null,null,null,null,null,null,null,null,null,null,null,null,null,null,null,null,null,{"$f":"VLOOKUP(recettesmar[[#This Row],[Catégorie]],'coulisses 2'!$A$1:$B$20,2,0)","v":0}]
[null,null,null,null,null,null,null,null,null,null,null,null,null,null,null,null,null,{"$f":"VLOOKUP(recettesmar[[#This Row],[Catégorie]],'coulisses 2'!$A$1:$B$20,2,0)","v":0}]
[null,null,null,null,null,null,null,null,null,null,null,null,null,null,null,null,null,{"$f":"VLOOKUP(recettesmar[[#This Row],[Catégorie]],'coulisses 2'!$A$1:$B$20,2,0)","v":0}]
[null,null,null,null,null,null,null,null,null,null,null,null,null,null,null,null,null,{"$f":"VLOOKUP(recettesmar[[#This Row],[Catégorie]],'coulisses 2'!$A$1:$B$20,2,0)","v":0}]
[null,null,null,null,null,null,null,null,null,null,null,null,null,null,null,null,null,{"$f":"VLOOKUP(recettesmar[[#This Row],[Catégorie]],'coulisses 2'!$A$1:$B$20,2,0)","v":0}]
[null,null,null,null,null,null,null,null,null,null,null,null,null,null,null,null,null,{"$f":"VLOOKUP(recettesmar[[#This Row],[Catégorie]],'coulisses 2'!$A$1:$B$20,2,0)","v":0}]
[null,null,null,null,null,null,null,null,null,null,null,null,null,null,null,null,null,{"$f":"VLOOKUP(recettesmar[[#This Row],[Catégorie]],'coulisses 2'!$A$1:$B$20,2,0)","v":0}]
[null,null,null,null,null,null,null,null,null,null,null,null,null,null,null,null,null,{"$f":"VLOOKUP(recettesmar[[#This Row],[Catégorie]],'coulisses 2'!$A$1:$B$20,2,0)","v":0}]
[null,null,null,null,null,null,null,null,null,null,null,null,null,null,null,null,null,{"$f":"VLOOKUP(recettesmar[[#This Row],[Catégorie]],'coulisses 2'!$A$1:$B$20,2,0)","v":0}]
[null,null,null,null,null,null,null,null,null,null,null,null,null,null,null,null,null,{"$f":"VLOOKUP(recettesmar[[#This Row],[Catégorie]],'coulisses 2'!$A$1:$B$20,2,0)","v":0}]
[null,null,null,null,null,null,null,null,null,null,null,null,null,null,null,null,null,{"$f":"VLOOKUP(recettesmar[[#This Row],[Catégorie]],'coulisses 2'!$A$1:$B$20,2,0)","v":0}]
[null,null,null,null,null,null,null,null,null,null,null,null,null,null,null,null,null,{"$f":"VLOOKUP(recettesmar[[#This Row],[Catégorie]],'coulisses 2'!$A$1:$B$20,2,0)","v":0}]
[null,null,null,null,null,null,null,null,null,null,null,null,null,null,null,null,null,{"$f":"VLOOKUP(recettesmar[[#This Row],[Catégorie]],'coulisses 2'!$A$1:$B$20,2,0)","v":0}]
[null,null,null,null,null,null,null,null,null,null,null,null,null,null,null,null,null,{"$f":"VLOOKUP(recettesmar[[#This Row],[Catégorie]],'coulisses 2'!$A$1:$B$20,2,0)","v":0}]
[null,null,null,null,null,null,null,null,null,null,null,null,null,null,null,null,null,{"$f":"VLOOKUP(recettesmar[[#This Row],[Catégorie]],'coulisses 2'!$A$1:$B$20,2,0)","v":0}]
[null,null,null,null,null,null,null,null,null,null,null,null,null,null,null,null,null,{"$f":"VLOOKUP(recettesmar[[#This Row],[Catégorie]],'coulisses 2'!$A$1:$B$20,2,0)","v":0}]
[null,null,null,null,null,null,null,null,null,null,null,null,null,null,null,null,null,{"$f":"VLOOKUP(recettesmar[[#This Row],[Catégorie]],'coulisses 2'!$A$1:$B$20,2,0)","v":0}]
[null,null,null,null,null,null,null,null,null,null,null,null,null,null,null,null,null,{"$f":"VLOOKUP(recettesmar[[#This Row],[Catégorie]],'coulisses 2'!$A$1:$B$20,2,0)","v":0}]
[null,null,null,null,null,null,null,null,null,null,null,null,null,null,null,null,null,{"$f":"VLOOKUP(recettesmar[[#This Row],[Catégorie]],'coulisses 2'!$A$1:$B$20,2,0)","v":0}]
[null,null,null,null,null,null,null,null,null,null,null,null,null,null,null,null,null,{"$f":"VLOOKUP(recettesmar[[#This Row],[Catégorie]],'coulisses 2'!$A$1:$B$20,2,0)","v":0}]
[null,null,null,null,null,null,null,null,null,null,null,null,null,null,null,null,null,{"$f":"VLOOKUP(recettesmar[[#This Row],[Catégorie]],'coulisses 2'!$A$1:$B$20,2,0)","v":0}]
[null,null,null,null,null,null,null,null,null,null,null,null,null,null,null,null,null,{"$f":"VLOOKUP(recettesmar[[#This Row],[Catégorie]],'coulisses 2'!$A$1:$B$20,2,0)","v":0}]
[null,null,null,null,null,null,null,null,null,null,null,null,null,null,null,null,null,{"$f":"VLOOKUP(recettesmar[[#This Row],[Catégorie]],'coulisses 2'!$A$1:$B$20,2,0)","v":0}]
[null,null,null,null,null,null,null,null,null,null,null,null,null,null,null,null,null,{"$f":"VLOOKUP(recettesmar[[#This Row],[Catégorie]],'coulisses 2'!$A$1:$B$20,2,0)","v":0}]
[null,null,null,null,null,null,null,null,null,null,null,null,null,null,null,null,null,{"$f":"VLOOKUP(recettesmar[[#This Row],[Catégorie]],'coulisses 2'!$A$1:$B$20,2,0)","v":0}]
[null,null,null,null,null,null,null,null,null,null,null,null,null,null,null,null,null,{"$f":"VLOOKUP(recettesmar[[#This Row],[Catégorie]],'coulisses 2'!$A$1:$B$20,2,0)","v":0}]
[null,null,null,null,null,null,null,null,null,null,null,null,null,null,null,null,null,{"$f":"VLOOKUP(recettesmar[[#This Row],[Catégorie]],'coulisses 2'!$A$1:$B$20,2,0)","v":0}]
[null,null,null,null,null,null,null,null,null,null,null,null,null,null,null,null,null,{"$f":"VLOOKUP(recettesmar[[#This Row],[Catégorie]],'coulisses 2'!$A$1:$B$20,2,0)","v":0}]
[null,null,null,null,null,null,null,null,null,null,null,null,null,null,null,null,null,{"$f":"VLOOKUP(recettesmar[[#This Row],[Catégorie]],'coulisses 2'!$A$1:$B$20,2,0)","v":0}]
[null,null,null,null,null,null,null,null,null,null,null,null,null,null,null,null,null,{"$f":"VLOOKUP(recettesmar[[#This Row],[Catégorie]],'coulisses 2'!$A$1:$B$20,2,0)","v":0}]
[null,null,null,null,null,null,null,null,null,null,null,null,null,null,null,null,null,{"$f":"VLOOKUP(recettesmar[[#This Row],[Catégorie]],'coulisses 2'!$A$1:$B$20,2,0)","v":0}]
[null,null,null,null,null,null,null,null,null,null,null,null,null,null,null,null,null,{"$f":"VLOOKUP(recettesmar[[#This Row],[Catégorie]],'coulisses 2'!$A$1:$B$20,2,0)","v":0}]
[null,null,null,null,null,null,null,null,null,null,null,null,null,null,null,null,null,{"$f":"VLOOKUP(recettesmar[[#This Row],[Catégorie]],'coulisses 2'!$A$1:$B$20,2,0)","v":0}]
[null,null,null,null,null,null,null,null,null,null,null,null,null,null,null,null,null,{"$f":"VLOOKUP(recettesmar[[#This Row],[Catégorie]],'coulisses 2'!$A$1:$B$20,2,0)","v":0}]
[null,null,null,null,null,null,null,null,null,null,null,null,null,null,null,null,null,{"$f":"VLOOKUP(recettesmar[[#This Row],[Catégorie]],'coulisses 2'!$A$1:$B$20,2,0)","v":0}]
[null,null,null,null,null,null,null,null,null,null,null,null,null,null,null,null,null,{"$f":"VLOOKUP(recettesmar[[#This Row],[Catégorie]],'coulisses 2'!$A$1:$B$20,2,0)","v":0}]
[null,null,null,null,null,null,null,null,null,null,null,null,null,null,null,null,null,{"$f":"VLOOKUP(recettesmar[[#This Row],[Catégorie]],'coulisses 2'!$A$1:$B$20,2,0)","v":0}]
[null,null,null,null,null,null,null,null,null,null,null,null,null,null,null,null,null,{"$f":"VLOOKUP(recettesmar[[#This Row],[Catégorie]],'coulisses 2'!$A$1:$B$20,2,0)","v":0}]
[null,null,null,null,null,null,null,null,null,null,null,null,null,null,null,null,null,{"$f":"VLOOKUP(recettesmar[[#This Row],[Catégorie]],'coulisses 2'!$A$1:$B$20,2,0)","v":0}]
[null,null,null,null,null,null,null,null,null,null,null,null,null,null,null,null,null,{"$f":"VLOOKUP(recettesmar[[#This Row],[Catégorie]],'coulisses 2'!$A$1:$B$20,2,0)","v":0}]
[null,null,null,null,null,null,null,null,null,null,null,null,null,null,null,null,null,{"$f":"VLOOKUP(recettesmar[[#This Row],[Catégorie]],'coulisses 2'!$A$1:$B$20,2,0)","v":0}]
[null,null,null,null,null,null,null,null,null,null,null,null,null,null,null,null,null,{"$f":"VLOOKUP(recettesmar[[#This Row],[Catégorie]],'coulisses 2'!$A$1:$B$20,2,0)","v":0}]
[null,null,null,null,null,null,null,null,null,null,null,null,null,null,null,null,null,{"$f":"VLOOKUP(recettesmar[[#This Row],[Catégorie]],'coulisses 2'!$A$1:$B$20,2,0)","v":0}]
[null,null,null,null,null,null,null,null,null,null,null,null,null,null,null,null,null,{"$f":"VLOOKUP(recettesmar[[#This Row],[Catégorie]],'coulisses 2'!$A$1:$B$20,2,0)","v":0}]
[null,null,null,null,null,null,null,null,null,null,null,null,null,null,null,null,null,{"$f":"VLOOKUP(recettesmar[[#This Row],[Catégorie]],'coulisses 2'!$A$1:$B$20,2,0)","v":0}]
[null,null,null,null,null,null,null,null,null,null,null,null,null,null,null,null,null,{"$f":"VLOOKUP(recettesmar[[#This Row],[Catégorie]],'coulisses 2'!$A$1:$B$20,2,0)","v":0}]
[null,null,null,null,null,null,null,null,null,null,null,null,null,null,null,null,null,{"$f":"VLOOKUP(recettesmar[[#This Row],[Catégorie]],'coulisses 2'!$A$1:$B$20,2,0)","v":0}]
[null,null,null,null,null,null,null,null,null,null,null,null,null,null,null,null,null,{"$f":"VLOOKUP(recettesmar[[#This Row],[Catégorie]],'coulisses 2'!$A$1:$B$20,2,0)","v":0}]
[null,null,null,null,null,null,null,null,null,null,null,null,null,null,null,null,null,{"$f":"VLOOKUP(recettesmar[[#This Row],[Catégorie]],'coulisses 2'!$A$1:$B$20,2,0)","v":0}]
[null,null,null,null,null,null,null,null,null,null,null,null,null,null,null,null,null,{"$f":"VLOOKUP(recettesmar[[#This Row],[Catégorie]],'coulisses 2'!$A$1:$B$20,2,0)","v":0}]
[null,null,null,null,null,null,null,null,null,null,null,null,null,null,null,null,null,{"$f":"VLOOKUP(recettesmar[[#This Row],[Catégorie]],'coulisses 2'!$A$1:$B$20,2,0)","v":0}]
[null,null,null,null,null,null,null,null,null,null,null,null,null,null,null,null,null,{"$f":"VLOOKUP(recettesmar[[#This Row],[Catégorie]],'coulisses 2'!$A$1:$B$20,2,0)","v":0}]
[null,null,null,null,null,null,null,null,null,null,null,null,null,null,null,null,null,{"$f":"VLOOKUP(recettesmar[[#This Row],[Catégorie]],'coulisses 2'!$A$1:$B$20,2,0)","v":0}]
[null,null,null,null,null,null,null,null,null,null,null,null,null,null,null,null,null,{"$f":"VLOOKUP(recettesmar[[#This Row],[Catégorie]],'coulisses 2'!$A$1:$B$20,2,0)","v":0}]
[null,null,null,null,null,null,null,null,null,null,null,null,null,null,null,null,null,{"$f":"VLOOKUP(recettesmar[[#This Row],[Catégorie]],'coulisses 2'!$A$1:$B$20,2,0)","v":0}]
[null,null,null,null,null,null,null,null,null,null,null,null,null,null,null,null,null,{"$f":"VLOOKUP(recettesmar[[#This Row],[Catégorie]],'coulisses 2'!$A$1:$B$20,2,0)","v":0}]
[null,null,null,null,null,null,null,null,null,null,null,null,null,null,null,null,null,{"$f":"VLOOKUP(recettesmar[[#This Row],[Catégorie]],'coulisses 2'!$A$1:$B$20,2,0)","v":0}]
[null,null,null,null,null,null,null,null,null,null,null,null,null,null,null,null,null,{"$f":"VLOOKUP(recettesmar[[#This Row],[Catégorie]],'coulisses 2'!$A$1:$B$20,2,0)","v":0}]
[null,null,null,null,null,null,null,null,null,null,null,null,null,null,null,null,null,{"$f":"VLOOKUP(recettesmar[[#This Row],[Catégorie]],'coulisses 2'!$A$1:$B$20,2,0)","v":0}]
[null,null,null,null,null,null,null,null,null,null,null,null,null,null,null,null,null,{"$f":"VLOOKUP(recettesmar[[#This Row],[Catégorie]],'coulisses 2'!$A$1:$B$20,2,0)","v":0}]
[null,null,null,null,null,null,null,null,null,null,null,null,null,null,null,null,null,{"$f":"VLOOKUP(recettesmar[[#This Row],[Catégorie]],'coulisses 2'!$A$1:$B$20,2,0)","v":0}]
[null,null,null,null,null,null,null,null,null,null,null,null,null,null,null,null,null,{"$f":"VLOOKUP(recettesmar[[#This Row],[Catégorie]],'coulisses 2'!$A$1:$B$20,2,0)","v":0}]
[null,null,null,null,null,null,null,null,null,null,null,null,null,null,null,null,null,{"$f":"VLOOKUP(recettesmar[[#This Row],[Catégorie]],'coulisses 2'!$A$1:$B$20,2,0)","v":0}]
[null,null,null,null,null,null,null,null,null,null,null,null,null,null,null,null,null,{"$f":"VLOOKUP(recettesmar[[#This Row],[Catégorie]],'coulisses 2'!$A$1:$B$20,2,0)","v":0}]
[null,null,null,null,null,null,null,null,null,null,null,null,null,null,null,null,null,{"$f":"VLOOKUP(recettesmar[[#This Row],[Catégorie]],'coulisses 2'!$A$1:$B$20,2,0)","v":0}]
[null,null,null,null,null,null,null,null,null,null,null,null,null,null,null,null,null,{"$f":"VLOOKUP(recettesmar[[#This Row],[Catégorie]],'coulisses 2'!$A$1:$B$20,2,0)","v":0}]
[null,null,null,null,null,null,null,null,null,null,null,null,null,null,null,null,null,{"$f":"VLOOKUP(recettesmar[[#This Row],[Catégorie]],'coulisses 2'!$A$1:$B$20,2,0)","v":0}]
[null,null,null,null,null,null,null,null,null,null,null,null,null,null,null,null,null,{"$f":"VLOOKUP(recettesmar[[#This Row],[Catégorie]],'coulisses 2'!$A$1:$B$20,2,0)","v":0}]
[null,null,null,null,null,null,null,null,null,null,null,null,null,null,null,null,null,{"$f":"VLOOKUP(recettesmar[[#This Row],[Catégorie]],'coulisses 2'!$A$1:$B$20,2,0)","v":0}]
[null,null,null,null,null,null,null,null,null,null,null,null,null,null,null,null,null,{"$f":"VLOOKUP(recettesmar[[#This Row],[Catégorie]],'coulisses 2'!$A$1:$B$20,2,0)","v":0}]
[null,null,null,null,null,null,null,null,null,null,null,null,null,null,null,null,null,{"$f":"VLOOKUP(recettesmar[[#This Row],[Catégorie]],'coulisses 2'!$A$1:$B$20,2,0)","v":0}]
[null,null,null,null,null,null,null,null,null,null,null,null,null,null,null,null,null,{"$f":"VLOOKUP(recettesmar[[#This Row],[Catégorie]],'coulisses 2'!$A$1:$B$20,2,0)","v":0}]
[null,null,null,null,null,null,null,null,null,null,null,null,null,null,null,null,null,{"$f":"VLOOKUP(recettesmar[[#This Row],[Catégorie]],'coulisses 2'!$A$1:$B$20,2,0)","v":0}]
[null,null,null,null,null,null,null,null,null,null,null,null,null,null,null,null,null,{"$f":"VLOOKUP(recettesmar[[#This Row],[Catégorie]],'coulisses 2'!$A$1:$B$20,2,0)","v":0}]
[null,null,null,null,null,null,null,null,null,null,null,null,null,null,null,null,null,{"$f":"VLOOKUP(recettesmar[[#This Row],[Catégorie]],'coulisses 2'!$A$1:$B$20,2,0)","v":0}]
[null,null,null,null,null,null,null,null,null,null,null,null,null,null,null,null,null,{"$f":"VLOOKUP(recettesmar[[#This Row],[Catégorie]],'coulisses 2'!$A$1:$B$20,2,0)","v":0}]
[null,null,null,null,null,null,null,null,null,null,null,null,null,null,null,null,null,{"$f":"VLOOKUP(recettesmar[[#This Row],[Catégorie]],'coulisses 2'!$A$1:$B$20,2,0)","v":0}]
[null,null,null,null,null,null,null,null,null,null,null,null,null,null,null,null,null,{"$f":"VLOOKUP(recettesmar[[#This Row],[Catégorie]],'coulisses 2'!$A$1:$B$20,2,0)","v":0}]
[null,null,null,null,null,null,null,null,null,null,null,null,null,null,null,null,null,{"$f":"VLOOKUP(recettesmar[[#This Row],[Catégorie]],'coulisses 2'!$A$1:$B$20,2,0)","v":0}]
[null,null,null,null,null,null,null,null,null,null,null,null,null,null,null,null,null,{"$f":"VLOOKUP(recettesmar[[#This Row],[Catégorie]],'coulisses 2'!$A$1:$B$20,2,0)","v":0}]
[null,null,null,null,null,null,null,null,null,null,null,null,null,null,null,null,null,{"$f":"VLOOKUP(recettesmar[[#This Row],[Catégorie]],'coulisses 2'!$A$1:$B$20,2,0)","v":0}]
[null,null,null,null,null,null,null,null,null,null,null,null,null,null,null,null,null,{"$f":"VLOOKUP(recettesmar[[#This Row],[Catégorie]],'coulisses 2'!$A$1:$B$20,2,0)","v":0}]
[null,null,null,null,null,null,null,null,null,null,null,null,null,null,null,null,null,{"$f":"VLOOKUP(recettesmar[[#This Row],[Catégorie]],'coulisses 2'!$A$1:$B$20,2,0)","v":0}]
[null,null,null,null,null,null,null,null,null,null,null,null,null,null,null,null,null,{"$f":"VLOOKUP(recettesmar[[#This Row],[Catégorie]],'coulisses 2'!$A$1:$B$20,2,0)","v":0}]
[null,null,null,null,null,null,null,null,null,null,null,null,null,null,null,null,null,{"$f":"VLOOKUP(recettesmar[[#This Row],[Catégorie]],'coulisses 2'!$A$1:$B$20,2,0)","v":0}]
[null,null,null,null,null,null,null,null,null,null,null,null,null,null,null,null,null,{"$f":"VLOOKUP(recettesmar[[#This Row],[Catégorie]],'coulisses 2'!$A$1:$B$20,2,0)","v":0}]
[null,null,null,null,null,null,null,null,null,null,null,null,null,null,null,null,null,{"$f":"VLOOKUP(recettesmar[[#This Row],[Catégorie]],'coulisses 2'!$A$1:$B$20,2,0)","v":0}]
[null,null,null,null,null,null,null,null,null,null,null,null,null,null,null,null,null,{"$f":"VLOOKUP(recettesmar[[#This Row],[Catégorie]],'coulisses 2'!$A$1:$B$20,2,0)","v":0}]
[null,null,null,null,null,null,null,null,null,null,null,null,null,null,null,null,null,{"$f":"VLOOKUP(recettesmar[[#This Row],[Catégorie]],'coulisses 2'!$A$1:$B$20,2,0)","v":0}]
[null,null,null,null,null,null,null,null,null,null,null,null,null,null,null,null,null,{"$f":"VLOOKUP(recettesmar[[#This Row],[Catégorie]],'coulisses 2'!$A$1:$B$20,2,0)","v":0}]
[null,null,null,null,null,null,null,null,null,null,null,null,null,null,null,null,null,{"$f":"VLOOKUP(recettesmar[[#This Row],[Catégorie]],'coulisses 2'!$A$1:$B$20,2,0)","v":0}]
[null,null,null,null,null,null,null,null,null,null,null,null,null,null,null,null,null,{"$f":"VLOOKUP(recettesmar[[#This Row],[Catégorie]],'coulisses 2'!$A$1:$B$20,2,0)","v":0}]
[null,null,null,null,null,null,null,null,null,null,null,null,null,null,null,null,null,{"$f":"VLOOKUP(recettesmar[[#This Row],[Catégorie]],'coulisses 2'!$A$1:$B$20,2,0)","v":0}]
[null,null,null,null,null,null,null,null,null,null,null,null,null,null,null,null,null,{"$f":"VLOOKUP(recettesmar[[#This Row],[Catégorie]],'coulisses 2'!$A$1:$B$20,2,0)","v":0}]
[null,null,null,null,null,null,null,null,null,null,null,null,null,null,null,null,null,{"$f":"VLOOKUP(recettesmar[[#This Row],[Catégorie]],'coulisses 2'!$A$1:$B$20,2,0)","v":0}]
[null,null,null,null,null,null,null,null,null,null,null,null,null,null,null,null,null,{"$f":"VLOOKUP(recettesmar[[#This Row],[Catégorie]],'coulisses 2'!$A$1:$B$20,2,0)","v":0}]
[null,null,null,null,null,null,null,null,null,null,null,null,null,null,null,null,null,{"$f":"VLOOKUP(recettesmar[[#This Row],[Catégorie]],'coulisses 2'!$A$1:$B$20,2,0)","v":0}]
[null,null,null,null,null,null,null,null,null,null,null,null,null,null,null,null,null,{"$f":"VLOOKUP(recettesmar[[#This Row],[Catégorie]],'coulisses 2'!$A$1:$B$20,2,0)","v":0}]
[null,null,null,null,null,null,null,null,null,null,null,null,null,null,null,null,null,{"$f":"VLOOKUP(recettesmar[[#This Row],[Catégorie]],'coulisses 2'!$A$1:$B$20,2,0)","v":0}]
[null,null,null,null,null,null,null,null,null,null,null,null,null,null,null,null,null,{"$f":"VLOOKUP(recettesmar[[#This Row],[Catégorie]],'coulisses 2'!$A$1:$B$20,2,0)","v":0}]
[null,null,null,null,null,null,null,null,null,null,null,null,null,null,null,null,null,{"$f":"VLOOKUP(recettesmar[[#This Row],[Catégorie]],'coulisses 2'!$A$1:$B$20,2,0)","v":0}]
[null,null,null,null,null,null,null,null,null,null,null,null,null,null,null,null,null,{"$f":"VLOOKUP(recettesmar[[#This Row],[Catégorie]],'coulisses 2'!$A$1:$B$20,2,0)","v":0}]
[null,null,null,null,null,null,null,null,null,null,null,null,null,null,null,null,null,{"$f":"VLOOKUP(recettesmar[[#This Row],[Catégorie]],'coulisses 2'!$A$1:$B$20,2,0)","v":0}]
[null,null,null,null,null,null,null,null,null,null,null,null,null,null,null,null,null,{"$f":"VLOOKUP(recettesmar[[#This Row],[Catégorie]],'coulisses 2'!$A$1:$B$20,2,0)","v":0}]
[null,null,null,null,null,null,null,null,null,null,null,null,null,null,null,null,null,{"$f":"VLOOKUP(recettesmar[[#This Row],[Catégorie]],'coulisses 2'!$A$1:$B$20,2,0)","v":0}]
[null,null,null,null,null,null,null,null,null,null,null,null,null,null,null,null,null,{"$f":"VLOOKUP(recettesmar[[#This Row],[Catégorie]],'coulisses 2'!$A$1:$B$20,2,0)","v":0}]
[null,null,null,null,null,null,null,null,null,null,null,null,null,null,null,null,null,{"$f":"VLOOKUP(recettesmar[[#This Row],[Catégorie]],'coulisses 2'!$A$1:$B$20,2,0)","v":0}]
[null,null,null,null,null,null,null,null,null,null,null,null,null,null,null,null,null,{"$f":"VLOOKUP(recettesmar[[#This Row],[Catégorie]],'coulisses 2'!$A$1:$B$20,2,0)","v":0}]
[null,null,null,null,null,null,null,null,null,null,null,null,null,null,null,null,null,{"$f":"VLOOKUP(recettesmar[[#This Row],[Catégorie]],'coulisses 2'!$A$1:$B$20,2,0)","v":0}]
[null,null,null,null,null,null,null,null,null,null,null,null,null,null,null,null,null,{"$f":"VLOOKUP(recettesmar[[#This Row],[Catégorie]],'coulisses 2'!$A$1:$B$20,2,0)","v":0}]
[null,null,null,null,null,null,null,null,null,null,null,null,null,null,null,null,null,{"$f":"VLOOKUP(recettesmar[[#This Row],[Catégorie]],'coulisses 2'!$A$1:$B$20,2,0)","v":0}]
[null,null,null,null,null,null,null,null,null,null,null,null,null,null,null,null,null,{"$f":"VLOOKUP(recettesmar[[#This Row],[Catégorie]],'coulisses 2'!$A$1:$B$20,2,0)","v":0}]
[null,null,null,null,null,null,null,null,null,null,null,null,null,null,null,null,null,{"$f":"VLOOKUP(recettesmar[[#This Row],[Catégorie]],'coulisses 2'!$A$1:$B$20,2,0)","v":0}]
[null,null,null,null,null,null,null,null,null,null,null,null,null,null,null,null,null,{"$f":"VLOOKUP(recettesmar[[#This Row],[Catégorie]],'coulisses 2'!$A$1:$B$20,2,0)","v":0}]
[null,null,null,null,null,null,null,null,null,null,null,null,null,null,null,null,null,{"$f":"VLOOKUP(recettesmar[[#This Row],[Catégorie]],'coulisses 2'!$A$1:$B$20,2,0)","v":0}]
[null,null,null,null,null,null,null,null,null,null,null,null,null,null,null,null,null,{"$f":"VLOOKUP(recettesmar[[#This Row],[Catégorie]],'coulisses 2'!$A$1:$B$20,2,0)","v":0}]
[null,null,null,null,null,null,null,null,null,null,null,null,null,null,null,null,null,{"$f":"VLOOKUP(recettesmar[[#This Row],[Catégorie]],'coulisses 2'!$A$1:$B$20,2,0)","v":0}]
[null,null,null,null,null,null,null,null,null,null,null,null,null,null,null,null,null,{"$f":"VLOOKUP(recettesmar[[#This Row],[Catégorie]],'coulisses 2'!$A$1:$B$20,2,0)","v":0}]
[null,null,null,null,null,null,null,null,null,null,null,null,null,null,null,null,null,{"$f":"VLOOKUP(recettesmar[[#This Row],[Catégorie]],'coulisses 2'!$A$1:$B$20,2,0)","v":0}]
[null,null,null,null,null,null,null,null,null,null,null,null,null,null,null,null,null,{"$f":"VLOOKUP(recettesmar[[#This Row],[Catégorie]],'coulisses 2'!$A$1:$B$20,2,0)","v":0}]
[null,null,null,null,null,null,null,null,null,null,null,null,null,null,null,null,null,{"$f":"VLOOKUP(recettesmar[[#This Row],[Catégorie]],'coulisses 2'!$A$1:$B$20,2,0)","v":0}]
[null,null,null,null,null,null,null,null,null,null,null,null,null,null,null,null,null,{"$f":"VLOOKUP(recettesmar[[#This Row],[Catégorie]],'coulisses 2'!$A$1:$B$20,2,0)","v":0}]
[null,null,null,null,null,null,null,null,null,null,null,null,null,null,null,null,null,{"$f":"VLOOKUP(recettesmar[[#This Row],[Catégorie]],'coulisses 2'!$A$1:$B$20,2,0)","v":0}]
[null,null,null,null,null,null,null,null,null,null,null,null,null,null,null,null,null,{"$f":"VLOOKUP(recettesmar[[#This Row],[Catégorie]],'coulisses 2'!$A$1:$B$20,2,0)","v":0}]
[null,null,null,null,null,null,null,null,null,null,null,null,null,null,null,null,null,{"$f":"VLOOKUP(recettesmar[[#This Row],[Catégorie]],'coulisses 2'!$A$1:$B$20,2,0)","v":0}]
[null,null,null,null,null,null,null,null,null,null,null,null,null,null,null,null,null,{"$f":"VLOOKUP(recettesmar[[#This Row],[Catégorie]],'coulisses 2'!$A$1:$B$20,2,0)","v":0}]
[null,null,null,null,null,null,null,null,null,null,null,null,null,null,null,null,null,{"$f":"VLOOKUP(recettesmar[[#This Row],[Catégorie]],'coulisses 2'!$A$1:$B$20,2,0)","v":0}]
[null,null,null,null,null,null,null,null,null,null,null,null,null,null,null,null,null,{"$f":"VLOOKUP(recettesmar[[#This Row],[Catégorie]],'coulisses 2'!$A$1:$B$20,2,0)","v":0}]
[null,null,null,null,null,null,null,null,null,null,null,null,null,null,null,null,null,{"$f":"VLOOKUP(recettesmar[[#This Row],[Catégorie]],'coulisses 2'!$A$1:$B$20,2,0)","v":0}]
[null,null,null,null,null,null,null,null,null,null,null,null,null,null,null,null,null,{"$f":"VLOOKUP(recettesmar[[#This Row],[Catégorie]],'coulisses 2'!$A$1:$B$20,2,0)","v":0}]
[null,null,null,null,null,null,null,null,null,null,null,null,null,null,null,null,null,{"$f":"VLOOKUP(recettesmar[[#This Row],[Catégorie]],'coulisses 2'!$A$1:$B$20,2,0)","v":0}]
[null,null,null,null,null,null,null,null,null,null,null,null,null,null,null,null,null,{"$f":"VLOOKUP(recettesmar[[#This Row],[Catégorie]],'coulisses 2'!$A$1:$B$20,2,0)","v":0}]
[null,null,null,null,null,null,null,null,null,null,null,null,null,null,null,null,null,{"$f":"VLOOKUP(recettesmar[[#This Row],[Catégorie]],'coulisses 2'!$A$1:$B$20,2,0)","v":0}]
[null,null,null,null,null,null,null,null,null,null,null,null,null,null,null,null,null,{"$f":"VLOOKUP(recettesmar[[#This Row],[Catégorie]],'coulisses 2'!$A$1:$B$20,2,0)","v":0}]
[null,null,null,null,null,null,null,null,null,null,null,null,null,null,null,null,null,{"$f":"VLOOKUP(recettesmar[[#This Row],[Catégorie]],'coulisses 2'!$A$1:$B$20,2,0)","v":0}]
[null,null,null,null,null,null,null,null,null,null,null,null,null,null,null,null,null,{"$f":"VLOOKUP(recettesmar[[#This Row],[Catégorie]],'coulisses 2'!$A$1:$B$20,2,0)","v":0}]
[null,null,null,null,null,null,null,null,null,null,null,null,null,null,null,null,null,{"$f":"VLOOKUP(recettesmar[[#This Row],[Catégorie]],'coulisses 2'!$A$1:$B$20,2,0)","v":0}]
[null,null,null,null,null,null,null,null,null,null,null,null,null,null,null,null,null,{"$f":"VLOOKUP(recettesmar[[#This Row],[Catégorie]],'coulisses 2'!$A$1:$B$20,2,0)","v":0}]
[null,null,null,null,null,null,null,null,null,null,null,null,null,null,null,null,null,{"$f":"VLOOKUP(recettesmar[[#This Row],[Catégorie]],'coulisses 2'!$A$1:$B$20,2,0)","v":0}]
[null,null,null,null,null,null,null,null,null,null,null,null,null,null,null,null,null,{"$f":"VLOOKUP(recettesmar[[#This Row],[Catégorie]],'coulisses 2'!$A$1:$B$20,2,0)","v":0}]
[null,null,null,null,null,null,null,null,null,null,null,null,null,null,null,null,null,{"$f":"VLOOKUP(recettesmar[[#This Row],[Catégorie]],'coulisses 2'!$A$1:$B$20,2,0)","v":0}]
[null,null,null,null,null,null,null,null,null,null,null,null,null,null,null,null,null,{"$f":"VLOOKUP(recettesmar[[#This Row],[Catégorie]],'coulisses 2'!$A$1:$B$20,2,0)","v":0}]
[null,null,null,null,null,null,null,null,null,null,null,null,null,null,null,null,null,{"$f":"VLOOKUP(recettesmar[[#This Row],[Catégorie]],'coulisses 2'!$A$1:$B$20,2,0)","v":0}]
[null,null,null,null,null,null,null,null,null,null,null,null,null,null,null,null,null,{"$f":"VLOOKUP(recettesmar[[#This Row],[Catégorie]],'coulisses 2'!$A$1:$B$20,2,0)","v":0}]
[null,null,null,null,null,null,null,null,null,null,null,null,null,null,null,null,null,{"$f":"VLOOKUP(recettesmar[[#This Row],[Catégorie]],'coulisses 2'!$A$1:$B$20,2,0)","v":0}]
[null,null,null,null,null,null,null,null,null,null,null,null,null,null,null,null,null,{"$f":"VLOOKUP(recettesmar[[#This Row],[Catégorie]],'coulisses 2'!$A$1:$B$20,2,0)","v":0}]
[null,null,null,null,null,null,null,null,null,null,null,null,null,null,null,null,null,{"$f":"VLOOKUP(recettesmar[[#This Row],[Catégorie]],'coulisses 2'!$A$1:$B$20,2,0)","v":0}]
[null,null,null,null,null,null,null,null,null,null,null,null,null,null,null,null,null,{"$f":"VLOOKUP(recettesmar[[#This Row],[Catégorie]],'coulisses 2'!$A$1:$B$20,2,0)","v":0}]
[null,null,null,null,null,null,null,null,null,null,null,null,null,null,null,null,null,{"$f":"VLOOKUP(recettesmar[[#This Row],[Catégorie]],'coulisses 2'!$A$1:$B$20,2,0)","v":0}]
[null,null,null,null,null,null,null,null,null,null,null,null,null,null,null,null,null,{"$f":"VLOOKUP(recettesmar[[#This Row],[Catégorie]],'coulisses 2'!$A$1:$B$20,2,0)","v":0}]
[null,null,null,null,null,null,null,null,null,null,null,null,null,null,null,null,null,{"$f":"VLOOKUP(recettesmar[[#This Row],[Catégorie]],'coulisses 2'!$A$1:$B$20,2,0)","v":0}]
[null,null,null,null,null,null,null,null,null,null,null,null,null,null,null,null,null,{"$f":"VLOOKUP(recettesmar[[#This Row],[Catégorie]],'coulisses 2'!$A$1:$B$20,2,0)","v":0}]
[null,null,null,null,null,null,null,null,null,null,null,null,null,null,null,null,null,{"$f":"VLOOKUP(recettesmar[[#This Row],[Catégorie]],'coulisses 2'!$A$1:$B$20,2,0)","v":0}]
[null,null,null,null,null,null,null,null,null,null,null,null,null,null,null,null,null,{"$f":"VLOOKUP(recettesmar[[#This Row],[Catégorie]],'coulisses 2'!$A$1:$B$20,2,0)","v":0}]
[null,null,null,null,null,null,null,null,null,null,null,null,null,null,null,null,null,{"$f":"VLOOKUP(recettesmar[[#This Row],[Catégorie]],'coulisses 2'!$A$1:$B$20,2,0)","v":0}]
[null,null,null,null,null,null,null,null,null,null,null,null,null,null,null,null,null,{"$f":"VLOOKUP(recettesmar[[#This Row],[Catégorie]],'coulisses 2'!$A$1:$B$20,2,0)","v":0}]
[null,null,null,null,null,null,null,null,null,null,null,null,null,null,null,null,null,{"$f":"VLOOKUP(recettesmar[[#This Row],[Catégorie]],'coulisses 2'!$A$1:$B$20,2,0)","v":0}]
[null,null,null,null,null,null,null,null,null,null,null,null,null,null,null,null,null,{"$f":"VLOOKUP(recettesmar[[#This Row],[Catégorie]],'coulisses 2'!$A$1:$B$20,2,0)","v":0}]
[null,null,null,null,null,null,null,null,null,null,null,null,null,null,null,null,null,{"$f":"VLOOKUP(recettesmar[[#This Row],[Catégorie]],'coulisses 2'!$A$1:$B$20,2,0)","v":0}]
[null,null,null,null,null,null,null,null,null,null,null,null,null,null,null,null,null,{"$f":"VLOOKUP(recettesmar[[#This Row],[Catégorie]],'coulisses 2'!$A$1:$B$20,2,0)","v":0}]
[null,null,null,null,null,null,null,null,null,null,null,null,null,null,null,null,null,{"$f":"VLOOKUP(recettesmar[[#This Row],[Catégorie]],'coulisses 2'!$A$1:$B$20,2,0)","v":0}]
[null,null,null,null,null,null,null,null,null,null,null,null,null,null,null,null,null,{"$f":"VLOOKUP(recettesmar[[#This Row],[Catégorie]],'coulisses 2'!$A$1:$B$20,2,0)","v":0}]
[null,null,null,null,null,null,null,null,null,null,null,null,null,null,null,null,null,{"$f":"VLOOKUP(recettesmar[[#This Row],[Catégorie]],'coulisses 2'!$A$1:$B$20,2,0)","v":0}]
[null,null,null,null,null,null,null,null,null,null,null,null,null,null,null,null,null,{"$f":"VLOOKUP(recettesmar[[#This Row],[Catégorie]],'coulisses 2'!$A$1:$B$20,2,0)","v":0}]
[null,null,null,null,null,null,null,null,null,null,null,null,null,null,null,null,null,{"$f":"VLOOKUP(recettesmar[[#This Row],[Catégorie]],'coulisses 2'!$A$1:$B$20,2,0)","v":0}]
[null,null,null,null,null,null,null,null,null,null,null,null,null,null,null,null,null,{"$f":"VLOOKUP(recettesmar[[#This Row],[Catégorie]],'coulisses 2'!$A$1:$B$20,2,0)","v":0}]
[null,null,null,null,null,null,null,null,null,null,null,null,null,null,null,null,null,{"$f":"VLOOKUP(recettesmar[[#This Row],[Catégorie]],'coulisses 2'!$A$1:$B$20,2,0)","v":0}]
[null,null,null,null,null,null,null,null,null,null,null,null,null,null,null,null,null,{"$f":"VLOOKUP(recettesmar[[#This Row],[Catégorie]],'coulisses 2'!$A$1:$B$20,2,0)","v":0}]
[null,null,null,null,null,null,null,null,null,null,null,null,null,null,null,null,null,{"$f":"VLOOKUP(recettesmar[[#This Row],[Catégorie]],'coulisses 2'!$A$1:$B$20,2,0)","v":0}]
[null,null,null,null,null,null,null,null,null,null,null,null,null,null,null,null,null,{"$f":"VLOOKUP(recettesmar[[#This Row],[Catégorie]],'coulisses 2'!$A$1:$B$20,2,0)","v":0}]
[null,null,null,null,null,null,null,null,null,null,null,null,null,null,null,null,null,{"$f":"VLOOKUP(recettesmar[[#This Row],[Catégorie]],'coulisses 2'!$A$1:$B$20,2,0)","v":0}]
[null,null,null,null,null,null,null,null,null,null,null,null,null,null,null,null,null,{"$f":"VLOOKUP(recettesmar[[#This Row],[Catégorie]],'coulisses 2'!$A$1:$B$20,2,0)","v":0}]
[null,null,null,null,null,null,null,null,null,null,null,null,null,null,null,null,null,{"$f":"VLOOKUP(recettesmar[[#This Row],[Catégorie]],'coulisses 2'!$A$1:$B$20,2,0)","v":0}]
[null,null,null,null,null,null,null,null,null,null,null,null,null,null,null,null,null,{"$f":"VLOOKUP(recettesmar[[#This Row],[Catégorie]],'coulisses 2'!$A$1:$B$20,2,0)","v":0}]
[null,null,null,null,null,null,null,null,null,null,null,null,null,null,null,null,null,{"$f":"VLOOKUP(recettesmar[[#This Row],[Catégorie]],'coulisses 2'!$A$1:$B$20,2,0)","v":0}]
[null,null,null,null,null,null,null,null,null,null,null,null,null,null,null,null,null,{"$f":"VLOOKUP(recettesmar[[#This Row],[Catégorie]],'coulisses 2'!$A$1:$B$20,2,0)","v":0}]
[null,null,null,null,null,null,null,null,null,null,null,null,null,null,null,null,null,{"$f":"VLOOKUP(recettesmar[[#This Row],[Catégorie]],'coulisses 2'!$A$1:$B$20,2,0)","v":0}]
[null,null,null,null,null,null,null,null,null,null,null,null,null,null,null,null,null,{"$f":"VLOOKUP(recettesmar[[#This Row],[Catégorie]],'coulisses 2'!$A$1:$B$20,2,0)","v":0}]
[null,null,null,null,null,null,null,null,null,null,null,null,null,null,null,null,null,{"$f":"VLOOKUP(recettesmar[[#This Row],[Catégorie]],'coulisses 2'!$A$1:$B$20,2,0)","v":0}]
[null,null,null,null,null,null,null,null,null,null,null,null,null,null,null,null,null,{"$f":"VLOOKUP(recettesmar[[#This Row],[Catégorie]],'coulisses 2'!$A$1:$B$20,2,0)","v":0}]
[null,null,null,null,null,null,null,null,null,null,null,null,null,null,null,null,null,{"$f":"VLOOKUP(recettesmar[[#This Row],[Catégorie]],'coulisses 2'!$A$1:$B$20,2,0)","v":0}]
[null,null,null,null,null,null,null,null,null,null,null,null,null,null,null,null,null,{"$f":"VLOOKUP(recettesmar[[#This Row],[Catégorie]],'coulisses 2'!$A$1:$B$20,2,0)","v":0}]
[null,null,null,null,null,null,null,null,null,null,null,null,null,null,null,null,null,{"$f":"VLOOKUP(recettesmar[[#This Row],[Catégorie]],'coulisses 2'!$A$1:$B$20,2,0)","v":0}]
[null,null,null,null,null,null,null,null,null,null,null,null,null,null,null,null,null,{"$f":"VLOOKUP(recettesmar[[#This Row],[Catégorie]],'coulisses 2'!$A$1:$B$20,2,0)","v":0}]
[null,null,null,null,null,null,null,null,null,null,null,null,null,null,null,null,null,{"$f":"VLOOKUP(recettesmar[[#This Row],[Catégorie]],'coulisses 2'!$A$1:$B$20,2,0)","v":0}]
[null,null,null,null,null,null,null,null,null,null,null,null,null,null,null,null,null,{"$f":"VLOOKUP(recettesmar[[#This Row],[Catégorie]],'coulisses 2'!$A$1:$B$20,2,0)","v":0}]
[null,null,null,null,null,null,null,null,null,null,null,null,null,null,null,null,null,{"$f":"VLOOKUP(recettesmar[[#This Row],[Catégorie]],'coulisses 2'!$A$1:$B$20,2,0)","v":0}]
[null,null,null,null,null,null,null,null,null,null,null,null,null,null,null,null,null,{"$f":"VLOOKUP(recettesmar[[#This Row],[Catégorie]],'coulisses 2'!$A$1:$B$20,2,0)","v":0}]
[null,null,null,null,null,null,null,null,null,null,null,null,null,null,null,null,null,{"$f":"VLOOKUP(recettesmar[[#This Row],[Catégorie]],'coulisses 2'!$A$1:$B$20,2,0)","v":0}]
[null,null,null,null,null,null,null,null,null,null,null,null,null,null,null,null,null,{"$f":"VLOOKUP(recettesmar[[#This Row],[Catégorie]],'coulisses 2'!$A$1:$B$20,2,0)","v":0}]
[null,null,null,null,null,null,null,null,null,null,null,null,null,null,null,null,null,{"$f":"VLOOKUP(recettesmar[[#This Row],[Catégorie]],'coulisses 2'!$A$1:$B$20,2,0)","v":0}]
[null,null,null,null,null,null,null,null,null,null,null,null,null,null,null,null,null,{"$f":"VLOOKUP(recettesmar[[#This Row],[Catégorie]],'coulisses 2'!$A$1:$B$20,2,0)","v":0}]
[null,null,null,null,null,null,null,null,null,null,null,null,null,null,null,null,null,{"$f":"VLOOKUP(recettesmar[[#This Row],[Catégorie]],'coulisses 2'!$A$1:$B$20,2,0)","v":0}]
[null,null,null,null,null,null,null,null,null,null,null,null,null,null,null,null,null,{"$f":"VLOOKUP(recettesmar[[#This Row],[Catégorie]],'coulisses 2'!$A$1:$B$20,2,0)","v":0}]
[null,null,null,null,null,null,null,null,null,null,null,null,null,null,null,null,null,{"$f":"VLOOKUP(recettesmar[[#This Row],[Catégorie]],'coulisses 2'!$A$1:$B$20,2,0)","v":0}]
[null,null,null,null,null,null,null,null,null,null,null,null,null,null,null,null,null,{"$f":"VLOOKUP(recettesmar[[#This Row],[Catégorie]],'coulisses 2'!$A$1:$B$20,2,0)","v":0}]
[null,null,null,null,null,null,null,null,null,null,null,null,null,null,null,null,null,{"$f":"VLOOKUP(recettesmar[[#This Row],[Catégorie]],'coulisses 2'!$A$1:$B$20,2,0)","v":0}]
[null,null,null,null,null,null,null,null,null,null,null,null,null,null,null,null,null,{"$f":"VLOOKUP(recettesmar[[#This Row],[Catégorie]],'coulisses 2'!$A$1:$B$20,2,0)","v":0}]
[null,null,null,null,null,null,null,null,null,null,null,null,null,null,null,null,null,{"$f":"VLOOKUP(recettesmar[[#This Row],[Catégorie]],'coulisses 2'!$A$1:$B$20,2,0)","v":0}]
[null,null,null,null,null,null,null,null,null,null,null,null,null,null,null,null,null,{"$f":"VLOOKUP(recettesmar[[#This Row],[Catégorie]],'coulisses 2'!$A$1:$B$20,2,0)","v":0}]
[null,null,null,null,null,null,null,null,null,null,null,null,null,null,null,null,null,{"$f":"VLOOKUP(recettesmar[[#This Row],[Catégorie]],'coulisses 2'!$A$1:$B$20,2,0)","v":0}]
[null,null,null,null,null,null,null,null,null,null,null,null,null,null,null,null,null,{"$f":"VLOOKUP(recettesmar[[#This Row],[Catégorie]],'coulisses 2'!$A$1:$B$20,2,0)","v":0}]
[null,null,null,null,null,null,null,null,null,null,null,null,null,null,null,null,null,{"$f":"VLOOKUP(recettesmar[[#This Row],[Catégorie]],'coulisses 2'!$A$1:$B$20,2,0)","v":0}]
[null,null,null,null,null,null,null,null,null,null,null,null,null,null,null,null,null,{"$f":"VLOOKUP(recettesmar[[#This Row],[Catégorie]],'coulisses 2'!$A$1:$B$20,2,0)","v":0}]
[null,null,null,null,null,null,null,null,null,null,null,null,null,null,null,null,null,{"$f":"VLOOKUP(recettesmar[[#This Row],[Catégorie]],'coulisses 2'!$A$1:$B$20,2,0)","v":0}]
[null,null,null,null,null,null,null,null,null,null,null,null,null,null,null,null,null,{"$f":"VLOOKUP(recettesmar[[#This Row],[Catégorie]],'coulisses 2'!$A$1:$B$20,2,0)","v":0}]
[null,null,null,null,null,null,null,null,null,null,null,null,null,null,null,null,null,{"$f":"VLOOKUP(recettesmar[[#This Row],[Catégorie]],'coulisses 2'!$A$1:$B$20,2,0)","v":0}]
[null,null,null,null,null,null,null,null,null,null,null,null,null,null,null,null,null,{"$f":"VLOOKUP(recettesmar[[#This Row],[Catégorie]],'coulisses 2'!$A$1:$B$20,2,0)","v":0}]
[null,null,null,null,null,null,null,null,null,null,null,null,null,null,null,null,null,{"$f":"VLOOKUP(recettesmar[[#This Row],[Catégorie]],'coulisses 2'!$A$1:$B$20,2,0)","v":0}]
[null,null,null,null,null,null,null,null,null,null,null,null,null,null,null,null,null,{"$f":"VLOOKUP(recettesmar[[#This Row],[Catégorie]],'coulisses 2'!$A$1:$B$20,2,0)","v":0}]
[null,null,null,null,null,null,null,null,null,null,null,null,null,null,null,null,null,{"$f":"VLOOKUP(recettesmar[[#This Row],[Catégorie]],'coulisses 2'!$A$1:$B$20,2,0)","v":0}]
[null,null,null,null,null,null,null,null,null,null,null,null,null,null,null,null,null,{"$f":"VLOOKUP(recettesmar[[#This Row],[Catégorie]],'coulisses 2'!$A$1:$B$20,2,0)","v":0}]
[null,null,null,null,null,null,null,null,null,null,null,null,null,null,null,null,null,{"$f":"VLOOKUP(recettesmar[[#This Row],[Catégorie]],'coulisses 2'!$A$1:$B$20,2,0)","v":0}]
[null,null,null,null,null,null,null,null,null,null,null,null,null,null,null,null,null,{"$f":"VLOOKUP(recettesmar[[#This Row],[Catégorie]],'coulisses 2'!$A$1:$B$20,2,0)","v":0}]
[null,null,null,null,null,null,null,null,null,null,null,null,null,null,null,null,null,{"$f":"VLOOKUP(recettesmar[[#This Row],[Catégorie]],'coulisses 2'!$A$1:$B$20,2,0)","v":0}]
[null,null,null,null,null,null,null,null,null,null,null,null,null,null,null,null,null,{"$f":"VLOOKUP(recettesmar[[#This Row],[Catégorie]],'coulisses 2'!$A$1:$B$20,2,0)","v":0}]
[null,null,null,null,null,null,null,null,null,null,null,null,null,null,null,null,null,{"$f":"VLOOKUP(recettesmar[[#This Row],[Catégorie]],'coulisses 2'!$A$1:$B$20,2,0)","v":0}]
[null,null,null,null,null,null,null,null,null,null,null,null,null,null,null,null,null,{"$f":"VLOOKUP(recettesmar[[#This Row],[Catégorie]],'coulisses 2'!$A$1:$B$20,2,0)","v":0}]
[null,null,null,null,null,null,null,null,null,null,null,null,null,null,null,null,null,{"$f":"VLOOKUP(recettesmar[[#This Row],[Catégorie]],'coulisses 2'!$A$1:$B$20,2,0)","v":0}]
[null,null,null,null,null,null,null,null,null,null,null,null,null,null,null,null,null,{"$f":"VLOOKUP(recettesmar[[#This Row],[Catégorie]],'coulisses 2'!$A$1:$B$20,2,0)","v":0}]
[null,null,null,null,null,null,null,null,null,null,null,null,null,null,null,null,null,{"$f":"VLOOKUP(recettesmar[[#This Row],[Catégorie]],'coulisses 2'!$A$1:$B$20,2,0)","v":0}]
[null,null,null,null,null,null,null,null,null,null,null,null,null,null,null,null,null,{"$f":"VLOOKUP(recettesmar[[#This Row],[Catégorie]],'coulisses 2'!$A$1:$B$20,2,0)","v":0}]
[null,null,null,null,null,null,null,null,null,null,null,null,null,null,null,null,null,{"$f":"VLOOKUP(recettesmar[[#This Row],[Catégorie]],'coulisses 2'!$A$1:$B$20,2,0)","v":0}]
[null,null,null,null,null,null,null,null,null,null,null,null,null,null,null,null,null,{"$f":"VLOOKUP(recettesmar[[#This Row],[Catégorie]],'coulisses 2'!$A$1:$B$20,2,0)","v":0}]
[null,null,null,null,null,null,null,null,null,null,null,null,null,null,null,null,null,{"$f":"VLOOKUP(recettesmar[[#This Row],[Catégorie]],'coulisses 2'!$A$1:$B$20,2,0)","v":0}]

{"sheet":"🐟 04","index":4,"n_rows":304,"n_cols":24,"rows_kept":304,"cut":false,"hidden":false,"merged":[[1,1,1,4],[1,9,1,12]]}
[null,{"$f":"'👩🏻‍🏫 Bienvenue !'!K7","v":0},null,{"$f":" '👩🏻‍🏫 Bienvenue !'!I12&\" - \"&\"Avril \"&'👩🏻‍🏫 Bienvenue !'!I16","v":" - Avril "},null,null,null,null,null,null,null,null,null,null,"VOTRE PROFIT DU MOIS",{"$f":"H2-P2","v":0}]
[null,"Vos recettes 💰",null,null,null,null,"TOTAL",{"$f":"SUM(recettesavr[Montant])","v":0},null,"Vos dépenses 🧾",null,null,null,null,"TOTAL",{"$f":"SUM(depensesavr[Montant])","v":0}]
[]
[null,"Date","Mode de paiement","N°","Libellé et nom du client","Catégorie","Axe","Montant",null,"Date","Mode de paiement","N°","Libellé","Catégorie","Axe","Montant",null,"Taux"]
[null,null,null,null,null,null,null,null,null,null,null,"A1","Cotisations sociales Février - Taux 1","Cotisations sociales",null,{"$f":"'🎿 02'!X29","v":0},null,{"$f":"VLOOKUP(recettesavr[[#This Row],[Catégorie]],'coulisses 2'!$A$1:$B$20,2,0)","v":0},null,"Récapitulatif par type de dépense",{"$f":"SUM(U6:U26)","v":0},null,"Récapitulatif par type de recette",{"$f":"SUM(X6:X26)","v":0}]
[null,null,null,null,null,null,null,null,null,null,null,"A2","Cotisations sociales Février - Taux 2","Cotisations sociales",null,{"$f":"'🎿 02'!X30","v":0},null,{"$f":"VLOOKUP(recettesavr[[#This Row],[Catégorie]],'coulisses 2'!$A$1:$B$20,2,0)","v":0},null,{"$f":"coulisses!J23","v":0},{"$f":"SUMIF(depensesavr[Catégorie],T6,depensesavr[Montant])","v":0},null,{"$f":"coulisses!J3","v":0},{"$f":"SUMIF(recettesavr[Catégorie],W6,recettesavr[Montant])","v":0}]
[null,null,null,null,null,null,null,null,null,null,null,"A3","Cotisations sociales Février - Taux 3","Cotisations sociales",null,{"$f":"'🎿 02'!X31","v":0},null,{"$f":"VLOOKUP(recettesavr[[#This Row],[Catégorie]],'coulisses 2'!$A$1:$B$20,2,0)","v":0},null,{"$f":"coulisses!J24","v":0},{"$f":"SUMIF(depensesavr[Catégorie],T7,depensesavr[Montant])","v":0},null,{"$f":"coulisses!J4","v":0},{"$f":"SUMIF(recettesavr[Catégorie],W7,recettesavr[Montant])","v":0}]
[null,null,null,null,null,null,null,null,null,null,null,null,null,null,null,null,null,{"$f":"VLOOKUP(recettesavr[[#This Row],[Catégorie]],'coulisses 2'!$A$1:$B$20,2,0)","v":0},null,{"$f":"coulisses!J25","v":0},{"$f":"SUMIF(depensesavr[Catégorie],T8,depensesavr[Montant])","v":0},null,{"$f":"coulisses!J5","v":0},{"$f":"SUMIF(recettesavr[Catégorie],W8,recettesavr[Montant])","v":0}]
[null,null,null,null,null,null,null,null,null,null,null,null,null,null,null,null,null,{"$f":"VLOOKUP(recettesavr[[#This Row],[Catégorie]],'coulisses 2'!$A$1:$B$20,2,0)","v":0},null,{"$f":"coulisses!J26","v":0},{"$f":"SUMIF(depensesavr[Catégorie],T9,depensesavr[Montant])","v":0},null,{"$f":"coulisses!J6","v":0},{"$f":"SUMIF(recettesavr[Catégorie],W9,recettesavr[Montant])","v":0}]
[null,null,null,null,null,null,null,null,null,null,null,null,null,null,null,null,null,{"$f":"VLOOKUP(recettesavr[[#This Row],[Catégorie]],'coulisses 2'!$A$1:$B$20,2,0)","v":0},null,{"$f":"coulisses!J27","v":0},{"$f":"SUMIF(depensesavr[Catégorie],T10,depensesavr[Montant])","v":0},null,{"$f":"coulisses!J7","v":0},{"$f":"SUMIF(recettesavr[Catégorie],W10,recettesavr[Montant])","v":0}]
[null,null,null,null,null,null,null,null,null,null,null,null,null,null,null,null,null,{"$f":"VLOOKUP(recettesavr[[#This Row],[Catégorie]],'coulisses 2'!$A$1:$B$20,2,0)","v":0},null,{"$f":"coulisses!J28","v":0},{"$f":"SUMIF(depensesavr[Catégorie],T11,depensesavr[Montant])","v":0},null,{"$f":"coulisses!J8","v":0},{"$f":"SUMIF(recettesavr[Catégorie],W11,recettesavr[Montant])","v":0}]
[null,null,null,null,null,null,null,null,null,null,null,null,null,null,null,null,null,{"$f":"VLOOKUP(recettesavr[[#This Row],[Catégorie]],'coulisses 2'!$A$1:$B$20,2,0)","v":0},null,{"$f":"coulisses!J29","v":0},{"$f":"SUMIF(depensesavr[Catégorie],T12,depensesavr[Montant])","v":0},null,{"$f":"coulisses!J9","v":0},{"$f":"SUMIF(recettesavr[Catégorie],W12,recettesavr[Montant])","v":0}]
[null,null,null,null,null,null,null,null,null,null,null,null,null,null,null,null,null,{"$f":"VLOOKUP(recettesavr[[#This Row],[Catégorie]],'coulisses 2'!$A$1:$B$20,2,0)","v":0},null,{"$f":"coulisses!J30","v":0},{"$f":"SUMIF(depensesavr[Catégorie],T13,depensesavr[Montant])","v":0},null,{"$f":"coulisses!J10","v":0},{"$f":"SUMIF(recettesavr[Catégorie],W13,recettesavr[Montant])","v":0}]
[null,null,null,null,null,null,null,null,null,null,null,null,null,null,null,null,null,{"$f":"VLOOKUP(recettesavr[[#This Row],[Catégorie]],'coulisses 2'!$A$1:$B$20,2,0)","v":0},null,{"$f":"coulisses!J31","v":0},{"$f":"SUMIF(depensesavr[Catégorie],T14,depensesavr[Montant])","v":0},null,{"$f":"coulisses!J11","v":0},{"$f":"SUMIF(recettesavr[Catégorie],W14,recettesavr[Montant])","v":0}]
[null,null,null,null,null,null,null,null,null,null,null,null,null,null,null,null,null,{"$f":"VLOOKUP(recettesavr[[#This Row],[Catégorie]],'coulisses 2'!$A$1:$B$20,2,0)","v":0},null,{"$f":"coulisses!J32","v":0},{"$f":"SUMIF(depensesavr[Catégorie],T15,depensesavr[Montant])","v":0},null,{"$f":"coulisses!J12","v":0},{"$f":"SUMIF(recettesavr[Catégorie],W15,recettesavr[Montant])","v":0}]
[null,null,null,null,null,null,null,null,null,null,null,null,null,null,null,null,null,{"$f":"VLOOKUP(recettesavr[[#This Row],[Catégorie]],'coulisses 2'!$A$1:$B$20,2,0)","v":0},null,{"$f":"coulisses!J33","v":0},{"$f":"SUMIF(depensesavr[Catégorie],T16,depensesavr[Montant])","v":0},null,{"$f":"coulisses!J13","v":0},{"$f":"SUMIF(recettesavr[Catégorie],W16,recettesavr[Montant])","v":0}]
[null,null,null,null,null,null,null,null,null,null,null,null,null,null,null,null,null,{"$f":"VLOOKUP(recettesavr[[#This Row],[Catégorie]],'coulisses 2'!$A$1:$B$20,2,0)","v":0},null,{"$f":"coulisses!J34","v":0},{"$f":"SUMIF(depensesavr[Catégorie],T17,depensesavr[Montant])","v":0},null,{"$f":"coulisses!J14","v":0},{"$f":"SUMIF(recettesavr[Catégorie],W17,recettesavr[Montant])","v":0}]
[null,null,null,null,null,null,null,null,null,null,null,null,null,null,null,null,null,{"$f":"VLOOKUP(recettesavr[[#This Row],[Catégorie]],'coulisses 2'!$A$1:$B$20,2,0)","v":0},null,{"$f":"coulisses!J35","v":0},{"$f":"SUMIF(depensesavr[Catégorie],T18,depensesavr[Montant])","v":0},null,{"$f":"coulisses!J15","v":0},{"$f":"SUMIF(recettesavr[Catégorie],W18,recettesavr[Montant])","v":0}]
[null,null,null,null,null,null,null,null,null,null,null,null,null,null,null,null,null,{"$f":"VLOOKUP(recettesavr[[#This Row],[Catégorie]],'coulisses 2'!$A$1:$B$20,2,0)","v":0},null,{"$f":"coulisses!J36","v":0},{"$f":"SUMIF(depensesavr[Catégorie],T19,depensesavr[Montant])","v":0},null,{"$f":"coulisses!J16","v":0},{"$f":"SUMIF(recettesavr[Catégorie],W19,recettesavr[Montant])","v":0}]
[null,null,null,null,null,null,null,null,null,null,null,null,null,null,null,null,null,{"$f":"VLOOKUP(recettesavr[[#This Row],[Catégorie]],'coulisses 2'!$A$1:$B$20,2,0)","v":0},null,{"$f":"coulisses!J37","v":0},{"$f":"SUMIF(depensesavr[Catégorie],T20,depensesavr[Montant])","v":0},null,{"$f":"coulisses!J17","v":0},{"$f":"SUMIF(recettesavr[Catégorie],W20,recettesavr[Montant])","v":0}]
[null,null,null,null,null,null,null,null,null,null,null,null,null,null,null,null,null,{"$f":"VLOOKUP(recettesavr[[#This Row],[Catégorie]],'coulisses 2'!$A$1:$B$20,2,0)","v":0},null,{"$f":"coulisses!J38","v":0},{"$f":"SUMIF(depensesavr[Catégorie],T21,depensesavr[Montant])","v":0},null,{"$f":"coulisses!J18","v":0},{"$f":"SUMIF(recettesavr[Catégorie],W21,recettesavr[Montant])","v":0}]
[null,null,null,null,null,null,null,null,null,null,null,null,null,null,null,null,null,{"$f":"VLOOKUP(recettesavr[[#This Row],[Catégorie]],'coulisses 2'!$A$1:$B$20,2,0)","v":0},null,{"$f":"coulisses!J39","v":0},{"$f":"SUMIF(depensesavr[Catégorie],T22,depensesavr[Montant])","v":0},null,{"$f":"coulisses!J19","v":0},{"$f":"SUMIF(recettesavr[Catégorie],W22,recettesavr[Montant])","v":0}]
[null,null,null,null,null,null,null,null,null,null,null,null,null,null,null,null,null,{"$f":"VLOOKUP(recettesavr[[#This Row],[Catégorie]],'coulisses 2'!$A$1:$B$20,2,0)","v":0},null,{"$f":"coulisses!J40","v":0},{"$f":"SUMIF(depensesavr[Catégorie],T23,depensesavr[Montant])","v":0},null,{"$f":"coulisses!J20","v":0},{"$f":"SUMIF(recettesavr[Catégorie],W23,recettesavr[Montant])","v":0}]
[null,null,null,null,null,null,null,null,null,null,null,null,null,null,null,null,null,{"$f":"VLOOKUP(recettesavr[[#This Row],[Catégorie]],'coulisses 2'!$A$1:$B$20,2,0)","v":0},null,{"$f":"coulisses!J41","v":0},{"$f":"SUMIF(depensesavr[Catégorie],T24,depensesavr[Montant])","v":0},null,{"$f":"coulisses!J21","v":0},{"$f":"SUMIF(recettesavr[Catégorie],W24,recettesavr[Montant])","v":0}]
[null,null,null,null,null,null,null,null,null,null,null,null,null,null,null,null,null,{"$f":"VLOOKUP(recettesavr[[#This Row],[Catégorie]],'coulisses 2'!$A$1:$B$20,2,0)","v":0},null,{"$f":"coulisses!J42","v":"Cotisations sociales"},{"$f":"SUMIF(depensesavr[Catégorie],T25,depensesavr[Montant])","v":0},null,{"$f":"coulisses!J22","v":0},{"$f":"SUMIF(recettesavr[Catégorie],W25,recettesavr[Montant])","v":0}]
[null,null,null,null,null,null,null,null,null,null,null,null,null,null,null,null,null,{"$f":"VLOOKUP(recettesavr[[#This Row],[Catégorie]],'coulisses 2'!$A$1:$B$20,2,0)","v":0}]
[null,null,null,null,null,null,null,null,null,null,null,null,null,null,null,null,null,{"$f":"VLOOKUP(recettesavr[[#This Row],[Catégorie]],'coulisses 2'!$A$1:$B$20,2,0)","v":0}]
[null,null,null,null,null,null,null,null,null,null,null,null,null,null,null,null,null,{"$f":"VLOOKUP(recettesavr[[#This Row],[Catégorie]],'coulisses 2'!$A$1:$B$20,2,0)","v":0},null,"Estimation des charges dues sur le CA du mois",null,"CA","Taux","A payer"]
[null,null,null,null,null,null,null,null,null,null,null,null,null,null,null,null,null,{"$f":"VLOOKUP(recettesavr[[#This Row],[Catégorie]],'coulisses 2'!$A$1:$B$20,2,0)","v":0},null,{"$f":"'👩🏻‍🏫 Bienvenue !'!G20","v":"Taux 1"},null,{"$f":"SUMIF(R:R,W29,H:H)","v":0},{"$f":"'👩🏻‍🏫 Bienvenue !'!I20","v":0},{"$f":"W29*V29","v":0}]
[null,null,null,null,null,null,null,null,null,null,null,null,null,null,null,null,null,{"$f":"VLOOKUP(recettesavr[[#This Row],[Catégorie]],'coulisses 2'!$A$1:$B$20,2,0)","v":0},null,{"$f":"'👩🏻‍🏫 Bienvenue !'!G21","v":"Taux 2"},null,{"$f":"SUMIF(R:R,W30,H:H)","v":0},{"$f":"'👩🏻‍🏫 Bienvenue !'!I21","v":0},{"$f":"W30*V30","v":0}]
[null,null,null,null,null,null,null,null,null,null,null,null,null,null,null,null,null,{"$f":"VLOOKUP(recettesavr[[#This Row],[Catégorie]],'coulisses 2'!$A$1:$B$20,2,0)","v":0},null,{"$f":"'👩🏻‍🏫 Bienvenue !'!G22","v":"Taux 3"},null,0,{"$f":"'👩🏻‍🏫 Bienvenue !'!I22","v":0},{"$f":"W31*V31","v":0}]
[null,null,null,null,null,null,null,null,null,null,null,null,null,null,null,null,null,{"$f":"VLOOKUP(recettesavr[[#This Row],[Catégorie]],'coulisses 2'!$A$1:$B$20,2,0)","v":0},null,"TOTAL",null,null,null,{"$f":"SUM(X29:X31)","v":0}]
[null,null,null,null,null,null,null,null,null,null,null,null,null,null,null,null,null,{"$f":"VLOOKUP(recettesavr[[#This Row],[Catégorie]],'coulisses 2'!$A$1:$B$20,2,0)","v":0}]
[null,null,null,null,null,null,null,null,null,null,null,null,null,null,null,null,null,{"$f":"VLOOKUP(recettesavr[[#This Row],[Catégorie]],'coulisses 2'!$A$1:$B$20,2,0)","v":0},null,"Rapprochement bancaire"]
[null,null,null,null,null,null,null,null,null,null,null,null,null,null,null,null,null,{"$f":"VLOOKUP(recettesavr[[#This Row],[Catégorie]],'coulisses 2'!$A$1:$B$20,2,0)","v":0},null,"Solde du mois précédent",{"$f":"'🌱 03'!U46","v":0}]
[null,null,null,null,null,null,null,null,null,null,null,null,null,null,null,null,null,{"$f":"VLOOKUP(recettesavr[[#This Row],[Catégorie]],'coulisses 2'!$A$1:$B$20,2,0)","v":0},null,"Profit du mois",{"$f":"P1","v":0}]
[null,null,null,null,null,null,null,null,null,null,null,null,null,null,null,null,null,{"$f":"VLOOKUP(recettesavr[[#This Row],[Catégorie]],'coulisses 2'!$A$1:$B$20,2,0)","v":0},null,"Ecritures à rapprocher :"]
[null,null,null,null,null,null,null,null,null,null,null,null,null,null,null,null,null,{"$f":"VLOOKUP(recettesavr[[#This Row],[Catégorie]],'coulisses 2'!$A$1:$B$20,2,0)","v":0}]
[null,null,null,null,null,null,null,null,null,null,null,null,null,null,null,null,null,{"$f":"VLOOKUP(recettesavr[[#This Row],[Catégorie]],'coulisses 2'!$A$1:$B$20,2,0)","v":0}]
[null,null,null,null,null,null,null,null,null,null,null,null,null,null,null,null,null,{"$f":"VLOOKUP(recettesavr[[#This Row],[Catégorie]],'coulisses 2'!$A$1:$B$20,2,0)","v":0}]
[null,null,null,null,null,null,null,null,null,null,null,null,null,null,null,null,null,{"$f":"VLOOKUP(recettesavr[[#This Row],[Catégorie]],'coulisses 2'!$A$1:$B$20,2,0)","v":0}]
[null,null,null,null,null,null,null,null,null,null,null,null,null,null,null,null,null,{"$f":"VLOOKUP(recettesavr[[#This Row],[Catégorie]],'coulisses 2'!$A$1:$B$20,2,0)","v":0}]
[null,null,null,null,null,null,null,null,null,null,null,null,null,null,null,null,null,{"$f":"VLOOKUP(recettesavr[[#This Row],[Catégorie]],'coulisses 2'!$A$1:$B$20,2,0)","v":0}]
[null,null,null,null,null,null,null,null,null,null,null,null,null,null,null,null,null,{"$f":"VLOOKUP(recettesavr[[#This Row],[Catégorie]],'coulisses 2'!$A$1:$B$20,2,0)","v":0}]
[null,null,null,null,null,null,null,null,null,null,null,null,null,null,null,null,null,{"$f":"VLOOKUP(recettesavr[[#This Row],[Catégorie]],'coulisses 2'!$A$1:$B$20,2,0)","v":0}]
[null,null,null,null,null,null,null,null,null,null,null,null,null,null,null,null,null,{"$f":"VLOOKUP(recettesavr[[#This Row],[Catégorie]],'coulisses 2'!$A$1:$B$20,2,0)","v":0},null,"Solde final du mois",{"$f":"U35+U36+SUM(U38:U45)","v":0}]
[null,null,null,null,null,null,null,null,null,null,null,null,null,null,null,null,null,{"$f":"VLOOKUP(recettesavr[[#This Row],[Catégorie]],'coulisses 2'!$A$1:$B$20,2,0)","v":0},null,"Solde du relevé bancaire"]
[null,null,null,null,null,null,null,null,null,null,null,null,null,null,null,null,null,{"$f":"VLOOKUP(recettesavr[[#This Row],[Catégorie]],'coulisses 2'!$A$1:$B$20,2,0)","v":0},null,"Contrôle (doit être à 0)",{"$f":"U46-U47","v":0}]
[null,null,null,null,null,null,null,null,null,null,null,null,null,null,null,null,null,{"$f":"VLOOKUP(recettesavr[[#This Row],[Catégorie]],'coulisses 2'!$A$1:$B$20,2,0)","v":0}]
[null,null,null,null,null,null,null,null,null,null,null,null,null,null,null,null,null,{"$f":"VLOOKUP(recettesavr[[#This Row],[Catégorie]],'coulisses 2'!$A$1:$B$20,2,0)","v":0},null,"Résultat par axe","CA","Dépenses","Résultat"]
[null,null,null,null,null,null,null,null,null,null,null,null,null,null,null,null,null,{"$f":"VLOOKUP(recettesavr[[#This Row],[Catégorie]],'coulisses 2'!$A$1:$B$20,2,0)","v":0},null,{"$f":"'👩🏻‍🏫 Bienvenue !'!I73","v":0},{"$f":"SUMIF(recettesavr[Axe],T51,recettesavr[Montant])","v":0},{"$f":"SUMIF(depensesavr[Axe],T51,depensesavr[Montant])","v":0},{"$f":"U51-V51","v":0}]
[null,null,null,null,null,null,null,null,null,null,null,null,null,null,null,null,null,{"$f":"VLOOKUP(recettesavr[[#This Row],[Catégorie]],'coulisses 2'!$A$1:$B$20,2,0)","v":0},null,{"$f":"'👩🏻‍🏫 Bienvenue !'!I74","v":0},{"$f":"SUMIF(recettesavr[Axe],T52,recettesavr[Montant])","v":0},{"$f":"SUMIF(depensesavr[Axe],T52,depensesavr[Montant])","v":0},{"$f":"U52-V52","v":0}]
[null,null,null,null,null,null,null,null,null,null,null,null,null,null,null,null,null,{"$f":"VLOOKUP(recettesavr[[#This Row],[Catégorie]],'coulisses 2'!$A$1:$B$20,2,0)","v":0},null,{"$f":"'👩🏻‍🏫 Bienvenue !'!I75","v":0},{"$f":"SUMIF(recettesavr[Axe],T53,recettesavr[Montant])","v":0},{"$f":"SUMIF(depensesavr[Axe],T53,depensesavr[Montant])","v":0},0]
[null,null,null,null,null,null,null,null,null,null,null,null,null,null,null,null,null,{"$f":"VLOOKUP(recettesavr[[#This Row],[Catégorie]],'coulisses 2'!$A$1:$B$20,2,0)","v":0},null,{"$f":"'👩🏻‍🏫 Bienvenue !'!I76","v":0},{"$f":"SUMIF(recettesavr[Axe],T54,recettesavr[Montant])","v":0},{"$f":"SUMIF(depensesavr[Axe],T54,depensesavr[Montant])","v":0},0]
[null,null,null,null,null,null,null,null,null,null,null,null,null,null,null,null,null,{"$f":"VLOOKUP(recettesavr[[#This Row],[Catégorie]],'coulisses 2'!$A$1:$B$20,2,0)","v":0},null,{"$f":"'👩🏻‍🏫 Bienvenue !'!I77","v":0},{"$f":"SUMIF(recettesavr[Axe],T55,recettesavr[Montant])","v":0},{"$f":"SUMIF(depensesavr[Axe],T55,depensesavr[Montant])","v":0},0]
[null,null,null,null,null,null,null,null,null,null,null,null,null,null,null,null,null,{"$f":"VLOOKUP(recettesavr[[#This Row],[Catégorie]],'coulisses 2'!$A$1:$B$20,2,0)","v":0},null,{"$f":"'👩🏻‍🏫 Bienvenue !'!I78","v":0},{"$f":"SUMIF(recettesavr[Axe],T56,recettesavr[Montant])","v":0},{"$f":"SUMIF(depensesavr[Axe],T56,depensesavr[Montant])","v":0},0]
[null,null,null,null,null,null,null,null,null,null,null,null,null,null,null,null,null,{"$f":"VLOOKUP(recettesavr[[#This Row],[Catégorie]],'coulisses 2'!$A$1:$B$20,2,0)","v":0},null,{"$f":"'👩🏻‍🏫 Bienvenue !'!I79","v":0},{"$f":"SUMIF(recettesavr[Axe],T57,recettesavr[Montant])","v":0},{"$f":"SUMIF(depensesavr[Axe],T57,depensesavr[Montant])","v":0},0]
[null,null,null,null,null,null,null,null,null,null,null,null,null,null,null,null,null,{"$f":"VLOOKUP(recettesavr[[#This Row],[Catégorie]],'coulisses 2'!$A$1:$B$20,2,0)","v":0},null,{"$f":"'👩🏻‍🏫 Bienvenue !'!I80","v":0},{"$f":"SUMIF(recettesavr[Axe],T58,recettesavr[Montant])","v":0},{"$f":"SUMIF(depensesavr[Axe],T58,depensesavr[Montant])","v":0},0]
[null,null,null,null,null,null,null,null,null,null,null,null,null,null,null,null,null,{"$f":"VLOOKUP(recettesavr[[#This Row],[Catégorie]],'coulisses 2'!$A$1:$B$20,2,0)","v":0},null,{"$f":"'👩🏻‍🏫 Bienvenue !'!I81","v":0},{"$f":"SUMIF(recettesavr[Axe],T59,recettesavr[Montant])","v":0},{"$f":"SUMIF(depensesavr[Axe],T59,depensesavr[Montant])","v":0},0]
[null,null,null,null,null,null,null,null,null,null,null,null,null,null,null,null,null,{"$f":"VLOOKUP(recettesavr[[#This Row],[Catégorie]],'coulisses 2'!$A$1:$B$20,2,0)","v":0},null,{"$f":"'👩🏻‍🏫 Bienvenue !'!I82","v":0},{"$f":"SUMIF(recettesavr[Axe],T60,recettesavr[Montant])","v":0},{"$f":"SUMIF(depensesavr[Axe],T60,depensesavr[Montant])","v":0},0]
[null,null,null,null,null,null,null,null,null,null,null,null,null,null,null,null,null,{"$f":"VLOOKUP(recettesavr[[#This Row],[Catégorie]],'coulisses 2'!$A$1:$B$20,2,0)","v":0}]
[null,null,null,null,null,null,null,null,null,null,null,null,null,null,null,null,null,{"$f":"VLOOKUP(recettesavr[[#This Row],[Catégorie]],'coulisses 2'!$A$1:$B$20,2,0)","v":0}]
[null,null,null,null,null,null,null,null,null,null,null,null,null,null,null,null,null,{"$f":"VLOOKUP(recettesavr[[#This Row],[Catégorie]],'coulisses 2'!$A$1:$B$20,2,0)","v":0}]
[null,null,null,null,null,null,null,null,null,null,null,null,null,null,null,null,null,{"$f":"VLOOKUP(recettesavr[[#This Row],[Catégorie]],'coulisses 2'!$A$1:$B$20,2,0)","v":0}]
[null,null,null,null,null,null,null,null,null,null,null,null,null,null,null,null,null,{"$f":"VLOOKUP(recettesavr[[#This Row],[Catégorie]],'coulisses 2'!$A$1:$B$20,2,0)","v":0}]
[null,null,null,null,null,null,null,null,null,null,null,null,null,null,null,null,null,{"$f":"VLOOKUP(recettesavr[[#This Row],[Catégorie]],'coulisses 2'!$A$1:$B$20,2,0)","v":0}]
[null,null,null,null,null,null,null,null,null,null,null,null,null,null,null,null,null,{"$f":"VLOOKUP(recettesavr[[#This Row],[Catégorie]],'coulisses 2'!$A$1:$B$20,2,0)","v":0}]
[null,null,null,null,null,null,null,null,null,null,null,null,null,null,null,null,null,{"$f":"VLOOKUP(recettesavr[[#This Row],[Catégorie]],'coulisses 2'!$A$1:$B$20,2,0)","v":0}]
[null,null,null,null,null,null,null,null,null,null,null,null,null,null,null,null,null,{"$f":"VLOOKUP(recettesavr[[#This Row],[Catégorie]],'coulisses 2'!$A$1:$B$20,2,0)","v":0}]
[null,null,null,null,null,null,null,null,null,null,null,null,null,null,null,null,null,{"$f":"VLOOKUP(recettesavr[[#This Row],[Catégorie]],'coulisses 2'!$A$1:$B$20,2,0)","v":0}]
[null,null,null,null,null,null,null,null,null,null,null,null,null,null,null,null,null,{"$f":"VLOOKUP(recettesavr[[#This Row],[Catégorie]],'coulisses 2'!$A$1:$B$20,2,0)","v":0}]
[null,null,null,null,null,null,null,null,null,null,null,null,null,null,null,null,null,{"$f":"VLOOKUP(recettesavr[[#This Row],[Catégorie]],'coulisses 2'!$A$1:$B$20,2,0)","v":0}]
[null,null,null,null,null,null,null,null,null,null,null,null,null,null,null,null,null,{"$f":"VLOOKUP(recettesavr[[#This Row],[Catégorie]],'coulisses 2'!$A$1:$B$20,2,0)","v":0}]
[null,null,null,null,null,null,null,null,null,null,null,null,null,null,null,null,null,{"$f":"VLOOKUP(recettesavr[[#This Row],[Catégorie]],'coulisses 2'!$A$1:$B$20,2,0)","v":0}]
[null,null,null,null,null,null,null,null,null,null,null,null,null,null,null,null,null,{"$f":"VLOOKUP(recettesavr[[#This Row],[Catégorie]],'coulisses 2'!$A$1:$B$20,2,0)","v":0}]
[null,null,null,null,null,null,null,null,null,null,null,null,null,null,null,null,null,{"$f":"VLOOKUP(recettesavr[[#This Row],[Catégorie]],'coulisses 2'!$A$1:$B$20,2,0)","v":0}]
[null,null,null,null,null,null,null,null,null,null,null,null,null,null,null,null,null,{"$f":"VLOOKUP(recettesavr[[#This Row],[Catégorie]],'coulisses 2'!$A$1:$B$20,2,0)","v":0}]
[null,null,null,null,null,null,null,null,null,null,null,null,null,null,null,null,null,{"$f":"VLOOKUP(recettesavr[[#This Row],[Catégorie]],'coulisses 2'!$A$1:$B$20,2,0)","v":0}]
[null,null,null,null,null,null,null,null,null,null,null,null,null,null,null,null,null,{"$f":"VLOOKUP(recettesavr[[#This Row],[Catégorie]],'coulisses 2'!$A$1:$B$20,2,0)","v":0}]
[null,null,null,null,null,null,null,null,null,null,null,null,null,null,null,null,null,{"$f":"VLOOKUP(recettesavr[[#This Row],[Catégorie]],'coulisses 2'!$A$1:$B$20,2,0)","v":0}]
[null,null,null,null,null,null,null,null,null,null,null,null,null,null,null,null,null,{"$f":"VLOOKUP(recettesavr[[#This Row],[Catégorie]],'coulisses 2'!$A$1:$B$20,2,0)","v":0}]
[null,null,null,null,null,null,null,null,null,null,null,null,null,null,null,null,null,{"$f":"VLOOKUP(recettesavr[[#This Row],[Catégorie]],'coulisses 2'!$A$1:$B$20,2,0)","v":0}]
[null,null,null,null,null,null,null,null,null,null,null,null,null,null,null,null,null,{"$f":"VLOOKUP(recettesavr[[#This Row],[Catégorie]],'coulisses 2'!$A$1:$B$20,2,0)","v":0}]
[null,null,null,null,null,null,null,null,null,null,null,null,null,null,null,null,null,{"$f":"VLOOKUP(recettesavr[[#This Row],[Catégorie]],'coulisses 2'!$A$1:$B$20,2,0)","v":0}]
[null,null,null,null,null,null,null,null,null,null,null,null,null,null,null,null,null,{"$f":"VLOOKUP(recettesavr[[#This Row],[Catégorie]],'coulisses 2'!$A$1:$B$20,2,0)","v":0}]
[null,null,null,null,null,null,null,null,null,null,null,null,null,null,null,null,null,{"$f":"VLOOKUP(recettesavr[[#This Row],[Catégorie]],'coulisses 2'!$A$1:$B$20,2,0)","v":0}]
[null,null,null,null,null,null,null,null,null,null,null,null,null,null,null,null,null,{"$f":"VLOOKUP(recettesavr[[#This Row],[Catégorie]],'coulisses 2'!$A$1:$B$20,2,0)","v":0}]
[null,null,null,null,null,null,null,null,null,null,null,null,null,null,null,null,null,{"$f":"VLOOKUP(recettesavr[[#This Row],[Catégorie]],'coulisses 2'!$A$1:$B$20,2,0)","v":0}]
[null,null,null,null,null,null,null,null,null,null,null,null,null,null,null,null,null,{"$f":"VLOOKUP(recettesavr[[#This Row],[Catégorie]],'coulisses 2'!$A$1:$B$20,2,0)","v":0}]
[null,null,null,null,null,null,null,null,null,null,null,null,null,null,null,null,null,{"$f":"VLOOKUP(recettesavr[[#This Row],[Catégorie]],'coulisses 2'!$A$1:$B$20,2,0)","v":0}]
[null,null,null,null,null,null,null,null,null,null,null,null,null,null,null,null,null,{"$f":"VLOOKUP(recettesavr[[#This Row],[Catégorie]],'coulisses 2'!$A$1:$B$20,2,0)","v":0}]
[null,null,null,null,null,null,null,null,null,null,null,null,null,null,null,null,null,{"$f":"VLOOKUP(recettesavr[[#This Row],[Catégorie]],'coulisses 2'!$A$1:$B$20,2,0)","v":0}]
[null,null,null,null,null,null,null,null,null,null,null,null,null,null,null,null,null,{"$f":"VLOOKUP(recettesavr[[#This Row],[Catégorie]],'coulisses 2'!$A$1:$B$20,2,0)","v":0}]
[null,null,null,null,null,null,null,null,null,null,null,null,null,null,null,null,null,{"$f":"VLOOKUP(recettesavr[[#This Row],[Catégorie]],'coulisses 2'!$A$1:$B$20,2,0)","v":0}]
[null,null,null,null,null,null,null,null,null,null,null,null,null,null,null,null,null,{"$f":"VLOOKUP(recettesavr[[#This Row],[Catégorie]],'coulisses 2'!$A$1:$B$20,2,0)","v":0}]
[null,null,null,null,null,null,null,null,null,null,null,null,null,null,null,null,null,{"$f":"VLOOKUP(recettesavr[[#This Row],[Catégorie]],'coulisses 2'!$A$1:$B$20,2,0)","v":0}]
[null,null,null,null,null,null,null,null,null,null,null,null,null,null,null,null,null,{"$f":"VLOOKUP(recettesavr[[#This Row],[Catégorie]],'coulisses 2'!$A$1:$B$20,2,0)","v":0}]
[null,null,null,null,null,null,null,null,null,null,null,null,null,null,null,null,null,{"$f":"VLOOKUP(recettesavr[[#This Row],[Catégorie]],'coulisses 2'!$A$1:$B$20,2,0)","v":0}]
[null,null,null,null,null,null,null,null,null,null,null,null,null,null,null,null,null,{"$f":"VLOOKUP(recettesavr[[#This Row],[Catégorie]],'coulisses 2'!$A$1:$B$20,2,0)","v":0}]
[null,null,null,null,null,null,null,null,null,null,null,null,null,null,null,null,null,{"$f":"VLOOKUP(recettesavr[[#This Row],[Catégorie]],'coulisses 2'!$A$1:$B$20,2,0)","v":0}]
[null,null,null,null,null,null,null,null,null,null,null,null,null,null,null,null,null,{"$f":"VLOOKUP(recettesavr[[#This Row],[Catégorie]],'coulisses 2'!$A$1:$B$20,2,0)","v":0}]
[null,null,null,null,null,null,null,null,null,null,null,null,null,null,null,null,null,{"$f":"VLOOKUP(recettesavr[[#This Row],[Catégorie]],'coulisses 2'!$A$1:$B$20,2,0)","v":0}]
[null,null,null,null,null,null,null,null,null,null,null,null,null,null,null,null,null,{"$f":"VLOOKUP(recettesavr[[#This Row],[Catégorie]],'coulisses 2'!$A$1:$B$20,2,0)","v":0}]
[null,null,null,null,null,null,null,null,null,null,null,null,null,null,null,null,null,{"$f":"VLOOKUP(recettesavr[[#This Row],[Catégorie]],'coulisses 2'!$A$1:$B$20,2,0)","v":0}]
[null,null,null,null,null,null,null,null,null,null,null,null,null,null,null,null,null,{"$f":"VLOOKUP(recettesavr[[#This Row],[Catégorie]],'coulisses 2'!$A$1:$B$20,2,0)","v":0}]
[null,null,null,null,null,null,null,null,null,null,null,null,null,null,null,null,null,{"$f":"VLOOKUP(recettesavr[[#This Row],[Catégorie]],'coulisses 2'!$A$1:$B$20,2,0)","v":0}]
[null,null,null,null,null,null,null,null,null,null,null,null,null,null,null,null,null,{"$f":"VLOOKUP(recettesavr[[#This Row],[Catégorie]],'coulisses 2'!$A$1:$B$20,2,0)","v":0}]
[null,null,null,null,null,null,null,null,null,null,null,null,null,null,null,null,null,{"$f":"VLOOKUP(recettesavr[[#This Row],[Catégorie]],'coulisses 2'!$A$1:$B$20,2,0)","v":0}]
[null,null,null,null,null,null,null,null,null,null,null,null,null,null,null,null,null,{"$f":"VLOOKUP(recettesavr[[#This Row],[Catégorie]],'coulisses 2'!$A$1:$B$20,2,0)","v":0}]
[null,null,null,null,null,null,null,null,null,null,null,null,null,null,null,null,null,{"$f":"VLOOKUP(recettesavr[[#This Row],[Catégorie]],'coulisses 2'!$A$1:$B$20,2,0)","v":0}]
[null,null,null,null,null,null,null,null,null,null,null,null,null,null,null,null,null,{"$f":"VLOOKUP(recettesavr[[#This Row],[Catégorie]],'coulisses 2'!$A$1:$B$20,2,0)","v":0}]
[null,null,null,null,null,null,null,null,null,null,null,null,null,null,null,null,null,{"$f":"VLOOKUP(recettesavr[[#This Row],[Catégorie]],'coulisses 2'!$A$1:$B$20,2,0)","v":0}]
[null,null,null,null,null,null,null,null,null,null,null,null,null,null,null,null,null,{"$f":"VLOOKUP(recettesavr[[#This Row],[Catégorie]],'coulisses 2'!$A$1:$B$20,2,0)","v":0}]
[null,null,null,null,null,null,null,null,null,null,null,null,null,null,null,null,null,{"$f":"VLOOKUP(recettesavr[[#This Row],[Catégorie]],'coulisses 2'!$A$1:$B$20,2,0)","v":0}]
[null,null,null,null,null,null,null,null,null,null,null,null,null,null,null,null,null,{"$f":"VLOOKUP(recettesavr[[#This Row],[Catégorie]],'coulisses 2'!$A$1:$B$20,2,0)","v":0}]
[null,null,null,null,null,null,null,null,null,null,null,null,null,null,null,null,null,{"$f":"VLOOKUP(recettesavr[[#This Row],[Catégorie]],'coulisses 2'!$A$1:$B$20,2,0)","v":0}]
[null,null,null,null,null,null,null,null,null,null,null,null,null,null,null,null,null,{"$f":"VLOOKUP(recettesavr[[#This Row],[Catégorie]],'coulisses 2'!$A$1:$B$20,2,0)","v":0}]
[null,null,null,null,null,null,null,null,null,null,null,null,null,null,null,null,null,{"$f":"VLOOKUP(recettesavr[[#This Row],[Catégorie]],'coulisses 2'!$A$1:$B$20,2,0)","v":0}]
[null,null,null,null,null,null,null,null,null,null,null,null,null,null,null,null,null,{"$f":"VLOOKUP(recettesavr[[#This Row],[Catégorie]],'coulisses 2'!$A$1:$B$20,2,0)","v":0}]
[null,null,null,null,null,null,null,null,null,null,null,null,null,null,null,null,null,{"$f":"VLOOKUP(recettesavr[[#This Row],[Catégorie]],'coulisses 2'!$A$1:$B$20,2,0)","v":0}]
[null,null,null,null,null,null,null,null,null,null,null,null,null,null,null,null,null,{"$f":"VLOOKUP(recettesavr[[#This Row],[Catégorie]],'coulisses 2'!$A$1:$B$20,2,0)","v":0}]
[null,null,null,null,null,null,null,null,null,null,null,null,null,null,null,null,null,{"$f":"VLOOKUP(recettesavr[[#This Row],[Catégorie]],'coulisses 2'!$A$1:$B$20,2,0)","v":0}]
[null,null,null,null,null,null,null,null,null,null,null,null,null,null,null,null,null,{"$f":"VLOOKUP(recettesavr[[#This Row],[Catégorie]],'coulisses 2'!$A$1:$B$20,2,0)","v":0}]
[null,null,null,null,null,null,null,null,null,null,null,null,null,null,null,null,null,{"$f":"VLOOKUP(recettesavr[[#This Row],[Catégorie]],'coulisses 2'!$A$1:$B$20,2,0)","v":0}]
[null,null,null,null,null,null,null,null,null,null,null,null,null,null,null,null,null,{"$f":"VLOOKUP(recettesavr[[#This Row],[Catégorie]],'coulisses 2'!$A$1:$B$20,2,0)","v":0}]
[null,null,null,null,null,null,null,null,null,null,null,null,null,null,null,null,null,{"$f":"VLOOKUP(recettesavr[[#This Row],[Catégorie]],'coulisses 2'!$A$1:$B$20,2,0)","v":0}]
[null,null,null,null,null,null,null,null,null,null,null,null,null,null,null,null,null,{"$f":"VLOOKUP(recettesavr[[#This Row],[Catégorie]],'coulisses 2'!$A$1:$B$20,2,0)","v":0}]
[null,null,null,null,null,null,null,null,null,null,null,null,null,null,null,null,null,{"$f":"VLOOKUP(recettesavr[[#This Row],[Catégorie]],'coulisses 2'!$A$1:$B$20,2,0)","v":0}]
[null,null,null,null,null,null,null,null,null,null,null,null,null,null,null,null,null,{"$f":"VLOOKUP(recettesavr[[#This Row],[Catégorie]],'coulisses 2'!$A$1:$B$20,2,0)","v":0}]
[null,null,null,null,null,null,null,null,null,null,null,null,null,null,null,null,null,{"$f":"VLOOKUP(recettesavr[[#This Row],[Catégorie]],'coulisses 2'!$A$1:$B$20,2,0)","v":0}]
[null,null,null,null,null,null,null,null,null,null,null,null,null,null,null,null,null,{"$f":"VLOOKUP(recettesavr[[#This Row],[Catégorie]],'coulisses 2'!$A$1:$B$20,2,0)","v":0}]
[null,null,null,null,null,null,null,null,null,null,null,null,null,null,null,null,null,{"$f":"VLOOKUP(recettesavr[[#This Row],[Catégorie]],'coulisses 2'!$A$1:$B$20,2,0)","v":0}]
[null,null,null,null,null,null,null,null,null,null,null,null,null,null,null,null,null,{"$f":"VLOOKUP(recettesavr[[#This Row],[Catégorie]],'coulisses 2'!$A$1:$B$20,2,0)","v":0}]
[null,null,null,null,null,null,null,null,null,null,null,null,null,null,null,null,null,{"$f":"VLOOKUP(recettesavr[[#This Row],[Catégorie]],'coulisses 2'!$A$1:$B$20,2,0)","v":0}]
[null,null,null,null,null,null,null,null,null,null,null,null,null,null,null,null,null,{"$f":"VLOOKUP(recettesavr[[#This Row],[Catégorie]],'coulisses 2'!$A$1:$B$20,2,0)","v":0}]
[null,null,null,null,null,null,null,null,null,null,null,null,null,null,null,null,null,{"$f":"VLOOKUP(recettesavr[[#This Row],[Catégorie]],'coulisses 2'!$A$1:$B$20,2,0)","v":0}]
[null,null,null,null,null,null,null,null,null,null,null,null,null,null,null,null,null,{"$f":"VLOOKUP(recettesavr[[#This Row],[Catégorie]],'coulisses 2'!$A$1:$B$20,2,0)","v":0}]
[null,null,null,null,null,null,null,null,null,null,null,null,null,null,null,null,null,{"$f":"VLOOKUP(recettesavr[[#This Row],[Catégorie]],'coulisses 2'!$A$1:$B$20,2,0)","v":0}]
[null,null,null,null,null,null,null,null,null,null,null,null,null,null,null,null,null,{"$f":"VLOOKUP(recettesavr[[#This Row],[Catégorie]],'coulisses 2'!$A$1:$B$20,2,0)","v":0}]
[null,null,null,null,null,null,null,null,null,null,null,null,null,null,null,null,null,{"$f":"VLOOKUP(recettesavr[[#This Row],[Catégorie]],'coulisses 2'!$A$1:$B$20,2,0)","v":0}]
[null,null,null,null,null,null,null,null,null,null,null,null,null,null,null,null,null,{"$f":"VLOOKUP(recettesavr[[#This Row],[Catégorie]],'coulisses 2'!$A$1:$B$20,2,0)","v":0}]
[null,null,null,null,null,null,null,null,null,null,null,null,null,null,null,null,null,{"$f":"VLOOKUP(recettesavr[[#This Row],[Catégorie]],'coulisses 2'!$A$1:$B$20,2,0)","v":0}]
[null,null,null,null,null,null,null,null,null,null,null,null,null,null,null,null,null,{"$f":"VLOOKUP(recettesavr[[#This Row],[Catégorie]],'coulisses 2'!$A$1:$B$20,2,0)","v":0}]
[null,null,null,null,null,null,null,null,null,null,null,null,null,null,null,null,null,{"$f":"VLOOKUP(recettesavr[[#This Row],[Catégorie]],'coulisses 2'!$A$1:$B$20,2,0)","v":0}]
[null,null,null,null,null,null,null,null,null,null,null,null,null,null,null,null,null,{"$f":"VLOOKUP(recettesavr[[#This Row],[Catégorie]],'coulisses 2'!$A$1:$B$20,2,0)","v":0}]
[null,null,null,null,null,null,null,null,null,null,null,null,null,null,null,null,null,{"$f":"VLOOKUP(recettesavr[[#This Row],[Catégorie]],'coulisses 2'!$A$1:$B$20,2,0)","v":0}]
[null,null,null,null,null,null,null,null,null,null,null,null,null,null,null,null,null,{"$f":"VLOOKUP(recettesavr[[#This Row],[Catégorie]],'coulisses 2'!$A$1:$B$20,2,0)","v":0}]
[null,null,null,null,null,null,null,null,null,null,null,null,null,null,null,null,null,{"$f":"VLOOKUP(recettesavr[[#This Row],[Catégorie]],'coulisses 2'!$A$1:$B$20,2,0)","v":0}]
[null,null,null,null,null,null,null,null,null,null,null,null,null,null,null,null,null,{"$f":"VLOOKUP(recettesavr[[#This Row],[Catégorie]],'coulisses 2'!$A$1:$B$20,2,0)","v":0}]
[null,null,null,null,null,null,null,null,null,null,null,null,null,null,null,null,null,{"$f":"VLOOKUP(recettesavr[[#This Row],[Catégorie]],'coulisses 2'!$A$1:$B$20,2,0)","v":0}]
[null,null,null,null,null,null,null,null,null,null,null,null,null,null,null,null,null,{"$f":"VLOOKUP(recettesavr[[#This Row],[Catégorie]],'coulisses 2'!$A$1:$B$20,2,0)","v":0}]
[null,null,null,null,null,null,null,null,null,null,null,null,null,null,null,null,null,{"$f":"VLOOKUP(recettesavr[[#This Row],[Catégorie]],'coulisses 2'!$A$1:$B$20,2,0)","v":0}]
[null,null,null,null,null,null,null,null,null,null,null,null,null,null,null,null,null,{"$f":"VLOOKUP(recettesavr[[#This Row],[Catégorie]],'coulisses 2'!$A$1:$B$20,2,0)","v":0}]
[null,null,null,null,null,null,null,null,null,null,null,null,null,null,null,null,null,{"$f":"VLOOKUP(recettesavr[[#This Row],[Catégorie]],'coulisses 2'!$A$1:$B$20,2,0)","v":0}]
[null,null,null,null,null,null,null,null,null,null,null,null,null,null,null,null,null,{"$f":"VLOOKUP(recettesavr[[#This Row],[Catégorie]],'coulisses 2'!$A$1:$B$20,2,0)","v":0}]
[null,null,null,null,null,null,null,null,null,null,null,null,null,null,null,null,null,{"$f":"VLOOKUP(recettesavr[[#This Row],[Catégorie]],'coulisses 2'!$A$1:$B$20,2,0)","v":0}]
[null,null,null,null,null,null,null,null,null,null,null,null,null,null,null,null,null,{"$f":"VLOOKUP(recettesavr[[#This Row],[Catégorie]],'coulisses 2'!$A$1:$B$20,2,0)","v":0}]
[null,null,null,null,null,null,null,null,null,null,null,null,null,null,null,null,null,{"$f":"VLOOKUP(recettesavr[[#This Row],[Catégorie]],'coulisses 2'!$A$1:$B$20,2,0)","v":0}]
[null,null,null,null,null,null,null,null,null,null,null,null,null,null,null,null,null,{"$f":"VLOOKUP(recettesavr[[#This Row],[Catégorie]],'coulisses 2'!$A$1:$B$20,2,0)","v":0}]
[null,null,null,null,null,null,null,null,null,null,null,null,null,null,null,null,null,{"$f":"VLOOKUP(recettesavr[[#This Row],[Catégorie]],'coulisses 2'!$A$1:$B$20,2,0)","v":0}]
[null,null,null,null,null,null,null,null,null,null,null,null,null,null,null,null,null,{"$f":"VLOOKUP(recettesavr[[#This Row],[Catégorie]],'coulisses 2'!$A$1:$B$20,2,0)","v":0}]
[null,null,null,null,null,null,null,null,null,null,null,null,null,null,null,null,null,{"$f":"VLOOKUP(recettesavr[[#This Row],[Catégorie]],'coulisses 2'!$A$1:$B$20,2,0)","v":0}]
[null,null,null,null,null,null,null,null,null,null,null,null,null,null,null,null,null,{"$f":"VLOOKUP(recettesavr[[#This Row],[Catégorie]],'coulisses 2'!$A$1:$B$20,2,0)","v":0}]
[null,null,null,null,null,null,null,null,null,null,null,null,null,null,null,null,null,{"$f":"VLOOKUP(recettesavr[[#This Row],[Catégorie]],'coulisses 2'!$A$1:$B$20,2,0)","v":0}]
[null,null,null,null,null,null,null,null,null,null,null,null,null,null,null,null,null,{"$f":"VLOOKUP(recettesavr[[#This Row],[Catégorie]],'coulisses 2'!$A$1:$B$20,2,0)","v":0}]
[null,null,null,null,null,null,null,null,null,null,null,null,null,null,null,null,null,{"$f":"VLOOKUP(recettesavr[[#This Row],[Catégorie]],'coulisses 2'!$A$1:$B$20,2,0)","v":0}]
[null,null,null,null,null,null,null,null,null,null,null,null,null,null,null,null,null,{"$f":"VLOOKUP(recettesavr[[#This Row],[Catégorie]],'coulisses 2'!$A$1:$B$20,2,0)","v":0}]
[null,null,null,null,null,null,null,null,null,null,null,null,null,null,null,null,null,{"$f":"VLOOKUP(recettesavr[[#This Row],[Catégorie]],'coulisses 2'!$A$1:$B$20,2,0)","v":0}]
[null,null,null,null,null,null,null,null,null,null,null,null,null,null,null,null,null,{"$f":"VLOOKUP(recettesavr[[#This Row],[Catégorie]],'coulisses 2'!$A$1:$B$20,2,0)","v":0}]
[null,null,null,null,null,null,null,null,null,null,null,null,null,null,null,null,null,{"$f":"VLOOKUP(recettesavr[[#This Row],[Catégorie]],'coulisses 2'!$A$1:$B$20,2,0)","v":0}]
[null,null,null,null,null,null,null,null,null,null,null,null,null,null,null,null,null,{"$f":"VLOOKUP(recettesavr[[#This Row],[Catégorie]],'coulisses 2'!$A$1:$B$20,2,0)","v":0}]
[null,null,null,null,null,null,null,null,null,null,null,null,null,null,null,null,null,{"$f":"VLOOKUP(recettesavr[[#This Row],[Catégorie]],'coulisses 2'!$A$1:$B$20,2,0)","v":0}]
[null,null,null,null,null,null,null,null,null,null,null,null,null,null,null,null,null,{"$f":"VLOOKUP(recettesavr[[#This Row],[Catégorie]],'coulisses 2'!$A$1:$B$20,2,0)","v":0}]
[null,null,null,null,null,null,null,null,null,null,null,null,null,null,null,null,null,{"$f":"VLOOKUP(recettesavr[[#This Row],[Catégorie]],'coulisses 2'!$A$1:$B$20,2,0)","v":0}]
[null,null,null,null,null,null,null,null,null,null,null,null,null,null,null,null,null,{"$f":"VLOOKUP(recettesavr[[#This Row],[Catégorie]],'coulisses 2'!$A$1:$B$20,2,0)","v":0}]
[null,null,null,null,null,null,null,null,null,null,null,null,null,null,null,null,null,{"$f":"VLOOKUP(recettesavr[[#This Row],[Catégorie]],'coulisses 2'!$A$1:$B$20,2,0)","v":0}]
[null,null,null,null,null,null,null,null,null,null,null,null,null,null,null,null,null,{"$f":"VLOOKUP(recettesavr[[#This Row],[Catégorie]],'coulisses 2'!$A$1:$B$20,2,0)","v":0}]
[null,null,null,null,null,null,null,null,null,null,null,null,null,null,null,null,null,{"$f":"VLOOKUP(recettesavr[[#This Row],[Catégorie]],'coulisses 2'!$A$1:$B$20,2,0)","v":0}]
[null,null,null,null,null,null,null,null,null,null,null,null,null,null,null,null,null,{"$f":"VLOOKUP(recettesavr[[#This Row],[Catégorie]],'coulisses 2'!$A$1:$B$20,2,0)","v":0}]
[null,null,null,null,null,null,null,null,null,null,null,null,null,null,null,null,null,{"$f":"VLOOKUP(recettesavr[[#This Row],[Catégorie]],'coulisses 2'!$A$1:$B$20,2,0)","v":0}]
[null,null,null,null,null,null,null,null,null,null,null,null,null,null,null,null,null,{"$f":"VLOOKUP(recettesavr[[#This Row],[Catégorie]],'coulisses 2'!$A$1:$B$20,2,0)","v":0}]
[null,null,null,null,null,null,null,null,null,null,null,null,null,null,null,null,null,{"$f":"VLOOKUP(recettesavr[[#This Row],[Catégorie]],'coulisses 2'!$A$1:$B$20,2,0)","v":0}]
[null,null,null,null,null,null,null,null,null,null,null,null,null,null,null,null,null,{"$f":"VLOOKUP(recettesavr[[#This Row],[Catégorie]],'coulisses 2'!$A$1:$B$20,2,0)","v":0}]
[null,null,null,null,null,null,null,null,null,null,null,null,null,null,null,null,null,{"$f":"VLOOKUP(recettesavr[[#This Row],[Catégorie]],'coulisses 2'!$A$1:$B$20,2,0)","v":0}]
[null,null,null,null,null,null,null,null,null,null,null,null,null,null,null,null,null,{"$f":"VLOOKUP(recettesavr[[#This Row],[Catégorie]],'coulisses 2'!$A$1:$B$20,2,0)","v":0}]
[null,null,null,null,null,null,null,null,null,null,null,null,null,null,null,null,null,{"$f":"VLOOKUP(recettesavr[[#This Row],[Catégorie]],'coulisses 2'!$A$1:$B$20,2,0)","v":0}]
[null,null,null,null,null,null,null,null,null,null,null,null,null,null,null,null,null,{"$f":"VLOOKUP(recettesavr[[#This Row],[Catégorie]],'coulisses 2'!$A$1:$B$20,2,0)","v":0}]
[null,null,null,null,null,null,null,null,null,null,null,null,null,null,null,null,null,{"$f":"VLOOKUP(recettesavr[[#This Row],[Catégorie]],'coulisses 2'!$A$1:$B$20,2,0)","v":0}]
[null,null,null,null,null,null,null,null,null,null,null,null,null,null,null,null,null,{"$f":"VLOOKUP(recettesavr[[#This Row],[Catégorie]],'coulisses 2'!$A$1:$B$20,2,0)","v":0}]
[null,null,null,null,null,null,null,null,null,null,null,null,null,null,null,null,null,{"$f":"VLOOKUP(recettesavr[[#This Row],[Catégorie]],'coulisses 2'!$A$1:$B$20,2,0)","v":0}]
[null,null,null,null,null,null,null,null,null,null,null,null,null,null,null,null,null,{"$f":"VLOOKUP(recettesavr[[#This Row],[Catégorie]],'coulisses 2'!$A$1:$B$20,2,0)","v":0}]
[null,null,null,null,null,null,null,null,null,null,null,null,null,null,null,null,null,{"$f":"VLOOKUP(recettesavr[[#This Row],[Catégorie]],'coulisses 2'!$A$1:$B$20,2,0)","v":0}]
[null,null,null,null,null,null,null,null,null,null,null,null,null,null,null,null,null,{"$f":"VLOOKUP(recettesavr[[#This Row],[Catégorie]],'coulisses 2'!$A$1:$B$20,2,0)","v":0}]
[null,null,null,null,null,null,null,null,null,null,null,null,null,null,null,null,null,{"$f":"VLOOKUP(recettesavr[[#This Row],[Catégorie]],'coulisses 2'!$A$1:$B$20,2,0)","v":0}]
[null,null,null,null,null,null,null,null,null,null,null,null,null,null,null,null,null,{"$f":"VLOOKUP(recettesavr[[#This Row],[Catégorie]],'coulisses 2'!$A$1:$B$20,2,0)","v":0}]
[null,null,null,null,null,null,null,null,null,null,null,null,null,null,null,null,null,{"$f":"VLOOKUP(recettesavr[[#This Row],[Catégorie]],'coulisses 2'!$A$1:$B$20,2,0)","v":0}]
[null,null,null,null,null,null,null,null,null,null,null,null,null,null,null,null,null,{"$f":"VLOOKUP(recettesavr[[#This Row],[Catégorie]],'coulisses 2'!$A$1:$B$20,2,0)","v":0}]
[null,null,null,null,null,null,null,null,null,null,null,null,null,null,null,null,null,{"$f":"VLOOKUP(recettesavr[[#This Row],[Catégorie]],'coulisses 2'!$A$1:$B$20,2,0)","v":0}]
[null,null,null,null,null,null,null,null,null,null,null,null,null,null,null,null,null,{"$f":"VLOOKUP(recettesavr[[#This Row],[Catégorie]],'coulisses 2'!$A$1:$B$20,2,0)","v":0}]
[null,null,null,null,null,null,null,null,null,null,null,null,null,null,null,null,null,{"$f":"VLOOKUP(recettesavr[[#This Row],[Catégorie]],'coulisses 2'!$A$1:$B$20,2,0)","v":0}]
[null,null,null,null,null,null,null,null,null,null,null,null,null,null,null,null,null,{"$f":"VLOOKUP(recettesavr[[#This Row],[Catégorie]],'coulisses 2'!$A$1:$B$20,2,0)","v":0}]
[null,null,null,null,null,null,null,null,null,null,null,null,null,null,null,null,null,{"$f":"VLOOKUP(recettesavr[[#This Row],[Catégorie]],'coulisses 2'!$A$1:$B$20,2,0)","v":0}]
[null,null,null,null,null,null,null,null,null,null,null,null,null,null,null,null,null,{"$f":"VLOOKUP(recettesavr[[#This Row],[Catégorie]],'coulisses 2'!$A$1:$B$20,2,0)","v":0}]
[null,null,null,null,null,null,null,null,null,null,null,null,null,null,null,null,null,{"$f":"VLOOKUP(recettesavr[[#This Row],[Catégorie]],'coulisses 2'!$A$1:$B$20,2,0)","v":0}]
[null,null,null,null,null,null,null,null,null,null,null,null,null,null,null,null,null,{"$f":"VLOOKUP(recettesavr[[#This Row],[Catégorie]],'coulisses 2'!$A$1:$B$20,2,0)","v":0}]
[null,null,null,null,null,null,null,null,null,null,null,null,null,null,null,null,null,{"$f":"VLOOKUP(recettesavr[[#This Row],[Catégorie]],'coulisses 2'!$A$1:$B$20,2,0)","v":0}]
[null,null,null,null,null,null,null,null,null,null,null,null,null,null,null,null,null,{"$f":"VLOOKUP(recettesavr[[#This Row],[Catégorie]],'coulisses 2'!$A$1:$B$20,2,0)","v":0}]
[null,null,null,null,null,null,null,null,null,null,null,null,null,null,null,null,null,{"$f":"VLOOKUP(recettesavr[[#This Row],[Catégorie]],'coulisses 2'!$A$1:$B$20,2,0)","v":0}]
[null,null,null,null,null,null,null,null,null,null,null,null,null,null,null,null,null,{"$f":"VLOOKUP(recettesavr[[#This Row],[Catégorie]],'coulisses 2'!$A$1:$B$20,2,0)","v":0}]
[null,null,null,null,null,null,null,null,null,null,null,null,null,null,null,null,null,{"$f":"VLOOKUP(recettesavr[[#This Row],[Catégorie]],'coulisses 2'!$A$1:$B$20,2,0)","v":0}]
[null,null,null,null,null,null,null,null,null,null,null,null,null,null,null,null,null,{"$f":"VLOOKUP(recettesavr[[#This Row],[Catégorie]],'coulisses 2'!$A$1:$B$20,2,0)","v":0}]
[null,null,null,null,null,null,null,null,null,null,null,null,null,null,null,null,null,{"$f":"VLOOKUP(recettesavr[[#This Row],[Catégorie]],'coulisses 2'!$A$1:$B$20,2,0)","v":0}]
[null,null,null,null,null,null,null,null,null,null,null,null,null,null,null,null,null,{"$f":"VLOOKUP(recettesavr[[#This Row],[Catégorie]],'coulisses 2'!$A$1:$B$20,2,0)","v":0}]
[null,null,null,null,null,null,null,null,null,null,null,null,null,null,null,null,null,{"$f":"VLOOKUP(recettesavr[[#This Row],[Catégorie]],'coulisses 2'!$A$1:$B$20,2,0)","v":0}]
[null,null,null,null,null,null,null,null,null,null,null,null,null,null,null,null,null,{"$f":"VLOOKUP(recettesavr[[#This Row],[Catégorie]],'coulisses 2'!$A$1:$B$20,2,0)","v":0}]
[null,null,null,null,null,null,null,null,null,null,null,null,null,null,null,null,null,{"$f":"VLOOKUP(recettesavr[[#This Row],[Catégorie]],'coulisses 2'!$A$1:$B$20,2,0)","v":0}]
[null,null,null,null,null,null,null,null,null,null,null,null,null,null,null,null,null,{"$f":"VLOOKUP(recettesavr[[#This Row],[Catégorie]],'coulisses 2'!$A$1:$B$20,2,0)","v":0}]
[null,null,null,null,null,null,null,null,null,null,null,null,null,null,null,null,null,{"$f":"VLOOKUP(recettesavr[[#This Row],[Catégorie]],'coulisses 2'!$A$1:$B$20,2,0)","v":0}]
[null,null,null,null,null,null,null,null,null,null,null,null,null,null,null,null,null,{"$f":"VLOOKUP(recettesavr[[#This Row],[Catégorie]],'coulisses 2'!$A$1:$B$20,2,0)","v":0}]
[null,null,null,null,null,null,null,null,null,null,null,null,null,null,null,null,null,{"$f":"VLOOKUP(recettesavr[[#This Row],[Catégorie]],'coulisses 2'!$A$1:$B$20,2,0)","v":0}]
[null,null,null,null,null,null,null,null,null,null,null,null,null,null,null,null,null,{"$f":"VLOOKUP(recettesavr[[#This Row],[Catégorie]],'coulisses 2'!$A$1:$B$20,2,0)","v":0}]
[null,null,null,null,null,null,null,null,null,null,null,null,null,null,null,null,null,{"$f":"VLOOKUP(recettesavr[[#This Row],[Catégorie]],'coulisses 2'!$A$1:$B$20,2,0)","v":0}]
[null,null,null,null,null,null,null,null,null,null,null,null,null,null,null,null,null,{"$f":"VLOOKUP(recettesavr[[#This Row],[Catégorie]],'coulisses 2'!$A$1:$B$20,2,0)","v":0}]
[null,null,null,null,null,null,null,null,null,null,null,null,null,null,null,null,null,{"$f":"VLOOKUP(recettesavr[[#This Row],[Catégorie]],'coulisses 2'!$A$1:$B$20,2,0)","v":0}]
[null,null,null,null,null,null,null,null,null,null,null,null,null,null,null,null,null,{"$f":"VLOOKUP(recettesavr[[#This Row],[Catégorie]],'coulisses 2'!$A$1:$B$20,2,0)","v":0}]
[null,null,null,null,null,null,null,null,null,null,null,null,null,null,null,null,null,{"$f":"VLOOKUP(recettesavr[[#This Row],[Catégorie]],'coulisses 2'!$A$1:$B$20,2,0)","v":0}]
[null,null,null,null,null,null,null,null,null,null,null,null,null,null,null,null,null,{"$f":"VLOOKUP(recettesavr[[#This Row],[Catégorie]],'coulisses 2'!$A$1:$B$20,2,0)","v":0}]
[null,null,null,null,null,null,null,null,null,null,null,null,null,null,null,null,null,{"$f":"VLOOKUP(recettesavr[[#This Row],[Catégorie]],'coulisses 2'!$A$1:$B$20,2,0)","v":0}]
[null,null,null,null,null,null,null,null,null,null,null,null,null,null,null,null,null,{"$f":"VLOOKUP(recettesavr[[#This Row],[Catégorie]],'coulisses 2'!$A$1:$B$20,2,0)","v":0}]
[null,null,null,null,null,null,null,null,null,null,null,null,null,null,null,null,null,{"$f":"VLOOKUP(recettesavr[[#This Row],[Catégorie]],'coulisses 2'!$A$1:$B$20,2,0)","v":0}]
[null,null,null,null,null,null,null,null,null,null,null,null,null,null,null,null,null,{"$f":"VLOOKUP(recettesavr[[#This Row],[Catégorie]],'coulisses 2'!$A$1:$B$20,2,0)","v":0}]
[null,null,null,null,null,null,null,null,null,null,null,null,null,null,null,null,null,{"$f":"VLOOKUP(recettesavr[[#This Row],[Catégorie]],'coulisses 2'!$A$1:$B$20,2,0)","v":0}]
[null,null,null,null,null,null,null,null,null,null,null,null,null,null,null,null,null,{"$f":"VLOOKUP(recettesavr[[#This Row],[Catégorie]],'coulisses 2'!$A$1:$B$20,2,0)","v":0}]
[null,null,null,null,null,null,null,null,null,null,null,null,null,null,null,null,null,{"$f":"VLOOKUP(recettesavr[[#This Row],[Catégorie]],'coulisses 2'!$A$1:$B$20,2,0)","v":0}]
[null,null,null,null,null,null,null,null,null,null,null,null,null,null,null,null,null,{"$f":"VLOOKUP(recettesavr[[#This Row],[Catégorie]],'coulisses 2'!$A$1:$B$20,2,0)","v":0}]
[null,null,null,null,null,null,null,null,null,null,null,null,null,null,null,null,null,{"$f":"VLOOKUP(recettesavr[[#This Row],[Catégorie]],'coulisses 2'!$A$1:$B$20,2,0)","v":0}]
[null,null,null,null,null,null,null,null,null,null,null,null,null,null,null,null,null,{"$f":"VLOOKUP(recettesavr[[#This Row],[Catégorie]],'coulisses 2'!$A$1:$B$20,2,0)","v":0}]
[null,null,null,null,null,null,null,null,null,null,null,null,null,null,null,null,null,{"$f":"VLOOKUP(recettesavr[[#This Row],[Catégorie]],'coulisses 2'!$A$1:$B$20,2,0)","v":0}]
[null,null,null,null,null,null,null,null,null,null,null,null,null,null,null,null,null,{"$f":"VLOOKUP(recettesavr[[#This Row],[Catégorie]],'coulisses 2'!$A$1:$B$20,2,0)","v":0}]
[null,null,null,null,null,null,null,null,null,null,null,null,null,null,null,null,null,{"$f":"VLOOKUP(recettesavr[[#This Row],[Catégorie]],'coulisses 2'!$A$1:$B$20,2,0)","v":0}]
[null,null,null,null,null,null,null,null,null,null,null,null,null,null,null,null,null,{"$f":"VLOOKUP(recettesavr[[#This Row],[Catégorie]],'coulisses 2'!$A$1:$B$20,2,0)","v":0}]
[null,null,null,null,null,null,null,null,null,null,null,null,null,null,null,null,null,{"$f":"VLOOKUP(recettesavr[[#This Row],[Catégorie]],'coulisses 2'!$A$1:$B$20,2,0)","v":0}]
[null,null,null,null,null,null,null,null,null,null,null,null,null,null,null,null,null,{"$f":"VLOOKUP(recettesavr[[#This Row],[Catégorie]],'coulisses 2'!$A$1:$B$20,2,0)","v":0}]
[null,null,null,null,null,null,null,null,null,null,null,null,null,null,null,null,null,{"$f":"VLOOKUP(recettesavr[[#This Row],[Catégorie]],'coulisses 2'!$A$1:$B$20,2,0)","v":0}]
[null,null,null,null,null,null,null,null,null,null,null,null,null,null,null,null,null,{"$f":"VLOOKUP(recettesavr[[#This Row],[Catégorie]],'coulisses 2'!$A$1:$B$20,2,0)","v":0}]
[null,null,null,null,null,null,null,null,null,null,null,null,null,null,null,null,null,{"$f":"VLOOKUP(recettesavr[[#This Row],[Catégorie]],'coulisses 2'!$A$1:$B$20,2,0)","v":0}]
[null,null,null,null,null,null,null,null,null,null,null,null,null,null,null,null,null,{"$f":"VLOOKUP(recettesavr[[#This Row],[Catégorie]],'coulisses 2'!$A$1:$B$20,2,0)","v":0}]
[null,null,null,null,null,null,null,null,null,null,null,null,null,null,null,null,null,{"$f":"VLOOKUP(recettesavr[[#This Row],[Catégorie]],'coulisses 2'!$A$1:$B$20,2,0)","v":0}]
[null,null,null,null,null,null,null,null,null,null,null,null,null,null,null,null,null,{"$f":"VLOOKUP(recettesavr[[#This Row],[Catégorie]],'coulisses 2'!$A$1:$B$20,2,0)","v":0}]
[null,null,null,null,null,null,null,null,null,null,null,null,null,null,null,null,null,{"$f":"VLOOKUP(recettesavr[[#This Row],[Catégorie]],'coulisses 2'!$A$1:$B$20,2,0)","v":0}]
[null,null,null,null,null,null,null,null,null,null,null,null,null,null,null,null,null,{"$f":"VLOOKUP(recettesavr[[#This Row],[Catégorie]],'coulisses 2'!$A$1:$B$20,2,0)","v":0}]
[null,null,null,null,null,null,null,null,null,null,null,null,null,null,null,null,null,{"$f":"VLOOKUP(recettesavr[[#This Row],[Catégorie]],'coulisses 2'!$A$1:$B$20,2,0)","v":0}]
[null,null,null,null,null,null,null,null,null,null,null,null,null,null,null,null,null,{"$f":"VLOOKUP(recettesavr[[#This Row],[Catégorie]],'coulisses 2'!$A$1:$B$20,2,0)","v":0}]
[null,null,null,null,null,null,null,null,null,null,null,null,null,null,null,null,null,{"$f":"VLOOKUP(recettesavr[[#This Row],[Catégorie]],'coulisses 2'!$A$1:$B$20,2,0)","v":0}]
[null,null,null,null,null,null,null,null,null,null,null,null,null,null,null,null,null,{"$f":"VLOOKUP(recettesavr[[#This Row],[Catégorie]],'coulisses 2'!$A$1:$B$20,2,0)","v":0}]
[null,null,null,null,null,null,null,null,null,null,null,null,null,null,null,null,null,{"$f":"VLOOKUP(recettesavr[[#This Row],[Catégorie]],'coulisses 2'!$A$1:$B$20,2,0)","v":0}]
[null,null,null,null,null,null,null,null,null,null,null,null,null,null,null,null,null,{"$f":"VLOOKUP(recettesavr[[#This Row],[Catégorie]],'coulisses 2'!$A$1:$B$20,2,0)","v":0}]
[null,null,null,null,null,null,null,null,null,null,null,null,null,null,null,null,null,{"$f":"VLOOKUP(recettesavr[[#This Row],[Catégorie]],'coulisses 2'!$A$1:$B$20,2,0)","v":0}]
[null,null,null,null,null,null,null,null,null,null,null,null,null,null,null,null,null,{"$f":"VLOOKUP(recettesavr[[#This Row],[Catégorie]],'coulisses 2'!$A$1:$B$20,2,0)","v":0}]
[null,null,null,null,null,null,null,null,null,null,null,null,null,null,null,null,null,{"$f":"VLOOKUP(recettesavr[[#This Row],[Catégorie]],'coulisses 2'!$A$1:$B$20,2,0)","v":0}]
[null,null,null,null,null,null,null,null,null,null,null,null,null,null,null,null,null,{"$f":"VLOOKUP(recettesavr[[#This Row],[Catégorie]],'coulisses 2'!$A$1:$B$20,2,0)","v":0}]
[null,null,null,null,null,null,null,null,null,null,null,null,null,null,null,null,null,{"$f":"VLOOKUP(recettesavr[[#This Row],[Catégorie]],'coulisses 2'!$A$1:$B$20,2,0)","v":0}]
[null,null,null,null,null,null,null,null,null,null,null,null,null,null,null,null,null,{"$f":"VLOOKUP(recettesavr[[#This Row],[Catégorie]],'coulisses 2'!$A$1:$B$20,2,0)","v":0}]
[null,null,null,null,null,null,null,null,null,null,null,null,null,null,null,null,null,{"$f":"VLOOKUP(recettesavr[[#This Row],[Catégorie]],'coulisses 2'!$A$1:$B$20,2,0)","v":0}]
[null,null,null,null,null,null,null,null,null,null,null,null,null,null,null,null,null,{"$f":"VLOOKUP(recettesavr[[#This Row],[Catégorie]],'coulisses 2'!$A$1:$B$20,2,0)","v":0}]
[null,null,null,null,null,null,null,null,null,null,null,null,null,null,null,null,null,{"$f":"VLOOKUP(recettesavr[[#This Row],[Catégorie]],'coulisses 2'!$A$1:$B$20,2,0)","v":0}]
[null,null,null,null,null,null,null,null,null,null,null,null,null,null,null,null,null,{"$f":"VLOOKUP(recettesavr[[#This Row],[Catégorie]],'coulisses 2'!$A$1:$B$20,2,0)","v":0}]
[null,null,null,null,null,null,null,null,null,null,null,null,null,null,null,null,null,{"$f":"VLOOKUP(recettesavr[[#This Row],[Catégorie]],'coulisses 2'!$A$1:$B$20,2,0)","v":0}]
[null,null,null,null,null,null,null,null,null,null,null,null,null,null,null,null,null,{"$f":"VLOOKUP(recettesavr[[#This Row],[Catégorie]],'coulisses 2'!$A$1:$B$20,2,0)","v":0}]
[null,null,null,null,null,null,null,null,null,null,null,null,null,null,null,null,null,{"$f":"VLOOKUP(recettesavr[[#This Row],[Catégorie]],'coulisses 2'!$A$1:$B$20,2,0)","v":0}]
[null,null,null,null,null,null,null,null,null,null,null,null,null,null,null,null,null,{"$f":"VLOOKUP(recettesavr[[#This Row],[Catégorie]],'coulisses 2'!$A$1:$B$20,2,0)","v":0}]
[null,null,null,null,null,null,null,null,null,null,null,null,null,null,null,null,null,{"$f":"VLOOKUP(recettesavr[[#This Row],[Catégorie]],'coulisses 2'!$A$1:$B$20,2,0)","v":0}]
[null,null,null,null,null,null,null,null,null,null,null,null,null,null,null,null,null,{"$f":"VLOOKUP(recettesavr[[#This Row],[Catégorie]],'coulisses 2'!$A$1:$B$20,2,0)","v":0}]
[null,null,null,null,null,null,null,null,null,null,null,null,null,null,null,null,null,{"$f":"VLOOKUP(recettesavr[[#This Row],[Catégorie]],'coulisses 2'!$A$1:$B$20,2,0)","v":0}]
[null,null,null,null,null,null,null,null,null,null,null,null,null,null,null,null,null,{"$f":"VLOOKUP(recettesavr[[#This Row],[Catégorie]],'coulisses 2'!$A$1:$B$20,2,0)","v":0}]
[null,null,null,null,null,null,null,null,null,null,null,null,null,null,null,null,null,{"$f":"VLOOKUP(recettesavr[[#This Row],[Catégorie]],'coulisses 2'!$A$1:$B$20,2,0)","v":0}]
[null,null,null,null,null,null,null,null,null,null,null,null,null,null,null,null,null,{"$f":"VLOOKUP(recettesavr[[#This Row],[Catégorie]],'coulisses 2'!$A$1:$B$20,2,0)","v":0}]
[null,null,null,null,null,null,null,null,null,null,null,null,null,null,null,null,null,{"$f":"VLOOKUP(recettesavr[[#This Row],[Catégorie]],'coulisses 2'!$A$1:$B$20,2,0)","v":0}]
[null,null,null,null,null,null,null,null,null,null,null,null,null,null,null,null,null,{"$f":"VLOOKUP(recettesavr[[#This Row],[Catégorie]],'coulisses 2'!$A$1:$B$20,2,0)","v":0}]
[null,null,null,null,null,null,null,null,null,null,null,null,null,null,null,null,null,{"$f":"VLOOKUP(recettesavr[[#This Row],[Catégorie]],'coulisses 2'!$A$1:$B$20,2,0)","v":0}]
[null,null,null,null,null,null,null,null,null,null,null,null,null,null,null,null,null,{"$f":"VLOOKUP(recettesavr[[#This Row],[Catégorie]],'coulisses 2'!$A$1:$B$20,2,0)","v":0}]
[null,null,null,null,null,null,null,null,null,null,null,null,null,null,null,null,null,{"$f":"VLOOKUP(recettesavr[[#This Row],[Catégorie]],'coulisses 2'!$A$1:$B$20,2,0)","v":0}]
[null,null,null,null,null,null,null,null,null,null,null,null,null,null,null,null,null,{"$f":"VLOOKUP(recettesavr[[#This Row],[Catégorie]],'coulisses 2'!$A$1:$B$20,2,0)","v":0}]
[null,null,null,null,null,null,null,null,null,null,null,null,null,null,null,null,null,{"$f":"VLOOKUP(recettesavr[[#This Row],[Catégorie]],'coulisses 2'!$A$1:$B$20,2,0)","v":0}]
[null,null,null,null,null,null,null,null,null,null,null,null,null,null,null,null,null,{"$f":"VLOOKUP(recettesavr[[#This Row],[Catégorie]],'coulisses 2'!$A$1:$B$20,2,0)","v":0}]
[null,null,null,null,null,null,null,null,null,null,null,null,null,null,null,null,null,{"$f":"VLOOKUP(recettesavr[[#This Row],[Catégorie]],'coulisses 2'!$A$1:$B$20,2,0)","v":0}]
[null,null,null,null,null,null,null,null,null,null,null,null,null,null,null,null,null,{"$f":"VLOOKUP(recettesavr[[#This Row],[Catégorie]],'coulisses 2'!$A$1:$B$20,2,0)","v":0}]
[null,null,null,null,null,null,null,null,null,null,null,null,null,null,null,null,null,{"$f":"VLOOKUP(recettesavr[[#This Row],[Catégorie]],'coulisses 2'!$A$1:$B$20,2,0)","v":0}]
[null,null,null,null,null,null,null,null,null,null,null,null,null,null,null,null,null,{"$f":"VLOOKUP(recettesavr[[#This Row],[Catégorie]],'coulisses 2'!$A$1:$B$20,2,0)","v":0}]
[null,null,null,null,null,null,null,null,null,null,null,null,null,null,null,null,null,{"$f":"VLOOKUP(recettesavr[[#This Row],[Catégorie]],'coulisses 2'!$A$1:$B$20,2,0)","v":0}]
[null,null,null,null,null,null,null,null,null,null,null,null,null,null,null,null,null,{"$f":"VLOOKUP(recettesavr[[#This Row],[Catégorie]],'coulisses 2'!$A$1:$B$20,2,0)","v":0}]
[null,null,null,null,null,null,null,null,null,null,null,null,null,null,null,null,null,{"$f":"VLOOKUP(recettesavr[[#This Row],[Catégorie]],'coulisses 2'!$A$1:$B$20,2,0)","v":0}]
[null,null,null,null,null,null,null,null,null,null,null,null,null,null,null,null,null,{"$f":"VLOOKUP(recettesavr[[#This Row],[Catégorie]],'coulisses 2'!$A$1:$B$20,2,0)","v":0}]
[null,null,null,null,null,null,null,null,null,null,null,null,null,null,null,null,null,{"$f":"VLOOKUP(recettesavr[[#This Row],[Catégorie]],'coulisses 2'!$A$1:$B$20,2,0)","v":0}]
[null,null,null,null,null,null,null,null,null,null,null,null,null,null,null,null,null,{"$f":"VLOOKUP(recettesavr[[#This Row],[Catégorie]],'coulisses 2'!$A$1:$B$20,2,0)","v":0}]
[null,null,null,null,null,null,null,null,null,null,null,null,null,null,null,null,null,{"$f":"VLOOKUP(recettesavr[[#This Row],[Catégorie]],'coulisses 2'!$A$1:$B$20,2,0)","v":0}]
[null,null,null,null,null,null,null,null,null,null,null,null,null,null,null,null,null,{"$f":"VLOOKUP(recettesavr[[#This Row],[Catégorie]],'coulisses 2'!$A$1:$B$20,2,0)","v":0}]
[null,null,null,null,null,null,null,null,null,null,null,null,null,null,null,null,null,{"$f":"VLOOKUP(recettesavr[[#This Row],[Catégorie]],'coulisses 2'!$A$1:$B$20,2,0)","v":0}]
[null,null,null,null,null,null,null,null,null,null,null,null,null,null,null,null,null,{"$f":"VLOOKUP(recettesavr[[#This Row],[Catégorie]],'coulisses 2'!$A$1:$B$20,2,0)","v":0}]
[null,null,null,null,null,null,null,null,null,null,null,null,null,null,null,null,null,{"$f":"VLOOKUP(recettesavr[[#This Row],[Catégorie]],'coulisses 2'!$A$1:$B$20,2,0)","v":0}]
[null,null,null,null,null,null,null,null,null,null,null,null,null,null,null,null,null,{"$f":"VLOOKUP(recettesavr[[#This Row],[Catégorie]],'coulisses 2'!$A$1:$B$20,2,0)","v":0}]
[null,null,null,null,null,null,null,null,null,null,null,null,null,null,null,null,null,{"$f":"VLOOKUP(recettesavr[[#This Row],[Catégorie]],'coulisses 2'!$A$1:$B$20,2,0)","v":0}]
[null,null,null,null,null,null,null,null,null,null,null,null,null,null,null,null,null,{"$f":"VLOOKUP(recettesavr[[#This Row],[Catégorie]],'coulisses 2'!$A$1:$B$20,2,0)","v":0}]
[null,null,null,null,null,null,null,null,null,null,null,null,null,null,null,null,null,{"$f":"VLOOKUP(recettesavr[[#This Row],[Catégorie]],'coulisses 2'!$A$1:$B$20,2,0)","v":0}]

{"sheet":"🎾 05","index":5,"n_rows":304,"n_cols":24,"rows_kept":304,"cut":false,"hidden":false,"merged":[[1,1,1,4],[1,9,1,12]]}
[null,{"$f":"'👩🏻‍🏫 Bienvenue !'!K7","v":0},null,{"$f":" '👩🏻‍🏫 Bienvenue !'!I12&\" - \"&\"Mai \"&'👩🏻‍🏫 Bienvenue !'!I16","v":" - Mai "},null,null,null,null,null,null,null,null,null,null,"VOTRE PROFIT DU MOIS",{"$f":"H2-P2","v":0}]
[null,"Vos recettes 💰",null,null,null,null,"TOTAL",{"$f":"SUM(recettesmai[Montant])","v":0},null,"Vos dépenses 🧾",null,null,null,null,"TOTAL",{"$f":"SUM(depensesmai[Montant])","v":0}]
[]
[null,"Date","Mode de paiement","N°","Libellé et nom du client","Catégorie","Axe","Montant",null,"Date","Mode de paiement","N°","Libellé","Catégorie","Axe","Montant",null,"Taux"]
[null,null,null,null,null,null,null,null,null,null,null,"M1","Cotisations sociales Mars - Taux 1","Cotisations sociales",null,{"$f":"'🌱 03'!X29","v":0},null,{"$f":"VLOOKUP(recettesmai[[#This Row],[Catégorie]],'coulisses 2'!$A$1:$B$20,2,0)","v":0},null,"Récapitulatif par type de dépense",{"$f":"SUM(U6:U26)","v":0},null,"Récapitulatif par type de recette",{"$f":"SUM(X6:X26)","v":0}]
[null,null,null,null,null,null,null,null,null,null,null,"M2","Cotisations sociales Mars - Taux 2","Cotisations sociales",null,{"$f":"'🌱 03'!X30","v":0},null,{"$f":"VLOOKUP(recettesmai[[#This Row],[Catégorie]],'coulisses 2'!$A$1:$B$20,2,0)","v":0},null,{"$f":"coulisses!J23","v":0},{"$f":"SUMIF(depensesmai[Catégorie],T6,depensesmai[Montant])","v":0},null,{"$f":"coulisses!J3","v":0},{"$f":"SUMIF(recettesmai[Catégorie],W6,recettesmai[Montant])","v":0}]
[null,null,null,null,null,null,null,null,null,null,null,"M3","Cotisations sociales Mars - Taux 3","Cotisations sociales",null,{"$f":"'🌱 03'!X31","v":0},null,{"$f":"VLOOKUP(recettesmai[[#This Row],[Catégorie]],'coulisses 2'!$A$1:$B$20,2,0)","v":0},null,{"$f":"coulisses!J24","v":0},{"$f":"SUMIF(depensesmai[Catégorie],T7,depensesmai[Montant])","v":0},null,{"$f":"coulisses!J4","v":0},{"$f":"SUMIF(recettesmai[Catégorie],W7,recettesmai[Montant])","v":0}]
[null,null,null,null,null,null,null,null,null,null,null,null,null,null,null,null,null,{"$f":"VLOOKUP(recettesmai[[#This Row],[Catégorie]],'coulisses 2'!$A$1:$B$20,2,0)","v":0},null,{"$f":"coulisses!J25","v":0},{"$f":"SUMIF(depensesmai[Catégorie],T8,depensesmai[Montant])","v":0},null,{"$f":"coulisses!J5","v":0},{"$f":"SUMIF(recettesmai[Catégorie],W8,recettesmai[Montant])","v":0}]
[null,null,null,null,null,null,null,null,null,null,null,null,null,null,null,null,null,{"$f":"VLOOKUP(recettesmai[[#This Row],[Catégorie]],'coulisses 2'!$A$1:$B$20,2,0)","v":0},null,{"$f":"coulisses!J26","v":0},{"$f":"SUMIF(depensesmai[Catégorie],T9,depensesmai[Montant])","v":0},null,{"$f":"coulisses!J6","v":0},{"$f":"SUMIF(recettesmai[Catégorie],W9,recettesmai[Montant])","v":0}]
[null,null,null,null,null,null,null,null,null,null,null,null,null,null,null,null,null,{"$f":"VLOOKUP(recettesmai[[#This Row],[Catégorie]],'coulisses 2'!$A$1:$B$20,2,0)","v":0},null,{"$f":"coulisses!J27","v":0},{"$f":"SUMIF(depensesmai[Catégorie],T10,depensesmai[Montant])","v":0},null,{"$f":"coulisses!J7","v":0},{"$f":"SUMIF(recettesmai[Catégorie],W10,recettesmai[Montant])","v":0}]
[null,null,null,null,null,null,null,null,null,null,null,null,null,null,null,null,null,{"$f":"VLOOKUP(recettesmai[[#This Row],[Catégorie]],'coulisses 2'!$A$1:$B$20,2,0)","v":0},null,{"$f":"coulisses!J28","v":0},{"$f":"SUMIF(depensesmai[Catégorie],T11,depensesmai[Montant])","v":0},null,{"$f":"coulisses!J8","v":0},{"$f":"SUMIF(recettesmai[Catégorie],W11,recettesmai[Montant])","v":0}]
[null,null,null,null,null,null,null,null,null,null,null,null,null,null,null,null,null,{"$f":"VLOOKUP(recettesmai[[#This Row],[Catégorie]],'coulisses 2'!$A$1:$B$20,2,0)","v":0},null,{"$f":"coulisses!J29","v":0},{"$f":"SUMIF(depensesmai[Catégorie],T12,depensesmai[Montant])","v":0},null,{"$f":"coulisses!J9","v":0},{"$f":"SUMIF(recettesmai[Catégorie],W12,recettesmai[Montant])","v":0}]
[null,null,null,null,null,null,null,null,null,null,null,null,null,null,null,null,null,{"$f":"VLOOKUP(recettesmai[[#This Row],[Catégorie]],'coulisses 2'!$A$1:$B$20,2,0)","v":0},null,{"$f":"coulisses!J30","v":0},{"$f":"SUMIF(depensesmai[Catégorie],T13,depensesmai[Montant])","v":0},null,{"$f":"coulisses!J10","v":0},{"$f":"SUMIF(recettesmai[Catégorie],W13,recettesmai[Montant])","v":0}]
[null,null,null,null,null,null,null,null,null,null,null,null,null,null,null,null,null,{"$f":"VLOOKUP(recettesmai[[#This Row],[Catégorie]],'coulisses 2'!$A$1:$B$20,2,0)","v":0},null,{"$f":"coulisses!J31","v":0},{"$f":"SUMIF(depensesmai[Catégorie],T14,depensesmai[Montant])","v":0},null,{"$f":"coulisses!J11","v":0},{"$f":"SUMIF(recettesmai[Catégorie],W14,recettesmai[Montant])","v":0}]
[null,null,null,null,null,null,null,null,null,null,null,null,null,null,null,null,null,{"$f":"VLOOKUP(recettesmai[[#This Row],[Catégorie]],'coulisses 2'!$A$1:$B$20,2,0)","v":0},null,{"$f":"coulisses!J32","v":0},{"$f":"SUMIF(depensesmai[Catégorie],T15,depensesmai[Montant])","v":0},null,{"$f":"coulisses!J12","v":0},{"$f":"SUMIF(recettesmai[Catégorie],W15,recettesmai[Montant])","v":0}]
[null,null,null,null,null,null,null,null,null,null,null,null,null,null,null,null,null,{"$f":"VLOOKUP(recettesmai[[#This Row],[Catégorie]],'coulisses 2'!$A$1:$B$20,2,0)","v":0},null,{"$f":"coulisses!J33","v":0},{"$f":"SUMIF(depensesmai[Catégorie],T16,depensesmai[Montant])","v":0},null,{"$f":"coulisses!J13","v":0},{"$f":"SUMIF(recettesmai[Catégorie],W16,recettesmai[Montant])","v":0}]
[null,null,null,null,null,null,null,null,null,null,null,null,null,null,null,null,null,{"$f":"VLOOKUP(recettesmai[[#This Row],[Catégorie]],'coulisses 2'!$A$1:$B$20,2,0)","v":0},null,{"$f":"coulisses!J34","v":0},{"$f":"SUMIF(depensesmai[Catégorie],T17,depensesmai[Montant])","v":0},null,{"$f":"coulisses!J14","v":0},{"$f":"SUMIF(recettesmai[Catégorie],W17,recettesmai[Montant])","v":0}]
[null,null,null,null,null,null,null,null,null,null,null,null,null,null,null,null,null,{"$f":"VLOOKUP(recettesmai[[#This Row],[Catégorie]],'coulisses 2'!$A$1:$B$20,2,0)","v":0},null,{"$f":"coulisses!J35","v":0},{"$f":"SUMIF(depensesmai[Catégorie],T18,depensesmai[Montant])","v":0},null,{"$f":"coulisses!J15","v":0},{"$f":"SUMIF(recettesmai[Catégorie],W18,recettesmai[Montant])","v":0}]
[null,null,null,null,null,null,null,null,null,null,null,null,null,null,null,null,null,{"$f":"VLOOKUP(recettesmai[[#This Row],[Catégorie]],'coulisses 2'!$A$1:$B$20,2,0)","v":0},null,{"$f":"coulisses!J36","v":0},{"$f":"SUMIF(depensesmai[Catégorie],T19,depensesmai[Montant])","v":0},null,{"$f":"coulisses!J16","v":0},{"$f":"SUMIF(recettesmai[Catégorie],W19,recettesmai[Montant])","v":0}]
[null,null,null,null,null,null,null,null,null,null,null,null,null,null,null,null,null,{"$f":"VLOOKUP(recettesmai[[#This Row],[Catégorie]],'coulisses 2'!$A$1:$B$20,2,0)","v":0},null,{"$f":"coulisses!J37","v":0},{"$f":"SUMIF(depensesmai[Catégorie],T20,depensesmai[Montant])","v":0},null,{"$f":"coulisses!J17","v":0},{"$f":"SUMIF(recettesmai[Catégorie],W20,recettesmai[Montant])","v":0}]
[null,null,null,null,null,null,null,null,null,null,null,null,null,null,null,null,null,{"$f":"VLOOKUP(recettesmai[[#This Row],[Catégorie]],'coulisses 2'!$A$1:$B$20,2,0)","v":0},null,{"$f":"coulisses!J38","v":0},{"$f":"SUMIF(depensesmai[Catégorie],T21,depensesmai[Montant])","v":0},null,{"$f":"coulisses!J18","v":0},{"$f":"SUMIF(recettesmai[Catégorie],W21,recettesmai[Montant])","v":0}]
[null,null,null,null,null,null,null,null,null,null,null,null,null,null,null,null,null,{"$f":"VLOOKUP(recettesmai[[#This Row],[Catégorie]],'coulisses 2'!$A$1:$B$20,2,0)","v":0},null,{"$f":"coulisses!J39","v":0},{"$f":"SUMIF(depensesmai[Catégorie],T22,depensesmai[Montant])","v":0},null,{"$f":"coulisses!J19","v":0},{"$f":"SUMIF(recettesmai[Catégorie],W22,recettesmai[Montant])","v":0}]
[null,null,null,null,null,null,null,null,null,null,null,null,null,null,null,null,null,{"$f":"VLOOKUP(recettesmai[[#This Row],[Catégorie]],'coulisses 2'!$A$1:$B$20,2,0)","v":0},null,{"$f":"coulisses!J40","v":0},{"$f":"SUMIF(depensesmai[Catégorie],T23,depensesmai[Montant])","v":0},null,{"$f":"coulisses!J20","v":0},{"$f":"SUMIF(recettesmai[Catégorie],W23,recettesmai[Montant])","v":0}]
[null,null,null,null,null,null,null,null,null,null,null,null,null,null,null,null,null,{"$f":"VLOOKUP(recettesmai[[#This Row],[Catégorie]],'coulisses 2'!$A$1:$B$20,2,0)","v":0},null,{"$f":"coulisses!J41","v":0},{"$f":"SUMIF(depensesmai[Catégorie],T24,depensesmai[Montant])","v":0},null,{"$f":"coulisses!J21","v":0},{"$f":"SUMIF(recettesmai[Catégorie],W24,recettesmai[Montant])","v":0}]
[null,null,null,null,null,null,null,null,null,null,null,null,null,null,null,null,null,{"$f":"VLOOKUP(recettesmai[[#This Row],[Catégorie]],'coulisses 2'!$A$1:$B$20,2,0)","v":0},null,{"$f":"coulisses!J42","v":"Cotisations sociales"},{"$f":"SUMIF(depensesmai[Catégorie],T25,depensesmai[Montant])","v":0},null,{"$f":"coulisses!J22","v":0},{"$f":"SUMIF(recettesmai[Catégorie],W25,recettesmai[Montant])","v":0}]
[null,null,null,null,null,null,null,null,null,null,null,null,null,null,null,null,null,{"$f":"VLOOKUP(recettesmai[[#This Row],[Catégorie]],'coulisses 2'!$A$1:$B$20,2,0)","v":0}]
[null,null,null,null,null,null,null,null,null,null,null,null,null,null,null,null,null,{"$f":"VLOOKUP(recettesmai[[#This Row],[Catégorie]],'coulisses 2'!$A$1:$B$20,2,0)","v":0}]
[null,null,null,null,null,null,null,null,null,null,null,null,null,null,null,null,null,{"$f":"VLOOKUP(recettesmai[[#This Row],[Catégorie]],'coulisses 2'!$A$1:$B$20,2,0)","v":0},null,"Estimation des charges dues sur le CA du mois",null,"CA","Taux","A payer"]
[null,null,null,null,null,null,null,null,null,null,null,null,null,null,null,null,null,{"$f":"VLOOKUP(recettesmai[[#This Row],[Catégorie]],'coulisses 2'!$A$1:$B$20,2,0)","v":0},null,{"$f":"'👩🏻‍🏫 Bienvenue !'!G20","v":"Taux 1"},null,{"$f":"SUMIF(R:R,W29,H:H)","v":0},{"$f":"'👩🏻‍🏫 Bienvenue !'!I20","v":0},{"$f":"W29*V29","v":0}]
[null,null,null,null,null,null,null,null,null,null,null,null,null,null,null,null,null,{"$f":"VLOOKUP(recettesmai[[#This Row],[Catégorie]],'coulisses 2'!$A$1:$B$20,2,0)","v":0},null,{"$f":"'👩🏻‍🏫 Bienvenue !'!G21","v":"Taux 2"},null,{"$f":"SUMIF(R:R,W30,H:H)","v":0},{"$f":"'👩🏻‍🏫 Bienvenue !'!I21","v":0},{"$f":"W30*V30","v":0}]
[null,null,null,null,null,null,null,null,null,null,null,null,null,null,null,null,null,{"$f":"VLOOKUP(recettesmai[[#This Row],[Catégorie]],'coulisses 2'!$A$1:$B$20,2,0)","v":0},null,{"$f":"'👩🏻‍🏫 Bienvenue !'!G22","v":"Taux 3"},null,0,{"$f":"'👩🏻‍🏫 Bienvenue !'!I22","v":0},{"$f":"W31*V31","v":0}]
[null,null,null,null,null,null,null,null,null,null,null,null,null,null,null,null,null,{"$f":"VLOOKUP(recettesmai[[#This Row],[Catégorie]],'coulisses 2'!$A$1:$B$20,2,0)","v":0},null,"TOTAL",null,null,null,{"$f":"SUM(X29:X31)","v":0}]
[null,null,null,null,null,null,null,null,null,null,null,null,null,null,null,null,null,{"$f":"VLOOKUP(recettesmai[[#This Row],[Catégorie]],'coulisses 2'!$A$1:$B$20,2,0)","v":0}]
[null,null,null,null,null,null,null,null,null,null,null,null,null,null,null,null,null,{"$f":"VLOOKUP(recettesmai[[#This Row],[Catégorie]],'coulisses 2'!$A$1:$B$20,2,0)","v":0},null,"Rapprochement bancaire"]
[null,null,null,null,null,null,null,null,null,null,null,null,null,null,null,null,null,{"$f":"VLOOKUP(recettesmai[[#This Row],[Catégorie]],'coulisses 2'!$A$1:$B$20,2,0)","v":0},null,"Solde du mois précédent",{"$f":"'🐟 04'!U46","v":0}]
[null,null,null,null,null,null,null,null,null,null,null,null,null,null,null,null,null,{"$f":"VLOOKUP(recettesmai[[#This Row],[Catégorie]],'coulisses 2'!$A$1:$B$20,2,0)","v":0},null,"Profit du mois",{"$f":"P1","v":0}]
[null,null,null,null,null,null,null,null,null,null,null,null,null,null,null,null,null,{"$f":"VLOOKUP(recettesmai[[#This Row],[Catégorie]],'coulisses 2'!$A$1:$B$20,2,0)","v":0},null,"Ecritures à rapprocher :"]
[null,null,null,null,null,null,null,null,null,null,null,null,null,null,null,null,null,{"$f":"VLOOKUP(recettesmai[[#This Row],[Catégorie]],'coulisses 2'!$A$1:$B$20,2,0)","v":0}]
[null,null,null,null,null,null,null,null,null,null,null,null,null,null,null,null,null,{"$f":"VLOOKUP(recettesmai[[#This Row],[Catégorie]],'coulisses 2'!$A$1:$B$20,2,0)","v":0}]
[null,null,null,null,null,null,null,null,null,null,null,null,null,null,null,null,null,{"$f":"VLOOKUP(recettesmai[[#This Row],[Catégorie]],'coulisses 2'!$A$1:$B$20,2,0)","v":0}]
[null,null,null,null,null,null,null,null,null,null,null,null,null,null,null,null,null,{"$f":"VLOOKUP(recettesmai[[#This Row],[Catégorie]],'coulisses 2'!$A$1:$B$20,2,0)","v":0}]
[null,null,null,null,null,null,null,null,null,null,null,null,null,null,null,null,null,{"$f":"VLOOKUP(recettesmai[[#This Row],[Catégorie]],'coulisses 2'!$A$1:$B$20,2,0)","v":0}]
[null,null,null,null,null,null,null,null,null,null,null,null,null,null,null,null,null,{"$f":"VLOOKUP(recettesmai[[#This Row],[Catégorie]],'coulisses 2'!$A$1:$B$20,2,0)","v":0}]
[null,null,null,null,null,null,null,null,null,null,null,null,null,null,null,null,null,{"$f":"VLOOKUP(recettesmai[[#This Row],[Catégorie]],'coulisses 2'!$A$1:$B$20,2,0)","v":0}]
[null,null,null,null,null,null,null,null,null,null,null,null,null,null,null,null,null,{"$f":"VLOOKUP(recettesmai[[#This Row],[Catégorie]],'coulisses 2'!$A$1:$B$20,2,0)","v":0}]
[null,null,null,null,null,null,null,null,null,null,null,null,null,null,null,null,null,{"$f":"VLOOKUP(recettesmai[[#This Row],[Catégorie]],'coulisses 2'!$A$1:$B$20,2,0)","v":0},null,"Solde final du mois",{"$f":"U35+U36+SUM(U38:U45)","v":0}]
[null,null,null,null,null,null,null,null,null,null,null,null,null,null,null,null,null,{"$f":"VLOOKUP(recettesmai[[#This Row],[Catégorie]],'coulisses 2'!$A$1:$B$20,2,0)","v":0},null,"Solde du relevé bancaire"]
[null,null,null,null,null,null,null,null,null,null,null,null,null,null,null,null,null,{"$f":"VLOOKUP(recettesmai[[#This Row],[Catégorie]],'coulisses 2'!$A$1:$B$20,2,0)","v":0},null,"Contrôle (doit être à 0)",{"$f":"U46-U47","v":0}]
[null,null,null,null,null,null,null,null,null,null,null,null,null,null,null,null,null,{"$f":"VLOOKUP(recettesmai[[#This Row],[Catégorie]],'coulisses 2'!$A$1:$B$20,2,0)","v":0}]
[null,null,null,null,null,null,null,null,null,null,null,null,null,null,null,null,null,{"$f":"VLOOKUP(recettesmai[[#This Row],[Catégorie]],'coulisses 2'!$A$1:$B$20,2,0)","v":0},null,"Résultat par axe","CA","Dépenses","Résultat"]
[null,null,null,null,null,null,null,null,null,null,null,null,null,null,null,null,null,{"$f":"VLOOKUP(recettesmai[[#This Row],[Catégorie]],'coulisses 2'!$A$1:$B$20,2,0)","v":0},null,{"$f":"'👩🏻‍🏫 Bienvenue !'!I73","v":0},{"$f":"SUMIF(recettesmai[Axe],T51,recettesmai[Montant])","v":0},{"$f":"SUMIF(depensesmai[Axe],T51,depensesmai[Montant])","v":0},{"$f":"U51-V51","v":0}]
[null,null,null,null,null,null,null,null,null,null,null,null,null,null,null,null,null,{"$f":"VLOOKUP(recettesmai[[#This Row],[Catégorie]],'coulisses 2'!$A$1:$B$20,2,0)","v":0},null,{"$f":"'👩🏻‍🏫 Bienvenue !'!I74","v":0},{"$f":"SUMIF(recettesmai[Axe],T52,recettesmai[Montant])","v":0},{"$f":"SUMIF(depensesmai[Axe],T52,depensesmai[Montant])","v":0},{"$f":"U52-V52","v":0}]
[null,null,null,null,null,null,null,null,null,null,null,null,null,null,null,null,null,{"$f":"VLOOKUP(recettesmai[[#This Row],[Catégorie]],'coulisses 2'!$A$1:$B$20,2,0)","v":0},null,{"$f":"'👩🏻‍🏫 Bienvenue !'!I75","v":0},{"$f":"SUMIF(recettesmai[Axe],T53,recettesmai[Montant])","v":0},{"$f":"SUMIF(depensesmai[Axe],T53,depensesmai[Montant])","v":0},0]
[null,null,null,null,null,null,null,null,null,null,null,null,null,null,null,null,null,{"$f":"VLOOKUP(recettesmai[[#This Row],[Catégorie]],'coulisses 2'!$A$1:$B$20,2,0)","v":0},null,{"$f":"'👩🏻‍🏫 Bienvenue !'!I76","v":0},{"$f":"SUMIF(recettesmai[Axe],T54,recettesmai[Montant])","v":0},{"$f":"SUMIF(depensesmai[Axe],T54,depensesmai[Montant])","v":0},0]
[null,null,null,null,null,null,null,null,null,null,null,null,null,null,null,null,null,{"$f":"VLOOKUP(recettesmai[[#This Row],[Catégorie]],'coulisses 2'!$A$1:$B$20,2,0)","v":0},null,{"$f":"'👩🏻‍🏫 Bienvenue !'!I77","v":0},{"$f":"SUMIF(recettesmai[Axe],T55,recettesmai[Montant])","v":0},{"$f":"SUMIF(depensesmai[Axe],T55,depensesmai[Montant])","v":0},0]
[null,null,null,null,null,null,null,null,null,null,null,null,null,null,null,null,null,{"$f":"VLOOKUP(recettesmai[[#This Row],[Catégorie]],'coulisses 2'!$A$1:$B$20,2,0)","v":0},null,{"$f":"'👩🏻‍🏫 Bienvenue !'!I78","v":0},{"$f":"SUMIF(recettesmai[Axe],T56,recettesmai[Montant])","v":0},{"$f":"SUMIF(depensesmai[Axe],T56,depensesmai[Montant])","v":0},0]
[null,null,null,null,null,null,null,null,null,null,null,null,null,null,null,null,null,{"$f":"VLOOKUP(recettesmai[[#This Row],[Catégorie]],'coulisses 2'!$A$1:$B$20,2,0)","v":0},null,{"$f":"'👩🏻‍🏫 Bienvenue !'!I79","v":0},{"$f":"SUMIF(recettesmai[Axe],T57,recettesmai[Montant])","v":0},{"$f":"SUMIF(depensesmai[Axe],T57,depensesmai[Montant])","v":0},0]
[null,null,null,null,null,null,null,null,null,null,null,null,null,null,null,null,null,{"$f":"VLOOKUP(recettesmai[[#This Row],[Catégorie]],'coulisses 2'!$A$1:$B$20,2,0)","v":0},null,{"$f":"'👩🏻‍🏫 Bienvenue !'!I80","v":0},{"$f":"SUMIF(recettesmai[Axe],T58,recettesmai[Montant])","v":0},{"$f":"SUMIF(depensesmai[Axe],T58,depensesmai[Montant])","v":0},0]
[null,null,null,null,null,null,null,null,null,null,null,null,null,null,null,null,null,{"$f":"VLOOKUP(recettesmai[[#This Row],[Catégorie]],'coulisses 2'!$A$1:$B$20,2,0)","v":0},null,{"$f":"'👩🏻‍🏫 Bienvenue !'!I81","v":0},{"$f":"SUMIF(recettesmai[Axe],T59,recettesmai[Montant])","v":0},{"$f":"SUMIF(depensesmai[Axe],T59,depensesmai[Montant])","v":0},0]
[null,null,null,null,null,null,null,null,null,null,null,null,null,null,null,null,null,{"$f":"VLOOKUP(recettesmai[[#This Row],[Catégorie]],'coulisses 2'!$A$1:$B$20,2,0)","v":0},null,{"$f":"'👩🏻‍🏫 Bienvenue !'!I82","v":0},{"$f":"SUMIF(recettesmai[Axe],T60,recettesmai[Montant])","v":0},{"$f":"SUMIF(depensesmai[Axe],T60,depensesmai[Montant])","v":0},0]
[null,null,null,null,null,null,null,null,null,null,null,null,null,null,null,null,null,{"$f":"VLOOKUP(recettesmai[[#This Row],[Catégorie]],'coulisses 2'!$A$1:$B$20,2,0)","v":0}]
[null,null,null,null,null,null,null,null,null,null,null,null,null,null,null,null,null,{"$f":"VLOOKUP(recettesmai[[#This Row],[Catégorie]],'coulisses 2'!$A$1:$B$20,2,0)","v":0}]
[null,null,null,null,null,null,null,null,null,null,null,null,null,null,null,null,null,{"$f":"VLOOKUP(recettesmai[[#This Row],[Catégorie]],'coulisses 2'!$A$1:$B$20,2,0)","v":0}]
[null,null,null,null,null,null,null,null,null,null,null,null,null,null,null,null,null,{"$f":"VLOOKUP(recettesmai[[#This Row],[Catégorie]],'coulisses 2'!$A$1:$B$20,2,0)","v":0}]
[null,null,null,null,null,null,null,null,null,null,null,null,null,null,null,null,null,{"$f":"VLOOKUP(recettesmai[[#This Row],[Catégorie]],'coulisses 2'!$A$1:$B$20,2,0)","v":0}]
[null,null,null,null,null,null,null,null,null,null,null,null,null,null,null,null,null,{"$f":"VLOOKUP(recettesmai[[#This Row],[Catégorie]],'coulisses 2'!$A$1:$B$20,2,0)","v":0}]
[null,null,null,null,null,null,null,null,null,null,null,null,null,null,null,null,null,{"$f":"VLOOKUP(recettesmai[[#This Row],[Catégorie]],'coulisses 2'!$A$1:$B$20,2,0)","v":0}]
[null,null,null,null,null,null,null,null,null,null,null,null,null,null,null,null,null,{"$f":"VLOOKUP(recettesmai[[#This Row],[Catégorie]],'coulisses 2'!$A$1:$B$20,2,0)","v":0}]
[null,null,null,null,null,null,null,null,null,null,null,null,null,null,null,null,null,{"$f":"VLOOKUP(recettesmai[[#This Row],[Catégorie]],'coulisses 2'!$A$1:$B$20,2,0)","v":0}]
[null,null,null,null,null,null,null,null,null,null,null,null,null,null,null,null,null,{"$f":"VLOOKUP(recettesmai[[#This Row],[Catégorie]],'coulisses 2'!$A$1:$B$20,2,0)","v":0}]
[null,null,null,null,null,null,null,null,null,null,null,null,null,null,null,null,null,{"$f":"VLOOKUP(recettesmai[[#This Row],[Catégorie]],'coulisses 2'!$A$1:$B$20,2,0)","v":0}]
[null,null,null,null,null,null,null,null,null,null,null,null,null,null,null,null,null,{"$f":"VLOOKUP(recettesmai[[#This Row],[Catégorie]],'coulisses 2'!$A$1:$B$20,2,0)","v":0}]
[null,null,null,null,null,null,null,null,null,null,null,null,null,null,null,null,null,{"$f":"VLOOKUP(recettesmai[[#This Row],[Catégorie]],'coulisses 2'!$A$1:$B$20,2,0)","v":0}]
[null,null,null,null,null,null,null,null,null,null,null,null,null,null,null,null,null,{"$f":"VLOOKUP(recettesmai[[#This Row],[Catégorie]],'coulisses 2'!$A$1:$B$20,2,0)","v":0}]
[null,null,null,null,null,null,null,null,null,null,null,null,null,null,null,null,null,{"$f":"VLOOKUP(recettesmai[[#This Row],[Catégorie]],'coulisses 2'!$A$1:$B$20,2,0)","v":0}]
[null,null,null,null,null,null,null,null,null,null,null,null,null,null,null,null,null,{"$f":"VLOOKUP(recettesmai[[#This Row],[Catégorie]],'coulisses 2'!$A$1:$B$20,2,0)","v":0}]
[null,null,null,null,null,null,null,null,null,null,null,null,null,null,null,null,null,{"$f":"VLOOKUP(recettesmai[[#This Row],[Catégorie]],'coulisses 2'!$A$1:$B$20,2,0)","v":0}]
[null,null,null,null,null,null,null,null,null,null,null,null,null,null,null,null,null,{"$f":"VLOOKUP(recettesmai[[#This Row],[Catégorie]],'coulisses 2'!$A$1:$B$20,2,0)","v":0}]
[null,null,null,null,null,null,null,null,null,null,null,null,null,null,null,null,null,{"$f":"VLOOKUP(recettesmai[[#This Row],[Catégorie]],'coulisses 2'!$A$1:$B$20,2,0)","v":0}]
[null,null,null,null,null,null,null,null,null,null,null,null,null,null,null,null,null,{"$f":"VLOOKUP(recettesmai[[#This Row],[Catégorie]],'coulisses 2'!$A$1:$B$20,2,0)","v":0}]
[null,null,null,null,null,null,null,null,null,null,null,null,null,null,null,null,null,{"$f":"VLOOKUP(recettesmai[[#This Row],[Catégorie]],'coulisses 2'!$A$1:$B$20,2,0)","v":0}]
[null,null,null,null,null,null,null,null,null,null,null,null,null,null,null,null,null,{"$f":"VLOOKUP(recettesmai[[#This Row],[Catégorie]],'coulisses 2'!$A$1:$B$20,2,0)","v":0}]
[null,null,null,null,null,null,null,null,null,null,null,null,null,null,null,null,null,{"$f":"VLOOKUP(recettesmai[[#This Row],[Catégorie]],'coulisses 2'!$A$1:$B$20,2,0)","v":0}]
[null,null,null,null,null,null,null,null,null,null,null,null,null,null,null,null,null,{"$f":"VLOOKUP(recettesmai[[#This Row],[Catégorie]],'coulisses 2'!$A$1:$B$20,2,0)","v":0}]
[null,null,null,null,null,null,null,null,null,null,null,null,null,null,null,null,null,{"$f":"VLOOKUP(recettesmai[[#This Row],[Catégorie]],'coulisses 2'!$A$1:$B$20,2,0)","v":0}]
[null,null,null,null,null,null,null,null,null,null,null,null,null,null,null,null,null,{"$f":"VLOOKUP(recettesmai[[#This Row],[Catégorie]],'coulisses 2'!$A$1:$B$20,2,0)","v":0}]
[null,null,null,null,null,null,null,null,null,null,null,null,null,null,null,null,null,{"$f":"VLOOKUP(recettesmai[[#This Row],[Catégorie]],'coulisses 2'!$A$1:$B$20,2,0)","v":0}]
[null,null,null,null,null,null,null,null,null,null,null,null,null,null,null,null,null,{"$f":"VLOOKUP(recettesmai[[#This Row],[Catégorie]],'coulisses 2'!$A$1:$B$20,2,0)","v":0}]
[null,null,null,null,null,null,null,null,null,null,null,null,null,null,null,null,null,{"$f":"VLOOKUP(recettesmai[[#This Row],[Catégorie]],'coulisses 2'!$A$1:$B$20,2,0)","v":0}]
[null,null,null,null,null,null,null,null,null,null,null,null,null,null,null,null,null,{"$f":"VLOOKUP(recettesmai[[#This Row],[Catégorie]],'coulisses 2'!$A$1:$B$20,2,0)","v":0}]
[null,null,null,null,null,null,null,null,null,null,null,null,null,null,null,null,null,{"$f":"VLOOKUP(recettesmai[[#This Row],[Catégorie]],'coulisses 2'!$A$1:$B$20,2,0)","v":0}]
[null,null,null,null,null,null,null,null,null,null,null,null,null,null,null,null,null,{"$f":"VLOOKUP(recettesmai[[#This Row],[Catégorie]],'coulisses 2'!$A$1:$B$20,2,0)","v":0}]
[null,null,null,null,null,null,null,null,null,null,null,null,null,null,null,null,null,{"$f":"VLOOKUP(recettesmai[[#This Row],[Catégorie]],'coulisses 2'!$A$1:$B$20,2,0)","v":0}]
[null,null,null,null,null,null,null,null,null,null,null,null,null,null,null,null,null,{"$f":"VLOOKUP(recettesmai[[#This Row],[Catégorie]],'coulisses 2'!$A$1:$B$20,2,0)","v":0}]
[null,null,null,null,null,null,null,null,null,null,null,null,null,null,null,null,null,{"$f":"VLOOKUP(recettesmai[[#This Row],[Catégorie]],'coulisses 2'!$A$1:$B$20,2,0)","v":0}]
[null,null,null,null,null,null,null,null,null,null,null,null,null,null,null,null,null,{"$f":"VLOOKUP(recettesmai[[#This Row],[Catégorie]],'coulisses 2'!$A$1:$B$20,2,0)","v":0}]
[null,null,null,null,null,null,null,null,null,null,null,null,null,null,null,null,null,{"$f":"VLOOKUP(recettesmai[[#This Row],[Catégorie]],'coulisses 2'!$A$1:$B$20,2,0)","v":0}]
[null,null,null,null,null,null,null,null,null,null,null,null,null,null,null,null,null,{"$f":"VLOOKUP(recettesmai[[#This Row],[Catégorie]],'coulisses 2'!$A$1:$B$20,2,0)","v":0}]
[null,null,null,null,null,null,null,null,null,null,null,null,null,null,null,null,null,{"$f":"VLOOKUP(recettesmai[[#This Row],[Catégorie]],'coulisses 2'!$A$1:$B$20,2,0)","v":0}]
[null,null,null,null,null,null,null,null,null,null,null,null,null,null,null,null,null,{"$f":"VLOOKUP(recettesmai[[#This Row],[Catégorie]],'coulisses 2'!$A$1:$B$20,2,0)","v":0}]
[null,null,null,null,null,null,null,null,null,null,null,null,null,null,null,null,null,{"$f":"VLOOKUP(recettesmai[[#This Row],[Catégorie]],'coulisses 2'!$A$1:$B$20,2,0)","v":0}]
[null,null,null,null,null,null,null,null,null,null,null,null,null,null,null,null,null,{"$f":"VLOOKUP(recettesmai[[#This Row],[Catégorie]],'coulisses 2'!$A$1:$B$20,2,0)","v":0}]
[null,null,null,null,null,null,null,null,null,null,null,null,null,null,null,null,null,{"$f":"VLOOKUP(recettesmai[[#This Row],[Catégorie]],'coulisses 2'!$A$1:$B$20,2,0)","v":0}]
[null,null,null,null,null,null,null,null,null,null,null,null,null,null,null,null,null,{"$f":"VLOOKUP(recettesmai[[#This Row],[Catégorie]],'coulisses 2'!$A$1:$B$20,2,0)","v":0}]
[null,null,null,null,null,null,null,null,null,null,null,null,null,null,null,null,null,{"$f":"VLOOKUP(recettesmai[[#This Row],[Catégorie]],'coulisses 2'!$A$1:$B$20,2,0)","v":0}]
[null,null,null,null,null,null,null,null,null,null,null,null,null,null,null,null,null,{"$f":"VLOOKUP(recettesmai[[#This Row],[Catégorie]],'coulisses 2'!$A$1:$B$20,2,0)","v":0}]
[null,null,null,null,null,null,null,null,null,null,null,null,null,null,null,null,null,{"$f":"VLOOKUP(recettesmai[[#This Row],[Catégorie]],'coulisses 2'!$A$1:$B$20,2,0)","v":0}]
[null,null,null,null,null,null,null,null,null,null,null,null,null,null,null,null,null,{"$f":"VLOOKUP(recettesmai[[#This Row],[Catégorie]],'coulisses 2'!$A$1:$B$20,2,0)","v":0}]
[null,null,null,null,null,null,null,null,null,null,null,null,null,null,null,null,null,{"$f":"VLOOKUP(recettesmai[[#This Row],[Catégorie]],'coulisses 2'!$A$1:$B$20,2,0)","v":0}]
[null,null,null,null,null,null,null,null,null,null,null,null,null,null,null,null,null,{"$f":"VLOOKUP(recettesmai[[#This Row],[Catégorie]],'coulisses 2'!$A$1:$B$20,2,0)","v":0}]
[null,null,null,null,null,null,null,null,null,null,null,null,null,null,null,null,null,{"$f":"VLOOKUP(recettesmai[[#This Row],[Catégorie]],'coulisses 2'!$A$1:$B$20,2,0)","v":0}]
[null,null,null,null,null,null,null,null,null,null,null,null,null,null,null,null,null,{"$f":"VLOOKUP(recettesmai[[#This Row],[Catégorie]],'coulisses 2'!$A$1:$B$20,2,0)","v":0}]
[null,null,null,null,null,null,null,null,null,null,null,null,null,null,null,null,null,{"$f":"VLOOKUP(recettesmai[[#This Row],[Catégorie]],'coulisses 2'!$A$1:$B$20,2,0)","v":0}]
[null,null,null,null,null,null,null,null,null,null,null,null,null,null,null,null,null,{"$f":"VLOOKUP(recettesmai[[#This Row],[Catégorie]],'coulisses 2'!$A$1:$B$20,2,0)","v":0}]
[null,null,null,null,null,null,null,null,null,null,null,null,null,null,null,null,null,{"$f":"VLOOKUP(recettesmai[[#This Row],[Catégorie]],'coulisses 2'!$A$1:$B$20,2,0)","v":0}]
[null,null,null,null,null,null,null,null,null,null,null,null,null,null,null,null,null,{"$f":"VLOOKUP(recettesmai[[#This Row],[Catégorie]],'coulisses 2'!$A$1:$B$20,2,0)","v":0}]
[null,null,null,null,null,null,null,null,null,null,null,null,null,null,null,null,null,{"$f":"VLOOKUP(recettesmai[[#This Row],[Catégorie]],'coulisses 2'!$A$1:$B$20,2,0)","v":0}]
[null,null,null,null,null,null,null,null,null,null,null,null,null,null,null,null,null,{"$f":"VLOOKUP(recettesmai[[#This Row],[Catégorie]],'coulisses 2'!$A$1:$B$20,2,0)","v":0}]
[null,null,null,null,null,null,null,null,null,null,null,null,null,null,null,null,null,{"$f":"VLOOKUP(recettesmai[[#This Row],[Catégorie]],'coulisses 2'!$A$1:$B$20,2,0)","v":0}]
[null,null,null,null,null,null,null,null,null,null,null,null,null,null,null,null,null,{"$f":"VLOOKUP(recettesmai[[#This Row],[Catégorie]],'coulisses 2'!$A$1:$B$20,2,0)","v":0}]
[null,null,null,null,null,null,null,null,null,null,null,null,null,null,null,null,null,{"$f":"VLOOKUP(recettesmai[[#This Row],[Catégorie]],'coulisses 2'!$A$1:$B$20,2,0)","v":0}]
[null,null,null,null,null,null,null,null,null,null,null,null,null,null,null,null,null,{"$f":"VLOOKUP(recettesmai[[#This Row],[Catégorie]],'coulisses 2'!$A$1:$B$20,2,0)","v":0}]
[null,null,null,null,null,null,null,null,null,null,null,null,null,null,null,null,null,{"$f":"VLOOKUP(recettesmai[[#This Row],[Catégorie]],'coulisses 2'!$A$1:$B$20,2,0)","v":0}]
[null,null,null,null,null,null,null,null,null,null,null,null,null,null,null,null,null,{"$f":"VLOOKUP(recettesmai[[#This Row],[Catégorie]],'coulisses 2'!$A$1:$B$20,2,0)","v":0}]
[null,null,null,null,null,null,null,null,null,null,null,null,null,null,null,null,null,{"$f":"VLOOKUP(recettesmai[[#This Row],[Catégorie]],'coulisses 2'!$A$1:$B$20,2,0)","v":0}]
[null,null,null,null,null,null,null,null,null,null,null,null,null,null,null,null,null,{"$f":"VLOOKUP(recettesmai[[#This Row],[Catégorie]],'coulisses 2'!$A$1:$B$20,2,0)","v":0}]
[null,null,null,null,null,null,null,null,null,null,null,null,null,null,null,null,null,{"$f":"VLOOKUP(recettesmai[[#This Row],[Catégorie]],'coulisses 2'!$A$1:$B$20,2,0)","v":0}]
[null,null,null,null,null,null,null,null,null,null,null,null,null,null,null,null,null,{"$f":"VLOOKUP(recettesmai[[#This Row],[Catégorie]],'coulisses 2'!$A$1:$B$20,2,0)","v":0}]
[null,null,null,null,null,null,null,null,null,null,null,null,null,null,null,null,null,{"$f":"VLOOKUP(recettesmai[[#This Row],[Catégorie]],'coulisses 2'!$A$1:$B$20,2,0)","v":0}]
[null,null,null,null,null,null,null,null,null,null,null,null,null,null,null,null,null,{"$f":"VLOOKUP(recettesmai[[#This Row],[Catégorie]],'coulisses 2'!$A$1:$B$20,2,0)","v":0}]
[null,null,null,null,null,null,null,null,null,null,null,null,null,null,null,null,null,{"$f":"VLOOKUP(recettesmai[[#This Row],[Catégorie]],'coulisses 2'!$A$1:$B$20,2,0)","v":0}]
[null,null,null,null,null,null,null,null,null,null,null,null,null,null,null,null,null,{"$f":"VLOOKUP(recettesmai[[#This Row],[Catégorie]],'coulisses 2'!$A$1:$B$20,2,0)","v":0}]
[null,null,null,null,null,null,null,null,null,null,null,null,null,null,null,null,null,{"$f":"VLOOKUP(recettesmai[[#This Row],[Catégorie]],'coulisses 2'!$A$1:$B$20,2,0)","v":0}]
[null,null,null,null,null,null,null,null,null,null,null,null,null,null,null,null,null,{"$f":"VLOOKUP(recettesmai[[#This Row],[Catégorie]],'coulisses 2'!$A$1:$B$20,2,0)","v":0}]
[null,null,null,null,null,null,null,null,null,null,null,null,null,null,null,null,null,{"$f":"VLOOKUP(recettesmai[[#This Row],[Catégorie]],'coulisses 2'!$A$1:$B$20,2,0)","v":0}]
[null,null,null,null,null,null,null,null,null,null,null,null,null,null,null,null,null,{"$f":"VLOOKUP(recettesmai[[#This Row],[Catégorie]],'coulisses 2'!$A$1:$B$20,2,0)","v":0}]
[null,null,null,null,null,null,null,null,null,null,null,null,null,null,null,null,null,{"$f":"VLOOKUP(recettesmai[[#This Row],[Catégorie]],'coulisses 2'!$A$1:$B$20,2,0)","v":0}]
[null,null,null,null,null,null,null,null,null,null,null,null,null,null,null,null,null,{"$f":"VLOOKUP(recettesmai[[#This Row],[Catégorie]],'coulisses 2'!$A$1:$B$20,2,0)","v":0}]
[null,null,null,null,null,null,null,null,null,null,null,null,null,null,null,null,null,{"$f":"VLOOKUP(recettesmai[[#This Row],[Catégorie]],'coulisses 2'!$A$1:$B$20,2,0)","v":0}]
[null,null,null,null,null,null,null,null,null,null,null,null,null,null,null,null,null,{"$f":"VLOOKUP(recettesmai[[#This Row],[Catégorie]],'coulisses 2'!$A$1:$B$20,2,0)","v":0}]
[null,null,null,null,null,null,null,null,null,null,null,null,null,null,null,null,null,{"$f":"VLOOKUP(recettesmai[[#This Row],[Catégorie]],'coulisses 2'!$A$1:$B$20,2,0)","v":0}]
[null,null,null,null,null,null,null,null,null,null,null,null,null,null,null,null,null,{"$f":"VLOOKUP(recettesmai[[#This Row],[Catégorie]],'coulisses 2'!$A$1:$B$20,2,0)","v":0}]
[null,null,null,null,null,null,null,null,null,null,null,null,null,null,null,null,null,{"$f":"VLOOKUP(recettesmai[[#This Row],[Catégorie]],'coulisses 2'!$A$1:$B$20,2,0)","v":0}]
[null,null,null,null,null,null,null,null,null,null,null,null,null,null,null,null,null,{"$f":"VLOOKUP(recettesmai[[#This Row],[Catégorie]],'coulisses 2'!$A$1:$B$20,2,0)","v":0}]
[null,null,null,null,null,null,null,null,null,null,null,null,null,null,null,null,null,{"$f":"VLOOKUP(recettesmai[[#This Row],[Catégorie]],'coulisses 2'!$A$1:$B$20,2,0)","v":0}]
[null,null,null,null,null,null,null,null,null,null,null,null,null,null,null,null,null,{"$f":"VLOOKUP(recettesmai[[#This Row],[Catégorie]],'coulisses 2'!$A$1:$B$20,2,0)","v":0}]
[null,null,null,null,null,null,null,null,null,null,null,null,null,null,null,null,null,{"$f":"VLOOKUP(recettesmai[[#This Row],[Catégorie]],'coulisses 2'!$A$1:$B$20,2,0)","v":0}]
[null,null,null,null,null,null,null,null,null,null,null,null,null,null,null,null,null,{"$f":"VLOOKUP(recettesmai[[#This Row],[Catégorie]],'coulisses 2'!$A$1:$B$20,2,0)","v":0}]
[null,null,null,null,null,null,null,null,null,null,null,null,null,null,null,null,null,{"$f":"VLOOKUP(recettesmai[[#This Row],[Catégorie]],'coulisses 2'!$A$1:$B$20,2,0)","v":0}]
[null,null,null,null,null,null,null,null,null,null,null,null,null,null,null,null,null,{"$f":"VLOOKUP(recettesmai[[#This Row],[Catégorie]],'coulisses 2'!$A$1:$B$20,2,0)","v":0}]
[null,null,null,null,null,null,null,null,null,null,null,null,null,null,null,null,null,{"$f":"VLOOKUP(recettesmai[[#This Row],[Catégorie]],'coulisses 2'!$A$1:$B$20,2,0)","v":0}]
[null,null,null,null,null,null,null,null,null,null,null,null,null,null,null,null,null,{"$f":"VLOOKUP(recettesmai[[#This Row],[Catégorie]],'coulisses 2'!$A$1:$B$20,2,0)","v":0}]
[null,null,null,null,null,null,null,null,null,null,null,null,null,null,null,null,null,{"$f":"VLOOKUP(recettesmai[[#This Row],[Catégorie]],'coulisses 2'!$A$1:$B$20,2,0)","v":0}]
[null,null,null,null,null,null,null,null,null,null,null,null,null,null,null,null,null,{"$f":"VLOOKUP(recettesmai[[#This Row],[Catégorie]],'coulisses 2'!$A$1:$B$20,2,0)","v":0}]
[null,null,null,null,null,null,null,null,null,null,null,null,null,null,null,null,null,{"$f":"VLOOKUP(recettesmai[[#This Row],[Catégorie]],'coulisses 2'!$A$1:$B$20,2,0)","v":0}]
[null,null,null,null,null,null,null,null,null,null,null,null,null,null,null,null,null,{"$f":"VLOOKUP(recettesmai[[#This Row],[Catégorie]],'coulisses 2'!$A$1:$B$20,2,0)","v":0}]
[null,null,null,null,null,null,null,null,null,null,null,null,null,null,null,null,null,{"$f":"VLOOKUP(recettesmai[[#This Row],[Catégorie]],'coulisses 2'!$A$1:$B$20,2,0)","v":0}]
[null,null,null,null,null,null,null,null,null,null,null,null,null,null,null,null,null,{"$f":"VLOOKUP(recettesmai[[#This Row],[Catégorie]],'coulisses 2'!$A$1:$B$20,2,0)","v":0}]
[null,null,null,null,null,null,null,null,null,null,null,null,null,null,null,null,null,{"$f":"VLOOKUP(recettesmai[[#This Row],[Catégorie]],'coulisses 2'!$A$1:$B$20,2,0)","v":0}]
[null,null,null,null,null,null,null,null,null,null,null,null,null,null,null,null,null,{"$f":"VLOOKUP(recettesmai[[#This Row],[Catégorie]],'coulisses 2'!$A$1:$B$20,2,0)","v":0}]
[null,null,null,null,null,null,null,null,null,null,null,null,null,null,null,null,null,{"$f":"VLOOKUP(recettesmai[[#This Row],[Catégorie]],'coulisses 2'!$A$1:$B$20,2,0)","v":0}]
[null,null,null,null,null,null,null,null,null,null,null,null,null,null,null,null,null,{"$f":"VLOOKUP(recettesmai[[#This Row],[Catégorie]],'coulisses 2'!$A$1:$B$20,2,0)","v":0}]
[null,null,null,null,null,null,null,null,null,null,null,null,null,null,null,null,null,{"$f":"VLOOKUP(recettesmai[[#This Row],[Catégorie]],'coulisses 2'!$A$1:$B$20,2,0)","v":0}]
[null,null,null,null,null,null,null,null,null,null,null,null,null,null,null,null,null,{"$f":"VLOOKUP(recettesmai[[#This Row],[Catégorie]],'coulisses 2'!$A$1:$B$20,2,0)","v":0}]
[null,null,null,null,null,null,null,null,null,null,null,null,null,null,null,null,null,{"$f":"VLOOKUP(recettesmai[[#This Row],[Catégorie]],'coulisses 2'!$A$1:$B$20,2,0)","v":0}]
[null,null,null,null,null,null,null,null,null,null,null,null,null,null,null,null,null,{"$f":"VLOOKUP(recettesmai[[#This Row],[Catégorie]],'coulisses 2'!$A$1:$B$20,2,0)","v":0}]
[null,null,null,null,null,null,null,null,null,null,null,null,null,null,null,null,null,{"$f":"VLOOKUP(recettesmai[[#This Row],[Catégorie]],'coulisses 2'!$A$1:$B$20,2,0)","v":0}]
[null,null,null,null,null,null,null,null,null,null,null,null,null,null,null,null,null,{"$f":"VLOOKUP(recettesmai[[#This Row],[Catégorie]],'coulisses 2'!$A$1:$B$20,2,0)","v":0}]
[null,null,null,null,null,null,null,null,null,null,null,null,null,null,null,null,null,{"$f":"VLOOKUP(recettesmai[[#This Row],[Catégorie]],'coulisses 2'!$A$1:$B$20,2,0)","v":0}]
[null,null,null,null,null,null,null,null,null,null,null,null,null,null,null,null,null,{"$f":"VLOOKUP(recettesmai[[#This Row],[Catégorie]],'coulisses 2'!$A$1:$B$20,2,0)","v":0}]
[null,null,null,null,null,null,null,null,null,null,null,null,null,null,null,null,null,{"$f":"VLOOKUP(recettesmai[[#This Row],[Catégorie]],'coulisses 2'!$A$1:$B$20,2,0)","v":0}]
[null,null,null,null,null,null,null,null,null,null,null,null,null,null,null,null,null,{"$f":"VLOOKUP(recettesmai[[#This Row],[Catégorie]],'coulisses 2'!$A$1:$B$20,2,0)","v":0}]
[null,null,null,null,null,null,null,null,null,null,null,null,null,null,null,null,null,{"$f":"VLOOKUP(recettesmai[[#This Row],[Catégorie]],'coulisses 2'!$A$1:$B$20,2,0)","v":0}]
[null,null,null,null,null,null,null,null,null,null,null,null,null,null,null,null,null,{"$f":"VLOOKUP(recettesmai[[#This Row],[Catégorie]],'coulisses 2'!$A$1:$B$20,2,0)","v":0}]
[null,null,null,null,null,null,null,null,null,null,null,null,null,null,null,null,null,{"$f":"VLOOKUP(recettesmai[[#This Row],[Catégorie]],'coulisses 2'!$A$1:$B$20,2,0)","v":0}]
[null,null,null,null,null,null,null,null,null,null,null,null,null,null,null,null,null,{"$f":"VLOOKUP(recettesmai[[#This Row],[Catégorie]],'coulisses 2'!$A$1:$B$20,2,0)","v":0}]
[null,null,null,null,null,null,null,null,null,null,null,null,null,null,null,null,null,{"$f":"VLOOKUP(recettesmai[[#This Row],[Catégorie]],'coulisses 2'!$A$1:$B$20,2,0)","v":0}]
[null,null,null,null,null,null,null,null,null,null,null,null,null,null,null,null,null,{"$f":"VLOOKUP(recettesmai[[#This Row],[Catégorie]],'coulisses 2'!$A$1:$B$20,2,0)","v":0}]
[null,null,null,null,null,null,null,null,null,null,null,null,null,null,null,null,null,{"$f":"VLOOKUP(recettesmai[[#This Row],[Catégorie]],'coulisses 2'!$A$1:$B$20,2,0)","v":0}]
[null,null,null,null,null,null,null,null,null,null,null,null,null,null,null,null,null,{"$f":"VLOOKUP(recettesmai[[#This Row],[Catégorie]],'coulisses 2'!$A$1:$B$20,2,0)","v":0}]
[null,null,null,null,null,null,null,null,null,null,null,null,null,null,null,null,null,{"$f":"VLOOKUP(recettesmai[[#This Row],[Catégorie]],'coulisses 2'!$A$1:$B$20,2,0)","v":0}]
[null,null,null,null,null,null,null,null,null,null,null,null,null,null,null,null,null,{"$f":"VLOOKUP(recettesmai[[#This Row],[Catégorie]],'coulisses 2'!$A$1:$B$20,2,0)","v":0}]
[null,null,null,null,null,null,null,null,null,null,null,null,null,null,null,null,null,{"$f":"VLOOKUP(recettesmai[[#This Row],[Catégorie]],'coulisses 2'!$A$1:$B$20,2,0)","v":0}]
[null,null,null,null,null,null,null,null,null,null,null,null,null,null,null,null,null,{"$f":"VLOOKUP(recettesmai[[#This Row],[Catégorie]],'coulisses 2'!$A$1:$B$20,2,0)","v":0}]
[null,null,null,null,null,null,null,null,null,null,null,null,null,null,null,null,null,{"$f":"VLOOKUP(recettesmai[[#This Row],[Catégorie]],'coulisses 2'!$A$1:$B$20,2,0)","v":0}]
[null,null,null,null,null,null,null,null,null,null,null,null,null,null,null,null,null,{"$f":"VLOOKUP(recettesmai[[#This Row],[Catégorie]],'coulisses 2'!$A$1:$B$20,2,0)","v":0}]
[null,null,null,null,null,null,null,null,null,null,null,null,null,null,null,null,null,{"$f":"VLOOKUP(recettesmai[[#This Row],[Catégorie]],'coulisses 2'!$A$1:$B$20,2,0)","v":0}]
[null,null,null,null,null,null,null,null,null,null,null,null,null,null,null,null,null,{"$f":"VLOOKUP(recettesmai[[#This Row],[Catégorie]],'coulisses 2'!$A$1:$B$20,2,0)","v":0}]
[null,null,null,null,null,null,null,null,null,null,null,null,null,null,null,null,null,{"$f":"VLOOKUP(recettesmai[[#This Row],[Catégorie]],'coulisses 2'!$A$1:$B$20,2,0)","v":0}]
[null,null,null,null,null,null,null,null,null,null,null,null,null,null,null,null,null,{"$f":"VLOOKUP(recettesmai[[#This Row],[Catégorie]],'coulisses 2'!$A$1:$B$20,2,0)","v":0}]
[null,null,null,null,null,null,null,null,null,null,null,null,null,null,null,null,null,{"$f":"VLOOKUP(recettesmai[[#This Row],[Catégorie]],'coulisses 2'!$A$1:$B$20,2,0)","v":0}]
[null,null,null,null,null,null,null,null,null,null,null,null,null,null,null,null,null,{"$f":"VLOOKUP(recettesmai[[#This Row],[Catégorie]],'coulisses 2'!$A$1:$B$20,2,0)","v":0}]
[null,null,null,null,null,null,null,null,null,null,null,null,null,null,null,null,null,{"$f":"VLOOKUP(recettesmai[[#This Row],[Catégorie]],'coulisses 2'!$A$1:$B$20,2,0)","v":0}]
[null,null,null,null,null,null,null,null,null,null,null,null,null,null,null,null,null,{"$f":"VLOOKUP(recettesmai[[#This Row],[Catégorie]],'coulisses 2'!$A$1:$B$20,2,0)","v":0}]
[null,null,null,null,null,null,null,null,null,null,null,null,null,null,null,null,null,{"$f":"VLOOKUP(recettesmai[[#This Row],[Catégorie]],'coulisses 2'!$A$1:$B$20,2,0)","v":0}]
[null,null,null,null,null,null,null,null,null,null,null,null,null,null,null,null,null,{"$f":"VLOOKUP(recettesmai[[#This Row],[Catégorie]],'coulisses 2'!$A$1:$B$20,2,0)","v":0}]
[null,null,null,null,null,null,null,null,null,null,null,null,null,null,null,null,null,{"$f":"VLOOKUP(recettesmai[[#This Row],[Catégorie]],'coulisses 2'!$A$1:$B$20,2,0)","v":0}]
[null,null,null,null,null,null,null,null,null,null,null,null,null,null,null,null,null,{"$f":"VLOOKUP(recettesmai[[#This Row],[Catégorie]],'coulisses 2'!$A$1:$B$20,2,0)","v":0}]
[null,null,null,null,null,null,null,null,null,null,null,null,null,null,null,null,null,{"$f":"VLOOKUP(recettesmai[[#This Row],[Catégorie]],'coulisses 2'!$A$1:$B$20,2,0)","v":0}]
[null,null,null,null,null,null,null,null,null,null,null,null,null,null,null,null,null,{"$f":"VLOOKUP(recettesmai[[#This Row],[Catégorie]],'coulisses 2'!$A$1:$B$20,2,0)","v":0}]
[null,null,null,null,null,null,null,null,null,null,null,null,null,null,null,null,null,{"$f":"VLOOKUP(recettesmai[[#This Row],[Catégorie]],'coulisses 2'!$A$1:$B$20,2,0)","v":0}]
[null,null,null,null,null,null,null,null,null,null,null,null,null,null,null,null,null,{"$f":"VLOOKUP(recettesmai[[#This Row],[Catégorie]],'coulisses 2'!$A$1:$B$20,2,0)","v":0}]
[null,null,null,null,null,null,null,null,null,null,null,null,null,null,null,null,null,{"$f":"VLOOKUP(recettesmai[[#This Row],[Catégorie]],'coulisses 2'!$A$1:$B$20,2,0)","v":0}]
[null,null,null,null,null,null,null,null,null,null,null,null,null,null,null,null,null,{"$f":"VLOOKUP(recettesmai[[#This Row],[Catégorie]],'coulisses 2'!$A$1:$B$20,2,0)","v":0}]
[null,null,null,null,null,null,null,null,null,null,null,null,null,null,null,null,null,{"$f":"VLOOKUP(recettesmai[[#This Row],[Catégorie]],'coulisses 2'!$A$1:$B$20,2,0)","v":0}]
[null,null,null,null,null,null,null,null,null,null,null,null,null,null,null,null,null,{"$f":"VLOOKUP(recettesmai[[#This Row],[Catégorie]],'coulisses 2'!$A$1:$B$20,2,0)","v":0}]
[null,null,null,null,null,null,null,null,null,null,null,null,null,null,null,null,null,{"$f":"VLOOKUP(recettesmai[[#This Row],[Catégorie]],'coulisses 2'!$A$1:$B$20,2,0)","v":0}]
[null,null,null,null,null,null,null,null,null,null,null,null,null,null,null,null,null,{"$f":"VLOOKUP(recettesmai[[#This Row],[Catégorie]],'coulisses 2'!$A$1:$B$20,2,0)","v":0}]
[null,null,null,null,null,null,null,null,null,null,null,null,null,null,null,null,null,{"$f":"VLOOKUP(recettesmai[[#This Row],[Catégorie]],'coulisses 2'!$A$1:$B$20,2,0)","v":0}]
[null,null,null,null,null,null,null,null,null,null,null,null,null,null,null,null,null,{"$f":"VLOOKUP(recettesmai[[#This Row],[Catégorie]],'coulisses 2'!$A$1:$B$20,2,0)","v":0}]
[null,null,null,null,null,null,null,null,null,null,null,null,null,null,null,null,null,{"$f":"VLOOKUP(recettesmai[[#This Row],[Catégorie]],'coulisses 2'!$A$1:$B$20,2,0)","v":0}]
[null,null,null,null,null,null,null,null,null,null,null,null,null,null,null,null,null,{"$f":"VLOOKUP(recettesmai[[#This Row],[Catégorie]],'coulisses 2'!$A$1:$B$20,2,0)","v":0}]
[null,null,null,null,null,null,null,null,null,null,null,null,null,null,null,null,null,{"$f":"VLOOKUP(recettesmai[[#This Row],[Catégorie]],'coulisses 2'!$A$1:$B$20,2,0)","v":0}]
[null,null,null,null,null,null,null,null,null,null,null,null,null,null,null,null,null,{"$f":"VLOOKUP(recettesmai[[#This Row],[Catégorie]],'coulisses 2'!$A$1:$B$20,2,0)","v":0}]
[null,null,null,null,null,null,null,null,null,null,null,null,null,null,null,null,null,{"$f":"VLOOKUP(recettesmai[[#This Row],[Catégorie]],'coulisses 2'!$A$1:$B$20,2,0)","v":0}]
[null,null,null,null,null,null,null,null,null,null,null,null,null,null,null,null,null,{"$f":"VLOOKUP(recettesmai[[#This Row],[Catégorie]],'coulisses 2'!$A$1:$B$20,2,0)","v":0}]
[null,null,null,null,null,null,null,null,null,null,null,null,null,null,null,null,null,{"$f":"VLOOKUP(recettesmai[[#This Row],[Catégorie]],'coulisses 2'!$A$1:$B$20,2,0)","v":0}]
[null,null,null,null,null,null,null,null,null,null,null,null,null,null,null,null,null,{"$f":"VLOOKUP(recettesmai[[#This Row],[Catégorie]],'coulisses 2'!$A$1:$B$20,2,0)","v":0}]
[null,null,null,null,null,null,null,null,null,null,null,null,null,null,null,null,null,{"$f":"VLOOKUP(recettesmai[[#This Row],[Catégorie]],'coulisses 2'!$A$1:$B$20,2,0)","v":0}]
[null,null,null,null,null,null,null,null,null,null,null,null,null,null,null,null,null,{"$f":"VLOOKUP(recettesmai[[#This Row],[Catégorie]],'coulisses 2'!$A$1:$B$20,2,0)","v":0}]
[null,null,null,null,null,null,null,null,null,null,null,null,null,null,null,null,null,{"$f":"VLOOKUP(recettesmai[[#This Row],[Catégorie]],'coulisses 2'!$A$1:$B$20,2,0)","v":0}]
[null,null,null,null,null,null,null,null,null,null,null,null,null,null,null,null,null,{"$f":"VLOOKUP(recettesmai[[#This Row],[Catégorie]],'coulisses 2'!$A$1:$B$20,2,0)","v":0}]
[null,null,null,null,null,null,null,null,null,null,null,null,null,null,null,null,null,{"$f":"VLOOKUP(recettesmai[[#This Row],[Catégorie]],'coulisses 2'!$A$1:$B$20,2,0)","v":0}]
[null,null,null,null,null,null,null,null,null,null,null,null,null,null,null,null,null,{"$f":"VLOOKUP(recettesmai[[#This Row],[Catégorie]],'coulisses 2'!$A$1:$B$20,2,0)","v":0}]
[null,null,null,null,null,null,null,null,null,null,null,null,null,null,null,null,null,{"$f":"VLOOKUP(recettesmai[[#This Row],[Catégorie]],'coulisses 2'!$A$1:$B$20,2,0)","v":0}]
[null,null,null,null,null,null,null,null,null,null,null,null,null,null,null,null,null,{"$f":"VLOOKUP(recettesmai[[#This Row],[Catégorie]],'coulisses 2'!$A$1:$B$20,2,0)","v":0}]
[null,null,null,null,null,null,null,null,null,null,null,null,null,null,null,null,null,{"$f":"VLOOKUP(recettesmai[[#This Row],[Catégorie]],'coulisses 2'!$A$1:$B$20,2,0)","v":0}]
[null,null,null,null,null,null,null,null,null,null,null,null,null,null,null,null,null,{"$f":"VLOOKUP(recettesmai[[#This Row],[Catégorie]],'coulisses 2'!$A$1:$B$20,2,0)","v":0}]
[null,null,null,null,null,null,null,null,null,null,null,null,null,null,null,null,null,{"$f":"VLOOKUP(recettesmai[[#This Row],[Catégorie]],'coulisses 2'!$A$1:$B$20,2,0)","v":0}]
[null,null,null,null,null,null,null,null,null,null,null,null,null,null,null,null,null,{"$f":"VLOOKUP(recettesmai[[#This Row],[Catégorie]],'coulisses 2'!$A$1:$B$20,2,0)","v":0}]
[null,null,null,null,null,null,null,null,null,null,null,null,null,null,null,null,null,{"$f":"VLOOKUP(recettesmai[[#This Row],[Catégorie]],'coulisses 2'!$A$1:$B$20,2,0)","v":0}]
[null,null,null,null,null,null,null,null,null,null,null,null,null,null,null,null,null,{"$f":"VLOOKUP(recettesmai[[#This Row],[Catégorie]],'coulisses 2'!$A$1:$B$20,2,0)","v":0}]
[null,null,null,null,null,null,null,null,null,null,null,null,null,null,null,null,null,{"$f":"VLOOKUP(recettesmai[[#This Row],[Catégorie]],'coulisses 2'!$A$1:$B$20,2,0)","v":0}]
[null,null,null,null,null,null,null,null,null,null,null,null,null,null,null,null,null,{"$f":"VLOOKUP(recettesmai[[#This Row],[Catégorie]],'coulisses 2'!$A$1:$B$20,2,0)","v":0}]
[null,null,null,null,null,null,null,null,null,null,null,null,null,null,null,null,null,{"$f":"VLOOKUP(recettesmai[[#This Row],[Catégorie]],'coulisses 2'!$A$1:$B$20,2,0)","v":0}]
[null,null,null,null,null,null,null,null,null,null,null,null,null,null,null,null,null,{"$f":"VLOOKUP(recettesmai[[#This Row],[Catégorie]],'coulisses 2'!$A$1:$B$20,2,0)","v":0}]
[null,null,null,null,null,null,null,null,null,null,null,null,null,null,null,null,null,{"$f":"VLOOKUP(recettesmai[[#This Row],[Catégorie]],'coulisses 2'!$A$1:$B$20,2,0)","v":0}]
[null,null,null,null,null,null,null,null,null,null,null,null,null,null,null,null,null,{"$f":"VLOOKUP(recettesmai[[#This Row],[Catégorie]],'coulisses 2'!$A$1:$B$20,2,0)","v":0}]
[null,null,null,null,null,null,null,null,null,null,null,null,null,null,null,null,null,{"$f":"VLOOKUP(recettesmai[[#This Row],[Catégorie]],'coulisses 2'!$A$1:$B$20,2,0)","v":0}]
[null,null,null,null,null,null,null,null,null,null,null,null,null,null,null,null,null,{"$f":"VLOOKUP(recettesmai[[#This Row],[Catégorie]],'coulisses 2'!$A$1:$B$20,2,0)","v":0}]
[null,null,null,null,null,null,null,null,null,null,null,null,null,null,null,null,null,{"$f":"VLOOKUP(recettesmai[[#This Row],[Catégorie]],'coulisses 2'!$A$1:$B$20,2,0)","v":0}]
[null,null,null,null,null,null,null,null,null,null,null,null,null,null,null,null,null,{"$f":"VLOOKUP(recettesmai[[#This Row],[Catégorie]],'coulisses 2'!$A$1:$B$20,2,0)","v":0}]
[null,null,null,null,null,null,null,null,null,null,null,null,null,null,null,null,null,{"$f":"VLOOKUP(recettesmai[[#This Row],[Catégorie]],'coulisses 2'!$A$1:$B$20,2,0)","v":0}]
[null,null,null,null,null,null,null,null,null,null,null,null,null,null,null,null,null,{"$f":"VLOOKUP(recettesmai[[#This Row],[Catégorie]],'coulisses 2'!$A$1:$B$20,2,0)","v":0}]
[null,null,null,null,null,null,null,null,null,null,null,null,null,null,null,null,null,{"$f":"VLOOKUP(recettesmai[[#This Row],[Catégorie]],'coulisses 2'!$A$1:$B$20,2,0)","v":0}]
[null,null,null,null,null,null,null,null,null,null,null,null,null,null,null,null,null,{"$f":"VLOOKUP(recettesmai[[#This Row],[Catégorie]],'coulisses 2'!$A$1:$B$20,2,0)","v":0}]
[null,null,null,null,null,null,null,null,null,null,null,null,null,null,null,null,null,{"$f":"VLOOKUP(recettesmai[[#This Row],[Catégorie]],'coulisses 2'!$A$1:$B$20,2,0)","v":0}]
[null,null,null,null,null,null,null,null,null,null,null,null,null,null,null,null,null,{"$f":"VLOOKUP(recettesmai[[#This Row],[Catégorie]],'coulisses 2'!$A$1:$B$20,2,0)","v":0}]
[null,null,null,null,null,null,null,null,null,null,null,null,null,null,null,null,null,{"$f":"VLOOKUP(recettesmai[[#This Row],[Catégorie]],'coulisses 2'!$A$1:$B$20,2,0)","v":0}]
[null,null,null,null,null,null,null,null,null,null,null,null,null,null,null,null,null,{"$f":"VLOOKUP(recettesmai[[#This Row],[Catégorie]],'coulisses 2'!$A$1:$B$20,2,0)","v":0}]
[null,null,null,null,null,null,null,null,null,null,null,null,null,null,null,null,null,{"$f":"VLOOKUP(recettesmai[[#This Row],[Catégorie]],'coulisses 2'!$A$1:$B$20,2,0)","v":0}]
[null,null,null,null,null,null,null,null,null,null,null,null,null,null,null,null,null,{"$f":"VLOOKUP(recettesmai[[#This Row],[Catégorie]],'coulisses 2'!$A$1:$B$20,2,0)","v":0}]
[null,null,null,null,null,null,null,null,null,null,null,null,null,null,null,null,null,{"$f":"VLOOKUP(recettesmai[[#This Row],[Catégorie]],'coulisses 2'!$A$1:$B$20,2,0)","v":0}]
[null,null,null,null,null,null,null,null,null,null,null,null,null,null,null,null,null,{"$f":"VLOOKUP(recettesmai[[#This Row],[Catégorie]],'coulisses 2'!$A$1:$B$20,2,0)","v":0}]
[null,null,null,null,null,null,null,null,null,null,null,null,null,null,null,null,null,{"$f":"VLOOKUP(recettesmai[[#This Row],[Catégorie]],'coulisses 2'!$A$1:$B$20,2,0)","v":0}]
[null,null,null,null,null,null,null,null,null,null,null,null,null,null,null,null,null,{"$f":"VLOOKUP(recettesmai[[#This Row],[Catégorie]],'coulisses 2'!$A$1:$B$20,2,0)","v":0}]
[null,null,null,null,null,null,null,null,null,null,null,null,null,null,null,null,null,{"$f":"VLOOKUP(recettesmai[[#This Row],[Catégorie]],'coulisses 2'!$A$1:$B$20,2,0)","v":0}]
[null,null,null,null,null,null,null,null,null,null,null,null,null,null,null,null,null,{"$f":"VLOOKUP(recettesmai[[#This Row],[Catégorie]],'coulisses 2'!$A$1:$B$20,2,0)","v":0}]
[null,null,null,null,null,null,null,null,null,null,null,null,null,null,null,null,null,{"$f":"VLOOKUP(recettesmai[[#This Row],[Catégorie]],'coulisses 2'!$A$1:$B$20,2,0)","v":0}]
[null,null,null,null,null,null,null,null,null,null,null,null,null,null,null,null,null,{"$f":"VLOOKUP(recettesmai[[#This Row],[Catégorie]],'coulisses 2'!$A$1:$B$20,2,0)","v":0}]
[null,null,null,null,null,null,null,null,null,null,null,null,null,null,null,null,null,{"$f":"VLOOKUP(recettesmai[[#This Row],[Catégorie]],'coulisses 2'!$A$1:$B$20,2,0)","v":0}]
[null,null,null,null,null,null,null,null,null,null,null,null,null,null,null,null,null,{"$f":"VLOOKUP(recettesmai[[#This Row],[Catégorie]],'coulisses 2'!$A$1:$B$20,2,0)","v":0}]
[null,null,null,null,null,null,null,null,null,null,null,null,null,null,null,null,null,{"$f":"VLOOKUP(recettesmai[[#This Row],[Catégorie]],'coulisses 2'!$A$1:$B$20,2,0)","v":0}]
[null,null,null,null,null,null,null,null,null,null,null,null,null,null,null,null,null,{"$f":"VLOOKUP(recettesmai[[#This Row],[Catégorie]],'coulisses 2'!$A$1:$B$20,2,0)","v":0}]
[null,null,null,null,null,null,null,null,null,null,null,null,null,null,null,null,null,{"$f":"VLOOKUP(recettesmai[[#This Row],[Catégorie]],'coulisses 2'!$A$1:$B$20,2,0)","v":0}]
[null,null,null,null,null,null,null,null,null,null,null,null,null,null,null,null,null,{"$f":"VLOOKUP(recettesmai[[#This Row],[Catégorie]],'coulisses 2'!$A$1:$B$20,2,0)","v":0}]
[null,null,null,null,null,null,null,null,null,null,null,null,null,null,null,null,null,{"$f":"VLOOKUP(recettesmai[[#This Row],[Catégorie]],'coulisses 2'!$A$1:$B$20,2,0)","v":0}]
[null,null,null,null,null,null,null,null,null,null,null,null,null,null,null,null,null,{"$f":"VLOOKUP(recettesmai[[#This Row],[Catégorie]],'coulisses 2'!$A$1:$B$20,2,0)","v":0}]
[null,null,null,null,null,null,null,null,null,null,null,null,null,null,null,null,null,{"$f":"VLOOKUP(recettesmai[[#This Row],[Catégorie]],'coulisses 2'!$A$1:$B$20,2,0)","v":0}]
[null,null,null,null,null,null,null,null,null,null,null,null,null,null,null,null,null,{"$f":"VLOOKUP(recettesmai[[#This Row],[Catégorie]],'coulisses 2'!$A$1:$B$20,2,0)","v":0}]
[null,null,null,null,null,null,null,null,null,null,null,null,null,null,null,null,null,{"$f":"VLOOKUP(recettesmai[[#This Row],[Catégorie]],'coulisses 2'!$A$1:$B$20,2,0)","v":0}]
[null,null,null,null,null,null,null,null,null,null,null,null,null,null,null,null,null,{"$f":"VLOOKUP(recettesmai[[#This Row],[Catégorie]],'coulisses 2'!$A$1:$B$20,2,0)","v":0}]
[null,null,null,null,null,null,null,null,null,null,null,null,null,null,null,null,null,{"$f":"VLOOKUP(recettesmai[[#This Row],[Catégorie]],'coulisses 2'!$A$1:$B$20,2,0)","v":0}]
[null,null,null,null,null,null,null,null,null,null,null,null,null,null,null,null,null,{"$f":"VLOOKUP(recettesmai[[#This Row],[Catégorie]],'coulisses 2'!$A$1:$B$20,2,0)","v":0}]
[null,null,null,null,null,null,null,null,null,null,null,null,null,null,null,null,null,{"$f":"VLOOKUP(recettesmai[[#This Row],[Catégorie]],'coulisses 2'!$A$1:$B$20,2,0)","v":0}]
[null,null,null,null,null,null,null,null,null,null,null,null,null,null,null,null,null,{"$f":"VLOOKUP(recettesmai[[#This Row],[Catégorie]],'coulisses 2'!$A$1:$B$20,2,0)","v":0}]
[null,null,null,null,null,null,null,null,null,null,null,null,null,null,null,null,null,{"$f":"VLOOKUP(recettesmai[[#This Row],[Catégorie]],'coulisses 2'!$A$1:$B$20,2,0)","v":0}]
[null,null,null,null,null,null,null,null,null,null,null,null,null,null,null,null,null,{"$f":"VLOOKUP(recettesmai[[#This Row],[Catégorie]],'coulisses 2'!$A$1:$B$20,2,0)","v":0}]
[null,null,null,null,null,null,null,null,null,null,null,null,null,null,null,null,null,{"$f":"VLOOKUP(recettesmai[[#This Row],[Catégorie]],'coulisses 2'!$A$1:$B$20,2,0)","v":0}]
[null,null,null,null,null,null,null,null,null,null,null,null,null,null,null,null,null,{"$f":"VLOOKUP(recettesmai[[#This Row],[Catégorie]],'coulisses 2'!$A$1:$B$20,2,0)","v":0}]
[null,null,null,null,null,null,null,null,null,null,null,null,null,null,null,null,null,{"$f":"VLOOKUP(recettesmai[[#This Row],[Catégorie]],'coulisses 2'!$A$1:$B$20,2,0)","v":0}]
[null,null,null,null,null,null,null,null,null,null,null,null,null,null,null,null,null,{"$f":"VLOOKUP(recettesmai[[#This Row],[Catégorie]],'coulisses 2'!$A$1:$B$20,2,0)","v":0}]
[null,null,null,null,null,null,null,null,null,null,null,null,null,null,null,null,null,{"$f":"VLOOKUP(recettesmai[[#This Row],[Catégorie]],'coulisses 2'!$A$1:$B$20,2,0)","v":0}]
[null,null,null,null,null,null,null,null,null,null,null,null,null,null,null,null,null,{"$f":"VLOOKUP(recettesmai[[#This Row],[Catégorie]],'coulisses 2'!$A$1:$B$20,2,0)","v":0}]
[null,null,null,null,null,null,null,null,null,null,null,null,null,null,null,null,null,{"$f":"VLOOKUP(recettesmai[[#This Row],[Catégorie]],'coulisses 2'!$A$1:$B$20,2,0)","v":0}]
[null,null,null,null,null,null,null,null,null,null,null,null,null,null,null,null,null,{"$f":"VLOOKUP(recettesmai[[#This Row],[Catégorie]],'coulisses 2'!$A$1:$B$20,2,0)","v":0}]
[null,null,null,null,null,null,null,null,null,null,null,null,null,null,null,null,null,{"$f":"VLOOKUP(recettesmai[[#This Row],[Catégorie]],'coulisses 2'!$A$1:$B$20,2,0)","v":0}]
[null,null,null,null,null,null,null,null,null,null,null,null,null,null,null,null,null,{"$f":"VLOOKUP(recettesmai[[#This Row],[Catégorie]],'coulisses 2'!$A$1:$B$20,2,0)","v":0}]
[null,null,null,null,null,null,null,null,null,null,null,null,null,null,null,null,null,{"$f":"VLOOKUP(recettesmai[[#This Row],[Catégorie]],'coulisses 2'!$A$1:$B$20,2,0)","v":0}]
[null,null,null,null,null,null,null,null,null,null,null,null,null,null,null,null,null,{"$f":"VLOOKUP(recettesmai[[#This Row],[Catégorie]],'coulisses 2'!$A$1:$B$20,2,0)","v":0}]
[null,null,null,null,null,null,null,null,null,null,null,null,null,null,null,null,null,{"$f":"VLOOKUP(recettesmai[[#This Row],[Catégorie]],'coulisses 2'!$A$1:$B$20,2,0)","v":0}]
[null,null,null,null,null,null,null,null,null,null,null,null,null,null,null,null,null,{"$f":"VLOOKUP(recettesmai[[#This Row],[Catégorie]],'coulisses 2'!$A$1:$B$20,2,0)","v":0}]
[null,null,null,null,null,null,null,null,null,null,null,null,null,null,null,null,null,{"$f":"VLOOKUP(recettesmai[[#This Row],[Catégorie]],'coulisses 2'!$A$1:$B$20,2,0)","v":0}]
[null,null,null,null,null,null,null,null,null,null,null,null,null,null,null,null,null,{"$f":"VLOOKUP(recettesmai[[#This Row],[Catégorie]],'coulisses 2'!$A$1:$B$20,2,0)","v":0}]
[null,null,null,null,null,null,null,null,null,null,null,null,null,null,null,null,null,{"$f":"VLOOKUP(recettesmai[[#This Row],[Catégorie]],'coulisses 2'!$A$1:$B$20,2,0)","v":0}]
[null,null,null,null,null,null,null,null,null,null,null,null,null,null,null,null,null,{"$f":"VLOOKUP(recettesmai[[#This Row],[Catégorie]],'coulisses 2'!$A$1:$B$20,2,0)","v":0}]
[null,null,null,null,null,null,null,null,null,null,null,null,null,null,null,null,null,{"$f":"VLOOKUP(recettesmai[[#This Row],[Catégorie]],'coulisses 2'!$A$1:$B$20,2,0)","v":0}]
[null,null,null,null,null,null,null,null,null,null,null,null,null,null,null,null,null,{"$f":"VLOOKUP(recettesmai[[#This Row],[Catégorie]],'coulisses 2'!$A$1:$B$20,2,0)","v":0}]
[null,null,null,null,null,null,null,null,null,null,null,null,null,null,null,null,null,{"$f":"VLOOKUP(recettesmai[[#This Row],[Catégorie]],'coulisses 2'!$A$1:$B$20,2,0)","v":0}]
[null,null,null,null,null,null,null,null,null,null,null,null,null,null,null,null,null,{"$f":"VLOOKUP(recettesmai[[#This Row],[Catégorie]],'coulisses 2'!$A$1:$B$20,2,0)","v":0}]
[null,null,null,null,null,null,null,null,null,null,null,null,null,null,null,null,null,{"$f":"VLOOKUP(recettesmai[[#This Row],[Catégorie]],'coulisses 2'!$A$1:$B$20,2,0)","v":0}]
[null,null,null,null,null,null,null,null,null,null,null,null,null,null,null,null,null,{"$f":"VLOOKUP(recettesmai[[#This Row],[Catégorie]],'coulisses 2'!$A$1:$B$20,2,0)","v":0}]
[null,null,null,null,null,null,null,null,null,null,null,null,null,null,null,null,null,{"$f":"VLOOKUP(recettesmai[[#This Row],[Catégorie]],'coulisses 2'!$A$1:$B$20,2,0)","v":0}]
[null,null,null,null,null,null,null,null,null,null,null,null,null,null,null,null,null,{"$f":"VLOOKUP(recettesmai[[#This Row],[Catégorie]],'coulisses 2'!$A$1:$B$20,2,0)","v":0}]

{"sheet":"☀️ 06","index":6,"n_rows":304,"n_cols":24,"rows_kept":304,"cut":false,"hidden":false,"merged":[[1,1,1,4],[1,9,1,12]]}
[null,{"$f":"'👩🏻‍🏫 Bienvenue !'!K7","v":0},null,{"$f":" '👩🏻‍🏫 Bienvenue !'!I12&\" - \"&\"Juin \"&'👩🏻‍🏫 Bienvenue !'!I16","v":" - Juin "},null,null,null,null,null,null,null,null,null,null,"VOTRE PROFIT DU MOIS",{"$f":"H2-P2","v":0}]
[null,"Vos recettes 💰",null,null,null,null,"TOTAL",{"$f":"SUM(recettesjuin[Montant])","v":0},null,"Vos dépenses 🧾",null,null,null,null,"TOTAL",{"$f":"SUM(depensesjuin[Montant])","v":0}]
[]
[null,"Date","Mode de paiement","N°","Libellé et nom du client","Catégorie","Axe","Montant",null,"Date","Mode de paiement","N°","Libellé","Catégorie","Axe","Montant",null,"Taux"]
[null,null,null,null,null,null,null,null,null,null,null,"J1","Cotisations sociales Avril - Taux 1","Cotisations sociales",null,{"$f":"'🐟 04'!X29","v":0},null,{"$f":"VLOOKUP(recettesjuin[[#This Row],[Catégorie]],'coulisses 2'!$A$1:$B$20,2,0)","v":0},null,"Récapitulatif par type de dépense",{"$f":"SUM(U6:U26)","v":0},null,"Récapitulatif par type de recette",{"$f":"SUM(X6:X26)","v":0}]
[null,null,null,null,null,null,null,null,null,null,null,"J2","Cotisations sociales Avril - Taux 2","Cotisations sociales",null,{"$f":"'🐟 04'!X30","v":0},null,{"$f":"VLOOKUP(recettesjuin[[#This Row],[Catégorie]],'coulisses 2'!$A$1:$B$20,2,0)","v":0},null,{"$f":"coulisses!J23","v":0},{"$f":"SUMIF(depensesjuin[Catégorie],T6,depensesjuin[Montant])","v":0},null,{"$f":"coulisses!J3","v":0},{"$f":"SUMIF(recettesjuin[Catégorie],W6,recettesjuin[Montant])","v":0}]
[null,null,null,null,null,null,null,null,null,null,null,"J3","Cotisations sociales Avril - Taux 3","Cotisations sociales",null,{"$f":"'🐟 04'!X31","v":0},null,{"$f":"VLOOKUP(recettesjuin[[#This Row],[Catégorie]],'coulisses 2'!$A$1:$B$20,2,0)","v":0},null,{"$f":"coulisses!J24","v":0},{"$f":"SUMIF(depensesjuin[Catégorie],T7,depensesjuin[Montant])","v":0},null,{"$f":"coulisses!J4","v":0},{"$f":"SUMIF(recettesjuin[Catégorie],W7,recettesjuin[Montant])","v":0}]
[null,null,null,null,null,null,null,null,null,null,null,null,null,null,null,null,null,{"$f":"VLOOKUP(recettesjuin[[#This Row],[Catégorie]],'coulisses 2'!$A$1:$B$20,2,0)","v":0},null,{"$f":"coulisses!J25","v":0},{"$f":"SUMIF(depensesjuin[Catégorie],T8,depensesjuin[Montant])","v":0},null,{"$f":"coulisses!J5","v":0},{"$f":"SUMIF(recettesjuin[Catégorie],W8,recettesjuin[Montant])","v":0}]
[null,null,null,null,null,null,null,null,null,null,null,null,null,null,null,null,null,{"$f":"VLOOKUP(recettesjuin[[#This Row],[Catégorie]],'coulisses 2'!$A$1:$B$20,2,0)","v":0},null,{"$f":"coulisses!J26","v":0},{"$f":"SUMIF(depensesjuin[Catégorie],T9,depensesjuin[Montant])","v":0},null,{"$f":"coulisses!J6","v":0},{"$f":"SUMIF(recettesjuin[Catégorie],W9,recettesjuin[Montant])","v":0}]
[null,null,null,null,null,null,null,null,null,null,null,null,null,null,null,null,null,{"$f":"VLOOKUP(recettesjuin[[#This Row],[Catégorie]],'coulisses 2'!$A$1:$B$20,2,0)","v":0},null,{"$f":"coulisses!J27","v":0},{"$f":"SUMIF(depensesjuin[Catégorie],T10,depensesjuin[Montant])","v":0},null,{"$f":"coulisses!J7","v":0},{"$f":"SUMIF(recettesjuin[Catégorie],W10,recettesjuin[Montant])","v":0}]
[null,null,null,null,null,null,null,null,null,null,null,null,null,null,null,null,null,{"$f":"VLOOKUP(recettesjuin[[#This Row],[Catégorie]],'coulisses 2'!$A$1:$B$20,2,0)","v":0},null,{"$f":"coulisses!J28","v":0},{"$f":"SUMIF(depensesjuin[Catégorie],T11,depensesjuin[Montant])","v":0},null,{"$f":"coulisses!J8","v":0},{"$f":"SUMIF(recettesjuin[Catégorie],W11,recettesjuin[Montant])","v":0}]
[null,null,null,null,null,null,null,null,null,null,null,null,null,null,null,null,null,{"$f":"VLOOKUP(recettesjuin[[#This Row],[Catégorie]],'coulisses 2'!$A$1:$B$20,2,0)","v":0},null,{"$f":"coulisses!J29","v":0},{"$f":"SUMIF(depensesjuin[Catégorie],T12,depensesjuin[Montant])","v":0},null,{"$f":"coulisses!J9","v":0},{"$f":"SUMIF(recettesjuin[Catégorie],W12,recettesjuin[Montant])","v":0}]
[null,null,null,null,null,null,null,null,null,null,null,null,null,null,null,null,null,{"$f":"VLOOKUP(recettesjuin[[#This Row],[Catégorie]],'coulisses 2'!$A$1:$B$20,2,0)","v":0},null,{"$f":"coulisses!J30","v":0},{"$f":"SUMIF(depensesjuin[Catégorie],T13,depensesjuin[Montant])","v":0},null,{"$f":"coulisses!J10","v":0},{"$f":"SUMIF(recettesjuin[Catégorie],W13,recettesjuin[Montant])","v":0}]
[null,null,null,null,null,null,null,null,null,null,null,null,null,null,null,null,null,{"$f":"VLOOKUP(recettesjuin[[#This Row],[Catégorie]],'coulisses 2'!$A$1:$B$20,2,0)","v":0},null,{"$f":"coulisses!J31","v":0},{"$f":"SUMIF(depensesjuin[Catégorie],T14,depensesjuin[Montant])","v":0},null,{"$f":"coulisses!J11","v":0},{"$f":"SUMIF(recettesjuin[Catégorie],W14,recettesjuin[Montant])","v":0}]
[null,null,null,null,null,null,null,null,null,null,null,null,null,null,null,null,null,{"$f":"VLOOKUP(recettesjuin[[#This Row],[Catégorie]],'coulisses 2'!$A$1:$B$20,2,0)","v":0},null,{"$f":"coulisses!J32","v":0},{"$f":"SUMIF(depensesjuin[Catégorie],T15,depensesjuin[Montant])","v":0},null,{"$f":"coulisses!J12","v":0},{"$f":"SUMIF(recettesjuin[Catégorie],W15,recettesjuin[Montant])","v":0}]
[null,null,null,null,null,null,null,null,null,null,null,null,null,null,null,null,null,{"$f":"VLOOKUP(recettesjuin[[#This Row],[Catégorie]],'coulisses 2'!$A$1:$B$20,2,0)","v":0},null,{"$f":"coulisses!J33","v":0},{"$f":"SUMIF(depensesjuin[Catégorie],T16,depensesjuin[Montant])","v":0},null,{"$f":"coulisses!J13","v":0},{"$f":"SUMIF(recettesjuin[Catégorie],W16,recettesjuin[Montant])","v":0}]
[null,null,null,null,null,null,null,null,null,null,null,null,null,null,null,null,null,{"$f":"VLOOKUP(recettesjuin[[#This Row],[Catégorie]],'coulisses 2'!$A$1:$B$20,2,0)","v":0},null,{"$f":"coulisses!J34","v":0},{"$f":"SUMIF(depensesjuin[Catégorie],T17,depensesjuin[Montant])","v":0},null,{"$f":"coulisses!J14","v":0},{"$f":"SUMIF(recettesjuin[Catégorie],W17,recettesjuin[Montant])","v":0}]
[null,null,null,null,null,null,null,null,null,null,null,null,null,null,null,null,null,{"$f":"VLOOKUP(recettesjuin[[#This Row],[Catégorie]],'coulisses 2'!$A$1:$B$20,2,0)","v":0},null,{"$f":"coulisses!J35","v":0},{"$f":"SUMIF(depensesjuin[Catégorie],T18,depensesjuin[Montant])","v":0},null,{"$f":"coulisses!J15","v":0},{"$f":"SUMIF(recettesjuin[Catégorie],W18,recettesjuin[Montant])","v":0}]
[null,null,null,null,null,null,null,null,null,null,null,null,null,null,null,null,null,{"$f":"VLOOKUP(recettesjuin[[#This Row],[Catégorie]],'coulisses 2'!$A$1:$B$20,2,0)","v":0},null,{"$f":"coulisses!J36","v":0},{"$f":"SUMIF(depensesjuin[Catégorie],T19,depensesjuin[Montant])","v":0},null,{"$f":"coulisses!J16","v":0},{"$f":"SUMIF(recettesjuin[Catégorie],W19,recettesjuin[Montant])","v":0}]
[null,null,null,null,null,null,null,null,null,null,null,null,null,null,null,null,null,{"$f":"VLOOKUP(recettesjuin[[#This Row],[Catégorie]],'coulisses 2'!$A$1:$B$20,2,0)","v":0},null,{"$f":"coulisses!J37","v":0},{"$f":"SUMIF(depensesjuin[Catégorie],T20,depensesjuin[Montant])","v":0},null,{"$f":"coulisses!J17","v":0},{"$f":"SUMIF(recettesjuin[Catégorie],W20,recettesjuin[Montant])","v":0}]
[null,null,null,null,null,null,null,null,null,null,null,null,null,null,null,null,null,{"$f":"VLOOKUP(recettesjuin[[#This Row],[Catégorie]],'coulisses 2'!$A$1:$B$20,2,0)","v":0},null,{"$f":"coulisses!J38","v":0},{"$f":"SUMIF(depensesjuin[Catégorie],T21,depensesjuin[Montant])","v":0},null,{"$f":"coulisses!J18","v":0},{"$f":"SUMIF(recettesjuin[Catégorie],W21,recettesjuin[Montant])","v":0}]
[null,null,null,null,null,null,null,null,null,null,null,null,null,null,null,null,null,{"$f":"VLOOKUP(recettesjuin[[#This Row],[Catégorie]],'coulisses 2'!$A$1:$B$20,2,0)","v":0},null,{"$f":"coulisses!J39","v":0},{"$f":"SUMIF(depensesjuin[Catégorie],T22,depensesjuin[Montant])","v":0},null,{"$f":"coulisses!J19","v":0},{"$f":"SUMIF(recettesjuin[Catégorie],W22,recettesjuin[Montant])","v":0}]
[null,null,null,null,null,null,null,null,null,null,null,null,null,null,null,null,null,{"$f":"VLOOKUP(recettesjuin[[#This Row],[Catégorie]],'coulisses 2'!$A$1:$B$20,2,0)","v":0},null,{"$f":"coulisses!J40","v":0},{"$f":"SUMIF(depensesjuin[Catégorie],T23,depensesjuin[Montant])","v":0},null,{"$f":"coulisses!J20","v":0},{"$f":"SUMIF(recettesjuin[Catégorie],W23,recettesjuin[Montant])","v":0}]
[null,null,null,null,null,null,null,null,null,null,null,null,null,null,null,null,null,{"$f":"VLOOKUP(recettesjuin[[#This Row],[Catégorie]],'coulisses 2'!$A$1:$B$20,2,0)","v":0},null,{"$f":"coulisses!J41","v":0},{"$f":"SUMIF(depensesjuin[Catégorie],T24,depensesjuin[Montant])","v":0},null,{"$f":"coulisses!J21","v":0},{"$f":"SUMIF(recettesjuin[Catégorie],W24,recettesjuin[Montant])","v":0}]
[null,null,null,null,null,null,null,null,null,null,null,null,null,null,null,null,null,{"$f":"VLOOKUP(recettesjuin[[#This Row],[Catégorie]],'coulisses 2'!$A$1:$B$20,2,0)","v":0},null,{"$f":"coulisses!J42","v":"Cotisations sociales"},{"$f":"SUMIF(depensesjuin[Catégorie],T25,depensesjuin[Montant])","v":0},null,{"$f":"coulisses!J22","v":0},{"$f":"SUMIF(recettesjuin[Catégorie],W25,recettesjuin[Montant])","v":0}]
[null,null,null,null,null,null,null,null,null,null,null,null,null,null,null,null,null,{"$f":"VLOOKUP(recettesjuin[[#This Row],[Catégorie]],'coulisses 2'!$A$1:$B$20,2,0)","v":0}]
[null,null,null,null,null,null,null,null,null,null,null,null,null,null,null,null,null,{"$f":"VLOOKUP(recettesjuin[[#This Row],[Catégorie]],'coulisses 2'!$A$1:$B$20,2,0)","v":0}]
[null,null,null,null,null,null,null,null,null,null,null,null,null,null,null,null,null,{"$f":"VLOOKUP(recettesjuin[[#This Row],[Catégorie]],'coulisses 2'!$A$1:$B$20,2,0)","v":0},null,"Estimation des charges dues sur le CA du mois",null,"CA","Taux","A payer"]
[null,null,null,null,null,null,null,null,null,null,null,null,null,null,null,null,null,{"$f":"VLOOKUP(recettesjuin[[#This Row],[Catégorie]],'coulisses 2'!$A$1:$B$20,2,0)","v":0},null,{"$f":"'👩🏻‍🏫 Bienvenue !'!G20","v":"Taux 1"},null,{"$f":"SUMIF(R:R,W29,H:H)","v":0},{"$f":"'👩🏻‍🏫 Bienvenue !'!I20","v":0},{"$f":"W29*V29","v":0}]
[null,null,null,null,null,null,null,null,null,null,null,null,null,null,null,null,null,{"$f":"VLOOKUP(recettesjuin[[#This Row],[Catégorie]],'coulisses 2'!$A$1:$B$20,2,0)","v":0},null,{"$f":"'👩🏻‍🏫 Bienvenue !'!G21","v":"Taux 2"},null,{"$f":"SUMIF(R:R,W30,H:H)","v":0},{"$f":"'👩🏻‍🏫 Bienvenue !'!I21","v":0},{"$f":"W30*V30","v":0}]
[null,null,null,null,null,null,null,null,null,null,null,null,null,null,null,null,null,{"$f":"VLOOKUP(recettesjuin[[#This Row],[Catégorie]],'coulisses 2'!$A$1:$B$20,2,0)","v":0},null,{"$f":"'👩🏻‍🏫 Bienvenue !'!G22","v":"Taux 3"},null,0,{"$f":"'👩🏻‍🏫 Bienvenue !'!I22","v":0},{"$f":"W31*V31","v":0}]
[null,null,null,null,null,null,null,null,null,null,null,null,null,null,null,null,null,{"$f":"VLOOKUP(recettesjuin[[#This Row],[Catégorie]],'coulisses 2'!$A$1:$B$20,2,0)","v":0},null,"TOTAL",null,null,null,{"$f":"SUM(X29:X31)","v":0}]
[null,null,null,null,null,null,null,null,null,null,null,null,null,null,null,null,null,{"$f":"VLOOKUP(recettesjuin[[#This Row],[Catégorie]],'coulisses 2'!$A$1:$B$20,2,0)","v":0}]
[null,null,null,null,null,null,null,null,null,null,null,null,null,null,null,null,null,{"$f":"VLOOKUP(recettesjuin[[#This Row],[Catégorie]],'coulisses 2'!$A$1:$B$20,2,0)","v":0},null,"Rapprochement bancaire"]
[null,null,null,null,null,null,null,null,null,null,null,null,null,null,null,null,null,{"$f":"VLOOKUP(recettesjuin[[#This Row],[Catégorie]],'coulisses 2'!$A$1:$B$20,2,0)","v":0},null,"Solde du mois précédent",{"$f":"'🎾 05'!U46","v":0}]
[null,null,null,null,null,null,null,null,null,null,null,null,null,null,null,null,null,{"$f":"VLOOKUP(recettesjuin[[#This Row],[Catégorie]],'coulisses 2'!$A$1:$B$20,2,0)","v":0},null,"Profit du mois",{"$f":"P1","v":0}]
[null,null,null,null,null,null,null,null,null,null,null,null,null,null,null,null,null,{"$f":"VLOOKUP(recettesjuin[[#This Row],[Catégorie]],'coulisses 2'!$A$1:$B$20,2,0)","v":0},null,"Ecritures à rapprocher :"]
[null,null,null,null,null,null,null,null,null,null,null,null,null,null,null,null,null,{"$f":"VLOOKUP(recettesjuin[[#This Row],[Catégorie]],'coulisses 2'!$A$1:$B$20,2,0)","v":0}]
[null,null,null,null,null,null,null,null,null,null,null,null,null,null,null,null,null,{"$f":"VLOOKUP(recettesjuin[[#This Row],[Catégorie]],'coulisses 2'!$A$1:$B$20,2,0)","v":0}]
[null,null,null,null,null,null,null,null,null,null,null,null,null,null,null,null,null,{"$f":"VLOOKUP(recettesjuin[[#This Row],[Catégorie]],'coulisses 2'!$A$1:$B$20,2,0)","v":0}]
[null,null,null,null,null,null,null,null,null,null,null,null,null,null,null,null,null,{"$f":"VLOOKUP(recettesjuin[[#This Row],[Catégorie]],'coulisses 2'!$A$1:$B$20,2,0)","v":0}]
[null,null,null,null,null,null,null,null,null,null,null,null,null,null,null,null,null,{"$f":"VLOOKUP(recettesjuin[[#This Row],[Catégorie]],'coulisses 2'!$A$1:$B$20,2,0)","v":0}]
[null,null,null,null,null,null,null,null,null,null,null,null,null,null,null,null,null,{"$f":"VLOOKUP(recettesjuin[[#This Row],[Catégorie]],'coulisses 2'!$A$1:$B$20,2,0)","v":0}]
[null,null,null,null,null,null,null,null,null,null,null,null,null,null,null,null,null,{"$f":"VLOOKUP(recettesjuin[[#This Row],[Catégorie]],'coulisses 2'!$A$1:$B$20,2,0)","v":0}]
[null,null,null,null,null,null,null,null,null,null,null,null,null,null,null,null,null,{"$f":"VLOOKUP(recettesjuin[[#This Row],[Catégorie]],'coulisses 2'!$A$1:$B$20,2,0)","v":0}]
[null,null,null,null,null,null,null,null,null,null,null,null,null,null,null,null,null,{"$f":"VLOOKUP(recettesjuin[[#This Row],[Catégorie]],'coulisses 2'!$A$1:$B$20,2,0)","v":0},null,"Solde final du mois",{"$f":"U35+U36+SUM(U38:U45)","v":0}]
[null,null,null,null,null,null,null,null,null,null,null,null,null,null,null,null,null,{"$f":"VLOOKUP(recettesjuin[[#This Row],[Catégorie]],'coulisses 2'!$A$1:$B$20,2,0)","v":0},null,"Solde du relevé bancaire"]
[null,null,null,null,null,null,null,null,null,null,null,null,null,null,null,null,null,{"$f":"VLOOKUP(recettesjuin[[#This Row],[Catégorie]],'coulisses 2'!$A$1:$B$20,2,0)","v":0},null,"Contrôle (doit être à 0)",{"$f":"U46-U47","v":0}]
[null,null,null,null,null,null,null,null,null,null,null,null,null,null,null,null,null,{"$f":"VLOOKUP(recettesjuin[[#This Row],[Catégorie]],'coulisses 2'!$A$1:$B$20,2,0)","v":0}]
[null,null,null,null,null,null,null,null,null,null,null,null,null,null,null,null,null,{"$f":"VLOOKUP(recettesjuin[[#This Row],[Catégorie]],'coulisses 2'!$A$1:$B$20,2,0)","v":0},null,"Résultat par axe","CA","Dépenses","Résultat"]
[null,null,null,null,null,null,null,null,null,null,null,null,null,null,null,null,null,{"$f":"VLOOKUP(recettesjuin[[#This Row],[Catégorie]],'coulisses 2'!$A$1:$B$20,2,0)","v":0},null,{"$f":"'👩🏻‍🏫 Bienvenue !'!I73","v":0},{"$f":"SUMIF(recettesjuin[Axe],T51,recettesjuin[Montant])","v":0},{"$f":"SUMIF(depensesjuin[Axe],T51,depensesjuin[Montant])","v":0},{"$f":"U51-V51","v":0}]
[null,null,null,null,null,null,null,null,null,null,null,null,null,null,null,null,null,{"$f":"VLOOKUP(recettesjuin[[#This Row],[Catégorie]],'coulisses 2'!$A$1:$B$20,2,0)","v":0},null,{"$f":"'👩🏻‍🏫 Bienvenue !'!I74","v":0},{"$f":"SUMIF(recettesjuin[Axe],T52,recettesjuin[Montant])","v":0},{"$f":"SUMIF(depensesjuin[Axe],T52,depensesjuin[Montant])","v":0},{"$f":"U52-V52","v":0}]
[null,null,null,null,null,null,null,null,null,null,null,null,null,null,null,null,null,{"$f":"VLOOKUP(recettesjuin[[#This Row],[Catégorie]],'coulisses 2'!$A$1:$B$20,2,0)","v":0},null,{"$f":"'👩🏻‍🏫 Bienvenue !'!I75","v":0},{"$f":"SUMIF(recettesjuin[Axe],T53,recettesjuin[Montant])","v":0},{"$f":"SUMIF(depensesjuin[Axe],T53,depensesjuin[Montant])","v":0},0]
[null,null,null,null,null,null,null,null,null,null,null,null,null,null,null,null,null,{"$f":"VLOOKUP(recettesjuin[[#This Row],[Catégorie]],'coulisses 2'!$A$1:$B$20,2,0)","v":0},null,{"$f":"'👩🏻‍🏫 Bienvenue !'!I76","v":0},{"$f":"SUMIF(recettesjuin[Axe],T54,recettesjuin[Montant])","v":0},{"$f":"SUMIF(depensesjuin[Axe],T54,depensesjuin[Montant])","v":0},0]
[null,null,null,null,null,null,null,null,null,null,null,null,null,null,null,null,null,{"$f":"VLOOKUP(recettesjuin[[#This Row],[Catégorie]],'coulisses 2'!$A$1:$B$20,2,0)","v":0},null,{"$f":"'👩🏻‍🏫 Bienvenue !'!I77","v":0},{"$f":"SUMIF(recettesjuin[Axe],T55,recettesjuin[Montant])","v":0},{"$f":"SUMIF(depensesjuin[Axe],T55,depensesjuin[Montant])","v":0},0]
[null,null,null,null,null,null,null,null,null,null,null,null,null,null,null,null,null,{"$f":"VLOOKUP(recettesjuin[[#This Row],[Catégorie]],'coulisses 2'!$A$1:$B$20,2,0)","v":0},null,{"$f":"'👩🏻‍🏫 Bienvenue !'!I78","v":0},{"$f":"SUMIF(recettesjuin[Axe],T56,recettesjuin[Montant])","v":0},{"$f":"SUMIF(depensesjuin[Axe],T56,depensesjuin[Montant])","v":0},0]
[null,null,null,null,null,null,null,null,null,null,null,null,null,null,null,null,null,{"$f":"VLOOKUP(recettesjuin[[#This Row],[Catégorie]],'coulisses 2'!$A$1:$B$20,2,0)","v":0},null,{"$f":"'👩🏻‍🏫 Bienvenue !'!I79","v":0},{"$f":"SUMIF(recettesjuin[Axe],T57,recettesjuin[Montant])","v":0},{"$f":"SUMIF(depensesjuin[Axe],T57,depensesjuin[Montant])","v":0},0]
[null,null,null,null,null,null,null,null,null,null,null,null,null,null,null,null,null,{"$f":"VLOOKUP(recettesjuin[[#This Row],[Catégorie]],'coulisses 2'!$A$1:$B$20,2,0)","v":0},null,{"$f":"'👩🏻‍🏫 Bienvenue !'!I80","v":0},{"$f":"SUMIF(recettesjuin[Axe],T58,recettesjuin[Montant])","v":0},{"$f":"SUMIF(depensesjuin[Axe],T58,depensesjuin[Montant])","v":0},0]
[null,null,null,null,null,null,null,null,null,null,null,null,null,null,null,null,null,{"$f":"VLOOKUP(recettesjuin[[#This Row],[Catégorie]],'coulisses 2'!$A$1:$B$20,2,0)","v":0},null,{"$f":"'👩🏻‍🏫 Bienvenue !'!I81","v":0},{"$f":"SUMIF(recettesjuin[Axe],T59,recettesjuin[Montant])","v":0},{"$f":"SUMIF(depensesjuin[Axe],T59,depensesjuin[Montant])","v":0},0]
[null,null,null,null,null,null,null,null,null,null,null,null,null,null,null,null,null,{"$f":"VLOOKUP(recettesjuin[[#This Row],[Catégorie]],'coulisses 2'!$A$1:$B$20,2,0)","v":0},null,{"$f":"'👩🏻‍🏫 Bienvenue !'!I82","v":0},{"$f":"SUMIF(recettesjuin[Axe],T60,recettesjuin[Montant])","v":0},{"$f":"SUMIF(depensesjuin[Axe],T60,depensesjuin[Montant])","v":0},0]
[null,null,null,null,null,null,null,null,null,null,null,null,null,null,null,null,null,{"$f":"VLOOKUP(recettesjuin[[#This Row],[Catégorie]],'coulisses 2'!$A$1:$B$20,2,0)","v":0}]
[null,null,null,null,null,null,null,null,null,null,null,null,null,null,null,null,null,{"$f":"VLOOKUP(recettesjuin[[#This Row],[Catégorie]],'coulisses 2'!$A$1:$B$20,2,0)","v":0}]
[null,null,null,null,null,null,null,null,null,null,null,null,null,null,null,null,null,{"$f":"VLOOKUP(recettesjuin[[#This Row],[Catégorie]],'coulisses 2'!$A$1:$B$20,2,0)","v":0}]
[null,null,null,null,null,null,null,null,null,null,null,null,null,null,null,null,null,{"$f":"VLOOKUP(recettesjuin[[#This Row],[Catégorie]],'coulisses 2'!$A$1:$B$20,2,0)","v":0}]
[null,null,null,null,null,null,null,null,null,null,null,null,null,null,null,null,null,{"$f":"VLOOKUP(recettesjuin[[#This Row],[Catégorie]],'coulisses 2'!$A$1:$B$20,2,0)","v":0}]
[null,null,null,null,null,null,null,null,null,null,null,null,null,null,null,null,null,{"$f":"VLOOKUP(recettesjuin[[#This Row],[Catégorie]],'coulisses 2'!$A$1:$B$20,2,0)","v":0}]
[null,null,null,null,null,null,null,null,null,null,null,null,null,null,null,null,null,{"$f":"VLOOKUP(recettesjuin[[#This Row],[Catégorie]],'coulisses 2'!$A$1:$B$20,2,0)","v":0}]
[null,null,null,null,null,null,null,null,null,null,null,null,null,null,null,null,null,{"$f":"VLOOKUP(recettesjuin[[#This Row],[Catégorie]],'coulisses 2'!$A$1:$B$20,2,0)","v":0}]
[null,null,null,null,null,null,null,null,null,null,null,null,null,null,null,null,null,{"$f":"VLOOKUP(recettesjuin[[#This Row],[Catégorie]],'coulisses 2'!$A$1:$B$20,2,0)","v":0}]
[null,null,null,null,null,null,null,null,null,null,null,null,null,null,null,null,null,{"$f":"VLOOKUP(recettesjuin[[#This Row],[Catégorie]],'coulisses 2'!$A$1:$B$20,2,0)","v":0}]
[null,null,null,null,null,null,null,null,null,null,null,null,null,null,null,null,null,{"$f":"VLOOKUP(recettesjuin[[#This Row],[Catégorie]],'coulisses 2'!$A$1:$B$20,2,0)","v":0}]
[null,null,null,null,null,null,null,null,null,null,null,null,null,null,null,null,null,{"$f":"VLOOKUP(recettesjuin[[#This Row],[Catégorie]],'coulisses 2'!$A$1:$B$20,2,0)","v":0}]
[null,null,null,null,null,null,null,null,null,null,null,null,null,null,null,null,null,{"$f":"VLOOKUP(recettesjuin[[#This Row],[Catégorie]],'coulisses 2'!$A$1:$B$20,2,0)","v":0}]
[null,null,null,null,null,null,null,null,null,null,null,null,null,null,null,null,null,{"$f":"VLOOKUP(recettesjuin[[#This Row],[Catégorie]],'coulisses 2'!$A$1:$B$20,2,0)","v":0}]
[null,null,null,null,null,null,null,null,null,null,null,null,null,null,null,null,null,{"$f":"VLOOKUP(recettesjuin[[#This Row],[Catégorie]],'coulisses 2'!$A$1:$B$20,2,0)","v":0}]
[null,null,null,null,null,null,null,null,null,null,null,null,null,null,null,null,null,{"$f":"VLOOKUP(recettesjuin[[#This Row],[Catégorie]],'coulisses 2'!$A$1:$B$20,2,0)","v":0}]
[null,null,null,null,null,null,null,null,null,null,null,null,null,null,null,null,null,{"$f":"VLOOKUP(recettesjuin[[#This Row],[Catégorie]],'coulisses 2'!$A$1:$B$20,2,0)","v":0}]
[null,null,null,null,null,null,null,null,null,null,null,null,null,null,null,null,null,{"$f":"VLOOKUP(recettesjuin[[#This Row],[Catégorie]],'coulisses 2'!$A$1:$B$20,2,0)","v":0}]
[null,null,null,null,null,null,null,null,null,null,null,null,null,null,null,null,null,{"$f":"VLOOKUP(recettesjuin[[#This Row],[Catégorie]],'coulisses 2'!$A$1:$B$20,2,0)","v":0}]
[null,null,null,null,null,null,null,null,null,null,null,null,null,null,null,null,null,{"$f":"VLOOKUP(recettesjuin[[#This Row],[Catégorie]],'coulisses 2'!$A$1:$B$20,2,0)","v":0}]
[null,null,null,null,null,null,null,null,null,null,null,null,null,null,null,null,null,{"$f":"VLOOKUP(recettesjuin[[#This Row],[Catégorie]],'coulisses 2'!$A$1:$B$20,2,0)","v":0}]
[null,null,null,null,null,null,null,null,null,null,null,null,null,null,null,null,null,{"$f":"VLOOKUP(recettesjuin[[#This Row],[Catégorie]],'coulisses 2'!$A$1:$B$20,2,0)","v":0}]
[null,null,null,null,null,null,null,null,null,null,null,null,null,null,null,null,null,{"$f":"VLOOKUP(recettesjuin[[#This Row],[Catégorie]],'coulisses 2'!$A$1:$B$20,2,0)","v":0}]
[null,null,null,null,null,null,null,null,null,null,null,null,null,null,null,null,null,{"$f":"VLOOKUP(recettesjuin[[#This Row],[Catégorie]],'coulisses 2'!$A$1:$B$20,2,0)","v":0}]
[null,null,null,null,null,null,null,null,null,null,null,null,null,null,null,null,null,{"$f":"VLOOKUP(recettesjuin[[#This Row],[Catégorie]],'coulisses 2'!$A$1:$B$20,2,0)","v":0}]
[null,null,null,null,null,null,null,null,null,null,null,null,null,null,null,null,null,{"$f":"VLOOKUP(recettesjuin[[#This Row],[Catégorie]],'coulisses 2'!$A$1:$B$20,2,0)","v":0}]
[null,null,null,null,null,null,null,null,null,null,null,null,null,null,null,null,null,{"$f":"VLOOKUP(recettesjuin[[#This Row],[Catégorie]],'coulisses 2'!$A$1:$B$20,2,0)","v":0}]
[null,null,null,null,null,null,null,null,null,null,null,null,null,null,null,null,null,{"$f":"VLOOKUP(recettesjuin[[#This Row],[Catégorie]],'coulisses 2'!$A$1:$B$20,2,0)","v":0}]
[null,null,null,null,null,null,null,null,null,null,null,null,null,null,null,null,null,{"$f":"VLOOKUP(recettesjuin[[#This Row],[Catégorie]],'coulisses 2'!$A$1:$B$20,2,0)","v":0}]
[null,null,null,null,null,null,null,null,null,null,null,null,null,null,null,null,null,{"$f":"VLOOKUP(recettesjuin[[#This Row],[Catégorie]],'coulisses 2'!$A$1:$B$20,2,0)","v":0}]
[null,null,null,null,null,null,null,null,null,null,null,null,null,null,null,null,null,{"$f":"VLOOKUP(recettesjuin[[#This Row],[Catégorie]],'coulisses 2'!$A$1:$B$20,2,0)","v":0}]
[null,null,null,null,null,null,null,null,null,null,null,null,null,null,null,null,null,{"$f":"VLOOKUP(recettesjuin[[#This Row],[Catégorie]],'coulisses 2'!$A$1:$B$20,2,0)","v":0}]
[null,null,null,null,null,null,null,null,null,null,null,null,null,null,null,null,null,{"$f":"VLOOKUP(recettesjuin[[#This Row],[Catégorie]],'coulisses 2'!$A$1:$B$20,2,0)","v":0}]
[null,null,null,null,null,null,null,null,null,null,null,null,null,null,null,null,null,{"$f":"VLOOKUP(recettesjuin[[#This Row],[Catégorie]],'coulisses 2'!$A$1:$B$20,2,0)","v":0}]
[null,null,null,null,null,null,null,null,null,null,null,null,null,null,null,null,null,{"$f":"VLOOKUP(recettesjuin[[#This Row],[Catégorie]],'coulisses 2'!$A$1:$B$20,2,0)","v":0}]
[null,null,null,null,null,null,null,null,null,null,null,null,null,null,null,null,null,{"$f":"VLOOKUP(recettesjuin[[#This Row],[Catégorie]],'coulisses 2'!$A$1:$B$20,2,0)","v":0}]
[null,null,null,null,null,null,null,null,null,null,null,null,null,null,null,null,null,{"$f":"VLOOKUP(recettesjuin[[#This Row],[Catégorie]],'coulisses 2'!$A$1:$B$20,2,0)","v":0}]
[null,null,null,null,null,null,null,null,null,null,null,null,null,null,null,null,null,{"$f":"VLOOKUP(recettesjuin[[#This Row],[Catégorie]],'coulisses 2'!$A$1:$B$20,2,0)","v":0}]
[null,null,null,null,null,null,null,null,null,null,null,null,null,null,null,null,null,{"$f":"VLOOKUP(recettesjuin[[#This Row],[Catégorie]],'coulisses 2'!$A$1:$B$20,2,0)","v":0}]
[null,null,null,null,null,null,null,null,null,null,null,null,null,null,null,null,null,{"$f":"VLOOKUP(recettesjuin[[#This Row],[Catégorie]],'coulisses 2'!$A$1:$B$20,2,0)","v":0}]
[null,null,null,null,null,null,null,null,null,null,null,null,null,null,null,null,null,{"$f":"VLOOKUP(recettesjuin[[#This Row],[Catégorie]],'coulisses 2'!$A$1:$B$20,2,0)","v":0}]
[null,null,null,null,null,null,null,null,null,null,null,null,null,null,null,null,null,{"$f":"VLOOKUP(recettesjuin[[#This Row],[Catégorie]],'coulisses 2'!$A$1:$B$20,2,0)","v":0}]
[null,null,null,null,null,null,null,null,null,null,null,null,null,null,null,null,null,{"$f":"VLOOKUP(recettesjuin[[#This Row],[Catégorie]],'coulisses 2'!$A$1:$B$20,2,0)","v":0}]
[null,null,null,null,null,null,null,null,null,null,null,null,null,null,null,null,null,{"$f":"VLOOKUP(recettesjuin[[#This Row],[Catégorie]],'coulisses 2'!$A$1:$B$20,2,0)","v":0}]
[null,null,null,null,null,null,null,null,null,null,null,null,null,null,null,null,null,{"$f":"VLOOKUP(recettesjuin[[#This Row],[Catégorie]],'coulisses 2'!$A$1:$B$20,2,0)","v":0}]
[null,null,null,null,null,null,null,null,null,null,null,null,null,null,null,null,null,{"$f":"VLOOKUP(recettesjuin[[#This Row],[Catégorie]],'coulisses 2'!$A$1:$B$20,2,0)","v":0}]
[null,null,null,null,null,null,null,null,null,null,null,null,null,null,null,null,null,{"$f":"VLOOKUP(recettesjuin[[#This Row],[Catégorie]],'coulisses 2'!$A$1:$B$20,2,0)","v":0}]
[null,null,null,null,null,null,null,null,null,null,null,null,null,null,null,null,null,{"$f":"VLOOKUP(recettesjuin[[#This Row],[Catégorie]],'coulisses 2'!$A$1:$B$20,2,0)","v":0}]
[null,null,null,null,null,null,null,null,null,null,null,null,null,null,null,null,null,{"$f":"VLOOKUP(recettesjuin[[#This Row],[Catégorie]],'coulisses 2'!$A$1:$B$20,2,0)","v":0}]
[null,null,null,null,null,null,null,null,null,null,null,null,null,null,null,null,null,{"$f":"VLOOKUP(recettesjuin[[#This Row],[Catégorie]],'coulisses 2'!$A$1:$B$20,2,0)","v":0}]
[null,null,null,null,null,null,null,null,null,null,null,null,null,null,null,null,null,{"$f":"VLOOKUP(recettesjuin[[#This Row],[Catégorie]],'coulisses 2'!$A$1:$B$20,2,0)","v":0}]
[null,null,null,null,null,null,null,null,null,null,null,null,null,null,null,null,null,{"$f":"VLOOKUP(recettesjuin[[#This Row],[Catégorie]],'coulisses 2'!$A$1:$B$20,2,0)","v":0}]
[null,null,null,null,null,null,null,null,null,null,null,null,null,null,null,null,null,{"$f":"VLOOKUP(recettesjuin[[#This Row],[Catégorie]],'coulisses 2'!$A$1:$B$20,2,0)","v":0}]
[null,null,null,null,null,null,null,null,null,null,null,null,null,null,null,null,null,{"$f":"VLOOKUP(recettesjuin[[#This Row],[Catégorie]],'coulisses 2'!$A$1:$B$20,2,0)","v":0}]
[null,null,null,null,null,null,null,null,null,null,null,null,null,null,null,null,null,{"$f":"VLOOKUP(recettesjuin[[#This Row],[Catégorie]],'coulisses 2'!$A$1:$B$20,2,0)","v":0}]
[null,null,null,null,null,null,null,null,null,null,null,null,null,null,null,null,null,{"$f":"VLOOKUP(recettesjuin[[#This Row],[Catégorie]],'coulisses 2'!$A$1:$B$20,2,0)","v":0}]
[null,null,null,null,null,null,null,null,null,null,null,null,null,null,null,null,null,{"$f":"VLOOKUP(recettesjuin[[#This Row],[Catégorie]],'coulisses 2'!$A$1:$B$20,2,0)","v":0}]
[null,null,null,null,null,null,null,null,null,null,null,null,null,null,null,null,null,{"$f":"VLOOKUP(recettesjuin[[#This Row],[Catégorie]],'coulisses 2'!$A$1:$B$20,2,0)","v":0}]
[null,null,null,null,null,null,null,null,null,null,null,null,null,null,null,null,null,{"$f":"VLOOKUP(recettesjuin[[#This Row],[Catégorie]],'coulisses 2'!$A$1:$B$20,2,0)","v":0}]
[null,null,null,null,null,null,null,null,null,null,null,null,null,null,null,null,null,{"$f":"VLOOKUP(recettesjuin[[#This Row],[Catégorie]],'coulisses 2'!$A$1:$B$20,2,0)","v":0}]
[null,null,null,null,null,null,null,null,null,null,null,null,null,null,null,null,null,{"$f":"VLOOKUP(recettesjuin[[#This Row],[Catégorie]],'coulisses 2'!$A$1:$B$20,2,0)","v":0}]
[null,null,null,null,null,null,null,null,null,null,null,null,null,null,null,null,null,{"$f":"VLOOKUP(recettesjuin[[#This Row],[Catégorie]],'coulisses 2'!$A$1:$B$20,2,0)","v":0}]
[null,null,null,null,null,null,null,null,null,null,null,null,null,null,null,null,null,{"$f":"VLOOKUP(recettesjuin[[#This Row],[Catégorie]],'coulisses 2'!$A$1:$B$20,2,0)","v":0}]
[null,null,null,null,null,null,null,null,null,null,null,null,null,null,null,null,null,{"$f":"VLOOKUP(recettesjuin[[#This Row],[Catégorie]],'coulisses 2'!$A$1:$B$20,2,0)","v":0}]
[null,null,null,null,null,null,null,null,null,null,null,null,null,null,null,null,null,{"$f":"VLOOKUP(recettesjuin[[#This Row],[Catégorie]],'coulisses 2'!$A$1:$B$20,2,0)","v":0}]
[null,null,null,null,null,null,null,null,null,null,null,null,null,null,null,null,null,{"$f":"VLOOKUP(recettesjuin[[#This Row],[Catégorie]],'coulisses 2'!$A$1:$B$20,2,0)","v":0}]
[null,null,null,null,null,null,null,null,null,null,null,null,null,null,null,null,null,{"$f":"VLOOKUP(recettesjuin[[#This Row],[Catégorie]],'coulisses 2'!$A$1:$B$20,2,0)","v":0}]
[null,null,null,null,null,null,null,null,null,null,null,null,null,null,null,null,null,{"$f":"VLOOKUP(recettesjuin[[#This Row],[Catégorie]],'coulisses 2'!$A$1:$B$20,2,0)","v":0}]
[null,null,null,null,null,null,null,null,null,null,null,null,null,null,null,null,null,{"$f":"VLOOKUP(recettesjuin[[#This Row],[Catégorie]],'coulisses 2'!$A$1:$B$20,2,0)","v":0}]
[null,null,null,null,null,null,null,null,null,null,null,null,null,null,null,null,null,{"$f":"VLOOKUP(recettesjuin[[#This Row],[Catégorie]],'coulisses 2'!$A$1:$B$20,2,0)","v":0}]
[null,null,null,null,null,null,null,null,null,null,null,null,null,null,null,null,null,{"$f":"VLOOKUP(recettesjuin[[#This Row],[Catégorie]],'coulisses 2'!$A$1:$B$20,2,0)","v":0}]
[null,null,null,null,null,null,null,null,null,null,null,null,null,null,null,null,null,{"$f":"VLOOKUP(recettesjuin[[#This Row],[Catégorie]],'coulisses 2'!$A$1:$B$20,2,0)","v":0}]
[null,null,null,null,null,null,null,null,null,null,null,null,null,null,null,null,null,{"$f":"VLOOKUP(recettesjuin[[#This Row],[Catégorie]],'coulisses 2'!$A$1:$B$20,2,0)","v":0}]
[null,null,null,null,null,null,null,null,null,null,null,null,null,null,null,null,null,{"$f":"VLOOKUP(recettesjuin[[#This Row],[Catégorie]],'coulisses 2'!$A$1:$B$20,2,0)","v":0}]
[null,null,null,null,null,null,null,null,null,null,null,null,null,null,null,null,null,{"$f":"VLOOKUP(recettesjuin[[#This Row],[Catégorie]],'coulisses 2'!$A$1:$B$20,2,0)","v":0}]
[null,null,null,null,null,null,null,null,null,null,null,null,null,null,null,null,null,{"$f":"VLOOKUP(recettesjuin[[#This Row],[Catégorie]],'coulisses 2'!$A$1:$B$20,2,0)","v":0}]
[null,null,null,null,null,null,null,null,null,null,null,null,null,null,null,null,null,{"$f":"VLOOKUP(recettesjuin[[#This Row],[Catégorie]],'coulisses 2'!$A$1:$B$20,2,0)","v":0}]
[null,null,null,null,null,null,null,null,null,null,null,null,null,null,null,null,null,{"$f":"VLOOKUP(recettesjuin[[#This Row],[Catégorie]],'coulisses 2'!$A$1:$B$20,2,0)","v":0}]
[null,null,null,null,null,null,null,null,null,null,null,null,null,null,null,null,null,{"$f":"VLOOKUP(recettesjuin[[#This Row],[Catégorie]],'coulisses 2'!$A$1:$B$20,2,0)","v":0}]
[null,null,null,null,null,null,null,null,null,null,null,null,null,null,null,null,null,{"$f":"VLOOKUP(recettesjuin[[#This Row],[Catégorie]],'coulisses 2'!$A$1:$B$20,2,0)","v":0}]
[null,null,null,null,null,null,null,null,null,null,null,null,null,null,null,null,null,{"$f":"VLOOKUP(recettesjuin[[#This Row],[Catégorie]],'coulisses 2'!$A$1:$B$20,2,0)","v":0}]
[null,null,null,null,null,null,null,null,null,null,null,null,null,null,null,null,null,{"$f":"VLOOKUP(recettesjuin[[#This Row],[Catégorie]],'coulisses 2'!$A$1:$B$20,2,0)","v":0}]
[null,null,null,null,null,null,null,null,null,null,null,null,null,null,null,null,null,{"$f":"VLOOKUP(recettesjuin[[#This Row],[Catégorie]],'coulisses 2'!$A$1:$B$20,2,0)","v":0}]
[null,null,null,null,null,null,null,null,null,null,null,null,null,null,null,null,null,{"$f":"VLOOKUP(recettesjuin[[#This Row],[Catégorie]],'coulisses 2'!$A$1:$B$20,2,0)","v":0}]
[null,null,null,null,null,null,null,null,null,null,null,null,null,null,null,null,null,{"$f":"VLOOKUP(recettesjuin[[#This Row],[Catégorie]],'coulisses 2'!$A$1:$B$20,2,0)","v":0}]
[null,null,null,null,null,null,null,null,null,null,null,null,null,null,null,null,null,{"$f":"VLOOKUP(recettesjuin[[#This Row],[Catégorie]],'coulisses 2'!$A$1:$B$20,2,0)","v":0}]
[null,null,null,null,null,null,null,null,null,null,null,null,null,null,null,null,null,{"$f":"VLOOKUP(recettesjuin[[#This Row],[Catégorie]],'coulisses 2'!$A$1:$B$20,2,0)","v":0}]
[null,null,null,null,null,null,null,null,null,null,null,null,null,null,null,null,null,{"$f":"VLOOKUP(recettesjuin[[#This Row],[Catégorie]],'coulisses 2'!$A$1:$B$20,2,0)","v":0}]
[null,null,null,null,null,null,null,null,null,null,null,null,null,null,null,null,null,{"$f":"VLOOKUP(recettesjuin[[#This Row],[Catégorie]],'coulisses 2'!$A$1:$B$20,2,0)","v":0}]
[null,null,null,null,null,null,null,null,null,null,null,null,null,null,null,null,null,{"$f":"VLOOKUP(recettesjuin[[#This Row],[Catégorie]],'coulisses 2'!$A$1:$B$20,2,0)","v":0}]
[null,null,null,null,null,null,null,null,null,null,null,null,null,null,null,null,null,{"$f":"VLOOKUP(recettesjuin[[#This Row],[Catégorie]],'coulisses 2'!$A$1:$B$20,2,0)","v":0}]
[null,null,null,null,null,null,null,null,null,null,null,null,null,null,null,null,null,{"$f":"VLOOKUP(recettesjuin[[#This Row],[Catégorie]],'coulisses 2'!$A$1:$B$20,2,0)","v":0}]
[null,null,null,null,null,null,null,null,null,null,null,null,null,null,null,null,null,{"$f":"VLOOKUP(recettesjuin[[#This Row],[Catégorie]],'coulisses 2'!$A$1:$B$20,2,0)","v":0}]
[null,null,null,null,null,null,null,null,null,null,null,null,null,null,null,null,null,{"$f":"VLOOKUP(recettesjuin[[#This Row],[Catégorie]],'coulisses 2'!$A$1:$B$20,2,0)","v":0}]
[null,null,null,null,null,null,null,null,null,null,null,null,null,null,null,null,null,{"$f":"VLOOKUP(recettesjuin[[#This Row],[Catégorie]],'coulisses 2'!$A$1:$B$20,2,0)","v":0}]
[null,null,null,null,null,null,null,null,null,null,null,null,null,null,null,null,null,{"$f":"VLOOKUP(recettesjuin[[#This Row],[Catégorie]],'coulisses 2'!$A$1:$B$20,2,0)","v":0}]
[null,null,null,null,null,null,null,null,null,null,null,null,null,null,null,null,null,{"$f":"VLOOKUP(recettesjuin[[#This Row],[Catégorie]],'coulisses 2'!$A$1:$B$20,2,0)","v":0}]
[null,null,null,null,null,null,null,null,null,null,null,null,null,null,null,null,null,{"$f":"VLOOKUP(recettesjuin[[#This Row],[Catégorie]],'coulisses 2'!$A$1:$B$20,2,0)","v":0}]
[null,null,null,null,null,null,null,null,null,null,null,null,null,null,null,null,null,{"$f":"VLOOKUP(recettesjuin[[#This Row],[Catégorie]],'coulisses 2'!$A$1:$B$20,2,0)","v":0}]
[null,null,null,null,null,null,null,null,null,null,null,null,null,null,null,null,null,{"$f":"VLOOKUP(recettesjuin[[#This Row],[Catégorie]],'coulisses 2'!$A$1:$B$20,2,0)","v":0}]
[null,null,null,null,null,null,null,null,null,null,null,null,null,null,null,null,null,{"$f":"VLOOKUP(recettesjuin[[#This Row],[Catégorie]],'coulisses 2'!$A$1:$B$20,2,0)","v":0}]
[null,null,null,null,null,null,null,null,null,null,null,null,null,null,null,null,null,{"$f":"VLOOKUP(recettesjuin[[#This Row],[Catégorie]],'coulisses 2'!$A$1:$B$20,2,0)","v":0}]
[null,null,null,null,null,null,null,null,null,null,null,null,null,null,null,null,null,{"$f":"VLOOKUP(recettesjuin[[#This Row],[Catégorie]],'coulisses 2'!$A$1:$B$20,2,0)","v":0}]
[null,null,null,null,null,null,null,null,null,null,null,null,null,null,null,null,null,{"$f":"VLOOKUP(recettesjuin[[#This Row],[Catégorie]],'coulisses 2'!$A$1:$B$20,2,0)","v":0}]
[null,null,null,null,null,null,null,null,null,null,null,null,null,null,null,null,null,{"$f":"VLOOKUP(recettesjuin[[#This Row],[Catégorie]],'coulisses 2'!$A$1:$B$20,2,0)","v":0}]
[null,null,null,null,null,null,null,null,null,null,null,null,null,null,null,null,null,{"$f":"VLOOKUP(recettesjuin[[#This Row],[Catégorie]],'coulisses 2'!$A$1:$B$20,2,0)","v":0}]
[null,null,null,null,null,null,null,null,null,null,null,null,null,null,null,null,null,{"$f":"VLOOKUP(recettesjuin[[#This Row],[Catégorie]],'coulisses 2'!$A$1:$B$20,2,0)","v":0}]
[null,null,null,null,null,null,null,null,null,null,null,null,null,null,null,null,null,{"$f":"VLOOKUP(recettesjuin[[#This Row],[Catégorie]],'coulisses 2'!$A$1:$B$20,2,0)","v":0}]
[null,null,null,null,null,null,null,null,null,null,null,null,null,null,null,null,null,{"$f":"VLOOKUP(recettesjuin[[#This Row],[Catégorie]],'coulisses 2'!$A$1:$B$20,2,0)","v":0}]
[null,null,null,null,null,null,null,null,null,null,null,null,null,null,null,null,null,{"$f":"VLOOKUP(recettesjuin[[#This Row],[Catégorie]],'coulisses 2'!$A$1:$B$20,2,0)","v":0}]
[null,null,null,null,null,null,null,null,null,null,null,null,null,null,null,null,null,{"$f":"VLOOKUP(recettesjuin[[#This Row],[Catégorie]],'coulisses 2'!$A$1:$B$20,2,0)","v":0}]
[null,null,null,null,null,null,null,null,null,null,null,null,null,null,null,null,null,{"$f":"VLOOKUP(recettesjuin[[#This Row],[Catégorie]],'coulisses 2'!$A$1:$B$20,2,0)","v":0}]
[null,null,null,null,null,null,null,null,null,null,null,null,null,null,null,null,null,{"$f":"VLOOKUP(recettesjuin[[#This Row],[Catégorie]],'coulisses 2'!$A$1:$B$20,2,0)","v":0}]
[null,null,null,null,null,null,null,null,null,null,null,null,null,null,null,null,null,{"$f":"VLOOKUP(recettesjuin[[#This Row],[Catégorie]],'coulisses 2'!$A$1:$B$20,2,0)","v":0}]
[null,null,null,null,null,null,null,null,null,null,null,null,null,null,null,null,null,{"$f":"VLOOKUP(recettesjuin[[#This Row],[Catégorie]],'coulisses 2'!$A$1:$B$20,2,0)","v":0}]
[null,null,null,null,null,null,null,null,null,null,null,null,null,null,null,null,null,{"$f":"VLOOKUP(recettesjuin[[#This Row],[Catégorie]],'coulisses 2'!$A$1:$B$20,2,0)","v":0}]
[null,null,null,null,null,null,null,null,null,null,null,null,null,null,null,null,null,{"$f":"VLOOKUP(recettesjuin[[#This Row],[Catégorie]],'coulisses 2'!$A$1:$B$20,2,0)","v":0}]
[null,null,null,null,null,null,null,null,null,null,null,null,null,null,null,null,null,{"$f":"VLOOKUP(recettesjuin[[#This Row],[Catégorie]],'coulisses 2'!$A$1:$B$20,2,0)","v":0}]
[null,null,null,null,null,null,null,null,null,null,null,null,null,null,null,null,null,{"$f":"VLOOKUP(recettesjuin[[#This Row],[Catégorie]],'coulisses 2'!$A$1:$B$20,2,0)","v":0}]
[null,null,null,null,null,null,null,null,null,null,null,null,null,null,null,null,null,{"$f":"VLOOKUP(recettesjuin[[#This Row],[Catégorie]],'coulisses 2'!$A$1:$B$20,2,0)","v":0}]
[null,null,null,null,null,null,null,null,null,null,null,null,null,null,null,null,null,{"$f":"VLOOKUP(recettesjuin[[#This Row],[Catégorie]],'coulisses 2'!$A$1:$B$20,2,0)","v":0}]
[null,null,null,null,null,null,null,null,null,null,null,null,null,null,null,null,null,{"$f":"VLOOKUP(recettesjuin[[#This Row],[Catégorie]],'coulisses 2'!$A$1:$B$20,2,0)","v":0}]
[null,null,null,null,null,null,null,null,null,null,null,null,null,null,null,null,null,{"$f":"VLOOKUP(recettesjuin[[#This Row],[Catégorie]],'coulisses 2'!$A$1:$B$20,2,0)","v":0}]
[null,null,null,null,null,null,null,null,null,null,null,null,null,null,null,null,null,{"$f":"VLOOKUP(recettesjuin[[#This Row],[Catégorie]],'coulisses 2'!$A$1:$B$20,2,0)","v":0}]
[null,null,null,null,null,null,null,null,null,null,null,null,null,null,null,null,null,{"$f":"VLOOKUP(recettesjuin[[#This Row],[Catégorie]],'coulisses 2'!$A$1:$B$20,2,0)","v":0}]
[null,null,null,null,null,null,null,null,null,null,null,null,null,null,null,null,null,{"$f":"VLOOKUP(recettesjuin[[#This Row],[Catégorie]],'coulisses 2'!$A$1:$B$20,2,0)","v":0}]
[null,null,null,null,null,null,null,null,null,null,null,null,null,null,null,null,null,{"$f":"VLOOKUP(recettesjuin[[#This Row],[Catégorie]],'coulisses 2'!$A$1:$B$20,2,0)","v":0}]
[null,null,null,null,null,null,null,null,null,null,null,null,null,null,null,null,null,{"$f":"VLOOKUP(recettesjuin[[#This Row],[Catégorie]],'coulisses 2'!$A$1:$B$20,2,0)","v":0}]
[null,null,null,null,null,null,null,null,null,null,null,null,null,null,null,null,null,{"$f":"VLOOKUP(recettesjuin[[#This Row],[Catégorie]],'coulisses 2'!$A$1:$B$20,2,0)","v":0}]
[null,null,null,null,null,null,null,null,null,null,null,null,null,null,null,null,null,{"$f":"VLOOKUP(recettesjuin[[#This Row],[Catégorie]],'coulisses 2'!$A$1:$B$20,2,0)","v":0}]
[null,null,null,null,null,null,null,null,null,null,null,null,null,null,null,null,null,{"$f":"VLOOKUP(recettesjuin[[#This Row],[Catégorie]],'coulisses 2'!$A$1:$B$20,2,0)","v":0}]
[null,null,null,null,null,null,null,null,null,null,null,null,null,null,null,null,null,{"$f":"VLOOKUP(recettesjuin[[#This Row],[Catégorie]],'coulisses 2'!$A$1:$B$20,2,0)","v":0}]
[null,null,null,null,null,null,null,null,null,null,null,null,null,null,null,null,null,{"$f":"VLOOKUP(recettesjuin[[#This Row],[Catégorie]],'coulisses 2'!$A$1:$B$20,2,0)","v":0}]
[null,null,null,null,null,null,null,null,null,null,null,null,null,null,null,null,null,{"$f":"VLOOKUP(recettesjuin[[#This Row],[Catégorie]],'coulisses 2'!$A$1:$B$20,2,0)","v":0}]
[null,null,null,null,null,null,null,null,null,null,null,null,null,null,null,null,null,{"$f":"VLOOKUP(recettesjuin[[#This Row],[Catégorie]],'coulisses 2'!$A$1:$B$20,2,0)","v":0}]
[null,null,null,null,null,null,null,null,null,null,null,null,null,null,null,null,null,{"$f":"VLOOKUP(recettesjuin[[#This Row],[Catégorie]],'coulisses 2'!$A$1:$B$20,2,0)","v":0}]
[null,null,null,null,null,null,null,null,null,null,null,null,null,null,null,null,null,{"$f":"VLOOKUP(recettesjuin[[#This Row],[Catégorie]],'coulisses 2'!$A$1:$B$20,2,0)","v":0}]
[null,null,null,null,null,null,null,null,null,null,null,null,null,null,null,null,null,{"$f":"VLOOKUP(recettesjuin[[#This Row],[Catégorie]],'coulisses 2'!$A$1:$B$20,2,0)","v":0}]
[null,null,null,null,null,null,null,null,null,null,null,null,null,null,null,null,null,{"$f":"VLOOKUP(recettesjuin[[#This Row],[Catégorie]],'coulisses 2'!$A$1:$B$20,2,0)","v":0}]
[null,null,null,null,null,null,null,null,null,null,null,null,null,null,null,null,null,{"$f":"VLOOKUP(recettesjuin[[#This Row],[Catégorie]],'coulisses 2'!$A$1:$B$20,2,0)","v":0}]
[null,null,null,null,null,null,null,null,null,null,null,null,null,null,null,null,null,{"$f":"VLOOKUP(recettesjuin[[#This Row],[Catégorie]],'coulisses 2'!$A$1:$B$20,2,0)","v":0}]
[null,null,null,null,null,null,null,null,null,null,null,null,null,null,null,null,null,{"$f":"VLOOKUP(recettesjuin[[#This Row],[Catégorie]],'coulisses 2'!$A$1:$B$20,2,0)","v":0}]
[null,null,null,null,null,null,null,null,null,null,null,null,null,null,null,null,null,{"$f":"VLOOKUP(recettesjuin[[#This Row],[Catégorie]],'coulisses 2'!$A$1:$B$20,2,0)","v":0}]
[null,null,null,null,null,null,null,null,null,null,null,null,null,null,null,null,null,{"$f":"VLOOKUP(recettesjuin[[#This Row],[Catégorie]],'coulisses 2'!$A$1:$B$20,2,0)","v":0}]
[null,null,null,null,null,null,null,null,null,null,null,null,null,null,null,null,null,{"$f":"VLOOKUP(recettesjuin[[#This Row],[Catégorie]],'coulisses 2'!$A$1:$B$20,2,0)","v":0}]
[null,null,null,null,null,null,null,null,null,null,null,null,null,null,null,null,null,{"$f":"VLOOKUP(recettesjuin[[#This Row],[Catégorie]],'coulisses 2'!$A$1:$B$20,2,0)","v":0}]
[null,null,null,null,null,null,null,null,null,null,null,null,null,null,null,null,null,{"$f":"VLOOKUP(recettesjuin[[#This Row],[Catégorie]],'coulisses 2'!$A$1:$B$20,2,0)","v":0}]
[null,null,null,null,null,null,null,null,null,null,null,null,null,null,null,null,null,{"$f":"VLOOKUP(recettesjuin[[#This Row],[Catégorie]],'coulisses 2'!$A$1:$B$20,2,0)","v":0}]
[null,null,null,null,null,null,null,null,null,null,null,null,null,null,null,null,null,{"$f":"VLOOKUP(recettesjuin[[#This Row],[Catégorie]],'coulisses 2'!$A$1:$B$20,2,0)","v":0}]
[null,null,null,null,null,null,null,null,null,null,null,null,null,null,null,null,null,{"$f":"VLOOKUP(recettesjuin[[#This Row],[Catégorie]],'coulisses 2'!$A$1:$B$20,2,0)","v":0}]
[null,null,null,null,null,null,null,null,null,null,null,null,null,null,null,null,null,{"$f":"VLOOKUP(recettesjuin[[#This Row],[Catégorie]],'coulisses 2'!$A$1:$B$20,2,0)","v":0}]
[null,null,null,null,null,null,null,null,null,null,null,null,null,null,null,null,null,{"$f":"VLOOKUP(recettesjuin[[#This Row],[Catégorie]],'coulisses 2'!$A$1:$B$20,2,0)","v":0}]
[null,null,null,null,null,null,null,null,null,null,null,null,null,null,null,null,null,{"$f":"VLOOKUP(recettesjuin[[#This Row],[Catégorie]],'coulisses 2'!$A$1:$B$20,2,0)","v":0}]
[null,null,null,null,null,null,null,null,null,null,null,null,null,null,null,null,null,{"$f":"VLOOKUP(recettesjuin[[#This Row],[Catégorie]],'coulisses 2'!$A$1:$B$20,2,0)","v":0}]
[null,null,null,null,null,null,null,null,null,null,null,null,null,null,null,null,null,{"$f":"VLOOKUP(recettesjuin[[#This Row],[Catégorie]],'coulisses 2'!$A$1:$B$20,2,0)","v":0}]
[null,null,null,null,null,null,null,null,null,null,null,null,null,null,null,null,null,{"$f":"VLOOKUP(recettesjuin[[#This Row],[Catégorie]],'coulisses 2'!$A$1:$B$20,2,0)","v":0}]
[null,null,null,null,null,null,null,null,null,null,null,null,null,null,null,null,null,{"$f":"VLOOKUP(recettesjuin[[#This Row],[Catégorie]],'coulisses 2'!$A$1:$B$20,2,0)","v":0}]
[null,null,null,null,null,null,null,null,null,null,null,null,null,null,null,null,null,{"$f":"VLOOKUP(recettesjuin[[#This Row],[Catégorie]],'coulisses 2'!$A$1:$B$20,2,0)","v":0}]
[null,null,null,null,null,null,null,null,null,null,null,null,null,null,null,null,null,{"$f":"VLOOKUP(recettesjuin[[#This Row],[Catégorie]],'coulisses 2'!$A$1:$B$20,2,0)","v":0}]
[null,null,null,null,null,null,null,null,null,null,null,null,null,null,null,null,null,{"$f":"VLOOKUP(recettesjuin[[#This Row],[Catégorie]],'coulisses 2'!$A$1:$B$20,2,0)","v":0}]
[null,null,null,null,null,null,null,null,null,null,null,null,null,null,null,null,null,{"$f":"VLOOKUP(recettesjuin[[#This Row],[Catégorie]],'coulisses 2'!$A$1:$B$20,2,0)","v":0}]
[null,null,null,null,null,null,null,null,null,null,null,null,null,null,null,null,null,{"$f":"VLOOKUP(recettesjuin[[#This Row],[Catégorie]],'coulisses 2'!$A$1:$B$20,2,0)","v":0}]
[null,null,null,null,null,null,null,null,null,null,null,null,null,null,null,null,null,{"$f":"VLOOKUP(recettesjuin[[#This Row],[Catégorie]],'coulisses 2'!$A$1:$B$20,2,0)","v":0}]
[null,null,null,null,null,null,null,null,null,null,null,null,null,null,null,null,null,{"$f":"VLOOKUP(recettesjuin[[#This Row],[Catégorie]],'coulisses 2'!$A$1:$B$20,2,0)","v":0}]
[null,null,null,null,null,null,null,null,null,null,null,null,null,null,null,null,null,{"$f":"VLOOKUP(recettesjuin[[#This Row],[Catégorie]],'coulisses 2'!$A$1:$B$20,2,0)","v":0}]
[null,null,null,null,null,null,null,null,null,null,null,null,null,null,null,null,null,{"$f":"VLOOKUP(recettesjuin[[#This Row],[Catégorie]],'coulisses 2'!$A$1:$B$20,2,0)","v":0}]
[null,null,null,null,null,null,null,null,null,null,null,null,null,null,null,null,null,{"$f":"VLOOKUP(recettesjuin[[#This Row],[Catégorie]],'coulisses 2'!$A$1:$B$20,2,0)","v":0}]
[null,null,null,null,null,null,null,null,null,null,null,null,null,null,null,null,null,{"$f":"VLOOKUP(recettesjuin[[#This Row],[Catégorie]],'coulisses 2'!$A$1:$B$20,2,0)","v":0}]
[null,null,null,null,null,null,null,null,null,null,null,null,null,null,null,null,null,{"$f":"VLOOKUP(recettesjuin[[#This Row],[Catégorie]],'coulisses 2'!$A$1:$B$20,2,0)","v":0}]
[null,null,null,null,null,null,null,null,null,null,null,null,null,null,null,null,null,{"$f":"VLOOKUP(recettesjuin[[#This Row],[Catégorie]],'coulisses 2'!$A$1:$B$20,2,0)","v":0}]
[null,null,null,null,null,null,null,null,null,null,null,null,null,null,null,null,null,{"$f":"VLOOKUP(recettesjuin[[#This Row],[Catégorie]],'coulisses 2'!$A$1:$B$20,2,0)","v":0}]
[null,null,null,null,null,null,null,null,null,null,null,null,null,null,null,null,null,{"$f":"VLOOKUP(recettesjuin[[#This Row],[Catégorie]],'coulisses 2'!$A$1:$B$20,2,0)","v":0}]
[null,null,null,null,null,null,null,null,null,null,null,null,null,null,null,null,null,{"$f":"VLOOKUP(recettesjuin[[#This Row],[Catégorie]],'coulisses 2'!$A$1:$B$20,2,0)","v":0}]
[null,null,null,null,null,null,null,null,null,null,null,null,null,null,null,null,null,{"$f":"VLOOKUP(recettesjuin[[#This Row],[Catégorie]],'coulisses 2'!$A$1:$B$20,2,0)","v":0}]
[null,null,null,null,null,null,null,null,null,null,null,null,null,null,null,null,null,{"$f":"VLOOKUP(recettesjuin[[#This Row],[Catégorie]],'coulisses 2'!$A$1:$B$20,2,0)","v":0}]
[null,null,null,null,null,null,null,null,null,null,null,null,null,null,null,null,null,{"$f":"VLOOKUP(recettesjuin[[#This Row],[Catégorie]],'coulisses 2'!$A$1:$B$20,2,0)","v":0}]
[null,null,null,null,null,null,null,null,null,null,null,null,null,null,null,null,null,{"$f":"VLOOKUP(recettesjuin[[#This Row],[Catégorie]],'coulisses 2'!$A$1:$B$20,2,0)","v":0}]
[null,null,null,null,null,null,null,null,null,null,null,null,null,null,null,null,null,{"$f":"VLOOKUP(recettesjuin[[#This Row],[Catégorie]],'coulisses 2'!$A$1:$B$20,2,0)","v":0}]
[null,null,null,null,null,null,null,null,null,null,null,null,null,null,null,null,null,{"$f":"VLOOKUP(recettesjuin[[#This Row],[Catégorie]],'coulisses 2'!$A$1:$B$20,2,0)","v":0}]
[null,null,null,null,null,null,null,null,null,null,null,null,null,null,null,null,null,{"$f":"VLOOKUP(recettesjuin[[#This Row],[Catégorie]],'coulisses 2'!$A$1:$B$20,2,0)","v":0}]
[null,null,null,null,null,null,null,null,null,null,null,null,null,null,null,null,null,{"$f":"VLOOKUP(recettesjuin[[#This Row],[Catégorie]],'coulisses 2'!$A$1:$B$20,2,0)","v":0}]
[null,null,null,null,null,null,null,null,null,null,null,null,null,null,null,null,null,{"$f":"VLOOKUP(recettesjuin[[#This Row],[Catégorie]],'coulisses 2'!$A$1:$B$20,2,0)","v":0}]
[null,null,null,null,null,null,null,null,null,null,null,null,null,null,null,null,null,{"$f":"VLOOKUP(recettesjuin[[#This Row],[Catégorie]],'coulisses 2'!$A$1:$B$20,2,0)","v":0}]
[null,null,null,null,null,null,null,null,null,null,null,null,null,null,null,null,null,{"$f":"VLOOKUP(recettesjuin[[#This Row],[Catégorie]],'coulisses 2'!$A$1:$B$20,2,0)","v":0}]
[null,null,null,null,null,null,null,null,null,null,null,null,null,null,null,null,null,{"$f":"VLOOKUP(recettesjuin[[#This Row],[Catégorie]],'coulisses 2'!$A$1:$B$20,2,0)","v":0}]
[null,null,null,null,null,null,null,null,null,null,null,null,null,null,null,null,null,{"$f":"VLOOKUP(recettesjuin[[#This Row],[Catégorie]],'coulisses 2'!$A$1:$B$20,2,0)","v":0}]
[null,null,null,null,null,null,null,null,null,null,null,null,null,null,null,null,null,{"$f":"VLOOKUP(recettesjuin[[#This Row],[Catégorie]],'coulisses 2'!$A$1:$B$20,2,0)","v":0}]
[null,null,null,null,null,null,null,null,null,null,null,null,null,null,null,null,null,{"$f":"VLOOKUP(recettesjuin[[#This Row],[Catégorie]],'coulisses 2'!$A$1:$B$20,2,0)","v":0}]
[null,null,null,null,null,null,null,null,null,null,null,null,null,null,null,null,null,{"$f":"VLOOKUP(recettesjuin[[#This Row],[Catégorie]],'coulisses 2'!$A$1:$B$20,2,0)","v":0}]
[null,null,null,null,null,null,null,null,null,null,null,null,null,null,null,null,null,{"$f":"VLOOKUP(recettesjuin[[#This Row],[Catégorie]],'coulisses 2'!$A$1:$B$20,2,0)","v":0}]
[null,null,null,null,null,null,null,null,null,null,null,null,null,null,null,null,null,{"$f":"VLOOKUP(recettesjuin[[#This Row],[Catégorie]],'coulisses 2'!$A$1:$B$20,2,0)","v":0}]
[null,null,null,null,null,null,null,null,null,null,null,null,null,null,null,null,null,{"$f":"VLOOKUP(recettesjuin[[#This Row],[Catégorie]],'coulisses 2'!$A$1:$B$20,2,0)","v":0}]
[null,null,null,null,null,null,null,null,null,null,null,null,null,null,null,null,null,{"$f":"VLOOKUP(recettesjuin[[#This Row],[Catégorie]],'coulisses 2'!$A$1:$B$20,2,0)","v":0}]
[null,null,null,null,null,null,null,null,null,null,null,null,null,null,null,null,null,{"$f":"VLOOKUP(recettesjuin[[#This Row],[Catégorie]],'coulisses 2'!$A$1:$B$20,2,0)","v":0}]
[null,null,null,null,null,null,null,null,null,null,null,null,null,null,null,null,null,{"$f":"VLOOKUP(recettesjuin[[#This Row],[Catégorie]],'coulisses 2'!$A$1:$B$20,2,0)","v":0}]
[null,null,null,null,null,null,null,null,null,null,null,null,null,null,null,null,null,{"$f":"VLOOKUP(recettesjuin[[#This Row],[Catégorie]],'coulisses 2'!$A$1:$B$20,2,0)","v":0}]
[null,null,null,null,null,null,null,null,null,null,null,null,null,null,null,null,null,{"$f":"VLOOKUP(recettesjuin[[#This Row],[Catégorie]],'coulisses 2'!$A$1:$B$20,2,0)","v":0}]
[null,null,null,null,null,null,null,null,null,null,null,null,null,null,null,null,null,{"$f":"VLOOKUP(recettesjuin[[#This Row],[Catégorie]],'coulisses 2'!$A$1:$B$20,2,0)","v":0}]
[null,null,null,null,null,null,null,null,null,null,null,null,null,null,null,null,null,{"$f":"VLOOKUP(recettesjuin[[#This Row],[Catégorie]],'coulisses 2'!$A$1:$B$20,2,0)","v":0}]
[null,null,null,null,null,null,null,null,null,null,null,null,null,null,null,null,null,{"$f":"VLOOKUP(recettesjuin[[#This Row],[Catégorie]],'coulisses 2'!$A$1:$B$20,2,0)","v":0}]
[null,null,null,null,null,null,null,null,null,null,null,null,null,null,null,null,null,{"$f":"VLOOKUP(recettesjuin[[#This Row],[Catégorie]],'coulisses 2'!$A$1:$B$20,2,0)","v":0}]
[null,null,null,null,null,null,null,null,null,null,null,null,null,null,null,null,null,{"$f":"VLOOKUP(recettesjuin[[#This Row],[Catégorie]],'coulisses 2'!$A$1:$B$20,2,0)","v":0}]
[null,null,null,null,null,null,null,null,null,null,null,null,null,null,null,null,null,{"$f":"VLOOKUP(recettesjuin[[#This Row],[Catégorie]],'coulisses 2'!$A$1:$B$20,2,0)","v":0}]
[null,null,null,null,null,null,null,null,null,null,null,null,null,null,null,null,null,{"$f":"VLOOKUP(recettesjuin[[#This Row],[Catégorie]],'coulisses 2'!$A$1:$B$20,2,0)","v":0}]
[null,null,null,null,null,null,null,null,null,null,null,null,null,null,null,null,null,{"$f":"VLOOKUP(recettesjuin[[#This Row],[Catégorie]],'coulisses 2'!$A$1:$B$20,2,0)","v":0}]
[null,null,null,null,null,null,null,null,null,null,null,null,null,null,null,null,null,{"$f":"VLOOKUP(recettesjuin[[#This Row],[Catégorie]],'coulisses 2'!$A$1:$B$20,2,0)","v":0}]
[null,null,null,null,null,null,null,null,null,null,null,null,null,null,null,null,null,{"$f":"VLOOKUP(recettesjuin[[#This Row],[Catégorie]],'coulisses 2'!$A$1:$B$20,2,0)","v":0}]
[null,null,null,null,null,null,null,null,null,null,null,null,null,null,null,null,null,{"$f":"VLOOKUP(recettesjuin[[#This Row],[Catégorie]],'coulisses 2'!$A$1:$B$20,2,0)","v":0}]
[null,null,null,null,null,null,null,null,null,null,null,null,null,null,null,null,null,{"$f":"VLOOKUP(recettesjuin[[#This Row],[Catégorie]],'coulisses 2'!$A$1:$B$20,2,0)","v":0}]
[null,null,null,null,null,null,null,null,null,null,null,null,null,null,null,null,null,{"$f":"VLOOKUP(recettesjuin[[#This Row],[Catégorie]],'coulisses 2'!$A$1:$B$20,2,0)","v":0}]
[null,null,null,null,null,null,null,null,null,null,null,null,null,null,null,null,null,{"$f":"VLOOKUP(recettesjuin[[#This Row],[Catégorie]],'coulisses 2'!$A$1:$B$20,2,0)","v":0}]
[null,null,null,null,null,null,null,null,null,null,null,null,null,null,null,null,null,{"$f":"VLOOKUP(recettesjuin[[#This Row],[Catégorie]],'coulisses 2'!$A$1:$B$20,2,0)","v":0}]
[null,null,null,null,null,null,null,null,null,null,null,null,null,null,null,null,null,{"$f":"VLOOKUP(recettesjuin[[#This Row],[Catégorie]],'coulisses 2'!$A$1:$B$20,2,0)","v":0}]
[null,null,null,null,null,null,null,null,null,null,null,null,null,null,null,null,null,{"$f":"VLOOKUP(recettesjuin[[#This Row],[Catégorie]],'coulisses 2'!$A$1:$B$20,2,0)","v":0}]
[null,null,null,null,null,null,null,null,null,null,null,null,null,null,null,null,null,{"$f":"VLOOKUP(recettesjuin[[#This Row],[Catégorie]],'coulisses 2'!$A$1:$B$20,2,0)","v":0}]
[null,null,null,null,null,null,null,null,null,null,null,null,null,null,null,null,null,{"$f":"VLOOKUP(recettesjuin[[#This Row],[Catégorie]],'coulisses 2'!$A$1:$B$20,2,0)","v":0}]
[null,null,null,null,null,null,null,null,null,null,null,null,null,null,null,null,null,{"$f":"VLOOKUP(recettesjuin[[#This Row],[Catégorie]],'coulisses 2'!$A$1:$B$20,2,0)","v":0}]
[null,null,null,null,null,null,null,null,null,null,null,null,null,null,null,null,null,{"$f":"VLOOKUP(recettesjuin[[#This Row],[Catégorie]],'coulisses 2'!$A$1:$B$20,2,0)","v":0}]
[null,null,null,null,null,null,null,null,null,null,null,null,null,null,null,null,null,{"$f":"VLOOKUP(recettesjuin[[#This Row],[Catégorie]],'coulisses 2'!$A$1:$B$20,2,0)","v":0}]
[null,null,null,null,null,null,null,null,null,null,null,null,null,null,null,null,null,{"$f":"VLOOKUP(recettesjuin[[#This Row],[Catégorie]],'coulisses 2'!$A$1:$B$20,2,0)","v":0}]
[null,null,null,null,null,null,null,null,null,null,null,null,null,null,null,null,null,{"$f":"VLOOKUP(recettesjuin[[#This Row],[Catégorie]],'coulisses 2'!$A$1:$B$20,2,0)","v":0}]
[null,null,null,null,null,null,null,null,null,null,null,null,null,null,null,null,null,{"$f":"VLOOKUP(recettesjuin[[#This Row],[Catégorie]],'coulisses 2'!$A$1:$B$20,2,0)","v":0}]
[null,null,null,null,null,null,null,null,null,null,null,null,null,null,null,null,null,{"$f":"VLOOKUP(recettesjuin[[#This Row],[Catégorie]],'coulisses 2'!$A$1:$B$20,2,0)","v":0}]
[null,null,null,null,null,null,null,null,null,null,null,null,null,null,null,null,null,{"$f":"VLOOKUP(recettesjuin[[#This Row],[Catégorie]],'coulisses 2'!$A$1:$B$20,2,0)","v":0}]
[null,null,null,null,null,null,null,null,null,null,null,null,null,null,null,null,null,{"$f":"VLOOKUP(recettesjuin[[#This Row],[Catégorie]],'coulisses 2'!$A$1:$B$20,2,0)","v":0}]
[null,null,null,null,null,null,null,null,null,null,null,null,null,null,null,null,null,{"$f":"VLOOKUP(recettesjuin[[#This Row],[Catégorie]],'coulisses 2'!$A$1:$B$20,2,0)","v":0}]
[null,null,null,null,null,null,null,null,null,null,null,null,null,null,null,null,null,{"$f":"VLOOKUP(recettesjuin[[#This Row],[Catégorie]],'coulisses 2'!$A$1:$B$20,2,0)","v":0}]
[null,null,null,null,null,null,null,null,null,null,null,null,null,null,null,null,null,{"$f":"VLOOKUP(recettesjuin[[#This Row],[Catégorie]],'coulisses 2'!$A$1:$B$20,2,0)","v":0}]
[null,null,null,null,null,null,null,null,null,null,null,null,null,null,null,null,null,{"$f":"VLOOKUP(recettesjuin[[#This Row],[Catégorie]],'coulisses 2'!$A$1:$B$20,2,0)","v":0}]
[null,null,null,null,null,null,null,null,null,null,null,null,null,null,null,null,null,{"$f":"VLOOKUP(recettesjuin[[#This Row],[Catégorie]],'coulisses 2'!$A$1:$B$20,2,0)","v":0}]
[null,null,null,null,null,null,null,null,null,null,null,null,null,null,null,null,null,{"$f":"VLOOKUP(recettesjuin[[#This Row],[Catégorie]],'coulisses 2'!$A$1:$B$20,2,0)","v":0}]
[null,null,null,null,null,null,null,null,null,null,null,null,null,null,null,null,null,{"$f":"VLOOKUP(recettesjuin[[#This Row],[Catégorie]],'coulisses 2'!$A$1:$B$20,2,0)","v":0}]
[null,null,null,null,null,null,null,null,null,null,null,null,null,null,null,null,null,{"$f":"VLOOKUP(recettesjuin[[#This Row],[Catégorie]],'coulisses 2'!$A$1:$B$20,2,0)","v":0}]
[null,null,null,null,null,null,null,null,null,null,null,null,null,null,null,null,null,{"$f":"VLOOKUP(recettesjuin[[#This Row],[Catégorie]],'coulisses 2'!$A$1:$B$20,2,0)","v":0}]
[null,null,null,null,null,null,null,null,null,null,null,null,null,null,null,null,null,{"$f":"VLOOKUP(recettesjuin[[#This Row],[Catégorie]],'coulisses 2'!$A$1:$B$20,2,0)","v":0}]
[null,null,null,null,null,null,null,null,null,null,null,null,null,null,null,null,null,{"$f":"VLOOKUP(recettesjuin[[#This Row],[Catégorie]],'coulisses 2'!$A$1:$B$20,2,0)","v":0}]
[null,null,null,null,null,null,null,null,null,null,null,null,null,null,null,null,null,{"$f":"VLOOKUP(recettesjuin[[#This Row],[Catégorie]],'coulisses 2'!$A$1:$B$20,2,0)","v":0}]
[null,null,null,null,null,null,null,null,null,null,null,null,null,null,null,null,null,{"$f":"VLOOKUP(recettesjuin[[#This Row],[Catégorie]],'coulisses 2'!$A$1:$B$20,2,0)","v":0}]
[null,null,null,null,null,null,null,null,null,null,null,null,null,null,null,null,null,{"$f":"VLOOKUP(recettesjuin[[#This Row],[Catégorie]],'coulisses 2'!$A$1:$B$20,2,0)","v":0}]
[null,null,null,null,null,null,null,null,null,null,null,null,null,null,null,null,null,{"$f":"VLOOKUP(recettesjuin[[#This Row],[Catégorie]],'coulisses 2'!$A$1:$B$20,2,0)","v":0}]
[null,null,null,null,null,null,null,null,null,null,null,null,null,null,null,null,null,{"$f":"VLOOKUP(recettesjuin[[#This Row],[Catégorie]],'coulisses 2'!$A$1:$B$20,2,0)","v":0}]
[null,null,null,null,null,null,null,null,null,null,null,null,null,null,null,null,null,{"$f":"VLOOKUP(recettesjuin[[#This Row],[Catégorie]],'coulisses 2'!$A$1:$B$20,2,0)","v":0}]
[null,null,null,null,null,null,null,null,null,null,null,null,null,null,null,null,null,{"$f":"VLOOKUP(recettesjuin[[#This Row],[Catégorie]],'coulisses 2'!$A$1:$B$20,2,0)","v":0}]
[null,null,null,null,null,null,null,null,null,null,null,null,null,null,null,null,null,{"$f":"VLOOKUP(recettesjuin[[#This Row],[Catégorie]],'coulisses 2'!$A$1:$B$20,2,0)","v":0}]

{"sheet":"🧳 07","index":7,"n_rows":304,"n_cols":24,"rows_kept":304,"cut":false,"hidden":false,"merged":[[1,1,1,4],[1,9,1,12]]}
[null,{"$f":"'👩🏻‍🏫 Bienvenue !'!K7","v":0},null,{"$f":" '👩🏻‍🏫 Bienvenue !'!I12&\" - \"&\"Juillet \"&'👩🏻‍🏫 Bienvenue !'!I16","v":" - Juillet "},null,null,null,null,null,null,null,null,null,null,"VOTRE PROFIT DU MOIS",{"$f":"H2-P2","v":0}]
[null,"Vos recettes 💰",null,null,null,null,"TOTAL",{"$f":"SUM(recettesjuil[Montant])","v":0},null,"Vos dépenses 🧾",null,null,null,null,"TOTAL",{"$f":"SUM(depensesjuil[Montant])","v":0}]
[]
[null,"Date","Mode de paiement","N°","Libellé et nom du client","Catégorie","Axe","Montant",null,"Date","Mode de paiement","N°","Libellé","Catégorie","Axe","Montant",null,"Taux"]
[null,null,null,null,null,null,null,null,null,null,null,"J1","Cotisations sociales Mai - Taux 1","Cotisations sociales",null,{"$f":"'🎾 05'!X29","v":0},null,{"$f":"VLOOKUP(recettesjuil[[#This Row],[Catégorie]],'coulisses 2'!$A$1:$B$20,2,0)","v":0},null,"Récapitulatif par type de dépense",{"$f":"SUM(U6:U26)","v":0},null,"Récapitulatif par type de recette",{"$f":"SUM(X6:X26)","v":0}]
[null,null,null,null,null,null,null,null,null,null,null,"J2","Cotisations sociales Mai - Taux 2","Cotisations sociales",null,{"$f":"'🎾 05'!X30","v":0},null,{"$f":"VLOOKUP(recettesjuil[[#This Row],[Catégorie]],'coulisses 2'!$A$1:$B$20,2,0)","v":0},null,{"$f":"coulisses!J23","v":0},{"$f":"SUMIF(depensesjuil[Catégorie],T6,depensesjuil[Montant])","v":0},null,{"$f":"coulisses!J3","v":0},{"$f":"SUMIF(recettesjuil[Catégorie],W6,recettesjuil[Montant])","v":0}]
[null,null,null,null,null,null,null,null,null,null,null,"J3","Cotisations sociales Mai - Taux 3","Cotisations sociales",null,{"$f":"'🎾 05'!X31","v":0},null,{"$f":"VLOOKUP(recettesjuil[[#This Row],[Catégorie]],'coulisses 2'!$A$1:$B$20,2,0)","v":0},null,{"$f":"coulisses!J24","v":0},{"$f":"SUMIF(depensesjuil[Catégorie],T7,depensesjuil[Montant])","v":0},null,{"$f":"coulisses!J4","v":0},{"$f":"SUMIF(recettesjuil[Catégorie],W7,recettesjuil[Montant])","v":0}]
[null,null,null,null,null,null,null,null,null,null,null,null,null,null,null,null,null,{"$f":"VLOOKUP(recettesjuil[[#This Row],[Catégorie]],'coulisses 2'!$A$1:$B$20,2,0)","v":0},null,{"$f":"coulisses!J25","v":0},{"$f":"SUMIF(depensesjuil[Catégorie],T8,depensesjuil[Montant])","v":0},null,{"$f":"coulisses!J5","v":0},{"$f":"SUMIF(recettesjuil[Catégorie],W8,recettesjuil[Montant])","v":0}]
[null,null,null,null,null,null,null,null,null,null,null,null,null,null,null,null,null,{"$f":"VLOOKUP(recettesjuil[[#This Row],[Catégorie]],'coulisses 2'!$A$1:$B$20,2,0)","v":0},null,{"$f":"coulisses!J26","v":0},{"$f":"SUMIF(depensesjuil[Catégorie],T9,depensesjuil[Montant])","v":0},null,{"$f":"coulisses!J6","v":0},{"$f":"SUMIF(recettesjuil[Catégorie],W9,recettesjuil[Montant])","v":0}]
[null,null,null,null,null,null,null,null,null,null,null,null,null,null,null,null,null,{"$f":"VLOOKUP(recettesjuil[[#This Row],[Catégorie]],'coulisses 2'!$A$1:$B$20,2,0)","v":0},null,{"$f":"coulisses!J27","v":0},{"$f":"SUMIF(depensesjuil[Catégorie],T10,depensesjuil[Montant])","v":0},null,{"$f":"coulisses!J7","v":0},{"$f":"SUMIF(recettesjuil[Catégorie],W10,recettesjuil[Montant])","v":0}]
[null,null,null,null,null,null,null,null,null,null,null,null,null,null,null,null,null,{"$f":"VLOOKUP(recettesjuil[[#This Row],[Catégorie]],'coulisses 2'!$A$1:$B$20,2,0)","v":0},null,{"$f":"coulisses!J28","v":0},{"$f":"SUMIF(depensesjuil[Catégorie],T11,depensesjuil[Montant])","v":0},null,{"$f":"coulisses!J8","v":0},{"$f":"SUMIF(recettesjuil[Catégorie],W11,recettesjuil[Montant])","v":0}]
[null,null,null,null,null,null,null,null,null,null,null,null,null,null,null,null,null,{"$f":"VLOOKUP(recettesjuil[[#This Row],[Catégorie]],'coulisses 2'!$A$1:$B$20,2,0)","v":0},null,{"$f":"coulisses!J29","v":0},{"$f":"SUMIF(depensesjuil[Catégorie],T12,depensesjuil[Montant])","v":0},null,{"$f":"coulisses!J9","v":0},{"$f":"SUMIF(recettesjuil[Catégorie],W12,recettesjuil[Montant])","v":0}]
[null,null,null,null,null,null,null,null,null,null,null,null,null,null,null,null,null,{"$f":"VLOOKUP(recettesjuil[[#This Row],[Catégorie]],'coulisses 2'!$A$1:$B$20,2,0)","v":0},null,{"$f":"coulisses!J30","v":0},{"$f":"SUMIF(depensesjuil[Catégorie],T13,depensesjuil[Montant])","v":0},null,{"$f":"coulisses!J10","v":0},{"$f":"SUMIF(recettesjuil[Catégorie],W13,recettesjuil[Montant])","v":0}]
[null,null,null,null,null,null,null,null,null,null,null,null,null,null,null,null,null,{"$f":"VLOOKUP(recettesjuil[[#This Row],[Catégorie]],'coulisses 2'!$A$1:$B$20,2,0)","v":0},null,{"$f":"coulisses!J31","v":0},{"$f":"SUMIF(depensesjuil[Catégorie],T14,depensesjuil[Montant])","v":0},null,{"$f":"coulisses!J11","v":0},{"$f":"SUMIF(recettesjuil[Catégorie],W14,recettesjuil[Montant])","v":0}]
[null,null,null,null,null,null,null,null,null,null,null,null,null,null,null,null,null,{"$f":"VLOOKUP(recettesjuil[[#This Row],[Catégorie]],'coulisses 2'!$A$1:$B$20,2,0)","v":0},null,{"$f":"coulisses!J32","v":0},{"$f":"SUMIF(depensesjuil[Catégorie],T15,depensesjuil[Montant])","v":0},null,{"$f":"coulisses!J12","v":0},{"$f":"SUMIF(recettesjuil[Catégorie],W15,recettesjuil[Montant])","v":0}]
[null,null,null,null,null,null,null,null,null,null,null,null,null,null,null,null,null,{"$f":"VLOOKUP(recettesjuil[[#This Row],[Catégorie]],'coulisses 2'!$A$1:$B$20,2,0)","v":0},null,{"$f":"coulisses!J33","v":0},{"$f":"SUMIF(depensesjuil[Catégorie],T16,depensesjuil[Montant])","v":0},null,{"$f":"coulisses!J13","v":0},{"$f":"SUMIF(recettesjuil[Catégorie],W16,recettesjuil[Montant])","v":0}]
[null,null,null,null,null,null,null,null,null,null,null,null,null,null,null,null,null,{"$f":"VLOOKUP(recettesjuil[[#This Row],[Catégorie]],'coulisses 2'!$A$1:$B$20,2,0)","v":0},null,{"$f":"coulisses!J34","v":0},{"$f":"SUMIF(depensesjuil[Catégorie],T17,depensesjuil[Montant])","v":0},null,{"$f":"coulisses!J14","v":0},{"$f":"SUMIF(recettesjuil[Catégorie],W17,recettesjuil[Montant])","v":0}]
[null,null,null,null,null,null,null,null,null,null,null,null,null,null,null,null,null,{"$f":"VLOOKUP(recettesjuil[[#This Row],[Catégorie]],'coulisses 2'!$A$1:$B$20,2,0)","v":0},null,{"$f":"coulisses!J35","v":0},{"$f":"SUMIF(depensesjuil[Catégorie],T18,depensesjuil[Montant])","v":0},null,{"$f":"coulisses!J15","v":0},{"$f":"SUMIF(recettesjuil[Catégorie],W18,recettesjuil[Montant])","v":0}]
[null,null,null,null,null,null,null,null,null,null,null,null,null,null,null,null,null,{"$f":"VLOOKUP(recettesjuil[[#This Row],[Catégorie]],'coulisses 2'!$A$1:$B$20,2,0)","v":0},null,{"$f":"coulisses!J36","v":0},{"$f":"SUMIF(depensesjuil[Catégorie],T19,depensesjuil[Montant])","v":0},null,{"$f":"coulisses!J16","v":0},{"$f":"SUMIF(recettesjuil[Catégorie],W19,recettesjuil[Montant])","v":0}]
[null,null,null,null,null,null,null,null,null,null,null,null,null,null,null,null,null,{"$f":"VLOOKUP(recettesjuil[[#This Row],[Catégorie]],'coulisses 2'!$A$1:$B$20,2,0)","v":0},null,{"$f":"coulisses!J37","v":0},{"$f":"SUMIF(depensesjuil[Catégorie],T20,depensesjuil[Montant])","v":0},null,{"$f":"coulisses!J17","v":0},{"$f":"SUMIF(recettesjuil[Catégorie],W20,recettesjuil[Montant])","v":0}]
[null,null,null,null,null,null,null,null,null,null,null,null,null,null,null,null,null,{"$f":"VLOOKUP(recettesjuil[[#This Row],[Catégorie]],'coulisses 2'!$A$1:$B$20,2,0)","v":0},null,{"$f":"coulisses!J38","v":0},{"$f":"SUMIF(depensesjuil[Catégorie],T21,depensesjuil[Montant])","v":0},null,{"$f":"coulisses!J18","v":0},{"$f":"SUMIF(recettesjuil[Catégorie],W21,recettesjuil[Montant])","v":0}]
[null,null,null,null,null,null,null,null,null,null,null,null,null,null,null,null,null,{"$f":"VLOOKUP(recettesjuil[[#This Row],[Catégorie]],'coulisses 2'!$A$1:$B$20,2,0)","v":0},null,{"$f":"coulisses!J39","v":0},{"$f":"SUMIF(depensesjuil[Catégorie],T22,depensesjuil[Montant])","v":0},null,{"$f":"coulisses!J19","v":0},{"$f":"SUMIF(recettesjuil[Catégorie],W22,recettesjuil[Montant])","v":0}]
[null,null,null,null,null,null,null,null,null,null,null,null,null,null,null,null,null,{"$f":"VLOOKUP(recettesjuil[[#This Row],[Catégorie]],'coulisses 2'!$A$1:$B$20,2,0)","v":0},null,{"$f":"coulisses!J40","v":0},{"$f":"SUMIF(depensesjuil[Catégorie],T23,depensesjuil[Montant])","v":0},null,{"$f":"coulisses!J20","v":0},{"$f":"SUMIF(recettesjuil[Catégorie],W23,recettesjuil[Montant])","v":0}]
[null,null,null,null,null,null,null,null,null,null,null,null,null,null,null,null,null,{"$f":"VLOOKUP(recettesjuil[[#This Row],[Catégorie]],'coulisses 2'!$A$1:$B$20,2,0)","v":0},null,{"$f":"coulisses!J41","v":0},{"$f":"SUMIF(depensesjuil[Catégorie],T24,depensesjuil[Montant])","v":0},null,{"$f":"coulisses!J21","v":0},{"$f":"SUMIF(recettesjuil[Catégorie],W24,recettesjuil[Montant])","v":0}]
[null,null,null,null,null,null,null,null,null,null,null,null,null,null,null,null,null,{"$f":"VLOOKUP(recettesjuil[[#This Row],[Catégorie]],'coulisses 2'!$A$1:$B$20,2,0)","v":0},null,{"$f":"coulisses!J42","v":"Cotisations sociales"},{"$f":"SUMIF(depensesjuil[Catégorie],T25,depensesjuil[Montant])","v":0},null,{"$f":"coulisses!J22","v":0},{"$f":"SUMIF(recettesjuil[Catégorie],W25,recettesjuil[Montant])","v":0}]
[null,null,null,null,null,null,null,null,null,null,null,null,null,null,null,null,null,{"$f":"VLOOKUP(recettesjuil[[#This Row],[Catégorie]],'coulisses 2'!$A$1:$B$20,2,0)","v":0}]
[null,null,null,null,null,null,null,null,null,null,null,null,null,null,null,null,null,{"$f":"VLOOKUP(recettesjuil[[#This Row],[Catégorie]],'coulisses 2'!$A$1:$B$20,2,0)","v":0}]
[null,null,null,null,null,null,null,null,null,null,null,null,null,null,null,null,null,{"$f":"VLOOKUP(recettesjuil[[#This Row],[Catégorie]],'coulisses 2'!$A$1:$B$20,2,0)","v":0},null,"Estimation des charges dues sur le CA du mois",null,"CA","Taux","A payer"]
[null,null,null,null,null,null,null,null,null,null,null,null,null,null,null,null,null,{"$f":"VLOOKUP(recettesjuil[[#This Row],[Catégorie]],'coulisses 2'!$A$1:$B$20,2,0)","v":0},null,{"$f":"'👩🏻‍🏫 Bienvenue !'!G20","v":"Taux 1"},null,{"$f":"SUMIF(R:R,W29,H:H)","v":0},{"$f":"'👩🏻‍🏫 Bienvenue !'!I20","v":0},{"$f":"W29*V29","v":0}]
[null,null,null,null,null,null,null,null,null,null,null,null,null,null,null,null,null,{"$f":"VLOOKUP(recettesjuil[[#This Row],[Catégorie]],'coulisses 2'!$A$1:$B$20,2,0)","v":0},null,{"$f":"'👩🏻‍🏫 Bienvenue !'!G21","v":"Taux 2"},null,{"$f":"SUMIF(R:R,W30,H:H)","v":0},{"$f":"'👩🏻‍🏫 Bienvenue !'!I21","v":0},{"$f":"W30*V30","v":0}]
[null,null,null,null,null,null,null,null,null,null,null,null,null,null,null,null,null,{"$f":"VLOOKUP(recettesjuil[[#This Row],[Catégorie]],'coulisses 2'!$A$1:$B$20,2,0)","v":0},null,{"$f":"'👩🏻‍🏫 Bienvenue !'!G22","v":"Taux 3"},null,0,{"$f":"'👩🏻‍🏫 Bienvenue !'!I22","v":0},{"$f":"W31*V31","v":0}]
[null,null,null,null,null,null,null,null,null,null,null,null,null,null,null,null,null,{"$f":"VLOOKUP(recettesjuil[[#This Row],[Catégorie]],'coulisses 2'!$A$1:$B$20,2,0)","v":0},null,"TOTAL",null,null,null,{"$f":"SUM(X29:X31)","v":0}]
[null,null,null,null,null,null,null,null,null,null,null,null,null,null,null,null,null,{"$f":"VLOOKUP(recettesjuil[[#This Row],[Catégorie]],'coulisses 2'!$A$1:$B$20,2,0)","v":0}]
[null,null,null,null,null,null,null,null,null,null,null,null,null,null,null,null,null,{"$f":"VLOOKUP(recettesjuil[[#This Row],[Catégorie]],'coulisses 2'!$A$1:$B$20,2,0)","v":0},null,"Rapprochement bancaire"]
[null,null,null,null,null,null,null,null,null,null,null,null,null,null,null,null,null,{"$f":"VLOOKUP(recettesjuil[[#This Row],[Catégorie]],'coulisses 2'!$A$1:$B$20,2,0)","v":0},null,"Solde du mois précédent",{"$f":"'☀️ 06'!U46","v":0}]
[null,null,null,null,null,null,null,null,null,null,null,null,null,null,null,null,null,{"$f":"VLOOKUP(recettesjuil[[#This Row],[Catégorie]],'coulisses 2'!$A$1:$B$20,2,0)","v":0},null,"Profit du mois",{"$f":"P1","v":0}]
[null,null,null,null,null,null,null,null,null,null,null,null,null,null,null,null,null,{"$f":"VLOOKUP(recettesjuil[[#This Row],[Catégorie]],'coulisses 2'!$A$1:$B$20,2,0)","v":0},null,"Ecritures à rapprocher :"]
[null,null,null,null,null,null,null,null,null,null,null,null,null,null,null,null,null,{"$f":"VLOOKUP(recettesjuil[[#This Row],[Catégorie]],'coulisses 2'!$A$1:$B$20,2,0)","v":0}]
[null,null,null,null,null,null,null,null,null,null,null,null,null,null,null,null,null,{"$f":"VLOOKUP(recettesjuil[[#This Row],[Catégorie]],'coulisses 2'!$A$1:$B$20,2,0)","v":0}]
[null,null,null,null,null,null,null,null,null,null,null,null,null,null,null,null,null,{"$f":"VLOOKUP(recettesjuil[[#This Row],[Catégorie]],'coulisses 2'!$A$1:$B$20,2,0)","v":0}]
[null,null,null,null,null,null,null,null,null,null,null,null,null,null,null,null,null,{"$f":"VLOOKUP(recettesjuil[[#This Row],[Catégorie]],'coulisses 2'!$A$1:$B$20,2,0)","v":0}]
[null,null,null,null,null,null,null,null,null,null,null,null,null,null,null,null,null,{"$f":"VLOOKUP(recettesjuil[[#This Row],[Catégorie]],'coulisses 2'!$A$1:$B$20,2,0)","v":0}]
[null,null,null,null,null,null,null,null,null,null,null,null,null,null,null,null,null,{"$f":"VLOOKUP(recettesjuil[[#This Row],[Catégorie]],'coulisses 2'!$A$1:$B$20,2,0)","v":0}]
[null,null,null,null,null,null,null,null,null,null,null,null,null,null,null,null,null,{"$f":"VLOOKUP(recettesjuil[[#This Row],[Catégorie]],'coulisses 2'!$A$1:$B$20,2,0)","v":0}]
[null,null,null,null,null,null,null,null,null,null,null,null,null,null,null,null,null,{"$f":"VLOOKUP(recettesjuil[[#This Row],[Catégorie]],'coulisses 2'!$A$1:$B$20,2,0)","v":0}]
[null,null,null,null,null,null,null,null,null,null,null,null,null,null,null,null,null,{"$f":"VLOOKUP(recettesjuil[[#This Row],[Catégorie]],'coulisses 2'!$A$1:$B$20,2,0)","v":0},null,"Solde final du mois",{"$f":"U35+U36+SUM(U38:U45)","v":0}]
[null,null,null,null,null,null,null,null,null,null,null,null,null,null,null,null,null,{"$f":"VLOOKUP(recettesjuil[[#This Row],[Catégorie]],'coulisses 2'!$A$1:$B$20,2,0)","v":0},null,"Solde du relevé bancaire"]
[null,null,null,null,null,null,null,null,null,null,null,null,null,null,null,null,null,{"$f":"VLOOKUP(recettesjuil[[#This Row],[Catégorie]],'coulisses 2'!$A$1:$B$20,2,0)","v":0},null,"Contrôle (doit être à 0)",{"$f":"U46-U47","v":0}]
[null,null,null,null,null,null,null,null,null,null,null,null,null,null,null,null,null,{"$f":"VLOOKUP(recettesjuil[[#This Row],[Catégorie]],'coulisses 2'!$A$1:$B$20,2,0)","v":0}]
[null,null,null,null,null,null,null,null,null,null,null,null,null,null,null,null,null,{"$f":"VLOOKUP(recettesjuil[[#This Row],[Catégorie]],'coulisses 2'!$A$1:$B$20,2,0)","v":0},null,"Résultat par axe","CA","Dépenses","Résultat"]
[null,null,null,null,null,null,null,null,null,null,null,null,null,null,null,null,null,{"$f":"VLOOKUP(recettesjuil[[#This Row],[Catégorie]],'coulisses 2'!$A$1:$B$20,2,0)","v":0},null,{"$f":"'👩🏻‍🏫 Bienvenue !'!I73","v":0},{"$f":"SUMIF(recettesjuil[Axe],T51,recettesjuil[Montant])","v":0},{"$f":"SUMIF(depensesjuil[Axe],T51,depensesjuil[Montant])","v":0},{"$f":"U51-V51","v":0}]
[null,null,null,null,null,null,null,null,null,null,null,null,null,null,null,null,null,{"$f":"VLOOKUP(recettesjuil[[#This Row],[Catégorie]],'coulisses 2'!$A$1:$B$20,2,0)","v":0},null,{"$f":"'👩🏻‍🏫 Bienvenue !'!I74","v":0},{"$f":"SUMIF(recettesjuil[Axe],T52,recettesjuil[Montant])","v":0},{"$f":"SUMIF(depensesjuil[Axe],T52,depensesjuil[Montant])","v":0},{"$f":"U52-V52","v":0}]
[null,null,null,null,null,null,null,null,null,null,null,null,null,null,null,null,null,{"$f":"VLOOKUP(recettesjuil[[#This Row],[Catégorie]],'coulisses 2'!$A$1:$B$20,2,0)","v":0},null,{"$f":"'👩🏻‍🏫 Bienvenue !'!I75","v":0},{"$f":"SUMIF(recettesjuil[Axe],T53,recettesjuil[Montant])","v":0},{"$f":"SUMIF(depensesjuil[Axe],T53,depensesjuil[Montant])","v":0},0]
[null,null,null,null,null,null,null,null,null,null,null,null,null,null,null,null,null,{"$f":"VLOOKUP(recettesjuil[[#This Row],[Catégorie]],'coulisses 2'!$A$1:$B$20,2,0)","v":0},null,{"$f":"'👩🏻‍🏫 Bienvenue !'!I76","v":0},{"$f":"SUMIF(recettesjuil[Axe],T54,recettesjuil[Montant])","v":0},{"$f":"SUMIF(depensesjuil[Axe],T54,depensesjuil[Montant])","v":0},0]
[null,null,null,null,null,null,null,null,null,null,null,null,null,null,null,null,null,{"$f":"VLOOKUP(recettesjuil[[#This Row],[Catégorie]],'coulisses 2'!$A$1:$B$20,2,0)","v":0},null,{"$f":"'👩🏻‍🏫 Bienvenue !'!I77","v":0},{"$f":"SUMIF(recettesjuil[Axe],T55,recettesjuil[Montant])","v":0},{"$f":"SUMIF(depensesjuil[Axe],T55,depensesjuil[Montant])","v":0},0]
[null,null,null,null,null,null,null,null,null,null,null,null,null,null,null,null,null,{"$f":"VLOOKUP(recettesjuil[[#This Row],[Catégorie]],'coulisses 2'!$A$1:$B$20,2,0)","v":0},null,{"$f":"'👩🏻‍🏫 Bienvenue !'!I78","v":0},{"$f":"SUMIF(recettesjuil[Axe],T56,recettesjuil[Montant])","v":0},{"$f":"SUMIF(depensesjuil[Axe],T56,depensesjuil[Montant])","v":0},0]
[null,null,null,null,null,null,null,null,null,null,null,null,null,null,null,null,null,{"$f":"VLOOKUP(recettesjuil[[#This Row],[Catégorie]],'coulisses 2'!$A$1:$B$20,2,0)","v":0},null,{"$f":"'👩🏻‍🏫 Bienvenue !'!I79","v":0},{"$f":"SUMIF(recettesjuil[Axe],T57,recettesjuil[Montant])","v":0},{"$f":"SUMIF(depensesjuil[Axe],T57,depensesjuil[Montant])","v":0},0]
[null,null,null,null,null,null,null,null,null,null,null,null,null,null,null,null,null,{"$f":"VLOOKUP(recettesjuil[[#This Row],[Catégorie]],'coulisses 2'!$A$1:$B$20,2,0)","v":0},null,{"$f":"'👩🏻‍🏫 Bienvenue !'!I80","v":0},{"$f":"SUMIF(recettesjuil[Axe],T58,recettesjuil[Montant])","v":0},{"$f":"SUMIF(depensesjuil[Axe],T58,depensesjuil[Montant])","v":0},0]
[null,null,null,null,null,null,null,null,null,null,null,null,null,null,null,null,null,{"$f":"VLOOKUP(recettesjuil[[#This Row],[Catégorie]],'coulisses 2'!$A$1:$B$20,2,0)","v":0},null,{"$f":"'👩🏻‍🏫 Bienvenue !'!I81","v":0},{"$f":"SUMIF(recettesjuil[Axe],T59,recettesjuil[Montant])","v":0},{"$f":"SUMIF(depensesjuil[Axe],T59,depensesjuil[Montant])","v":0},0]
[null,null,null,null,null,null,null,null,null,null,null,null,null,null,null,null,null,{"$f":"VLOOKUP(recettesjuil[[#This Row],[Catégorie]],'coulisses 2'!$A$1:$B$20,2,0)","v":0},null,{"$f":"'👩🏻‍🏫 Bienvenue !'!I82","v":0},{"$f":"SUMIF(recettesjuil[Axe],T60,recettesjuil[Montant])","v":0},{"$f":"SUMIF(depensesjuil[Axe],T60,depensesjuil[Montant])","v":0},0]
[null,null,null,null,null,null,null,null,null,null,null,null,null,null,null,null,null,{"$f":"VLOOKUP(recettesjuil[[#This Row],[Catégorie]],'coulisses 2'!$A$1:$B$20,2,0)","v":0}]
[null,null,null,null,null,null,null,null,null,null,null,null,null,null,null,null,null,{"$f":"VLOOKUP(recettesjuil[[#This Row],[Catégorie]],'coulisses 2'!$A$1:$B$20,2,0)","v":0}]
[null,null,null,null,null,null,null,null,null,null,null,null,null,null,null,null,null,{"$f":"VLOOKUP(recettesjuil[[#This Row],[Catégorie]],'coulisses 2'!$A$1:$B$20,2,0)","v":0}]
[null,null,null,null,null,null,null,null,null,null,null,null,null,null,null,null,null,{"$f":"VLOOKUP(recettesjuil[[#This Row],[Catégorie]],'coulisses 2'!$A$1:$B$20,2,0)","v":0}]
[null,null,null,null,null,null,null,null,null,null,null,null,null,null,null,null,null,{"$f":"VLOOKUP(recettesjuil[[#This Row],[Catégorie]],'coulisses 2'!$A$1:$B$20,2,0)","v":0}]
[null,null,null,null,null,null,null,null,null,null,null,null,null,null,null,null,null,{"$f":"VLOOKUP(recettesjuil[[#This Row],[Catégorie]],'coulisses 2'!$A$1:$B$20,2,0)","v":0}]
[null,null,null,null,null,null,null,null,null,null,null,null,null,null,null,null,null,{"$f":"VLOOKUP(recettesjuil[[#This Row],[Catégorie]],'coulisses 2'!$A$1:$B$20,2,0)","v":0}]
[null,null,null,null,null,null,null,null,null,null,null,null,null,null,null,null,null,{"$f":"VLOOKUP(recettesjuil[[#This Row],[Catégorie]],'coulisses 2'!$A$1:$B$20,2,0)","v":0}]
[null,null,null,null,null,null,null,null,null,null,null,null,null,null,null,null,null,{"$f":"VLOOKUP(recettesjuil[[#This Row],[Catégorie]],'coulisses 2'!$A$1:$B$20,2,0)","v":0}]
[null,null,null,null,null,null,null,null,null,null,null,null,null,null,null,null,null,{"$f":"VLOOKUP(recettesjuil[[#This Row],[Catégorie]],'coulisses 2'!$A$1:$B$20,2,0)","v":0}]
[null,null,null,null,null,null,null,null,null,null,null,null,null,null,null,null,null,{"$f":"VLOOKUP(recettesjuil[[#This Row],[Catégorie]],'coulisses 2'!$A$1:$B$20,2,0)","v":0}]
[null,null,null,null,null,null,null,null,null,null,null,null,null,null,null,null,null,{"$f":"VLOOKUP(recettesjuil[[#This Row],[Catégorie]],'coulisses 2'!$A$1:$B$20,2,0)","v":0}]
[null,null,null,null,null,null,null,null,null,null,null,null,null,null,null,null,null,{"$f":"VLOOKUP(recettesjuil[[#This Row],[Catégorie]],'coulisses 2'!$A$1:$B$20,2,0)","v":0}]
[null,null,null,null,null,null,null,null,null,null,null,null,null,null,null,null,null,{"$f":"VLOOKUP(recettesjuil[[#This Row],[Catégorie]],'coulisses 2'!$A$1:$B$20,2,0)","v":0}]
[null,null,null,null,null,null,null,null,null,null,null,null,null,null,null,null,null,{"$f":"VLOOKUP(recettesjuil[[#This Row],[Catégorie]],'coulisses 2'!$A$1:$B$20,2,0)","v":0}]
[null,null,null,null,null,null,null,null,null,null,null,null,null,null,null,null,null,{"$f":"VLOOKUP(recettesjuil[[#This Row],[Catégorie]],'coulisses 2'!$A$1:$B$20,2,0)","v":0}]
[null,null,null,null,null,null,null,null,null,null,null,null,null,null,null,null,null,{"$f":"VLOOKUP(recettesjuil[[#This Row],[Catégorie]],'coulisses 2'!$A$1:$B$20,2,0)","v":0}]
[null,null,null,null,null,null,null,null,null,null,null,null,null,null,null,null,null,{"$f":"VLOOKUP(recettesjuil[[#This Row],[Catégorie]],'coulisses 2'!$A$1:$B$20,2,0)","v":0}]
[null,null,null,null,null,null,null,null,null,null,null,null,null,null,null,null,null,{"$f":"VLOOKUP(recettesjuil[[#This Row],[Catégorie]],'coulisses 2'!$A$1:$B$20,2,0)","v":0}]
[null,null,null,null,null,null,null,null,null,null,null,null,null,null,null,null,null,{"$f":"VLOOKUP(recettesjuil[[#This Row],[Catégorie]],'coulisses 2'!$A$1:$B$20,2,0)","v":0}]
[null,null,null,null,null,null,null,null,null,null,null,null,null,null,null,null,null,{"$f":"VLOOKUP(recettesjuil[[#This Row],[Catégorie]],'coulisses 2'!$A$1:$B$20,2,0)","v":0}]
[null,null,null,null,null,null,null,null,null,null,null,null,null,null,null,null,null,{"$f":"VLOOKUP(recettesjuil[[#This Row],[Catégorie]],'coulisses 2'!$A$1:$B$20,2,0)","v":0}]
[null,null,null,null,null,null,null,null,null,null,null,null,null,null,null,null,null,{"$f":"VLOOKUP(recettesjuil[[#This Row],[Catégorie]],'coulisses 2'!$A$1:$B$20,2,0)","v":0}]
[null,null,null,null,null,null,null,null,null,null,null,null,null,null,null,null,null,{"$f":"VLOOKUP(recettesjuil[[#This Row],[Catégorie]],'coulisses 2'!$A$1:$B$20,2,0)","v":0}]
[null,null,null,null,null,null,null,null,null,null,null,null,null,null,null,null,null,{"$f":"VLOOKUP(recettesjuil[[#This Row],[Catégorie]],'coulisses 2'!$A$1:$B$20,2,0)","v":0}]
[null,null,null,null,null,null,null,null,null,null,null,null,null,null,null,null,null,{"$f":"VLOOKUP(recettesjuil[[#This Row],[Catégorie]],'coulisses 2'!$A$1:$B$20,2,0)","v":0}]
[null,null,null,null,null,null,null,null,null,null,null,null,null,null,null,null,null,{"$f":"VLOOKUP(recettesjuil[[#This Row],[Catégorie]],'coulisses 2'!$A$1:$B$20,2,0)","v":0}]
[null,null,null,null,null,null,null,null,null,null,null,null,null,null,null,null,null,{"$f":"VLOOKUP(recettesjuil[[#This Row],[Catégorie]],'coulisses 2'!$A$1:$B$20,2,0)","v":0}]
[null,null,null,null,null,null,null,null,null,null,null,null,null,null,null,null,null,{"$f":"VLOOKUP(recettesjuil[[#This Row],[Catégorie]],'coulisses 2'!$A$1:$B$20,2,0)","v":0}]
[null,null,null,null,null,null,null,null,null,null,null,null,null,null,null,null,null,{"$f":"VLOOKUP(recettesjuil[[#This Row],[Catégorie]],'coulisses 2'!$A$1:$B$20,2,0)","v":0}]
[null,null,null,null,null,null,null,null,null,null,null,null,null,null,null,null,null,{"$f":"VLOOKUP(recettesjuil[[#This Row],[Catégorie]],'coulisses 2'!$A$1:$B$20,2,0)","v":0}]
[null,null,null,null,null,null,null,null,null,null,null,null,null,null,null,null,null,{"$f":"VLOOKUP(recettesjuil[[#This Row],[Catégorie]],'coulisses 2'!$A$1:$B$20,2,0)","v":0}]
[null,null,null,null,null,null,null,null,null,null,null,null,null,null,null,null,null,{"$f":"VLOOKUP(recettesjuil[[#This Row],[Catégorie]],'coulisses 2'!$A$1:$B$20,2,0)","v":0}]
[null,null,null,null,null,null,null,null,null,null,null,null,null,null,null,null,null,{"$f":"VLOOKUP(recettesjuil[[#This Row],[Catégorie]],'coulisses 2'!$A$1:$B$20,2,0)","v":0}]
[null,null,null,null,null,null,null,null,null,null,null,null,null,null,null,null,null,{"$f":"VLOOKUP(recettesjuil[[#This Row],[Catégorie]],'coulisses 2'!$A$1:$B$20,2,0)","v":0}]
[null,null,null,null,null,null,null,null,null,null,null,null,null,null,null,null,null,{"$f":"VLOOKUP(recettesjuil[[#This Row],[Catégorie]],'coulisses 2'!$A$1:$B$20,2,0)","v":0}]
[null,null,null,null,null,null,null,null,null,null,null,null,null,null,null,null,null,{"$f":"VLOOKUP(recettesjuil[[#This Row],[Catégorie]],'coulisses 2'!$A$1:$B$20,2,0)","v":0}]
[null,null,null,null,null,null,null,null,null,null,null,null,null,null,null,null,null,{"$f":"VLOOKUP(recettesjuil[[#This Row],[Catégorie]],'coulisses 2'!$A$1:$B$20,2,0)","v":0}]
[null,null,null,null,null,null,null,null,null,null,null,null,null,null,null,null,null,{"$f":"VLOOKUP(recettesjuil[[#This Row],[Catégorie]],'coulisses 2'!$A$1:$B$20,2,0)","v":0}]
[null,null,null,null,null,null,null,null,null,null,null,null,null,null,null,null,null,{"$f":"VLOOKUP(recettesjuil[[#This Row],[Catégorie]],'coulisses 2'!$A$1:$B$20,2,0)","v":0}]
[null,null,null,null,null,null,null,null,null,null,null,null,null,null,null,null,null,{"$f":"VLOOKUP(recettesjuil[[#This Row],[Catégorie]],'coulisses 2'!$A$1:$B$20,2,0)","v":0}]
[null,null,null,null,null,null,null,null,null,null,null,null,null,null,null,null,null,{"$f":"VLOOKUP(recettesjuil[[#This Row],[Catégorie]],'coulisses 2'!$A$1:$B$20,2,0)","v":0}]
[null,null,null,null,null,null,null,null,null,null,null,null,null,null,null,null,null,{"$f":"VLOOKUP(recettesjuil[[#This Row],[Catégorie]],'coulisses 2'!$A$1:$B$20,2,0)","v":0}]
[null,null,null,null,null,null,null,null,null,null,null,null,null,null,null,null,null,{"$f":"VLOOKUP(recettesjuil[[#This Row],[Catégorie]],'coulisses 2'!$A$1:$B$20,2,0)","v":0}]
[null,null,null,null,null,null,null,null,null,null,null,null,null,null,null,null,null,{"$f":"VLOOKUP(recettesjuil[[#This Row],[Catégorie]],'coulisses 2'!$A$1:$B$20,2,0)","v":0}]
[null,null,null,null,null,null,null,null,null,null,null,null,null,null,null,null,null,{"$f":"VLOOKUP(recettesjuil[[#This Row],[Catégorie]],'coulisses 2'!$A$1:$B$20,2,0)","v":0}]
[null,null,null,null,null,null,null,null,null,null,null,null,null,null,null,null,null,{"$f":"VLOOKUP(recettesjuil[[#This Row],[Catégorie]],'coulisses 2'!$A$1:$B$20,2,0)","v":0}]
[null,null,null,null,null,null,null,null,null,null,null,null,null,null,null,null,null,{"$f":"VLOOKUP(recettesjuil[[#This Row],[Catégorie]],'coulisses 2'!$A$1:$B$20,2,0)","v":0}]
[null,null,null,null,null,null,null,null,null,null,null,null,null,null,null,null,null,{"$f":"VLOOKUP(recettesjuil[[#This Row],[Catégorie]],'coulisses 2'!$A$1:$B$20,2,0)","v":0}]
[null,null,null,null,null,null,null,null,null,null,null,null,null,null,null,null,null,{"$f":"VLOOKUP(recettesjuil[[#This Row],[Catégorie]],'coulisses 2'!$A$1:$B$20,2,0)","v":0}]
[null,null,null,null,null,null,null,null,null,null,null,null,null,null,null,null,null,{"$f":"VLOOKUP(recettesjuil[[#This Row],[Catégorie]],'coulisses 2'!$A$1:$B$20,2,0)","v":0}]
[null,null,null,null,null,null,null,null,null,null,null,null,null,null,null,null,null,{"$f":"VLOOKUP(recettesjuil[[#This Row],[Catégorie]],'coulisses 2'!$A$1:$B$20,2,0)","v":0}]
[null,null,null,null,null,null,null,null,null,null,null,null,null,null,null,null,null,{"$f":"VLOOKUP(recettesjuil[[#This Row],[Catégorie]],'coulisses 2'!$A$1:$B$20,2,0)","v":0}]
[null,null,null,null,null,null,null,null,null,null,null,null,null,null,null,null,null,{"$f":"VLOOKUP(recettesjuil[[#This Row],[Catégorie]],'coulisses 2'!$A$1:$B$20,2,0)","v":0}]
[null,null,null,null,null,null,null,null,null,null,null,null,null,null,null,null,null,{"$f":"VLOOKUP(recettesjuil[[#This Row],[Catégorie]],'coulisses 2'!$A$1:$B$20,2,0)","v":0}]
[null,null,null,null,null,null,null,null,null,null,null,null,null,null,null,null,null,{"$f":"VLOOKUP(recettesjuil[[#This Row],[Catégorie]],'coulisses 2'!$A$1:$B$20,2,0)","v":0}]
[null,null,null,null,null,null,null,null,null,null,null,null,null,null,null,null,null,{"$f":"VLOOKUP(recettesjuil[[#This Row],[Catégorie]],'coulisses 2'!$A$1:$B$20,2,0)","v":0}]
[null,null,null,null,null,null,null,null,null,null,null,null,null,null,null,null,null,{"$f":"VLOOKUP(recettesjuil[[#This Row],[Catégorie]],'coulisses 2'!$A$1:$B$20,2,0)","v":0}]
[null,null,null,null,null,null,null,null,null,null,null,null,null,null,null,null,null,{"$f":"VLOOKUP(recettesjuil[[#This Row],[Catégorie]],'coulisses 2'!$A$1:$B$20,2,0)","v":0}]
[null,null,null,null,null,null,null,null,null,null,null,null,null,null,null,null,null,{"$f":"VLOOKUP(recettesjuil[[#This Row],[Catégorie]],'coulisses 2'!$A$1:$B$20,2,0)","v":0}]
[null,null,null,null,null,null,null,null,null,null,null,null,null,null,null,null,null,{"$f":"VLOOKUP(recettesjuil[[#This Row],[Catégorie]],'coulisses 2'!$A$1:$B$20,2,0)","v":0}]
[null,null,null,null,null,null,null,null,null,null,null,null,null,null,null,null,null,{"$f":"VLOOKUP(recettesjuil[[#This Row],[Catégorie]],'coulisses 2'!$A$1:$B$20,2,0)","v":0}]
[null,null,null,null,null,null,null,null,null,null,null,null,null,null,null,null,null,{"$f":"VLOOKUP(recettesjuil[[#This Row],[Catégorie]],'coulisses 2'!$A$1:$B$20,2,0)","v":0}]
[null,null,null,null,null,null,null,null,null,null,null,null,null,null,null,null,null,{"$f":"VLOOKUP(recettesjuil[[#This Row],[Catégorie]],'coulisses 2'!$A$1:$B$20,2,0)","v":0}]
[null,null,null,null,null,null,null,null,null,null,null,null,null,null,null,null,null,{"$f":"VLOOKUP(recettesjuil[[#This Row],[Catégorie]],'coulisses 2'!$A$1:$B$20,2,0)","v":0}]
[null,null,null,null,null,null,null,null,null,null,null,null,null,null,null,null,null,{"$f":"VLOOKUP(recettesjuil[[#This Row],[Catégorie]],'coulisses 2'!$A$1:$B$20,2,0)","v":0}]
[null,null,null,null,null,null,null,null,null,null,null,null,null,null,null,null,null,{"$f":"VLOOKUP(recettesjuil[[#This Row],[Catégorie]],'coulisses 2'!$A$1:$B$20,2,0)","v":0}]
[null,null,null,null,null,null,null,null,null,null,null,null,null,null,null,null,null,{"$f":"VLOOKUP(recettesjuil[[#This Row],[Catégorie]],'coulisses 2'!$A$1:$B$20,2,0)","v":0}]
[null,null,null,null,null,null,null,null,null,null,null,null,null,null,null,null,null,{"$f":"VLOOKUP(recettesjuil[[#This Row],[Catégorie]],'coulisses 2'!$A$1:$B$20,2,0)","v":0}]
[null,null,null,null,null,null,null,null,null,null,null,null,null,null,null,null,null,{"$f":"VLOOKUP(recettesjuil[[#This Row],[Catégorie]],'coulisses 2'!$A$1:$B$20,2,0)","v":0}]
[null,null,null,null,null,null,null,null,null,null,null,null,null,null,null,null,null,{"$f":"VLOOKUP(recettesjuil[[#This Row],[Catégorie]],'coulisses 2'!$A$1:$B$20,2,0)","v":0}]
[null,null,null,null,null,null,null,null,null,null,null,null,null,null,null,null,null,{"$f":"VLOOKUP(recettesjuil[[#This Row],[Catégorie]],'coulisses 2'!$A$1:$B$20,2,0)","v":0}]
[null,null,null,null,null,null,null,null,null,null,null,null,null,null,null,null,null,{"$f":"VLOOKUP(recettesjuil[[#This Row],[Catégorie]],'coulisses 2'!$A$1:$B$20,2,0)","v":0}]
[null,null,null,null,null,null,null,null,null,null,null,null,null,null,null,null,null,{"$f":"VLOOKUP(recettesjuil[[#This Row],[Catégorie]],'coulisses 2'!$A$1:$B$20,2,0)","v":0}]
[null,null,null,null,null,null,null,null,null,null,null,null,null,null,null,null,null,{"$f":"VLOOKUP(recettesjuil[[#This Row],[Catégorie]],'coulisses 2'!$A$1:$B$20,2,0)","v":0}]
[null,null,null,null,null,null,null,null,null,null,null,null,null,null,null,null,null,{"$f":"VLOOKUP(recettesjuil[[#This Row],[Catégorie]],'coulisses 2'!$A$1:$B$20,2,0)","v":0}]
[null,null,null,null,null,null,null,null,null,null,null,null,null,null,null,null,null,{"$f":"VLOOKUP(recettesjuil[[#This Row],[Catégorie]],'coulisses 2'!$A$1:$B$20,2,0)","v":0}]
[null,null,null,null,null,null,null,null,null,null,null,null,null,null,null,null,null,{"$f":"VLOOKUP(recettesjuil[[#This Row],[Catégorie]],'coulisses 2'!$A$1:$B$20,2,0)","v":0}]
[null,null,null,null,null,null,null,null,null,null,null,null,null,null,null,null,null,{"$f":"VLOOKUP(recettesjuil[[#This Row],[Catégorie]],'coulisses 2'!$A$1:$B$20,2,0)","v":0}]
[null,null,null,null,null,null,null,null,null,null,null,null,null,null,null,null,null,{"$f":"VLOOKUP(recettesjuil[[#This Row],[Catégorie]],'coulisses 2'!$A$1:$B$20,2,0)","v":0}]
[null,null,null,null,null,null,null,null,null,null,null,null,null,null,null,null,null,{"$f":"VLOOKUP(recettesjuil[[#This Row],[Catégorie]],'coulisses 2'!$A$1:$B$20,2,0)","v":0}]
[null,null,null,null,null,null,null,null,null,null,null,null,null,null,null,null,null,{"$f":"VLOOKUP(recettesjuil[[#This Row],[Catégorie]],'coulisses 2'!$A$1:$B$20,2,0)","v":0}]
[null,null,null,null,null,null,null,null,null,null,null,null,null,null,null,null,null,{"$f":"VLOOKUP(recettesjuil[[#This Row],[Catégorie]],'coulisses 2'!$A$1:$B$20,2,0)","v":0}]
[null,null,null,null,null,null,null,null,null,null,null,null,null,null,null,null,null,{"$f":"VLOOKUP(recettesjuil[[#This Row],[Catégorie]],'coulisses 2'!$A$1:$B$20,2,0)","v":0}]
[null,null,null,null,null,null,null,null,null,null,null,null,null,null,null,null,null,{"$f":"VLOOKUP(recettesjuil[[#This Row],[Catégorie]],'coulisses 2'!$A$1:$B$20,2,0)","v":0}]
[null,null,null,null,null,null,null,null,null,null,null,null,null,null,null,null,null,{"$f":"VLOOKUP(recettesjuil[[#This Row],[Catégorie]],'coulisses 2'!$A$1:$B$20,2,0)","v":0}]
[null,null,null,null,null,null,null,null,null,null,null,null,null,null,null,null,null,{"$f":"VLOOKUP(recettesjuil[[#This Row],[Catégorie]],'coulisses 2'!$A$1:$B$20,2,0)","v":0}]
[null,null,null,null,null,null,null,null,null,null,null,null,null,null,null,null,null,{"$f":"VLOOKUP(recettesjuil[[#This Row],[Catégorie]],'coulisses 2'!$A$1:$B$20,2,0)","v":0}]
[null,null,null,null,null,null,null,null,null,null,null,null,null,null,null,null,null,{"$f":"VLOOKUP(recettesjuil[[#This Row],[Catégorie]],'coulisses 2'!$A$1:$B$20,2,0)","v":0}]
[null,null,null,null,null,null,null,null,null,null,null,null,null,null,null,null,null,{"$f":"VLOOKUP(recettesjuil[[#This Row],[Catégorie]],'coulisses 2'!$A$1:$B$20,2,0)","v":0}]
[null,null,null,null,null,null,null,null,null,null,null,null,null,null,null,null,null,{"$f":"VLOOKUP(recettesjuil[[#This Row],[Catégorie]],'coulisses 2'!$A$1:$B$20,2,0)","v":0}]
[null,null,null,null,null,null,null,null,null,null,null,null,null,null,null,null,null,{"$f":"VLOOKUP(recettesjuil[[#This Row],[Catégorie]],'coulisses 2'!$A$1:$B$20,2,0)","v":0}]
[null,null,null,null,null,null,null,null,null,null,null,null,null,null,null,null,null,{"$f":"VLOOKUP(recettesjuil[[#This Row],[Catégorie]],'coulisses 2'!$A$1:$B$20,2,0)","v":0}]
[null,null,null,null,null,null,null,null,null,null,null,null,null,null,null,null,null,{"$f":"VLOOKUP(recettesjuil[[#This Row],[Catégorie]],'coulisses 2'!$A$1:$B$20,2,0)","v":0}]
[null,null,null,null,null,null,null,null,null,null,null,null,null,null,null,null,null,{"$f":"VLOOKUP(recettesjuil[[#This Row],[Catégorie]],'coulisses 2'!$A$1:$B$20,2,0)","v":0}]
[null,null,null,null,null,null,null,null,null,null,null,null,null,null,null,null,null,{"$f":"VLOOKUP(recettesjuil[[#This Row],[Catégorie]],'coulisses 2'!$A$1:$B$20,2,0)","v":0}]
[null,null,null,null,null,null,null,null,null,null,null,null,null,null,null,null,null,{"$f":"VLOOKUP(recettesjuil[[#This Row],[Catégorie]],'coulisses 2'!$A$1:$B$20,2,0)","v":0}]
[null,null,null,null,null,null,null,null,null,null,null,null,null,null,null,null,null,{"$f":"VLOOKUP(recettesjuil[[#This Row],[Catégorie]],'coulisses 2'!$A$1:$B$20,2,0)","v":0}]
[null,null,null,null,null,null,null,null,null,null,null,null,null,null,null,null,null,{"$f":"VLOOKUP(recettesjuil[[#This Row],[Catégorie]],'coulisses 2'!$A$1:$B$20,2,0)","v":0}]
[null,null,null,null,null,null,null,null,null,null,null,null,null,null,null,null,null,{"$f":"VLOOKUP(recettesjuil[[#This Row],[Catégorie]],'coulisses 2'!$A$1:$B$20,2,0)","v":0}]
[null,null,null,null,null,null,null,null,null,null,null,null,null,null,null,null,null,{"$f":"VLOOKUP(recettesjuil[[#This Row],[Catégorie]],'coulisses 2'!$A$1:$B$20,2,0)","v":0}]
[null,null,null,null,null,null,null,null,null,null,null,null,null,null,null,null,null,{"$f":"VLOOKUP(recettesjuil[[#This Row],[Catégorie]],'coulisses 2'!$A$1:$B$20,2,0)","v":0}]
[null,null,null,null,null,null,null,null,null,null,null,null,null,null,null,null,null,{"$f":"VLOOKUP(recettesjuil[[#This Row],[Catégorie]],'coulisses 2'!$A$1:$B$20,2,0)","v":0}]
[null,null,null,null,null,null,null,null,null,null,null,null,null,null,null,null,null,{"$f":"VLOOKUP(recettesjuil[[#This Row],[Catégorie]],'coulisses 2'!$A$1:$B$20,2,0)","v":0}]
[null,null,null,null,null,null,null,null,null,null,null,null,null,null,null,null,null,{"$f":"VLOOKUP(recettesjuil[[#This Row],[Catégorie]],'coulisses 2'!$A$1:$B$20,2,0)","v":0}]
[null,null,null,null,null,null,null,null,null,null,null,null,null,null,null,null,null,{"$f":"VLOOKUP(recettesjuil[[#This Row],[Catégorie]],'coulisses 2'!$A$1:$B$20,2,0)","v":0}]
[null,null,null,null,null,null,null,null,null,null,null,null,null,null,null,null,null,{"$f":"VLOOKUP(recettesjuil[[#This Row],[Catégorie]],'coulisses 2'!$A$1:$B$20,2,0)","v":0}]
[null,null,null,null,null,null,null,null,null,null,null,null,null,null,null,null,null,{"$f":"VLOOKUP(recettesjuil[[#This Row],[Catégorie]],'coulisses 2'!$A$1:$B$20,2,0)","v":0}]
[null,null,null,null,null,null,null,null,null,null,null,null,null,null,null,null,null,{"$f":"VLOOKUP(recettesjuil[[#This Row],[Catégorie]],'coulisses 2'!$A$1:$B$20,2,0)","v":0}]
[null,null,null,null,null,null,null,null,null,null,null,null,null,null,null,null,null,{"$f":"VLOOKUP(recettesjuil[[#This Row],[Catégorie]],'coulisses 2'!$A$1:$B$20,2,0)","v":0}]
[null,null,null,null,null,null,null,null,null,null,null,null,null,null,null,null,null,{"$f":"VLOOKUP(recettesjuil[[#This Row],[Catégorie]],'coulisses 2'!$A$1:$B$20,2,0)","v":0}]
[null,null,null,null,null,null,null,null,null,null,null,null,null,null,null,null,null,{"$f":"VLOOKUP(recettesjuil[[#This Row],[Catégorie]],'coulisses 2'!$A$1:$B$20,2,0)","v":0}]
[null,null,null,null,null,null,null,null,null,null,null,null,null,null,null,null,null,{"$f":"VLOOKUP(recettesjuil[[#This Row],[Catégorie]],'coulisses 2'!$A$1:$B$20,2,0)","v":0}]
[null,null,null,null,null,null,null,null,null,null,null,null,null,null,null,null,null,{"$f":"VLOOKUP(recettesjuil[[#This Row],[Catégorie]],'coulisses 2'!$A$1:$B$20,2,0)","v":0}]
[null,null,null,null,null,null,null,null,null,null,null,null,null,null,null,null,null,{"$f":"VLOOKUP(recettesjuil[[#This Row],[Catégorie]],'coulisses 2'!$A$1:$B$20,2,0)","v":0}]
[null,null,null,null,null,null,null,null,null,null,null,null,null,null,null,null,null,{"$f":"VLOOKUP(recettesjuil[[#This Row],[Catégorie]],'coulisses 2'!$A$1:$B$20,2,0)","v":0}]
[null,null,null,null,null,null,null,null,null,null,null,null,null,null,null,null,null,{"$f":"VLOOKUP(recettesjuil[[#This Row],[Catégorie]],'coulisses 2'!$A$1:$B$20,2,0)","v":0}]
[null,null,null,null,null,null,null,null,null,null,null,null,null,null,null,null,null,{"$f":"VLOOKUP(recettesjuil[[#This Row],[Catégorie]],'coulisses 2'!$A$1:$B$20,2,0)","v":0}]
[null,null,null,null,null,null,null,null,null,null,null,null,null,null,null,null,null,{"$f":"VLOOKUP(recettesjuil[[#This Row],[Catégorie]],'coulisses 2'!$A$1:$B$20,2,0)","v":0}]
[null,null,null,null,null,null,null,null,null,null,null,null,null,null,null,null,null,{"$f":"VLOOKUP(recettesjuil[[#This Row],[Catégorie]],'coulisses 2'!$A$1:$B$20,2,0)","v":0}]
[null,null,null,null,null,null,null,null,null,null,null,null,null,null,null,null,null,{"$f":"VLOOKUP(recettesjuil[[#This Row],[Catégorie]],'coulisses 2'!$A$1:$B$20,2,0)","v":0}]
[null,null,null,null,null,null,null,null,null,null,null,null,null,null,null,null,null,{"$f":"VLOOKUP(recettesjuil[[#This Row],[Catégorie]],'coulisses 2'!$A$1:$B$20,2,0)","v":0}]
[null,null,null,null,null,null,null,null,null,null,null,null,null,null,null,null,null,{"$f":"VLOOKUP(recettesjuil[[#This Row],[Catégorie]],'coulisses 2'!$A$1:$B$20,2,0)","v":0}]
[null,null,null,null,null,null,null,null,null,null,null,null,null,null,null,null,null,{"$f":"VLOOKUP(recettesjuil[[#This Row],[Catégorie]],'coulisses 2'!$A$1:$B$20,2,0)","v":0}]
[null,null,null,null,null,null,null,null,null,null,null,null,null,null,null,null,null,{"$f":"VLOOKUP(recettesjuil[[#This Row],[Catégorie]],'coulisses 2'!$A$1:$B$20,2,0)","v":0}]
[null,null,null,null,null,null,null,null,null,null,null,null,null,null,null,null,null,{"$f":"VLOOKUP(recettesjuil[[#This Row],[Catégorie]],'coulisses 2'!$A$1:$B$20,2,0)","v":0}]
[null,null,null,null,null,null,null,null,null,null,null,null,null,null,null,null,null,{"$f":"VLOOKUP(recettesjuil[[#This Row],[Catégorie]],'coulisses 2'!$A$1:$B$20,2,0)","v":0}]
[null,null,null,null,null,null,null,null,null,null,null,null,null,null,null,null,null,{"$f":"VLOOKUP(recettesjuil[[#This Row],[Catégorie]],'coulisses 2'!$A$1:$B$20,2,0)","v":0}]
[null,null,null,null,null,null,null,null,null,null,null,null,null,null,null,null,null,{"$f":"VLOOKUP(recettesjuil[[#This Row],[Catégorie]],'coulisses 2'!$A$1:$B$20,2,0)","v":0}]
[null,null,null,null,null,null,null,null,null,null,null,null,null,null,null,null,null,{"$f":"VLOOKUP(recettesjuil[[#This Row],[Catégorie]],'coulisses 2'!$A$1:$B$20,2,0)","v":0}]
[null,null,null,null,null,null,null,null,null,null,null,null,null,null,null,null,null,{"$f":"VLOOKUP(recettesjuil[[#This Row],[Catégorie]],'coulisses 2'!$A$1:$B$20,2,0)","v":0}]
[null,null,null,null,null,null,null,null,null,null,null,null,null,null,null,null,null,{"$f":"VLOOKUP(recettesjuil[[#This Row],[Catégorie]],'coulisses 2'!$A$1:$B$20,2,0)","v":0}]
[null,null,null,null,null,null,null,null,null,null,null,null,null,null,null,null,null,{"$f":"VLOOKUP(recettesjuil[[#This Row],[Catégorie]],'coulisses 2'!$A$1:$B$20,2,0)","v":0}]
[null,null,null,null,null,null,null,null,null,null,null,null,null,null,null,null,null,{"$f":"VLOOKUP(recettesjuil[[#This Row],[Catégorie]],'coulisses 2'!$A$1:$B$20,2,0)","v":0}]
[null,null,null,null,null,null,null,null,null,null,null,null,null,null,null,null,null,{"$f":"VLOOKUP(recettesjuil[[#This Row],[Catégorie]],'coulisses 2'!$A$1:$B$20,2,0)","v":0}]
[null,null,null,null,null,null,null,null,null,null,null,null,null,null,null,null,null,{"$f":"VLOOKUP(recettesjuil[[#This Row],[Catégorie]],'coulisses 2'!$A$1:$B$20,2,0)","v":0}]
[null,null,null,null,null,null,null,null,null,null,null,null,null,null,null,null,null,{"$f":"VLOOKUP(recettesjuil[[#This Row],[Catégorie]],'coulisses 2'!$A$1:$B$20,2,0)","v":0}]
[null,null,null,null,null,null,null,null,null,null,null,null,null,null,null,null,null,{"$f":"VLOOKUP(recettesjuil[[#This Row],[Catégorie]],'coulisses 2'!$A$1:$B$20,2,0)","v":0}]
[null,null,null,null,null,null,null,null,null,null,null,null,null,null,null,null,null,{"$f":"VLOOKUP(recettesjuil[[#This Row],[Catégorie]],'coulisses 2'!$A$1:$B$20,2,0)","v":0}]
[null,null,null,null,null,null,null,null,null,null,null,null,null,null,null,null,null,{"$f":"VLOOKUP(recettesjuil[[#This Row],[Catégorie]],'coulisses 2'!$A$1:$B$20,2,0)","v":0}]
[null,null,null,null,null,null,null,null,null,null,null,null,null,null,null,null,null,{"$f":"VLOOKUP(recettesjuil[[#This Row],[Catégorie]],'coulisses 2'!$A$1:$B$20,2,0)","v":0}]
[null,null,null,null,null,null,null,null,null,null,null,null,null,null,null,null,null,{"$f":"VLOOKUP(recettesjuil[[#This Row],[Catégorie]],'coulisses 2'!$A$1:$B$20,2,0)","v":0}]
[null,null,null,null,null,null,null,null,null,null,null,null,null,null,null,null,null,{"$f":"VLOOKUP(recettesjuil[[#This Row],[Catégorie]],'coulisses 2'!$A$1:$B$20,2,0)","v":0}]
[null,null,null,null,null,null,null,null,null,null,null,null,null,null,null,null,null,{"$f":"VLOOKUP(recettesjuil[[#This Row],[Catégorie]],'coulisses 2'!$A$1:$B$20,2,0)","v":0}]
[null,null,null,null,null,null,null,null,null,null,null,null,null,null,null,null,null,{"$f":"VLOOKUP(recettesjuil[[#This Row],[Catégorie]],'coulisses 2'!$A$1:$B$20,2,0)","v":0}]
[null,null,null,null,null,null,null,null,null,null,null,null,null,null,null,null,null,{"$f":"VLOOKUP(recettesjuil[[#This Row],[Catégorie]],'coulisses 2'!$A$1:$B$20,2,0)","v":0}]
[null,null,null,null,null,null,null,null,null,null,null,null,null,null,null,null,null,{"$f":"VLOOKUP(recettesjuil[[#This Row],[Catégorie]],'coulisses 2'!$A$1:$B$20,2,0)","v":0}]
[null,null,null,null,null,null,null,null,null,null,null,null,null,null,null,null,null,{"$f":"VLOOKUP(recettesjuil[[#This Row],[Catégorie]],'coulisses 2'!$A$1:$B$20,2,0)","v":0}]
[null,null,null,null,null,null,null,null,null,null,null,null,null,null,null,null,null,{"$f":"VLOOKUP(recettesjuil[[#This Row],[Catégorie]],'coulisses 2'!$A$1:$B$20,2,0)","v":0}]
[null,null,null,null,null,null,null,null,null,null,null,null,null,null,null,null,null,{"$f":"VLOOKUP(recettesjuil[[#This Row],[Catégorie]],'coulisses 2'!$A$1:$B$20,2,0)","v":0}]
[null,null,null,null,null,null,null,null,null,null,null,null,null,null,null,null,null,{"$f":"VLOOKUP(recettesjuil[[#This Row],[Catégorie]],'coulisses 2'!$A$1:$B$20,2,0)","v":0}]
[null,null,null,null,null,null,null,null,null,null,null,null,null,null,null,null,null,{"$f":"VLOOKUP(recettesjuil[[#This Row],[Catégorie]],'coulisses 2'!$A$1:$B$20,2,0)","v":0}]
[null,null,null,null,null,null,null,null,null,null,null,null,null,null,null,null,null,{"$f":"VLOOKUP(recettesjuil[[#This Row],[Catégorie]],'coulisses 2'!$A$1:$B$20,2,0)","v":0}]
[null,null,null,null,null,null,null,null,null,null,null,null,null,null,null,null,null,{"$f":"VLOOKUP(recettesjuil[[#This Row],[Catégorie]],'coulisses 2'!$A$1:$B$20,2,0)","v":0}]
[null,null,null,null,null,null,null,null,null,null,null,null,null,null,null,null,null,{"$f":"VLOOKUP(recettesjuil[[#This Row],[Catégorie]],'coulisses 2'!$A$1:$B$20,2,0)","v":0}]
[null,null,null,null,null,null,null,null,null,null,null,null,null,null,null,null,null,{"$f":"VLOOKUP(recettesjuil[[#This Row],[Catégorie]],'coulisses 2'!$A$1:$B$20,2,0)","v":0}]
[null,null,null,null,null,null,null,null,null,null,null,null,null,null,null,null,null,{"$f":"VLOOKUP(recettesjuil[[#This Row],[Catégorie]],'coulisses 2'!$A$1:$B$20,2,0)","v":0}]
[null,null,null,null,null,null,null,null,null,null,null,null,null,null,null,null,null,{"$f":"VLOOKUP(recettesjuil[[#This Row],[Catégorie]],'coulisses 2'!$A$1:$B$20,2,0)","v":0}]
[null,null,null,null,null,null,null,null,null,null,null,null,null,null,null,null,null,{"$f":"VLOOKUP(recettesjuil[[#This Row],[Catégorie]],'coulisses 2'!$A$1:$B$20,2,0)","v":0}]
[null,null,null,null,null,null,null,null,null,null,null,null,null,null,null,null,null,{"$f":"VLOOKUP(recettesjuil[[#This Row],[Catégorie]],'coulisses 2'!$A$1:$B$20,2,0)","v":0}]
[null,null,null,null,null,null,null,null,null,null,null,null,null,null,null,null,null,{"$f":"VLOOKUP(recettesjuil[[#This Row],[Catégorie]],'coulisses 2'!$A$1:$B$20,2,0)","v":0}]
[null,null,null,null,null,null,null,null,null,null,null,null,null,null,null,null,null,{"$f":"VLOOKUP(recettesjuil[[#This Row],[Catégorie]],'coulisses 2'!$A$1:$B$20,2,0)","v":0}]
[null,null,null,null,null,null,null,null,null,null,null,null,null,null,null,null,null,{"$f":"VLOOKUP(recettesjuil[[#This Row],[Catégorie]],'coulisses 2'!$A$1:$B$20,2,0)","v":0}]
[null,null,null,null,null,null,null,null,null,null,null,null,null,null,null,null,null,{"$f":"VLOOKUP(recettesjuil[[#This Row],[Catégorie]],'coulisses 2'!$A$1:$B$20,2,0)","v":0}]
[null,null,null,null,null,null,null,null,null,null,null,null,null,null,null,null,null,{"$f":"VLOOKUP(recettesjuil[[#This Row],[Catégorie]],'coulisses 2'!$A$1:$B$20,2,0)","v":0}]
[null,null,null,null,null,null,null,null,null,null,null,null,null,null,null,null,null,{"$f":"VLOOKUP(recettesjuil[[#This Row],[Catégorie]],'coulisses 2'!$A$1:$B$20,2,0)","v":0}]
[null,null,null,null,null,null,null,null,null,null,null,null,null,null,null,null,null,{"$f":"VLOOKUP(recettesjuil[[#This Row],[Catégorie]],'coulisses 2'!$A$1:$B$20,2,0)","v":0}]
[null,null,null,null,null,null,null,null,null,null,null,null,null,null,null,null,null,{"$f":"VLOOKUP(recettesjuil[[#This Row],[Catégorie]],'coulisses 2'!$A$1:$B$20,2,0)","v":0}]
[null,null,null,null,null,null,null,null,null,null,null,null,null,null,null,null,null,{"$f":"VLOOKUP(recettesjuil[[#This Row],[Catégorie]],'coulisses 2'!$A$1:$B$20,2,0)","v":0}]
[null,null,null,null,null,null,null,null,null,null,null,null,null,null,null,null,null,{"$f":"VLOOKUP(recettesjuil[[#This Row],[Catégorie]],'coulisses 2'!$A$1:$B$20,2,0)","v":0}]
[null,null,null,null,null,null,null,null,null,null,null,null,null,null,null,null,null,{"$f":"VLOOKUP(recettesjuil[[#This Row],[Catégorie]],'coulisses 2'!$A$1:$B$20,2,0)","v":0}]
[null,null,null,null,null,null,null,null,null,null,null,null,null,null,null,null,null,{"$f":"VLOOKUP(recettesjuil[[#This Row],[Catégorie]],'coulisses 2'!$A$1:$B$20,2,0)","v":0}]
[null,null,null,null,null,null,null,null,null,null,null,null,null,null,null,null,null,{"$f":"VLOOKUP(recettesjuil[[#This Row],[Catégorie]],'coulisses 2'!$A$1:$B$20,2,0)","v":0}]
[null,null,null,null,null,null,null,null,null,null,null,null,null,null,null,null,null,{"$f":"VLOOKUP(recettesjuil[[#This Row],[Catégorie]],'coulisses 2'!$A$1:$B$20,2,0)","v":0}]
[null,null,null,null,null,null,null,null,null,null,null,null,null,null,null,null,null,{"$f":"VLOOKUP(recettesjuil[[#This Row],[Catégorie]],'coulisses 2'!$A$1:$B$20,2,0)","v":0}]
[null,null,null,null,null,null,null,null,null,null,null,null,null,null,null,null,null,{"$f":"VLOOKUP(recettesjuil[[#This Row],[Catégorie]],'coulisses 2'!$A$1:$B$20,2,0)","v":0}]
[null,null,null,null,null,null,null,null,null,null,null,null,null,null,null,null,null,{"$f":"VLOOKUP(recettesjuil[[#This Row],[Catégorie]],'coulisses 2'!$A$1:$B$20,2,0)","v":0}]
[null,null,null,null,null,null,null,null,null,null,null,null,null,null,null,null,null,{"$f":"VLOOKUP(recettesjuil[[#This Row],[Catégorie]],'coulisses 2'!$A$1:$B$20,2,0)","v":0}]
[null,null,null,null,null,null,null,null,null,null,null,null,null,null,null,null,null,{"$f":"VLOOKUP(recettesjuil[[#This Row],[Catégorie]],'coulisses 2'!$A$1:$B$20,2,0)","v":0}]
[null,null,null,null,null,null,null,null,null,null,null,null,null,null,null,null,null,{"$f":"VLOOKUP(recettesjuil[[#This Row],[Catégorie]],'coulisses 2'!$A$1:$B$20,2,0)","v":0}]
[null,null,null,null,null,null,null,null,null,null,null,null,null,null,null,null,null,{"$f":"VLOOKUP(recettesjuil[[#This Row],[Catégorie]],'coulisses 2'!$A$1:$B$20,2,0)","v":0}]
[null,null,null,null,null,null,null,null,null,null,null,null,null,null,null,null,null,{"$f":"VLOOKUP(recettesjuil[[#This Row],[Catégorie]],'coulisses 2'!$A$1:$B$20,2,0)","v":0}]
[null,null,null,null,null,null,null,null,null,null,null,null,null,null,null,null,null,{"$f":"VLOOKUP(recettesjuil[[#This Row],[Catégorie]],'coulisses 2'!$A$1:$B$20,2,0)","v":0}]
[null,null,null,null,null,null,null,null,null,null,null,null,null,null,null,null,null,{"$f":"VLOOKUP(recettesjuil[[#This Row],[Catégorie]],'coulisses 2'!$A$1:$B$20,2,0)","v":0}]
[null,null,null,null,null,null,null,null,null,null,null,null,null,null,null,null,null,{"$f":"VLOOKUP(recettesjuil[[#This Row],[Catégorie]],'coulisses 2'!$A$1:$B$20,2,0)","v":0}]
[null,null,null,null,null,null,null,null,null,null,null,null,null,null,null,null,null,{"$f":"VLOOKUP(recettesjuil[[#This Row],[Catégorie]],'coulisses 2'!$A$1:$B$20,2,0)","v":0}]
[null,null,null,null,null,null,null,null,null,null,null,null,null,null,null,null,null,{"$f":"VLOOKUP(recettesjuil[[#This Row],[Catégorie]],'coulisses 2'!$A$1:$B$20,2,0)","v":0}]
[null,null,null,null,null,null,null,null,null,null,null,null,null,null,null,null,null,{"$f":"VLOOKUP(recettesjuil[[#This Row],[Catégorie]],'coulisses 2'!$A$1:$B$20,2,0)","v":0}]
[null,null,null,null,null,null,null,null,null,null,null,null,null,null,null,null,null,{"$f":"VLOOKUP(recettesjuil[[#This Row],[Catégorie]],'coulisses 2'!$A$1:$B$20,2,0)","v":0}]
[null,null,null,null,null,null,null,null,null,null,null,null,null,null,null,null,null,{"$f":"VLOOKUP(recettesjuil[[#This Row],[Catégorie]],'coulisses 2'!$A$1:$B$20,2,0)","v":0}]
[null,null,null,null,null,null,null,null,null,null,null,null,null,null,null,null,null,{"$f":"VLOOKUP(recettesjuil[[#This Row],[Catégorie]],'coulisses 2'!$A$1:$B$20,2,0)","v":0}]
[null,null,null,null,null,null,null,null,null,null,null,null,null,null,null,null,null,{"$f":"VLOOKUP(recettesjuil[[#This Row],[Catégorie]],'coulisses 2'!$A$1:$B$20,2,0)","v":0}]
[null,null,null,null,null,null,null,null,null,null,null,null,null,null,null,null,null,{"$f":"VLOOKUP(recettesjuil[[#This Row],[Catégorie]],'coulisses 2'!$A$1:$B$20,2,0)","v":0}]
[null,null,null,null,null,null,null,null,null,null,null,null,null,null,null,null,null,{"$f":"VLOOKUP(recettesjuil[[#This Row],[Catégorie]],'coulisses 2'!$A$1:$B$20,2,0)","v":0}]
[null,null,null,null,null,null,null,null,null,null,null,null,null,null,null,null,null,{"$f":"VLOOKUP(recettesjuil[[#This Row],[Catégorie]],'coulisses 2'!$A$1:$B$20,2,0)","v":0}]
[null,null,null,null,null,null,null,null,null,null,null,null,null,null,null,null,null,{"$f":"VLOOKUP(recettesjuil[[#This Row],[Catégorie]],'coulisses 2'!$A$1:$B$20,2,0)","v":0}]
[null,null,null,null,null,null,null,null,null,null,null,null,null,null,null,null,null,{"$f":"VLOOKUP(recettesjuil[[#This Row],[Catégorie]],'coulisses 2'!$A$1:$B$20,2,0)","v":0}]
[null,null,null,null,null,null,null,null,null,null,null,null,null,null,null,null,null,{"$f":"VLOOKUP(recettesjuil[[#This Row],[Catégorie]],'coulisses 2'!$A$1:$B$20,2,0)","v":0}]
[null,null,null,null,null,null,null,null,null,null,null,null,null,null,null,null,null,{"$f":"VLOOKUP(recettesjuil[[#This Row],[Catégorie]],'coulisses 2'!$A$1:$B$20,2,0)","v":0}]
[null,null,null,null,null,null,null,null,null,null,null,null,null,null,null,null,null,{"$f":"VLOOKUP(recettesjuil[[#This Row],[Catégorie]],'coulisses 2'!$A$1:$B$20,2,0)","v":0}]
[null,null,null,null,null,null,null,null,null,null,null,null,null,null,null,null,null,{"$f":"VLOOKUP(recettesjuil[[#This Row],[Catégorie]],'coulisses 2'!$A$1:$B$20,2,0)","v":0}]
[null,null,null,null,null,null,null,null,null,null,null,null,null,null,null,null,null,{"$f":"VLOOKUP(recettesjuil[[#This Row],[Catégorie]],'coulisses 2'!$A$1:$B$20,2,0)","v":0}]
[null,null,null,null,null,null,null,null,null,null,null,null,null,null,null,null,null,{"$f":"VLOOKUP(recettesjuil[[#This Row],[Catégorie]],'coulisses 2'!$A$1:$B$20,2,0)","v":0}]
[null,null,null,null,null,null,null,null,null,null,null,null,null,null,null,null,null,{"$f":"VLOOKUP(recettesjuil[[#This Row],[Catégorie]],'coulisses 2'!$A$1:$B$20,2,0)","v":0}]
[null,null,null,null,null,null,null,null,null,null,null,null,null,null,null,null,null,{"$f":"VLOOKUP(recettesjuil[[#This Row],[Catégorie]],'coulisses 2'!$A$1:$B$20,2,0)","v":0}]
[null,null,null,null,null,null,null,null,null,null,null,null,null,null,null,null,null,{"$f":"VLOOKUP(recettesjuil[[#This Row],[Catégorie]],'coulisses 2'!$A$1:$B$20,2,0)","v":0}]
[null,null,null,null,null,null,null,null,null,null,null,null,null,null,null,null,null,{"$f":"VLOOKUP(recettesjuil[[#This Row],[Catégorie]],'coulisses 2'!$A$1:$B$20,2,0)","v":0}]
[null,null,null,null,null,null,null,null,null,null,null,null,null,null,null,null,null,{"$f":"VLOOKUP(recettesjuil[[#This Row],[Catégorie]],'coulisses 2'!$A$1:$B$20,2,0)","v":0}]
[null,null,null,null,null,null,null,null,null,null,null,null,null,null,null,null,null,{"$f":"VLOOKUP(recettesjuil[[#This Row],[Catégorie]],'coulisses 2'!$A$1:$B$20,2,0)","v":0}]
[null,null,null,null,null,null,null,null,null,null,null,null,null,null,null,null,null,{"$f":"VLOOKUP(recettesjuil[[#This Row],[Catégorie]],'coulisses 2'!$A$1:$B$20,2,0)","v":0}]
[null,null,null,null,null,null,null,null,null,null,null,null,null,null,null,null,null,{"$f":"VLOOKUP(recettesjuil[[#This Row],[Catégorie]],'coulisses 2'!$A$1:$B$20,2,0)","v":0}]
[null,null,null,null,null,null,null,null,null,null,null,null,null,null,null,null,null,{"$f":"VLOOKUP(recettesjuil[[#This Row],[Catégorie]],'coulisses 2'!$A$1:$B$20,2,0)","v":0}]
[null,null,null,null,null,null,null,null,null,null,null,null,null,null,null,null,null,{"$f":"VLOOKUP(recettesjuil[[#This Row],[Catégorie]],'coulisses 2'!$A$1:$B$20,2,0)","v":0}]
[null,null,null,null,null,null,null,null,null,null,null,null,null,null,null,null,null,{"$f":"VLOOKUP(recettesjuil[[#This Row],[Catégorie]],'coulisses 2'!$A$1:$B$20,2,0)","v":0}]
[null,null,null,null,null,null,null,null,null,null,null,null,null,null,null,null,null,{"$f":"VLOOKUP(recettesjuil[[#This Row],[Catégorie]],'coulisses 2'!$A$1:$B$20,2,0)","v":0}]
[null,null,null,null,null,null,null,null,null,null,null,null,null,null,null,null,null,{"$f":"VLOOKUP(recettesjuil[[#This Row],[Catégorie]],'coulisses 2'!$A$1:$B$20,2,0)","v":0}]
[null,null,null,null,null,null,null,null,null,null,null,null,null,null,null,null,null,{"$f":"VLOOKUP(recettesjuil[[#This Row],[Catégorie]],'coulisses 2'!$A$1:$B$20,2,0)","v":0}]
[null,null,null,null,null,null,null,null,null,null,null,null,null,null,null,null,null,{"$f":"VLOOKUP(recettesjuil[[#This Row],[Catégorie]],'coulisses 2'!$A$1:$B$20,2,0)","v":0}]
[null,null,null,null,null,null,null,null,null,null,null,null,null,null,null,null,null,{"$f":"VLOOKUP(recettesjuil[[#This Row],[Catégorie]],'coulisses 2'!$A$1:$B$20,2,0)","v":0}]
[null,null,null,null,null,null,null,null,null,null,null,null,null,null,null,null,null,{"$f":"VLOOKUP(recettesjuil[[#This Row],[Catégorie]],'coulisses 2'!$A$1:$B$20,2,0)","v":0}]
[null,null,null,null,null,null,null,null,null,null,null,null,null,null,null,null,null,{"$f":"VLOOKUP(recettesjuil[[#This Row],[Catégorie]],'coulisses 2'!$A$1:$B$20,2,0)","v":0}]
[null,null,null,null,null,null,null,null,null,null,null,null,null,null,null,null,null,{"$f":"VLOOKUP(recettesjuil[[#This Row],[Catégorie]],'coulisses 2'!$A$1:$B$20,2,0)","v":0}]
[null,null,null,null,null,null,null,null,null,null,null,null,null,null,null,null,null,{"$f":"VLOOKUP(recettesjuil[[#This Row],[Catégorie]],'coulisses 2'!$A$1:$B$20,2,0)","v":0}]
[null,null,null,null,null,null,null,null,null,null,null,null,null,null,null,null,null,{"$f":"VLOOKUP(recettesjuil[[#This Row],[Catégorie]],'coulisses 2'!$A$1:$B$20,2,0)","v":0}]
[null,null,null,null,null,null,null,null,null,null,null,null,null,null,null,null,null,{"$f":"VLOOKUP(recettesjuil[[#This Row],[Catégorie]],'coulisses 2'!$A$1:$B$20,2,0)","v":0}]
[null,null,null,null,null,null,null,null,null,null,null,null,null,null,null,null,null,{"$f":"VLOOKUP(recettesjuil[[#This Row],[Catégorie]],'coulisses 2'!$A$1:$B$20,2,0)","v":0}]
[null,null,null,null,null,null,null,null,null,null,null,null,null,null,null,null,null,{"$f":"VLOOKUP(recettesjuil[[#This Row],[Catégorie]],'coulisses 2'!$A$1:$B$20,2,0)","v":0}]
[null,null,null,null,null,null,null,null,null,null,null,null,null,null,null,null,null,{"$f":"VLOOKUP(recettesjuil[[#This Row],[Catégorie]],'coulisses 2'!$A$1:$B$20,2,0)","v":0}]
[null,null,null,null,null,null,null,null,null,null,null,null,null,null,null,null,null,{"$f":"VLOOKUP(recettesjuil[[#This Row],[Catégorie]],'coulisses 2'!$A$1:$B$20,2,0)","v":0}]
[null,null,null,null,null,null,null,null,null,null,null,null,null,null,null,null,null,{"$f":"VLOOKUP(recettesjuil[[#This Row],[Catégorie]],'coulisses 2'!$A$1:$B$20,2,0)","v":0}]
[null,null,null,null,null,null,null,null,null,null,null,null,null,null,null,null,null,{"$f":"VLOOKUP(recettesjuil[[#This Row],[Catégorie]],'coulisses 2'!$A$1:$B$20,2,0)","v":0}]
[null,null,null,null,null,null,null,null,null,null,null,null,null,null,null,null,null,{"$f":"VLOOKUP(recettesjuil[[#This Row],[Catégorie]],'coulisses 2'!$A$1:$B$20,2,0)","v":0}]
[null,null,null,null,null,null,null,null,null,null,null,null,null,null,null,null,null,{"$f":"VLOOKUP(recettesjuil[[#This Row],[Catégorie]],'coulisses 2'!$A$1:$B$20,2,0)","v":0}]
[null,null,null,null,null,null,null,null,null,null,null,null,null,null,null,null,null,{"$f":"VLOOKUP(recettesjuil[[#This Row],[Catégorie]],'coulisses 2'!$A$1:$B$20,2,0)","v":0}]
[null,null,null,null,null,null,null,null,null,null,null,null,null,null,null,null,null,{"$f":"VLOOKUP(recettesjuil[[#This Row],[Catégorie]],'coulisses 2'!$A$1:$B$20,2,0)","v":0}]
[null,null,null,null,null,null,null,null,null,null,null,null,null,null,null,null,null,{"$f":"VLOOKUP(recettesjuil[[#This Row],[Catégorie]],'coulisses 2'!$A$1:$B$20,2,0)","v":0}]
[null,null,null,null,null,null,null,null,null,null,null,null,null,null,null,null,null,{"$f":"VLOOKUP(recettesjuil[[#This Row],[Catégorie]],'coulisses 2'!$A$1:$B$20,2,0)","v":0}]
[null,null,null,null,null,null,null,null,null,null,null,null,null,null,null,null,null,{"$f":"VLOOKUP(recettesjuil[[#This Row],[Catégorie]],'coulisses 2'!$A$1:$B$20,2,0)","v":0}]
[null,null,null,null,null,null,null,null,null,null,null,null,null,null,null,null,null,{"$f":"VLOOKUP(recettesjuil[[#This Row],[Catégorie]],'coulisses 2'!$A$1:$B$20,2,0)","v":0}]
[null,null,null,null,null,null,null,null,null,null,null,null,null,null,null,null,null,{"$f":"VLOOKUP(recettesjuil[[#This Row],[Catégorie]],'coulisses 2'!$A$1:$B$20,2,0)","v":0}]
[null,null,null,null,null,null,null,null,null,null,null,null,null,null,null,null,null,{"$f":"VLOOKUP(recettesjuil[[#This Row],[Catégorie]],'coulisses 2'!$A$1:$B$20,2,0)","v":0}]
[null,null,null,null,null,null,null,null,null,null,null,null,null,null,null,null,null,{"$f":"VLOOKUP(recettesjuil[[#This Row],[Catégorie]],'coulisses 2'!$A$1:$B$20,2,0)","v":0}]
[null,null,null,null,null,null,null,null,null,null,null,null,null,null,null,null,null,{"$f":"VLOOKUP(recettesjuil[[#This Row],[Catégorie]],'coulisses 2'!$A$1:$B$20,2,0)","v":0}]
[null,null,null,null,null,null,null,null,null,null,null,null,null,null,null,null,null,{"$f":"VLOOKUP(recettesjuil[[#This Row],[Catégorie]],'coulisses 2'!$A$1:$B$20,2,0)","v":0}]

{"sheet":"🏖 08","index":8,"n_rows":304,"n_cols":24,"rows_kept":304,"cut":false,"hidden":false,"merged":[[1,1,1,4],[1,9,1,12]]}
[null,{"$f":"'👩🏻‍🏫 Bienvenue !'!K7","v":0},null,{"$f":" '👩🏻‍🏫 Bienvenue !'!I12&\" - \"&\"Août \"&'👩🏻‍🏫 Bienvenue !'!I16","v":" - Août "},null,null,null,null,null,null,null,null,null,"VOTRE PROFIT DU MOIS",null,{"$f":"H2-P2","v":0}]
[null,"Vos recettes 💰",null,null,null,null,"TOTAL",{"$f":"SUM(recettesaou[Montant])","v":0},null,"Vos dépenses 🧾",null,null,null,"TOTAL",null,{"$f":"SUM(depensesaou[Montant])","v":0}]
[]
[null,"Date","Mode de paiement","N°","Libellé","Catégorie","Axe","Montant",null,"Date","Mode de paiement","N°","Libellé","Catégorie","Axe","Montant",null,"Taux"]
[null,null,null,null,null,null,null,null,null,null,null,"J1","Cotisations sociales Juin - Taux 1","Cotisations sociales",null,{"$f":"'☀️ 06'!X29","v":0},null,{"$f":"VLOOKUP(recettesaou[[#This Row],[Catégorie]],'coulisses 2'!$A$1:$B$20,2,0)","v":0},null,"Récapitulatif par type de dépense",{"$f":"SUM(U6:U26)","v":0},null,"Récapitulatif par type de recette",{"$f":"SUM(X6:X26)","v":0}]
[null,null,null,null,null,null,null,null,null,null,null,"J2","Cotisations sociales Juin - Taux 2","Cotisations sociales",null,{"$f":"'☀️ 06'!X30","v":0},null,{"$f":"VLOOKUP(recettesaou[[#This Row],[Catégorie]],'coulisses 2'!$A$1:$B$20,2,0)","v":0},null,{"$f":"coulisses!J23","v":0},{"$f":"SUMIF(depensesaou[Catégorie],T6,depensesaou[Montant])","v":0},null,{"$f":"coulisses!J3","v":0},{"$f":"SUMIF(recettesaou[Catégorie],W6,recettesaou[Montant])","v":0}]
[null,null,null,null,null,null,null,null,null,null,null,"J3","Cotisations sociales Juin - Taux 3","Cotisations sociales",null,{"$f":"'☀️ 06'!X31","v":0},null,{"$f":"VLOOKUP(recettesaou[[#This Row],[Catégorie]],'coulisses 2'!$A$1:$B$20,2,0)","v":0},null,{"$f":"coulisses!J24","v":0},{"$f":"SUMIF(depensesaou[Catégorie],T7,depensesaou[Montant])","v":0},null,{"$f":"coulisses!J4","v":0},{"$f":"SUMIF(recettesaou[Catégorie],W7,recettesaou[Montant])","v":0}]
[null,null,null,null,null,null,null,null,null,null,null,null,null,null,null,null,null,{"$f":"VLOOKUP(recettesaou[[#This Row],[Catégorie]],'coulisses 2'!$A$1:$B$20,2,0)","v":0},null,{"$f":"coulisses!J25","v":0},{"$f":"SUMIF(depensesaou[Catégorie],T8,depensesaou[Montant])","v":0},null,{"$f":"coulisses!J5","v":0},{"$f":"SUMIF(recettesaou[Catégorie],W8,recettesaou[Montant])","v":0}]
[null,null,null,null,null,null,null,null,null,null,null,null,null,null,null,null,null,{"$f":"VLOOKUP(recettesaou[[#This Row],[Catégorie]],'coulisses 2'!$A$1:$B$20,2,0)","v":0},null,{"$f":"coulisses!J26","v":0},{"$f":"SUMIF(depensesaou[Catégorie],T9,depensesaou[Montant])","v":0},null,{"$f":"coulisses!J6","v":0},{"$f":"SUMIF(recettesaou[Catégorie],W9,recettesaou[Montant])","v":0}]
[null,null,null,null,null,null,null,null,null,null,null,null,null,null,null,null,null,{"$f":"VLOOKUP(recettesaou[[#This Row],[Catégorie]],'coulisses 2'!$A$1:$B$20,2,0)","v":0},null,{"$f":"coulisses!J27","v":0},{"$f":"SUMIF(depensesaou[Catégorie],T10,depensesaou[Montant])","v":0},null,{"$f":"coulisses!J7","v":0},{"$f":"SUMIF(recettesaou[Catégorie],W10,recettesaou[Montant])","v":0}]
[null,null,null,null,null,null,null,null,null,null,null,null,null,null,null,null,null,{"$f":"VLOOKUP(recettesaou[[#This Row],[Catégorie]],'coulisses 2'!$A$1:$B$20,2,0)","v":0},null,{"$f":"coulisses!J28","v":0},{"$f":"SUMIF(depensesaou[Catégorie],T11,depensesaou[Montant])","v":0},null,{"$f":"coulisses!J8","v":0},{"$f":"SUMIF(recettesaou[Catégorie],W11,recettesaou[Montant])","v":0}]
[null,null,null,null,null,null,null,null,null,null,null,null,null,null,null,null,null,{"$f":"VLOOKUP(recettesaou[[#This Row],[Catégorie]],'coulisses 2'!$A$1:$B$20,2,0)","v":0},null,{"$f":"coulisses!J29","v":0},{"$f":"SUMIF(depensesaou[Catégorie],T12,depensesaou[Montant])","v":0},null,{"$f":"coulisses!J9","v":0},{"$f":"SUMIF(recettesaou[Catégorie],W12,recettesaou[Montant])","v":0}]
[null,null,null,null,null,null,null,null,null,null,null,null,null,null,null,null,null,{"$f":"VLOOKUP(recettesaou[[#This Row],[Catégorie]],'coulisses 2'!$A$1:$B$20,2,0)","v":0},null,{"$f":"coulisses!J30","v":0},{"$f":"SUMIF(depensesaou[Catégorie],T13,depensesaou[Montant])","v":0},null,{"$f":"coulisses!J10","v":0},{"$f":"SUMIF(recettesaou[Catégorie],W13,recettesaou[Montant])","v":0}]
[null,null,null,null,null,null,null,null,null,null,null,null,null,null,null,null,null,{"$f":"VLOOKUP(recettesaou[[#This Row],[Catégorie]],'coulisses 2'!$A$1:$B$20,2,0)","v":0},null,{"$f":"coulisses!J31","v":0},{"$f":"SUMIF(depensesaou[Catégorie],T14,depensesaou[Montant])","v":0},null,{"$f":"coulisses!J11","v":0},{"$f":"SUMIF(recettesaou[Catégorie],W14,recettesaou[Montant])","v":0}]
[null,null,null,null,null,null,null,null,null,null,null,null,null,null,null,null,null,{"$f":"VLOOKUP(recettesaou[[#This Row],[Catégorie]],'coulisses 2'!$A$1:$B$20,2,0)","v":0},null,{"$f":"coulisses!J32","v":0},{"$f":"SUMIF(depensesaou[Catégorie],T15,depensesaou[Montant])","v":0},null,{"$f":"coulisses!J12","v":0},{"$f":"SUMIF(recettesaou[Catégorie],W15,recettesaou[Montant])","v":0}]
[null,null,null,null,null,null,null,null,null,null,null,null,null,null,null,null,null,{"$f":"VLOOKUP(recettesaou[[#This Row],[Catégorie]],'coulisses 2'!$A$1:$B$20,2,0)","v":0},null,{"$f":"coulisses!J33","v":0},{"$f":"SUMIF(depensesaou[Catégorie],T16,depensesaou[Montant])","v":0},null,{"$f":"coulisses!J13","v":0},{"$f":"SUMIF(recettesaou[Catégorie],W16,recettesaou[Montant])","v":0}]
[null,null,null,null,null,null,null,null,null,null,null,null,null,null,null,null,null,{"$f":"VLOOKUP(recettesaou[[#This Row],[Catégorie]],'coulisses 2'!$A$1:$B$20,2,0)","v":0},null,{"$f":"coulisses!J34","v":0},{"$f":"SUMIF(depensesaou[Catégorie],T17,depensesaou[Montant])","v":0},null,{"$f":"coulisses!J14","v":0},{"$f":"SUMIF(recettesaou[Catégorie],W17,recettesaou[Montant])","v":0}]
[null,null,null,null,null,null,null,null,null,null,null,null,null,null,null,null,null,{"$f":"VLOOKUP(recettesaou[[#This Row],[Catégorie]],'coulisses 2'!$A$1:$B$20,2,0)","v":0},null,{"$f":"coulisses!J35","v":0},{"$f":"SUMIF(depensesaou[Catégorie],T18,depensesaou[Montant])","v":0},null,{"$f":"coulisses!J15","v":0},{"$f":"SUMIF(recettesaou[Catégorie],W18,recettesaou[Montant])","v":0}]
[null,null,null,null,null,null,null,null,null,null,null,null,null,null,null,null,null,{"$f":"VLOOKUP(recettesaou[[#This Row],[Catégorie]],'coulisses 2'!$A$1:$B$20,2,0)","v":0},null,{"$f":"coulisses!J36","v":0},{"$f":"SUMIF(depensesaou[Catégorie],T19,depensesaou[Montant])","v":0},null,{"$f":"coulisses!J16","v":0},{"$f":"SUMIF(recettesaou[Catégorie],W19,recettesaou[Montant])","v":0}]
[null,null,null,null,null,null,null,null,null,null,null,null,null,null,null,null,null,{"$f":"VLOOKUP(recettesaou[[#This Row],[Catégorie]],'coulisses 2'!$A$1:$B$20,2,0)","v":0},null,{"$f":"coulisses!J37","v":0},{"$f":"SUMIF(depensesaou[Catégorie],T20,depensesaou[Montant])","v":0},null,{"$f":"coulisses!J17","v":0},{"$f":"SUMIF(recettesaou[Catégorie],W20,recettesaou[Montant])","v":0}]
[null,null,null,null,null,null,null,null,null,null,null,null,null,null,null,null,null,{"$f":"VLOOKUP(recettesaou[[#This Row],[Catégorie]],'coulisses 2'!$A$1:$B$20,2,0)","v":0},null,{"$f":"coulisses!J38","v":0},{"$f":"SUMIF(depensesaou[Catégorie],T21,depensesaou[Montant])","v":0},null,{"$f":"coulisses!J18","v":0},{"$f":"SUMIF(recettesaou[Catégorie],W21,recettesaou[Montant])","v":0}]
[null,null,null,null,null,null,null,null,null,null,null,null,null,null,null,null,null,{"$f":"VLOOKUP(recettesaou[[#This Row],[Catégorie]],'coulisses 2'!$A$1:$B$20,2,0)","v":0},null,{"$f":"coulisses!J39","v":0},{"$f":"SUMIF(depensesaou[Catégorie],T22,depensesaou[Montant])","v":0},null,{"$f":"coulisses!J19","v":0},{"$f":"SUMIF(recettesaou[Catégorie],W22,recettesaou[Montant])","v":0}]
[null,null,null,null,null,null,null,null,null,null,null,null,null,null,null,null,null,{"$f":"VLOOKUP(recettesaou[[#This Row],[Catégorie]],'coulisses 2'!$A$1:$B$20,2,0)","v":0},null,{"$f":"coulisses!J40","v":0},{"$f":"SUMIF(depensesaou[Catégorie],T23,depensesaou[Montant])","v":0},null,{"$f":"coulisses!J20","v":0},{"$f":"SUMIF(recettesaou[Catégorie],W23,recettesaou[Montant])","v":0}]
[null,null,null,null,null,null,null,null,null,null,null,null,null,null,null,null,null,{"$f":"VLOOKUP(recettesaou[[#This Row],[Catégorie]],'coulisses 2'!$A$1:$B$20,2,0)","v":0},null,{"$f":"coulisses!J41","v":0},{"$f":"SUMIF(depensesaou[Catégorie],T24,depensesaou[Montant])","v":0},null,{"$f":"coulisses!J21","v":0},{"$f":"SUMIF(recettesaou[Catégorie],W24,recettesaou[Montant])","v":0}]
[null,null,null,null,null,null,null,null,null,null,null,null,null,null,null,null,null,{"$f":"VLOOKUP(recettesaou[[#This Row],[Catégorie]],'coulisses 2'!$A$1:$B$20,2,0)","v":0},null,{"$f":"coulisses!J42","v":"Cotisations sociales"},{"$f":"SUMIF(depensesaou[Catégorie],T25,depensesaou[Montant])","v":0},null,{"$f":"coulisses!J22","v":0},{"$f":"SUMIF(recettesaou[Catégorie],W25,recettesaou[Montant])","v":0}]
[null,null,null,null,null,null,null,null,null,null,null,null,null,null,null,null,null,{"$f":"VLOOKUP(recettesaou[[#This Row],[Catégorie]],'coulisses 2'!$A$1:$B$20,2,0)","v":0}]
[null,null,null,null,null,null,null,null,null,null,null,null,null,null,null,null,null,{"$f":"VLOOKUP(recettesaou[[#This Row],[Catégorie]],'coulisses 2'!$A$1:$B$20,2,0)","v":0}]
[null,null,null,null,null,null,null,null,null,null,null,null,null,null,null,null,null,{"$f":"VLOOKUP(recettesaou[[#This Row],[Catégorie]],'coulisses 2'!$A$1:$B$20,2,0)","v":0},null,"Estimation des charges dues sur le CA du mois",null,"CA","Taux","A payer"]
[null,null,null,null,null,null,null,null,null,null,null,null,null,null,null,null,null,{"$f":"VLOOKUP(recettesaou[[#This Row],[Catégorie]],'coulisses 2'!$A$1:$B$20,2,0)","v":0},null,{"$f":"'👩🏻‍🏫 Bienvenue !'!G20","v":"Taux 1"},null,{"$f":"SUMIF(R:R,W29,H:H)","v":0},{"$f":"'👩🏻‍🏫 Bienvenue !'!I20","v":0},{"$f":"W29*V29","v":0}]
[null,null,null,null,null,null,null,null,null,null,null,null,null,null,null,null,null,{"$f":"VLOOKUP(recettesaou[[#This Row],[Catégorie]],'coulisses 2'!$A$1:$B$20,2,0)","v":0},null,{"$f":"'👩🏻‍🏫 Bienvenue !'!G21","v":"Taux 2"},null,{"$f":"SUMIF(R:R,W30,H:H)","v":0},{"$f":"'👩🏻‍🏫 Bienvenue !'!I21","v":0},{"$f":"W30*V30","v":0}]
[null,null,null,null,null,null,null,null,null,null,null,null,null,null,null,null,null,{"$f":"VLOOKUP(recettesaou[[#This Row],[Catégorie]],'coulisses 2'!$A$1:$B$20,2,0)","v":0},null,{"$f":"'👩🏻‍🏫 Bienvenue !'!G22","v":"Taux 3"},null,0,{"$f":"'👩🏻‍🏫 Bienvenue !'!I22","v":0},{"$f":"W31*V31","v":0}]
[null,null,null,null,null,null,null,null,null,null,null,null,null,null,null,null,null,{"$f":"VLOOKUP(recettesaou[[#This Row],[Catégorie]],'coulisses 2'!$A$1:$B$20,2,0)","v":0},null,"TOTAL",null,null,null,{"$f":"SUM(X29:X31)","v":0}]
[null,null,null,null,null,null,null,null,null,null,null,null,null,null,null,null,null,{"$f":"VLOOKUP(recettesaou[[#This Row],[Catégorie]],'coulisses 2'!$A$1:$B$20,2,0)","v":0}]
[null,null,null,null,null,null,null,null,null,null,null,null,null,null,null,null,null,{"$f":"VLOOKUP(recettesaou[[#This Row],[Catégorie]],'coulisses 2'!$A$1:$B$20,2,0)","v":0},null,"Rapprochement bancaire"]
[null,null,null,null,null,null,null,null,null,null,null,null,null,null,null,null,null,{"$f":"VLOOKUP(recettesaou[[#This Row],[Catégorie]],'coulisses 2'!$A$1:$B$20,2,0)","v":0},null,"Solde du mois précédent",{"$f":"'🧳 07'!U46","v":0}]
[null,null,null,null,null,null,null,null,null,null,null,null,null,null,null,null,null,{"$f":"VLOOKUP(recettesaou[[#This Row],[Catégorie]],'coulisses 2'!$A$1:$B$20,2,0)","v":0},null,"Profit du mois",{"$f":"P1","v":0}]
[null,null,null,null,null,null,null,null,null,null,null,null,null,null,null,null,null,{"$f":"VLOOKUP(recettesaou[[#This Row],[Catégorie]],'coulisses 2'!$A$1:$B$20,2,0)","v":0},null,"Ecritures à rapprocher :"]
[null,null,null,null,null,null,null,null,null,null,null,null,null,null,null,null,null,{"$f":"VLOOKUP(recettesaou[[#This Row],[Catégorie]],'coulisses 2'!$A$1:$B$20,2,0)","v":0}]
[null,null,null,null,null,null,null,null,null,null,null,null,null,null,null,null,null,{"$f":"VLOOKUP(recettesaou[[#This Row],[Catégorie]],'coulisses 2'!$A$1:$B$20,2,0)","v":0}]
[null,null,null,null,null,null,null,null,null,null,null,null,null,null,null,null,null,{"$f":"VLOOKUP(recettesaou[[#This Row],[Catégorie]],'coulisses 2'!$A$1:$B$20,2,0)","v":0}]
[null,null,null,null,null,null,null,null,null,null,null,null,null,null,null,null,null,{"$f":"VLOOKUP(recettesaou[[#This Row],[Catégorie]],'coulisses 2'!$A$1:$B$20,2,0)","v":0}]
[null,null,null,null,null,null,null,null,null,null,null,null,null,null,null,null,null,{"$f":"VLOOKUP(recettesaou[[#This Row],[Catégorie]],'coulisses 2'!$A$1:$B$20,2,0)","v":0}]
[null,null,null,null,null,null,null,null,null,null,null,null,null,null,null,null,null,{"$f":"VLOOKUP(recettesaou[[#This Row],[Catégorie]],'coulisses 2'!$A$1:$B$20,2,0)","v":0}]
[null,null,null,null,null,null,null,null,null,null,null,null,null,null,null,null,null,{"$f":"VLOOKUP(recettesaou[[#This Row],[Catégorie]],'coulisses 2'!$A$1:$B$20,2,0)","v":0}]
[null,null,null,null,null,null,null,null,null,null,null,null,null,null,null,null,null,{"$f":"VLOOKUP(recettesaou[[#This Row],[Catégorie]],'coulisses 2'!$A$1:$B$20,2,0)","v":0}]
[null,null,null,null,null,null,null,null,null,null,null,null,null,null,null,null,null,{"$f":"VLOOKUP(recettesaou[[#This Row],[Catégorie]],'coulisses 2'!$A$1:$B$20,2,0)","v":0},null,"Solde final du mois",{"$f":"U35+U36+SUM(U38:U45)","v":0}]
[null,null,null,null,null,null,null,null,null,null,null,null,null,null,null,null,null,{"$f":"VLOOKUP(recettesaou[[#This Row],[Catégorie]],'coulisses 2'!$A$1:$B$20,2,0)","v":0},null,"Solde du relevé bancaire"]
[null,null,null,null,null,null,null,null,null,null,null,null,null,null,null,null,null,{"$f":"VLOOKUP(recettesaou[[#This Row],[Catégorie]],'coulisses 2'!$A$1:$B$20,2,0)","v":0},null,"Contrôle (doit être à 0)",{"$f":"U46-U47","v":0}]
[null,null,null,null,null,null,null,null,null,null,null,null,null,null,null,null,null,{"$f":"VLOOKUP(recettesaou[[#This Row],[Catégorie]],'coulisses 2'!$A$1:$B$20,2,0)","v":0}]
[null,null,null,null,null,null,null,null,null,null,null,null,null,null,null,null,null,{"$f":"VLOOKUP(recettesaou[[#This Row],[Catégorie]],'coulisses 2'!$A$1:$B$20,2,0)","v":0},null,"Résultat par axe","CA","Dépenses","Résultat"]
[null,null,null,null,null,null,null,null,null,null,null,null,null,null,null,null,null,{"$f":"VLOOKUP(recettesaou[[#This Row],[Catégorie]],'coulisses 2'!$A$1:$B$20,2,0)","v":0},null,{"$f":"'👩🏻‍🏫 Bienvenue !'!I73","v":0},{"$f":"SUMIF(recettesaou[Axe],T51,recettesaou[Montant])","v":0},{"$f":"SUMIF(depensesaou[Axe],T51,depensesaou[Montant])","v":0},{"$f":"U51-V51","v":0}]
[null,null,null,null,null,null,null,null,null,null,null,null,null,null,null,null,null,{"$f":"VLOOKUP(recettesaou[[#This Row],[Catégorie]],'coulisses 2'!$A$1:$B$20,2,0)","v":0},null,{"$f":"'👩🏻‍🏫 Bienvenue !'!I74","v":0},{"$f":"SUMIF(recettesaou[Axe],T52,recettesaou[Montant])","v":0},{"$f":"SUMIF(depensesaou[Axe],T52,depensesaou[Montant])","v":0},{"$f":"U52-V52","v":0}]
[null,null,null,null,null,null,null,null,null,null,null,null,null,null,null,null,null,{"$f":"VLOOKUP(recettesaou[[#This Row],[Catégorie]],'coulisses 2'!$A$1:$B$20,2,0)","v":0},null,{"$f":"'👩🏻‍🏫 Bienvenue !'!I75","v":0},{"$f":"SUMIF(recettesaou[Axe],T53,recettesaou[Montant])","v":0},{"$f":"SUMIF(depensesaou[Axe],T53,depensesaou[Montant])","v":0},0]
[null,null,null,null,null,null,null,null,null,null,null,null,null,null,null,null,null,{"$f":"VLOOKUP(recettesaou[[#This Row],[Catégorie]],'coulisses 2'!$A$1:$B$20,2,0)","v":0},null,{"$f":"'👩🏻‍🏫 Bienvenue !'!I76","v":0},{"$f":"SUMIF(recettesaou[Axe],T54,recettesaou[Montant])","v":0},{"$f":"SUMIF(depensesaou[Axe],T54,depensesaou[Montant])","v":0},0]
[null,null,null,null,null,null,null,null,null,null,null,null,null,null,null,null,null,{"$f":"VLOOKUP(recettesaou[[#This Row],[Catégorie]],'coulisses 2'!$A$1:$B$20,2,0)","v":0},null,{"$f":"'👩🏻‍🏫 Bienvenue !'!I77","v":0},{"$f":"SUMIF(recettesaou[Axe],T55,recettesaou[Montant])","v":0},{"$f":"SUMIF(depensesaou[Axe],T55,depensesaou[Montant])","v":0},0]
[null,null,null,null,null,null,null,null,null,null,null,null,null,null,null,null,null,{"$f":"VLOOKUP(recettesaou[[#This Row],[Catégorie]],'coulisses 2'!$A$1:$B$20,2,0)","v":0},null,{"$f":"'👩🏻‍🏫 Bienvenue !'!I78","v":0},{"$f":"SUMIF(recettesaou[Axe],T56,recettesaou[Montant])","v":0},{"$f":"SUMIF(depensesaou[Axe],T56,depensesaou[Montant])","v":0},0]
[null,null,null,null,null,null,null,null,null,null,null,null,null,null,null,null,null,{"$f":"VLOOKUP(recettesaou[[#This Row],[Catégorie]],'coulisses 2'!$A$1:$B$20,2,0)","v":0},null,{"$f":"'👩🏻‍🏫 Bienvenue !'!I79","v":0},{"$f":"SUMIF(recettesaou[Axe],T57,recettesaou[Montant])","v":0},{"$f":"SUMIF(depensesaou[Axe],T57,depensesaou[Montant])","v":0},0]
[null,null,null,null,null,null,null,null,null,null,null,null,null,null,null,null,null,{"$f":"VLOOKUP(recettesaou[[#This Row],[Catégorie]],'coulisses 2'!$A$1:$B$20,2,0)","v":0},null,{"$f":"'👩🏻‍🏫 Bienvenue !'!I80","v":0},{"$f":"SUMIF(recettesaou[Axe],T58,recettesaou[Montant])","v":0},{"$f":"SUMIF(depensesaou[Axe],T58,depensesaou[Montant])","v":0},0]
[null,null,null,null,null,null,null,null,null,null,null,null,null,null,null,null,null,{"$f":"VLOOKUP(recettesaou[[#This Row],[Catégorie]],'coulisses 2'!$A$1:$B$20,2,0)","v":0},null,{"$f":"'👩🏻‍🏫 Bienvenue !'!I81","v":0},{"$f":"SUMIF(recettesaou[Axe],T59,recettesaou[Montant])","v":0},{"$f":"SUMIF(depensesaou[Axe],T59,depensesaou[Montant])","v":0},0]
[null,null,null,null,null,null,null,null,null,null,null,null,null,null,null,null,null,{"$f":"VLOOKUP(recettesaou[[#This Row],[Catégorie]],'coulisses 2'!$A$1:$B$20,2,0)","v":0},null,{"$f":"'👩🏻‍🏫 Bienvenue !'!I82","v":0},{"$f":"SUMIF(recettesaou[Axe],T60,recettesaou[Montant])","v":0},{"$f":"SUMIF(depensesaou[Axe],T60,depensesaou[Montant])","v":0},0]
[null,null,null,null,null,null,null,null,null,null,null,null,null,null,null,null,null,{"$f":"VLOOKUP(recettesaou[[#This Row],[Catégorie]],'coulisses 2'!$A$1:$B$20,2,0)","v":0}]
[null,null,null,null,null,null,null,null,null,null,null,null,null,null,null,null,null,{"$f":"VLOOKUP(recettesaou[[#This Row],[Catégorie]],'coulisses 2'!$A$1:$B$20,2,0)","v":0}]
[null,null,null,null,null,null,null,null,null,null,null,null,null,null,null,null,null,{"$f":"VLOOKUP(recettesaou[[#This Row],[Catégorie]],'coulisses 2'!$A$1:$B$20,2,0)","v":0}]
[null,null,null,null,null,null,null,null,null,null,null,null,null,null,null,null,null,{"$f":"VLOOKUP(recettesaou[[#This Row],[Catégorie]],'coulisses 2'!$A$1:$B$20,2,0)","v":0}]
[null,null,null,null,null,null,null,null,null,null,null,null,null,null,null,null,null,{"$f":"VLOOKUP(recettesaou[[#This Row],[Catégorie]],'coulisses 2'!$A$1:$B$20,2,0)","v":0}]
[null,null,null,null,null,null,null,null,null,null,null,null,null,null,null,null,null,{"$f":"VLOOKUP(recettesaou[[#This Row],[Catégorie]],'coulisses 2'!$A$1:$B$20,2,0)","v":0}]
[null,null,null,null,null,null,null,null,null,null,null,null,null,null,null,null,null,{"$f":"VLOOKUP(recettesaou[[#This Row],[Catégorie]],'coulisses 2'!$A$1:$B$20,2,0)","v":0}]
[null,null,null,null,null,null,null,null,null,null,null,null,null,null,null,null,null,{"$f":"VLOOKUP(recettesaou[[#This Row],[Catégorie]],'coulisses 2'!$A$1:$B$20,2,0)","v":0}]
[null,null,null,null,null,null,null,null,null,null,null,null,null,null,null,null,null,{"$f":"VLOOKUP(recettesaou[[#This Row],[Catégorie]],'coulisses 2'!$A$1:$B$20,2,0)","v":0}]
[null,null,null,null,null,null,null,null,null,null,null,null,null,null,null,null,null,{"$f":"VLOOKUP(recettesaou[[#This Row],[Catégorie]],'coulisses 2'!$A$1:$B$20,2,0)","v":0}]
[null,null,null,null,null,null,null,null,null,null,null,null,null,null,null,null,null,{"$f":"VLOOKUP(recettesaou[[#This Row],[Catégorie]],'coulisses 2'!$A$1:$B$20,2,0)","v":0}]
[null,null,null,null,null,null,null,null,null,null,null,null,null,null,null,null,null,{"$f":"VLOOKUP(recettesaou[[#This Row],[Catégorie]],'coulisses 2'!$A$1:$B$20,2,0)","v":0}]
[null,null,null,null,null,null,null,null,null,null,null,null,null,null,null,null,null,{"$f":"VLOOKUP(recettesaou[[#This Row],[Catégorie]],'coulisses 2'!$A$1:$B$20,2,0)","v":0}]
[null,null,null,null,null,null,null,null,null,null,null,null,null,null,null,null,null,{"$f":"VLOOKUP(recettesaou[[#This Row],[Catégorie]],'coulisses 2'!$A$1:$B$20,2,0)","v":0}]
[null,null,null,null,null,null,null,null,null,null,null,null,null,null,null,null,null,{"$f":"VLOOKUP(recettesaou[[#This Row],[Catégorie]],'coulisses 2'!$A$1:$B$20,2,0)","v":0}]
[null,null,null,null,null,null,null,null,null,null,null,null,null,null,null,null,null,{"$f":"VLOOKUP(recettesaou[[#This Row],[Catégorie]],'coulisses 2'!$A$1:$B$20,2,0)","v":0}]
[null,null,null,null,null,null,null,null,null,null,null,null,null,null,null,null,null,{"$f":"VLOOKUP(recettesaou[[#This Row],[Catégorie]],'coulisses 2'!$A$1:$B$20,2,0)","v":0}]
[null,null,null,null,null,null,null,null,null,null,null,null,null,null,null,null,null,{"$f":"VLOOKUP(recettesaou[[#This Row],[Catégorie]],'coulisses 2'!$A$1:$B$20,2,0)","v":0}]
[null,null,null,null,null,null,null,null,null,null,null,null,null,null,null,null,null,{"$f":"VLOOKUP(recettesaou[[#This Row],[Catégorie]],'coulisses 2'!$A$1:$B$20,2,0)","v":0}]
[null,null,null,null,null,null,null,null,null,null,null,null,null,null,null,null,null,{"$f":"VLOOKUP(recettesaou[[#This Row],[Catégorie]],'coulisses 2'!$A$1:$B$20,2,0)","v":0}]
[null,null,null,null,null,null,null,null,null,null,null,null,null,null,null,null,null,{"$f":"VLOOKUP(recettesaou[[#This Row],[Catégorie]],'coulisses 2'!$A$1:$B$20,2,0)","v":0}]
[null,null,null,null,null,null,null,null,null,null,null,null,null,null,null,null,null,{"$f":"VLOOKUP(recettesaou[[#This Row],[Catégorie]],'coulisses 2'!$A$1:$B$20,2,0)","v":0}]
[null,null,null,null,null,null,null,null,null,null,null,null,null,null,null,null,null,{"$f":"VLOOKUP(recettesaou[[#This Row],[Catégorie]],'coulisses 2'!$A$1:$B$20,2,0)","v":0}]
[null,null,null,null,null,null,null,null,null,null,null,null,null,null,null,null,null,{"$f":"VLOOKUP(recettesaou[[#This Row],[Catégorie]],'coulisses 2'!$A$1:$B$20,2,0)","v":0}]
[null,null,null,null,null,null,null,null,null,null,null,null,null,null,null,null,null,{"$f":"VLOOKUP(recettesaou[[#This Row],[Catégorie]],'coulisses 2'!$A$1:$B$20,2,0)","v":0}]
[null,null,null,null,null,null,null,null,null,null,null,null,null,null,null,null,null,{"$f":"VLOOKUP(recettesaou[[#This Row],[Catégorie]],'coulisses 2'!$A$1:$B$20,2,0)","v":0}]
[null,null,null,null,null,null,null,null,null,null,null,null,null,null,null,null,null,{"$f":"VLOOKUP(recettesaou[[#This Row],[Catégorie]],'coulisses 2'!$A$1:$B$20,2,0)","v":0}]
[null,null,null,null,null,null,null,null,null,null,null,null,null,null,null,null,null,{"$f":"VLOOKUP(recettesaou[[#This Row],[Catégorie]],'coulisses 2'!$A$1:$B$20,2,0)","v":0}]
[null,null,null,null,null,null,null,null,null,null,null,null,null,null,null,null,null,{"$f":"VLOOKUP(recettesaou[[#This Row],[Catégorie]],'coulisses 2'!$A$1:$B$20,2,0)","v":0}]
[null,null,null,null,null,null,null,null,null,null,null,null,null,null,null,null,null,{"$f":"VLOOKUP(recettesaou[[#This Row],[Catégorie]],'coulisses 2'!$A$1:$B$20,2,0)","v":0}]
[null,null,null,null,null,null,null,null,null,null,null,null,null,null,null,null,null,{"$f":"VLOOKUP(recettesaou[[#This Row],[Catégorie]],'coulisses 2'!$A$1:$B$20,2,0)","v":0}]
[null,null,null,null,null,null,null,null,null,null,null,null,null,null,null,null,null,{"$f":"VLOOKUP(recettesaou[[#This Row],[Catégorie]],'coulisses 2'!$A$1:$B$20,2,0)","v":0}]
[null,null,null,null,null,null,null,null,null,null,null,null,null,null,null,null,null,{"$f":"VLOOKUP(recettesaou[[#This Row],[Catégorie]],'coulisses 2'!$A$1:$B$20,2,0)","v":0}]
[null,null,null,null,null,null,null,null,null,null,null,null,null,null,null,null,null,{"$f":"VLOOKUP(recettesaou[[#This Row],[Catégorie]],'coulisses 2'!$A$1:$B$20,2,0)","v":0}]
[null,null,null,null,null,null,null,null,null,null,null,null,null,null,null,null,null,{"$f":"VLOOKUP(recettesaou[[#This Row],[Catégorie]],'coulisses 2'!$A$1:$B$20,2,0)","v":0}]
[null,null,null,null,null,null,null,null,null,null,null,null,null,null,null,null,null,{"$f":"VLOOKUP(recettesaou[[#This Row],[Catégorie]],'coulisses 2'!$A$1:$B$20,2,0)","v":0}]
[null,null,null,null,null,null,null,null,null,null,null,null,null,null,null,null,null,{"$f":"VLOOKUP(recettesaou[[#This Row],[Catégorie]],'coulisses 2'!$A$1:$B$20,2,0)","v":0}]
[null,null,null,null,null,null,null,null,null,null,null,null,null,null,null,null,null,{"$f":"VLOOKUP(recettesaou[[#This Row],[Catégorie]],'coulisses 2'!$A$1:$B$20,2,0)","v":0}]
[null,null,null,null,null,null,null,null,null,null,null,null,null,null,null,null,null,{"$f":"VLOOKUP(recettesaou[[#This Row],[Catégorie]],'coulisses 2'!$A$1:$B$20,2,0)","v":0}]
[null,null,null,null,null,null,null,null,null,null,null,null,null,null,null,null,null,{"$f":"VLOOKUP(recettesaou[[#This Row],[Catégorie]],'coulisses 2'!$A$1:$B$20,2,0)","v":0}]
[null,null,null,null,null,null,null,null,null,null,null,null,null,null,null,null,null,{"$f":"VLOOKUP(recettesaou[[#This Row],[Catégorie]],'coulisses 2'!$A$1:$B$20,2,0)","v":0}]
[null,null,null,null,null,null,null,null,null,null,null,null,null,null,null,null,null,{"$f":"VLOOKUP(recettesaou[[#This Row],[Catégorie]],'coulisses 2'!$A$1:$B$20,2,0)","v":0}]
[null,null,null,null,null,null,null,null,null,null,null,null,null,null,null,null,null,{"$f":"VLOOKUP(recettesaou[[#This Row],[Catégorie]],'coulisses 2'!$A$1:$B$20,2,0)","v":0}]
[null,null,null,null,null,null,null,null,null,null,null,null,null,null,null,null,null,{"$f":"VLOOKUP(recettesaou[[#This Row],[Catégorie]],'coulisses 2'!$A$1:$B$20,2,0)","v":0}]
[null,null,null,null,null,null,null,null,null,null,null,null,null,null,null,null,null,{"$f":"VLOOKUP(recettesaou[[#This Row],[Catégorie]],'coulisses 2'!$A$1:$B$20,2,0)","v":0}]
[null,null,null,null,null,null,null,null,null,null,null,null,null,null,null,null,null,{"$f":"VLOOKUP(recettesaou[[#This Row],[Catégorie]],'coulisses 2'!$A$1:$B$20,2,0)","v":0}]
[null,null,null,null,null,null,null,null,null,null,null,null,null,null,null,null,null,{"$f":"VLOOKUP(recettesaou[[#This Row],[Catégorie]],'coulisses 2'!$A$1:$B$20,2,0)","v":0}]
[null,null,null,null,null,null,null,null,null,null,null,null,null,null,null,null,null,{"$f":"VLOOKUP(recettesaou[[#This Row],[Catégorie]],'coulisses 2'!$A$1:$B$20,2,0)","v":0}]
[null,null,null,null,null,null,null,null,null,null,null,null,null,null,null,null,null,{"$f":"VLOOKUP(recettesaou[[#This Row],[Catégorie]],'coulisses 2'!$A$1:$B$20,2,0)","v":0}]
[null,null,null,null,null,null,null,null,null,null,null,null,null,null,null,null,null,{"$f":"VLOOKUP(recettesaou[[#This Row],[Catégorie]],'coulisses 2'!$A$1:$B$20,2,0)","v":0}]
[null,null,null,null,null,null,null,null,null,null,null,null,null,null,null,null,null,{"$f":"VLOOKUP(recettesaou[[#This Row],[Catégorie]],'coulisses 2'!$A$1:$B$20,2,0)","v":0}]
[null,null,null,null,null,null,null,null,null,null,null,null,null,null,null,null,null,{"$f":"VLOOKUP(recettesaou[[#This Row],[Catégorie]],'coulisses 2'!$A$1:$B$20,2,0)","v":0}]
[null,null,null,null,null,null,null,null,null,null,null,null,null,null,null,null,null,{"$f":"VLOOKUP(recettesaou[[#This Row],[Catégorie]],'coulisses 2'!$A$1:$B$20,2,0)","v":0}]
[null,null,null,null,null,null,null,null,null,null,null,null,null,null,null,null,null,{"$f":"VLOOKUP(recettesaou[[#This Row],[Catégorie]],'coulisses 2'!$A$1:$B$20,2,0)","v":0}]
[null,null,null,null,null,null,null,null,null,null,null,null,null,null,null,null,null,{"$f":"VLOOKUP(recettesaou[[#This Row],[Catégorie]],'coulisses 2'!$A$1:$B$20,2,0)","v":0}]
[null,null,null,null,null,null,null,null,null,null,null,null,null,null,null,null,null,{"$f":"VLOOKUP(recettesaou[[#This Row],[Catégorie]],'coulisses 2'!$A$1:$B$20,2,0)","v":0}]
[null,null,null,null,null,null,null,null,null,null,null,null,null,null,null,null,null,{"$f":"VLOOKUP(recettesaou[[#This Row],[Catégorie]],'coulisses 2'!$A$1:$B$20,2,0)","v":0}]
[null,null,null,null,null,null,null,null,null,null,null,null,null,null,null,null,null,{"$f":"VLOOKUP(recettesaou[[#This Row],[Catégorie]],'coulisses 2'!$A$1:$B$20,2,0)","v":0}]
[null,null,null,null,null,null,null,null,null,null,null,null,null,null,null,null,null,{"$f":"VLOOKUP(recettesaou[[#This Row],[Catégorie]],'coulisses 2'!$A$1:$B$20,2,0)","v":0}]
[null,null,null,null,null,null,null,null,null,null,null,null,null,null,null,null,null,{"$f":"VLOOKUP(recettesaou[[#This Row],[Catégorie]],'coulisses 2'!$A$1:$B$20,2,0)","v":0}]
[null,null,null,null,null,null,null,null,null,null,null,null,null,null,null,null,null,{"$f":"VLOOKUP(recettesaou[[#This Row],[Catégorie]],'coulisses 2'!$A$1:$B$20,2,0)","v":0}]
[null,null,null,null,null,null,null,null,null,null,null,null,null,null,null,null,null,{"$f":"VLOOKUP(recettesaou[[#This Row],[Catégorie]],'coulisses 2'!$A$1:$B$20,2,0)","v":0}]
[null,null,null,null,null,null,null,null,null,null,null,null,null,null,null,null,null,{"$f":"VLOOKUP(recettesaou[[#This Row],[Catégorie]],'coulisses 2'!$A$1:$B$20,2,0)","v":0}]
[null,null,null,null,null,null,null,null,null,null,null,null,null,null,null,null,null,{"$f":"VLOOKUP(recettesaou[[#This Row],[Catégorie]],'coulisses 2'!$A$1:$B$20,2,0)","v":0}]
[null,null,null,null,null,null,null,null,null,null,null,null,null,null,null,null,null,{"$f":"VLOOKUP(recettesaou[[#This Row],[Catégorie]],'coulisses 2'!$A$1:$B$20,2,0)","v":0}]
[null,null,null,null,null,null,null,null,null,null,null,null,null,null,null,null,null,{"$f":"VLOOKUP(recettesaou[[#This Row],[Catégorie]],'coulisses 2'!$A$1:$B$20,2,0)","v":0}]
[null,null,null,null,null,null,null,null,null,null,null,null,null,null,null,null,null,{"$f":"VLOOKUP(recettesaou[[#This Row],[Catégorie]],'coulisses 2'!$A$1:$B$20,2,0)","v":0}]
[null,null,null,null,null,null,null,null,null,null,null,null,null,null,null,null,null,{"$f":"VLOOKUP(recettesaou[[#This Row],[Catégorie]],'coulisses 2'!$A$1:$B$20,2,0)","v":0}]
[null,null,null,null,null,null,null,null,null,null,null,null,null,null,null,null,null,{"$f":"VLOOKUP(recettesaou[[#This Row],[Catégorie]],'coulisses 2'!$A$1:$B$20,2,0)","v":0}]
[null,null,null,null,null,null,null,null,null,null,null,null,null,null,null,null,null,{"$f":"VLOOKUP(recettesaou[[#This Row],[Catégorie]],'coulisses 2'!$A$1:$B$20,2,0)","v":0}]
[null,null,null,null,null,null,null,null,null,null,null,null,null,null,null,null,null,{"$f":"VLOOKUP(recettesaou[[#This Row],[Catégorie]],'coulisses 2'!$A$1:$B$20,2,0)","v":0}]
[null,null,null,null,null,null,null,null,null,null,null,null,null,null,null,null,null,{"$f":"VLOOKUP(recettesaou[[#This Row],[Catégorie]],'coulisses 2'!$A$1:$B$20,2,0)","v":0}]
[null,null,null,null,null,null,null,null,null,null,null,null,null,null,null,null,null,{"$f":"VLOOKUP(recettesaou[[#This Row],[Catégorie]],'coulisses 2'!$A$1:$B$20,2,0)","v":0}]
[null,null,null,null,null,null,null,null,null,null,null,null,null,null,null,null,null,{"$f":"VLOOKUP(recettesaou[[#This Row],[Catégorie]],'coulisses 2'!$A$1:$B$20,2,0)","v":0}]
[null,null,null,null,null,null,null,null,null,null,null,null,null,null,null,null,null,{"$f":"VLOOKUP(recettesaou[[#This Row],[Catégorie]],'coulisses 2'!$A$1:$B$20,2,0)","v":0}]
[null,null,null,null,null,null,null,null,null,null,null,null,null,null,null,null,null,{"$f":"VLOOKUP(recettesaou[[#This Row],[Catégorie]],'coulisses 2'!$A$1:$B$20,2,0)","v":0}]
[null,null,null,null,null,null,null,null,null,null,null,null,null,null,null,null,null,{"$f":"VLOOKUP(recettesaou[[#This Row],[Catégorie]],'coulisses 2'!$A$1:$B$20,2,0)","v":0}]
[null,null,null,null,null,null,null,null,null,null,null,null,null,null,null,null,null,{"$f":"VLOOKUP(recettesaou[[#This Row],[Catégorie]],'coulisses 2'!$A$1:$B$20,2,0)","v":0}]
[null,null,null,null,null,null,null,null,null,null,null,null,null,null,null,null,null,{"$f":"VLOOKUP(recettesaou[[#This Row],[Catégorie]],'coulisses 2'!$A$1:$B$20,2,0)","v":0}]
[null,null,null,null,null,null,null,null,null,null,null,null,null,null,null,null,null,{"$f":"VLOOKUP(recettesaou[[#This Row],[Catégorie]],'coulisses 2'!$A$1:$B$20,2,0)","v":0}]
[null,null,null,null,null,null,null,null,null,null,null,null,null,null,null,null,null,{"$f":"VLOOKUP(recettesaou[[#This Row],[Catégorie]],'coulisses 2'!$A$1:$B$20,2,0)","v":0}]
[null,null,null,null,null,null,null,null,null,null,null,null,null,null,null,null,null,{"$f":"VLOOKUP(recettesaou[[#This Row],[Catégorie]],'coulisses 2'!$A$1:$B$20,2,0)","v":0}]
[null,null,null,null,null,null,null,null,null,null,null,null,null,null,null,null,null,{"$f":"VLOOKUP(recettesaou[[#This Row],[Catégorie]],'coulisses 2'!$A$1:$B$20,2,0)","v":0}]
[null,null,null,null,null,null,null,null,null,null,null,null,null,null,null,null,null,{"$f":"VLOOKUP(recettesaou[[#This Row],[Catégorie]],'coulisses 2'!$A$1:$B$20,2,0)","v":0}]
[null,null,null,null,null,null,null,null,null,null,null,null,null,null,null,null,null,{"$f":"VLOOKUP(recettesaou[[#This Row],[Catégorie]],'coulisses 2'!$A$1:$B$20,2,0)","v":0}]
[null,null,null,null,null,null,null,null,null,null,null,null,null,null,null,null,null,{"$f":"VLOOKUP(recettesaou[[#This Row],[Catégorie]],'coulisses 2'!$A$1:$B$20,2,0)","v":0}]
[null,null,null,null,null,null,null,null,null,null,null,null,null,null,null,null,null,{"$f":"VLOOKUP(recettesaou[[#This Row],[Catégorie]],'coulisses 2'!$A$1:$B$20,2,0)","v":0}]
[null,null,null,null,null,null,null,null,null,null,null,null,null,null,null,null,null,{"$f":"VLOOKUP(recettesaou[[#This Row],[Catégorie]],'coulisses 2'!$A$1:$B$20,2,0)","v":0}]
[null,null,null,null,null,null,null,null,null,null,null,null,null,null,null,null,null,{"$f":"VLOOKUP(recettesaou[[#This Row],[Catégorie]],'coulisses 2'!$A$1:$B$20,2,0)","v":0}]
[null,null,null,null,null,null,null,null,null,null,null,null,null,null,null,null,null,{"$f":"VLOOKUP(recettesaou[[#This Row],[Catégorie]],'coulisses 2'!$A$1:$B$20,2,0)","v":0}]
[null,null,null,null,null,null,null,null,null,null,null,null,null,null,null,null,null,{"$f":"VLOOKUP(recettesaou[[#This Row],[Catégorie]],'coulisses 2'!$A$1:$B$20,2,0)","v":0}]
[null,null,null,null,null,null,null,null,null,null,null,null,null,null,null,null,null,{"$f":"VLOOKUP(recettesaou[[#This Row],[Catégorie]],'coulisses 2'!$A$1:$B$20,2,0)","v":0}]
[null,null,null,null,null,null,null,null,null,null,null,null,null,null,null,null,null,{"$f":"VLOOKUP(recettesaou[[#This Row],[Catégorie]],'coulisses 2'!$A$1:$B$20,2,0)","v":0}]
[null,null,null,null,null,null,null,null,null,null,null,null,null,null,null,null,null,{"$f":"VLOOKUP(recettesaou[[#This Row],[Catégorie]],'coulisses 2'!$A$1:$B$20,2,0)","v":0}]
[null,null,null,null,null,null,null,null,null,null,null,null,null,null,null,null,null,{"$f":"VLOOKUP(recettesaou[[#This Row],[Catégorie]],'coulisses 2'!$A$1:$B$20,2,0)","v":0}]
[null,null,null,null,null,null,null,null,null,null,null,null,null,null,null,null,null,{"$f":"VLOOKUP(recettesaou[[#This Row],[Catégorie]],'coulisses 2'!$A$1:$B$20,2,0)","v":0}]
[null,null,null,null,null,null,null,null,null,null,null,null,null,null,null,null,null,{"$f":"VLOOKUP(recettesaou[[#This Row],[Catégorie]],'coulisses 2'!$A$1:$B$20,2,0)","v":0}]
[null,null,null,null,null,null,null,null,null,null,null,null,null,null,null,null,null,{"$f":"VLOOKUP(recettesaou[[#This Row],[Catégorie]],'coulisses 2'!$A$1:$B$20,2,0)","v":0}]
[null,null,null,null,null,null,null,null,null,null,null,null,null,null,null,null,null,{"$f":"VLOOKUP(recettesaou[[#This Row],[Catégorie]],'coulisses 2'!$A$1:$B$20,2,0)","v":0}]
[null,null,null,null,null,null,null,null,null,null,null,null,null,null,null,null,null,{"$f":"VLOOKUP(recettesaou[[#This Row],[Catégorie]],'coulisses 2'!$A$1:$B$20,2,0)","v":0}]
[null,null,null,null,null,null,null,null,null,null,null,null,null,null,null,null,null,{"$f":"VLOOKUP(recettesaou[[#This Row],[Catégorie]],'coulisses 2'!$A$1:$B$20,2,0)","v":0}]
[null,null,null,null,null,null,null,null,null,null,null,null,null,null,null,null,null,{"$f":"VLOOKUP(recettesaou[[#This Row],[Catégorie]],'coulisses 2'!$A$1:$B$20,2,0)","v":0}]
[null,null,null,null,null,null,null,null,null,null,null,null,null,null,null,null,null,{"$f":"VLOOKUP(recettesaou[[#This Row],[Catégorie]],'coulisses 2'!$A$1:$B$20,2,0)","v":0}]
[null,null,null,null,null,null,null,null,null,null,null,null,null,null,null,null,null,{"$f":"VLOOKUP(recettesaou[[#This Row],[Catégorie]],'coulisses 2'!$A$1:$B$20,2,0)","v":0}]
[null,null,null,null,null,null,null,null,null,null,null,null,null,null,null,null,null,{"$f":"VLOOKUP(recettesaou[[#This Row],[Catégorie]],'coulisses 2'!$A$1:$B$20,2,0)","v":0}]
[null,null,null,null,null,null,null,null,null,null,null,null,null,null,null,null,null,{"$f":"VLOOKUP(recettesaou[[#This Row],[Catégorie]],'coulisses 2'!$A$1:$B$20,2,0)","v":0}]
[null,null,null,null,null,null,null,null,null,null,null,null,null,null,null,null,null,{"$f":"VLOOKUP(recettesaou[[#This Row],[Catégorie]],'coulisses 2'!$A$1:$B$20,2,0)","v":0}]
[null,null,null,null,null,null,null,null,null,null,null,null,null,null,null,null,null,{"$f":"VLOOKUP(recettesaou[[#This Row],[Catégorie]],'coulisses 2'!$A$1:$B$20,2,0)","v":0}]
[null,null,null,null,null,null,null,null,null,null,null,null,null,null,null,null,null,{"$f":"VLOOKUP(recettesaou[[#This Row],[Catégorie]],'coulisses 2'!$A$1:$B$20,2,0)","v":0}]
[null,null,null,null,null,null,null,null,null,null,null,null,null,null,null,null,null,{"$f":"VLOOKUP(recettesaou[[#This Row],[Catégorie]],'coulisses 2'!$A$1:$B$20,2,0)","v":0}]
[null,null,null,null,null,null,null,null,null,null,null,null,null,null,null,null,null,{"$f":"VLOOKUP(recettesaou[[#This Row],[Catégorie]],'coulisses 2'!$A$1:$B$20,2,0)","v":0}]
[null,null,null,null,null,null,null,null,null,null,null,null,null,null,null,null,null,{"$f":"VLOOKUP(recettesaou[[#This Row],[Catégorie]],'coulisses 2'!$A$1:$B$20,2,0)","v":0}]
[null,null,null,null,null,null,null,null,null,null,null,null,null,null,null,null,null,{"$f":"VLOOKUP(recettesaou[[#This Row],[Catégorie]],'coulisses 2'!$A$1:$B$20,2,0)","v":0}]
[null,null,null,null,null,null,null,null,null,null,null,null,null,null,null,null,null,{"$f":"VLOOKUP(recettesaou[[#This Row],[Catégorie]],'coulisses 2'!$A$1:$B$20,2,0)","v":0}]
[null,null,null,null,null,null,null,null,null,null,null,null,null,null,null,null,null,{"$f":"VLOOKUP(recettesaou[[#This Row],[Catégorie]],'coulisses 2'!$A$1:$B$20,2,0)","v":0}]
[null,null,null,null,null,null,null,null,null,null,null,null,null,null,null,null,null,{"$f":"VLOOKUP(recettesaou[[#This Row],[Catégorie]],'coulisses 2'!$A$1:$B$20,2,0)","v":0}]
[null,null,null,null,null,null,null,null,null,null,null,null,null,null,null,null,null,{"$f":"VLOOKUP(recettesaou[[#This Row],[Catégorie]],'coulisses 2'!$A$1:$B$20,2,0)","v":0}]
[null,null,null,null,null,null,null,null,null,null,null,null,null,null,null,null,null,{"$f":"VLOOKUP(recettesaou[[#This Row],[Catégorie]],'coulisses 2'!$A$1:$B$20,2,0)","v":0}]
[null,null,null,null,null,null,null,null,null,null,null,null,null,null,null,null,null,{"$f":"VLOOKUP(recettesaou[[#This Row],[Catégorie]],'coulisses 2'!$A$1:$B$20,2,0)","v":0}]
[null,null,null,null,null,null,null,null,null,null,null,null,null,null,null,null,null,{"$f":"VLOOKUP(recettesaou[[#This Row],[Catégorie]],'coulisses 2'!$A$1:$B$20,2,0)","v":0}]
[null,null,null,null,null,null,null,null,null,null,null,null,null,null,null,null,null,{"$f":"VLOOKUP(recettesaou[[#This Row],[Catégorie]],'coulisses 2'!$A$1:$B$20,2,0)","v":0}]
[null,null,null,null,null,null,null,null,null,null,null,null,null,null,null,null,null,{"$f":"VLOOKUP(recettesaou[[#This Row],[Catégorie]],'coulisses 2'!$A$1:$B$20,2,0)","v":0}]
[null,null,null,null,null,null,null,null,null,null,null,null,null,null,null,null,null,{"$f":"VLOOKUP(recettesaou[[#This Row],[Catégorie]],'coulisses 2'!$A$1:$B$20,2,0)","v":0}]
[null,null,null,null,null,null,null,null,null,null,null,null,null,null,null,null,null,{"$f":"VLOOKUP(recettesaou[[#This Row],[Catégorie]],'coulisses 2'!$A$1:$B$20,2,0)","v":0}]
[null,null,null,null,null,null,null,null,null,null,null,null,null,null,null,null,null,{"$f":"VLOOKUP(recettesaou[[#This Row],[Catégorie]],'coulisses 2'!$A$1:$B$20,2,0)","v":0}]
[null,null,null,null,null,null,null,null,null,null,null,null,null,null,null,null,null,{"$f":"VLOOKUP(recettesaou[[#This Row],[Catégorie]],'coulisses 2'!$A$1:$B$20,2,0)","v":0}]
[null,null,null,null,null,null,null,null,null,null,null,null,null,null,null,null,null,{"$f":"VLOOKUP(recettesaou[[#This Row],[Catégorie]],'coulisses 2'!$A$1:$B$20,2,0)","v":0}]
[null,null,null,null,null,null,null,null,null,null,null,null,null,null,null,null,null,{"$f":"VLOOKUP(recettesaou[[#This Row],[Catégorie]],'coulisses 2'!$A$1:$B$20,2,0)","v":0}]
[null,null,null,null,null,null,null,null,null,null,null,null,null,null,null,null,null,{"$f":"VLOOKUP(recettesaou[[#This Row],[Catégorie]],'coulisses 2'!$A$1:$B$20,2,0)","v":0}]
[null,null,null,null,null,null,null,null,null,null,null,null,null,null,null,null,null,{"$f":"VLOOKUP(recettesaou[[#This Row],[Catégorie]],'coulisses 2'!$A$1:$B$20,2,0)","v":0}]
[null,null,null,null,null,null,null,null,null,null,null,null,null,null,null,null,null,{"$f":"VLOOKUP(recettesaou[[#This Row],[Catégorie]],'coulisses 2'!$A$1:$B$20,2,0)","v":0}]
[null,null,null,null,null,null,null,null,null,null,null,null,null,null,null,null,null,{"$f":"VLOOKUP(recettesaou[[#This Row],[Catégorie]],'coulisses 2'!$A$1:$B$20,2,0)","v":0}]
[null,null,null,null,null,null,null,null,null,null,null,null,null,null,null,null,null,{"$f":"VLOOKUP(recettesaou[[#This Row],[Catégorie]],'coulisses 2'!$A$1:$B$20,2,0)","v":0}]
[null,null,null,null,null,null,null,null,null,null,null,null,null,null,null,null,null,{"$f":"VLOOKUP(recettesaou[[#This Row],[Catégorie]],'coulisses 2'!$A$1:$B$20,2,0)","v":0}]
[null,null,null,null,null,null,null,null,null,null,null,null,null,null,null,null,null,{"$f":"VLOOKUP(recettesaou[[#This Row],[Catégorie]],'coulisses 2'!$A$1:$B$20,2,0)","v":0}]
[null,null,null,null,null,null,null,null,null,null,null,null,null,null,null,null,null,{"$f":"VLOOKUP(recettesaou[[#This Row],[Catégorie]],'coulisses 2'!$A$1:$B$20,2,0)","v":0}]
[null,null,null,null,null,null,null,null,null,null,null,null,null,null,null,null,null,{"$f":"VLOOKUP(recettesaou[[#This Row],[Catégorie]],'coulisses 2'!$A$1:$B$20,2,0)","v":0}]
[null,null,null,null,null,null,null,null,null,null,null,null,null,null,null,null,null,{"$f":"VLOOKUP(recettesaou[[#This Row],[Catégorie]],'coulisses 2'!$A$1:$B$20,2,0)","v":0}]
[null,null,null,null,null,null,null,null,null,null,null,null,null,null,null,null,null,{"$f":"VLOOKUP(recettesaou[[#This Row],[Catégorie]],'coulisses 2'!$A$1:$B$20,2,0)","v":0}]
[null,null,null,null,null,null,null,null,null,null,null,null,null,null,null,null,null,{"$f":"VLOOKUP(recettesaou[[#This Row],[Catégorie]],'coulisses 2'!$A$1:$B$20,2,0)","v":0}]
[null,null,null,null,null,null,null,null,null,null,null,null,null,null,null,null,null,{"$f":"VLOOKUP(recettesaou[[#This Row],[Catégorie]],'coulisses 2'!$A$1:$B$20,2,0)","v":0}]
[null,null,null,null,null,null,null,null,null,null,null,null,null,null,null,null,null,{"$f":"VLOOKUP(recettesaou[[#This Row],[Catégorie]],'coulisses 2'!$A$1:$B$20,2,0)","v":0}]
[null,null,null,null,null,null,null,null,null,null,null,null,null,null,null,null,null,{"$f":"VLOOKUP(recettesaou[[#This Row],[Catégorie]],'coulisses 2'!$A$1:$B$20,2,0)","v":0}]
[null,null,null,null,null,null,null,null,null,null,null,null,null,null,null,null,null,{"$f":"VLOOKUP(recettesaou[[#This Row],[Catégorie]],'coulisses 2'!$A$1:$B$20,2,0)","v":0}]
[null,null,null,null,null,null,null,null,null,null,null,null,null,null,null,null,null,{"$f":"VLOOKUP(recettesaou[[#This Row],[Catégorie]],'coulisses 2'!$A$1:$B$20,2,0)","v":0}]
[null,null,null,null,null,null,null,null,null,null,null,null,null,null,null,null,null,{"$f":"VLOOKUP(recettesaou[[#This Row],[Catégorie]],'coulisses 2'!$A$1:$B$20,2,0)","v":0}]
[null,null,null,null,null,null,null,null,null,null,null,null,null,null,null,null,null,{"$f":"VLOOKUP(recettesaou[[#This Row],[Catégorie]],'coulisses 2'!$A$1:$B$20,2,0)","v":0}]
[null,null,null,null,null,null,null,null,null,null,null,null,null,null,null,null,null,{"$f":"VLOOKUP(recettesaou[[#This Row],[Catégorie]],'coulisses 2'!$A$1:$B$20,2,0)","v":0}]
[null,null,null,null,null,null,null,null,null,null,null,null,null,null,null,null,null,{"$f":"VLOOKUP(recettesaou[[#This Row],[Catégorie]],'coulisses 2'!$A$1:$B$20,2,0)","v":0}]
[null,null,null,null,null,null,null,null,null,null,null,null,null,null,null,null,null,{"$f":"VLOOKUP(recettesaou[[#This Row],[Catégorie]],'coulisses 2'!$A$1:$B$20,2,0)","v":0}]
[null,null,null,null,null,null,null,null,null,null,null,null,null,null,null,null,null,{"$f":"VLOOKUP(recettesaou[[#This Row],[Catégorie]],'coulisses 2'!$A$1:$B$20,2,0)","v":0}]
[null,null,null,null,null,null,null,null,null,null,null,null,null,null,null,null,null,{"$f":"VLOOKUP(recettesaou[[#This Row],[Catégorie]],'coulisses 2'!$A$1:$B$20,2,0)","v":0}]
[null,null,null,null,null,null,null,null,null,null,null,null,null,null,null,null,null,{"$f":"VLOOKUP(recettesaou[[#This Row],[Catégorie]],'coulisses 2'!$A$1:$B$20,2,0)","v":0}]
[null,null,null,null,null,null,null,null,null,null,null,null,null,null,null,null,null,{"$f":"VLOOKUP(recettesaou[[#This Row],[Catégorie]],'coulisses 2'!$A$1:$B$20,2,0)","v":0}]
[null,null,null,null,null,null,null,null,null,null,null,null,null,null,null,null,null,{"$f":"VLOOKUP(recettesaou[[#This Row],[Catégorie]],'coulisses 2'!$A$1:$B$20,2,0)","v":0}]
[null,null,null,null,null,null,null,null,null,null,null,null,null,null,null,null,null,{"$f":"VLOOKUP(recettesaou[[#This Row],[Catégorie]],'coulisses 2'!$A$1:$B$20,2,0)","v":0}]
[null,null,null,null,null,null,null,null,null,null,null,null,null,null,null,null,null,{"$f":"VLOOKUP(recettesaou[[#This Row],[Catégorie]],'coulisses 2'!$A$1:$B$20,2,0)","v":0}]
[null,null,null,null,null,null,null,null,null,null,null,null,null,null,null,null,null,{"$f":"VLOOKUP(recettesaou[[#This Row],[Catégorie]],'coulisses 2'!$A$1:$B$20,2,0)","v":0}]
[null,null,null,null,null,null,null,null,null,null,null,null,null,null,null,null,null,{"$f":"VLOOKUP(recettesaou[[#This Row],[Catégorie]],'coulisses 2'!$A$1:$B$20,2,0)","v":0}]
[null,null,null,null,null,null,null,null,null,null,null,null,null,null,null,null,null,{"$f":"VLOOKUP(recettesaou[[#This Row],[Catégorie]],'coulisses 2'!$A$1:$B$20,2,0)","v":0}]
[null,null,null,null,null,null,null,null,null,null,null,null,null,null,null,null,null,{"$f":"VLOOKUP(recettesaou[[#This Row],[Catégorie]],'coulisses 2'!$A$1:$B$20,2,0)","v":0}]
[null,null,null,null,null,null,null,null,null,null,null,null,null,null,null,null,null,{"$f":"VLOOKUP(recettesaou[[#This Row],[Catégorie]],'coulisses 2'!$A$1:$B$20,2,0)","v":0}]
[null,null,null,null,null,null,null,null,null,null,null,null,null,null,null,null,null,{"$f":"VLOOKUP(recettesaou[[#This Row],[Catégorie]],'coulisses 2'!$A$1:$B$20,2,0)","v":0}]
[null,null,null,null,null,null,null,null,null,null,null,null,null,null,null,null,null,{"$f":"VLOOKUP(recettesaou[[#This Row],[Catégorie]],'coulisses 2'!$A$1:$B$20,2,0)","v":0}]
[null,null,null,null,null,null,null,null,null,null,null,null,null,null,null,null,null,{"$f":"VLOOKUP(recettesaou[[#This Row],[Catégorie]],'coulisses 2'!$A$1:$B$20,2,0)","v":0}]
[null,null,null,null,null,null,null,null,null,null,null,null,null,null,null,null,null,{"$f":"VLOOKUP(recettesaou[[#This Row],[Catégorie]],'coulisses 2'!$A$1:$B$20,2,0)","v":0}]
[null,null,null,null,null,null,null,null,null,null,null,null,null,null,null,null,null,{"$f":"VLOOKUP(recettesaou[[#This Row],[Catégorie]],'coulisses 2'!$A$1:$B$20,2,0)","v":0}]
[null,null,null,null,null,null,null,null,null,null,null,null,null,null,null,null,null,{"$f":"VLOOKUP(recettesaou[[#This Row],[Catégorie]],'coulisses 2'!$A$1:$B$20,2,0)","v":0}]
[null,null,null,null,null,null,null,null,null,null,null,null,null,null,null,null,null,{"$f":"VLOOKUP(recettesaou[[#This Row],[Catégorie]],'coulisses 2'!$A$1:$B$20,2,0)","v":0}]
[null,null,null,null,null,null,null,null,null,null,null,null,null,null,null,null,null,{"$f":"VLOOKUP(recettesaou[[#This Row],[Catégorie]],'coulisses 2'!$A$1:$B$20,2,0)","v":0}]
[null,null,null,null,null,null,null,null,null,null,null,null,null,null,null,null,null,{"$f":"VLOOKUP(recettesaou[[#This Row],[Catégorie]],'coulisses 2'!$A$1:$B$20,2,0)","v":0}]
[null,null,null,null,null,null,null,null,null,null,null,null,null,null,null,null,null,{"$f":"VLOOKUP(recettesaou[[#This Row],[Catégorie]],'coulisses 2'!$A$1:$B$20,2,0)","v":0}]
[null,null,null,null,null,null,null,null,null,null,null,null,null,null,null,null,null,{"$f":"VLOOKUP(recettesaou[[#This Row],[Catégorie]],'coulisses 2'!$A$1:$B$20,2,0)","v":0}]
[null,null,null,null,null,null,null,null,null,null,null,null,null,null,null,null,null,{"$f":"VLOOKUP(recettesaou[[#This Row],[Catégorie]],'coulisses 2'!$A$1:$B$20,2,0)","v":0}]
[null,null,null,null,null,null,null,null,null,null,null,null,null,null,null,null,null,{"$f":"VLOOKUP(recettesaou[[#This Row],[Catégorie]],'coulisses 2'!$A$1:$B$20,2,0)","v":0}]
[null,null,null,null,null,null,null,null,null,null,null,null,null,null,null,null,null,{"$f":"VLOOKUP(recettesaou[[#This Row],[Catégorie]],'coulisses 2'!$A$1:$B$20,2,0)","v":0}]
[null,null,null,null,null,null,null,null,null,null,null,null,null,null,null,null,null,{"$f":"VLOOKUP(recettesaou[[#This Row],[Catégorie]],'coulisses 2'!$A$1:$B$20,2,0)","v":0}]
[null,null,null,null,null,null,null,null,null,null,null,null,null,null,null,null,null,{"$f":"VLOOKUP(recettesaou[[#This Row],[Catégorie]],'coulisses 2'!$A$1:$B$20,2,0)","v":0}]
[null,null,null,null,null,null,null,null,null,null,null,null,null,null,null,null,null,{"$f":"VLOOKUP(recettesaou[[#This Row],[Catégorie]],'coulisses 2'!$A$1:$B$20,2,0)","v":0}]
[null,null,null,null,null,null,null,null,null,null,null,null,null,null,null,null,null,{"$f":"VLOOKUP(recettesaou[[#This Row],[Catégorie]],'coulisses 2'!$A$1:$B$20,2,0)","v":0}]
[null,null,null,null,null,null,null,null,null,null,null,null,null,null,null,null,null,{"$f":"VLOOKUP(recettesaou[[#This Row],[Catégorie]],'coulisses 2'!$A$1:$B$20,2,0)","v":0}]
[null,null,null,null,null,null,null,null,null,null,null,null,null,null,null,null,null,{"$f":"VLOOKUP(recettesaou[[#This Row],[Catégorie]],'coulisses 2'!$A$1:$B$20,2,0)","v":0}]
[null,null,null,null,null,null,null,null,null,null,null,null,null,null,null,null,null,{"$f":"VLOOKUP(recettesaou[[#This Row],[Catégorie]],'coulisses 2'!$A$1:$B$20,2,0)","v":0}]
[null,null,null,null,null,null,null,null,null,null,null,null,null,null,null,null,null,{"$f":"VLOOKUP(recettesaou[[#This Row],[Catégorie]],'coulisses 2'!$A$1:$B$20,2,0)","v":0}]
[null,null,null,null,null,null,null,null,null,null,null,null,null,null,null,null,null,{"$f":"VLOOKUP(recettesaou[[#This Row],[Catégorie]],'coulisses 2'!$A$1:$B$20,2,0)","v":0}]
[null,null,null,null,null,null,null,null,null,null,null,null,null,null,null,null,null,{"$f":"VLOOKUP(recettesaou[[#This Row],[Catégorie]],'coulisses 2'!$A$1:$B$20,2,0)","v":0}]
[null,null,null,null,null,null,null,null,null,null,null,null,null,null,null,null,null,{"$f":"VLOOKUP(recettesaou[[#This Row],[Catégorie]],'coulisses 2'!$A$1:$B$20,2,0)","v":0}]
[null,null,null,null,null,null,null,null,null,null,null,null,null,null,null,null,null,{"$f":"VLOOKUP(recettesaou[[#This Row],[Catégorie]],'coulisses 2'!$A$1:$B$20,2,0)","v":0}]
[null,null,null,null,null,null,null,null,null,null,null,null,null,null,null,null,null,{"$f":"VLOOKUP(recettesaou[[#This Row],[Catégorie]],'coulisses 2'!$A$1:$B$20,2,0)","v":0}]
[null,null,null,null,null,null,null,null,null,null,null,null,null,null,null,null,null,{"$f":"VLOOKUP(recettesaou[[#This Row],[Catégorie]],'coulisses 2'!$A$1:$B$20,2,0)","v":0}]
[null,null,null,null,null,null,null,null,null,null,null,null,null,null,null,null,null,{"$f":"VLOOKUP(recettesaou[[#This Row],[Catégorie]],'coulisses 2'!$A$1:$B$20,2,0)","v":0}]
[null,null,null,null,null,null,null,null,null,null,null,null,null,null,null,null,null,{"$f":"VLOOKUP(recettesaou[[#This Row],[Catégorie]],'coulisses 2'!$A$1:$B$20,2,0)","v":0}]
[null,null,null,null,null,null,null,null,null,null,null,null,null,null,null,null,null,{"$f":"VLOOKUP(recettesaou[[#This Row],[Catégorie]],'coulisses 2'!$A$1:$B$20,2,0)","v":0}]
[null,null,null,null,null,null,null,null,null,null,null,null,null,null,null,null,null,{"$f":"VLOOKUP(recettesaou[[#This Row],[Catégorie]],'coulisses 2'!$A$1:$B$20,2,0)","v":0}]
[null,null,null,null,null,null,null,null,null,null,null,null,null,null,null,null,null,{"$f":"VLOOKUP(recettesaou[[#This Row],[Catégorie]],'coulisses 2'!$A$1:$B$20,2,0)","v":0}]
[null,null,null,null,null,null,null,null,null,null,null,null,null,null,null,null,null,{"$f":"VLOOKUP(recettesaou[[#This Row],[Catégorie]],'coulisses 2'!$A$1:$B$20,2,0)","v":0}]
[null,null,null,null,null,null,null,null,null,null,null,null,null,null,null,null,null,{"$f":"VLOOKUP(recettesaou[[#This Row],[Catégorie]],'coulisses 2'!$A$1:$B$20,2,0)","v":0}]
[null,null,null,null,null,null,null,null,null,null,null,null,null,null,null,null,null,{"$f":"VLOOKUP(recettesaou[[#This Row],[Catégorie]],'coulisses 2'!$A$1:$B$20,2,0)","v":0}]
[null,null,null,null,null,null,null,null,null,null,null,null,null,null,null,null,null,{"$f":"VLOOKUP(recettesaou[[#This Row],[Catégorie]],'coulisses 2'!$A$1:$B$20,2,0)","v":0}]
[null,null,null,null,null,null,null,null,null,null,null,null,null,null,null,null,null,{"$f":"VLOOKUP(recettesaou[[#This Row],[Catégorie]],'coulisses 2'!$A$1:$B$20,2,0)","v":0}]
[null,null,null,null,null,null,null,null,null,null,null,null,null,null,null,null,null,{"$f":"VLOOKUP(recettesaou[[#This Row],[Catégorie]],'coulisses 2'!$A$1:$B$20,2,0)","v":0}]
[null,null,null,null,null,null,null,null,null,null,null,null,null,null,null,null,null,{"$f":"VLOOKUP(recettesaou[[#This Row],[Catégorie]],'coulisses 2'!$A$1:$B$20,2,0)","v":0}]
[null,null,null,null,null,null,null,null,null,null,null,null,null,null,null,null,null,{"$f":"VLOOKUP(recettesaou[[#This Row],[Catégorie]],'coulisses 2'!$A$1:$B$20,2,0)","v":0}]
[null,null,null,null,null,null,null,null,null,null,null,null,null,null,null,null,null,{"$f":"VLOOKUP(recettesaou[[#This Row],[Catégorie]],'coulisses 2'!$A$1:$B$20,2,0)","v":0}]
[null,null,null,null,null,null,null,null,null,null,null,null,null,null,null,null,null,{"$f":"VLOOKUP(recettesaou[[#This Row],[Catégorie]],'coulisses 2'!$A$1:$B$20,2,0)","v":0}]
[null,null,null,null,null,null,null,null,null,null,null,null,null,null,null,null,null,{"$f":"VLOOKUP(recettesaou[[#This Row],[Catégorie]],'coulisses 2'!$A$1:$B$20,2,0)","v":0}]
[null,null,null,null,null,null,null,null,null,null,null,null,null,null,null,null,null,{"$f":"VLOOKUP(recettesaou[[#This Row],[Catégorie]],'coulisses 2'!$A$1:$B$20,2,0)","v":0}]
[null,null,null,null,null,null,null,null,null,null,null,null,null,null,null,null,null,{"$f":"VLOOKUP(recettesaou[[#This Row],[Catégorie]],'coulisses 2'!$A$1:$B$20,2,0)","v":0}]
[null,null,null,null,null,null,null,null,null,null,null,null,null,null,null,null,null,{"$f":"VLOOKUP(recettesaou[[#This Row],[Catégorie]],'coulisses 2'!$A$1:$B$20,2,0)","v":0}]
[null,null,null,null,null,null,null,null,null,null,null,null,null,null,null,null,null,{"$f":"VLOOKUP(recettesaou[[#This Row],[Catégorie]],'coulisses 2'!$A$1:$B$20,2,0)","v":0}]
[null,null,null,null,null,null,null,null,null,null,null,null,null,null,null,null,null,{"$f":"VLOOKUP(recettesaou[[#This Row],[Catégorie]],'coulisses 2'!$A$1:$B$20,2,0)","v":0}]
[null,null,null,null,null,null,null,null,null,null,null,null,null,null,null,null,null,{"$f":"VLOOKUP(recettesaou[[#This Row],[Catégorie]],'coulisses 2'!$A$1:$B$20,2,0)","v":0}]
[null,null,null,null,null,null,null,null,null,null,null,null,null,null,null,null,null,{"$f":"VLOOKUP(recettesaou[[#This Row],[Catégorie]],'coulisses 2'!$A$1:$B$20,2,0)","v":0}]
[null,null,null,null,null,null,null,null,null,null,null,null,null,null,null,null,null,{"$f":"VLOOKUP(recettesaou[[#This Row],[Catégorie]],'coulisses 2'!$A$1:$B$20,2,0)","v":0}]
[null,null,null,null,null,null,null,null,null,null,null,null,null,null,null,null,null,{"$f":"VLOOKUP(recettesaou[[#This Row],[Catégorie]],'coulisses 2'!$A$1:$B$20,2,0)","v":0}]
[null,null,null,null,null,null,null,null,null,null,null,null,null,null,null,null,null,{"$f":"VLOOKUP(recettesaou[[#This Row],[Catégorie]],'coulisses 2'!$A$1:$B$20,2,0)","v":0}]
[null,null,null,null,null,null,null,null,null,null,null,null,null,null,null,null,null,{"$f":"VLOOKUP(recettesaou[[#This Row],[Catégorie]],'coulisses 2'!$A$1:$B$20,2,0)","v":0}]
[null,null,null,null,null,null,null,null,null,null,null,null,null,null,null,null,null,{"$f":"VLOOKUP(recettesaou[[#This Row],[Catégorie]],'coulisses 2'!$A$1:$B$20,2,0)","v":0}]
[null,null,null,null,null,null,null,null,null,null,null,null,null,null,null,null,null,{"$f":"VLOOKUP(recettesaou[[#This Row],[Catégorie]],'coulisses 2'!$A$1:$B$20,2,0)","v":0}]
[null,null,null,null,null,null,null,null,null,null,null,null,null,null,null,null,null,{"$f":"VLOOKUP(recettesaou[[#This Row],[Catégorie]],'coulisses 2'!$A$1:$B$20,2,0)","v":0}]
[null,null,null,null,null,null,null,null,null,null,null,null,null,null,null,null,null,{"$f":"VLOOKUP(recettesaou[[#This Row],[Catégorie]],'coulisses 2'!$A$1:$B$20,2,0)","v":0}]
[null,null,null,null,null,null,null,null,null,null,null,null,null,null,null,null,null,{"$f":"VLOOKUP(recettesaou[[#This Row],[Catégorie]],'coulisses 2'!$A$1:$B$20,2,0)","v":0}]
[null,null,null,null,null,null,null,null,null,null,null,null,null,null,null,null,null,{"$f":"VLOOKUP(recettesaou[[#This Row],[Catégorie]],'coulisses 2'!$A$1:$B$20,2,0)","v":0}]
[null,null,null,null,null,null,null,null,null,null,null,null,null,null,null,null,null,{"$f":"VLOOKUP(recettesaou[[#This Row],[Catégorie]],'coulisses 2'!$A$1:$B$20,2,0)","v":0}]
[null,null,null,null,null,null,null,null,null,null,null,null,null,null,null,null,null,{"$f":"VLOOKUP(recettesaou[[#This Row],[Catégorie]],'coulisses 2'!$A$1:$B$20,2,0)","v":0}]
[null,null,null,null,null,null,null,null,null,null,null,null,null,null,null,null,null,{"$f":"VLOOKUP(recettesaou[[#This Row],[Catégorie]],'coulisses 2'!$A$1:$B$20,2,0)","v":0}]
[null,null,null,null,null,null,null,null,null,null,null,null,null,null,null,null,null,{"$f":"VLOOKUP(recettesaou[[#This Row],[Catégorie]],'coulisses 2'!$A$1:$B$20,2,0)","v":0}]
[null,null,null,null,null,null,null,null,null,null,null,null,null,null,null,null,null,{"$f":"VLOOKUP(recettesaou[[#This Row],[Catégorie]],'coulisses 2'!$A$1:$B$20,2,0)","v":0}]
[null,null,null,null,null,null,null,null,null,null,null,null,null,null,null,null,null,{"$f":"VLOOKUP(recettesaou[[#This Row],[Catégorie]],'coulisses 2'!$A$1:$B$20,2,0)","v":0}]
[null,null,null,null,null,null,null,null,null,null,null,null,null,null,null,null,null,{"$f":"VLOOKUP(recettesaou[[#This Row],[Catégorie]],'coulisses 2'!$A$1:$B$20,2,0)","v":0}]
[null,null,null,null,null,null,null,null,null,null,null,null,null,null,null,null,null,{"$f":"VLOOKUP(recettesaou[[#This Row],[Catégorie]],'coulisses 2'!$A$1:$B$20,2,0)","v":0}]
[null,null,null,null,null,null,null,null,null,null,null,null,null,null,null,null,null,{"$f":"VLOOKUP(recettesaou[[#This Row],[Catégorie]],'coulisses 2'!$A$1:$B$20,2,0)","v":0}]
[null,null,null,null,null,null,null,null,null,null,null,null,null,null,null,null,null,{"$f":"VLOOKUP(recettesaou[[#This Row],[Catégorie]],'coulisses 2'!$A$1:$B$20,2,0)","v":0}]
[null,null,null,null,null,null,null,null,null,null,null,null,null,null,null,null,null,{"$f":"VLOOKUP(recettesaou[[#This Row],[Catégorie]],'coulisses 2'!$A$1:$B$20,2,0)","v":0}]
[null,null,null,null,null,null,null,null,null,null,null,null,null,null,null,null,null,{"$f":"VLOOKUP(recettesaou[[#This Row],[Catégorie]],'coulisses 2'!$A$1:$B$20,2,0)","v":0}]
[null,null,null,null,null,null,null,null,null,null,null,null,null,null,null,null,null,{"$f":"VLOOKUP(recettesaou[[#This Row],[Catégorie]],'coulisses 2'!$A$1:$B$20,2,0)","v":0}]
[null,null,null,null,null,null,null,null,null,null,null,null,null,null,null,null,null,{"$f":"VLOOKUP(recettesaou[[#This Row],[Catégorie]],'coulisses 2'!$A$1:$B$20,2,0)","v":0}]
[null,null,null,null,null,null,null,null,null,null,null,null,null,null,null,null,null,{"$f":"VLOOKUP(recettesaou[[#This Row],[Catégorie]],'coulisses 2'!$A$1:$B$20,2,0)","v":0}]
[null,null,null,null,null,null,null,null,null,null,null,null,null,null,null,null,null,{"$f":"VLOOKUP(recettesaou[[#This Row],[Catégorie]],'coulisses 2'!$A$1:$B$20,2,0)","v":0}]
[null,null,null,null,null,null,null,null,null,null,null,null,null,null,null,null,null,{"$f":"VLOOKUP(recettesaou[[#This Row],[Catégorie]],'coulisses 2'!$A$1:$B$20,2,0)","v":0}]
[null,null,null,null,null,null,null,null,null,null,null,null,null,null,null,null,null,{"$f":"VLOOKUP(recettesaou[[#This Row],[Catégorie]],'coulisses 2'!$A$1:$B$20,2,0)","v":0}]
[null,null,null,null,null,null,null,null,null,null,null,null,null,null,null,null,null,{"$f":"VLOOKUP(recettesaou[[#This Row],[Catégorie]],'coulisses 2'!$A$1:$B$20,2,0)","v":0}]
[null,null,null,null,null,null,null,null,null,null,null,null,null,null,null,null,null,{"$f":"VLOOKUP(recettesaou[[#This Row],[Catégorie]],'coulisses 2'!$A$1:$B$20,2,0)","v":0}]
[null,null,null,null,null,null,null,null,null,null,null,null,null,null,null,null,null,{"$f":"VLOOKUP(recettesaou[[#This Row],[Catégorie]],'coulisses 2'!$A$1:$B$20,2,0)","v":0}]

{"sheet":"📝  09","index":9,"n_rows":304,"n_cols":24,"rows_kept":304,"cut":false,"hidden":false,"merged":[[1,1,1,4],[1,9,1,12]]}
[null,{"$f":"'👩🏻‍🏫 Bienvenue !'!K7","v":0},null,{"$f":" '👩🏻‍🏫 Bienvenue !'!I12&\" - \"&\"Septembre \"&'👩🏻‍🏫 Bienvenue !'!I16","v":" - Septembre "},null,null,null,null,null,null,null,null,null,null,"VOTRE PROFIT DU MOIS",{"$f":"H2-P2","v":0}]
[null,"Vos recettes 💰",null,null,null,null,"TOTAL",{"$f":"SUM(recettessep[Montant])","v":0},null,"Vos dépenses 🧾",null,null,null,null,"TOTAL",{"$f":"SUM(depensessep[Montant])","v":0}]
[]
[null,"Date","Mode de paiement","N°","Libellé et nom du client","Catégorie","Axe","Montant",null,"Date","Mode de paiement","N°","Libellé","Catégorie","Axe","Montant",null,"Taux"]
[null,null,null,null,null,null,null,null,null,null,null,"S1","Cotisations sociales Juillet - Taux 1","Cotisations sociales",null,{"$f":"'🧳 07'!X29","v":0},null,{"$f":"VLOOKUP(recettessep[[#This Row],[Catégorie]],'coulisses 2'!$A$1:$B$20,2,0)","v":0},null,"Récapitulatif par type de dépense",{"$f":"SUM(U6:U26)","v":0},null,"Récapitulatif par type de recette",{"$f":"SUM(X6:X26)","v":0}]
[null,null,null,null,null,null,null,null,null,null,null,"S2","Cotisations sociales Juillet - Taux 2","Cotisations sociales",null,{"$f":"'🧳 07'!X30","v":0},null,{"$f":"VLOOKUP(recettessep[[#This Row],[Catégorie]],'coulisses 2'!$A$1:$B$20,2,0)","v":0},null,{"$f":"coulisses!J23","v":0},{"$f":"SUMIF(depensessep[Catégorie],T6,depensessep[Montant])","v":0},null,{"$f":"coulisses!J3","v":0},{"$f":"SUMIF(recettessep[Catégorie],W6,recettessep[Montant])","v":0}]
[null,null,null,null,null,null,null,null,null,null,null,"S3","Cotisations sociales Juillet - Taux 3","Cotisations sociales",null,{"$f":"'🧳 07'!X31","v":0},null,{"$f":"VLOOKUP(recettessep[[#This Row],[Catégorie]],'coulisses 2'!$A$1:$B$20,2,0)","v":0},null,{"$f":"coulisses!J24","v":0},{"$f":"SUMIF(depensessep[Catégorie],T7,depensessep[Montant])","v":0},null,{"$f":"coulisses!J4","v":0},{"$f":"SUMIF(recettessep[Catégorie],W7,recettessep[Montant])","v":0}]
[null,null,null,null,null,null,null,null,null,null,null,null,null,null,null,null,null,{"$f":"VLOOKUP(recettessep[[#This Row],[Catégorie]],'coulisses 2'!$A$1:$B$20,2,0)","v":0},null,{"$f":"coulisses!J25","v":0},{"$f":"SUMIF(depensessep[Catégorie],T8,depensessep[Montant])","v":0},null,{"$f":"coulisses!J5","v":0},{"$f":"SUMIF(recettessep[Catégorie],W8,recettessep[Montant])","v":0}]
[null,null,null,null,null,null,null,null,null,null,null,null,null,null,null,null,null,{"$f":"VLOOKUP(recettessep[[#This Row],[Catégorie]],'coulisses 2'!$A$1:$B$20,2,0)","v":0},null,{"$f":"coulisses!J26","v":0},{"$f":"SUMIF(depensessep[Catégorie],T9,depensessep[Montant])","v":0},null,{"$f":"coulisses!J6","v":0},{"$f":"SUMIF(recettessep[Catégorie],W9,recettessep[Montant])","v":0}]
[null,null,null,null,null,null,null,null,null,null,null,null,null,null,null,null,null,{"$f":"VLOOKUP(recettessep[[#This Row],[Catégorie]],'coulisses 2'!$A$1:$B$20,2,0)","v":0},null,{"$f":"coulisses!J27","v":0},{"$f":"SUMIF(depensessep[Catégorie],T10,depensessep[Montant])","v":0},null,{"$f":"coulisses!J7","v":0},{"$f":"SUMIF(recettessep[Catégorie],W10,recettessep[Montant])","v":0}]
[null,null,null,null,null,null,null,null,null,null,null,null,null,null,null,null,null,{"$f":"VLOOKUP(recettessep[[#This Row],[Catégorie]],'coulisses 2'!$A$1:$B$20,2,0)","v":0},null,{"$f":"coulisses!J28","v":0},{"$f":"SUMIF(depensessep[Catégorie],T11,depensessep[Montant])","v":0},null,{"$f":"coulisses!J8","v":0},{"$f":"SUMIF(recettessep[Catégorie],W11,recettessep[Montant])","v":0}]
[null,null,null,null,null,null,null,null,null,null,null,null,null,null,null,null,null,{"$f":"VLOOKUP(recettessep[[#This Row],[Catégorie]],'coulisses 2'!$A$1:$B$20,2,0)","v":0},null,{"$f":"coulisses!J29","v":0},{"$f":"SUMIF(depensessep[Catégorie],T12,depensessep[Montant])","v":0},null,{"$f":"coulisses!J9","v":0},{"$f":"SUMIF(recettessep[Catégorie],W12,recettessep[Montant])","v":0}]
[null,null,null,null,null,null,null,null,null,null,null,null,null,null,null,null,null,{"$f":"VLOOKUP(recettessep[[#This Row],[Catégorie]],'coulisses 2'!$A$1:$B$20,2,0)","v":0},null,{"$f":"coulisses!J30","v":0},{"$f":"SUMIF(depensessep[Catégorie],T13,depensessep[Montant])","v":0},null,{"$f":"coulisses!J10","v":0},{"$f":"SUMIF(recettessep[Catégorie],W13,recettessep[Montant])","v":0}]
[null,null,null,null,null,null,null,null,null,null,null,null,null,null,null,null,null,{"$f":"VLOOKUP(recettessep[[#This Row],[Catégorie]],'coulisses 2'!$A$1:$B$20,2,0)","v":0},null,{"$f":"coulisses!J31","v":0},{"$f":"SUMIF(depensessep[Catégorie],T14,depensessep[Montant])","v":0},null,{"$f":"coulisses!J11","v":0},{"$f":"SUMIF(recettessep[Catégorie],W14,recettessep[Montant])","v":0}]
[null,null,null,null,null,null,null,null,null,null,null,null,null,null,null,null,null,{"$f":"VLOOKUP(recettessep[[#This Row],[Catégorie]],'coulisses 2'!$A$1:$B$20,2,0)","v":0},null,{"$f":"coulisses!J32","v":0},{"$f":"SUMIF(depensessep[Catégorie],T15,depensessep[Montant])","v":0},null,{"$f":"coulisses!J12","v":0},{"$f":"SUMIF(recettessep[Catégorie],W15,recettessep[Montant])","v":0}]
[null,null,null,null,null,null,null,null,null,null,null,null,null,null,null,null,null,{"$f":"VLOOKUP(recettessep[[#This Row],[Catégorie]],'coulisses 2'!$A$1:$B$20,2,0)","v":0},null,{"$f":"coulisses!J33","v":0},{"$f":"SUMIF(depensessep[Catégorie],T16,depensessep[Montant])","v":0},null,{"$f":"coulisses!J13","v":0},{"$f":"SUMIF(recettessep[Catégorie],W16,recettessep[Montant])","v":0}]
[null,null,null,null,null,null,null,null,null,null,null,null,null,null,null,null,null,{"$f":"VLOOKUP(recettessep[[#This Row],[Catégorie]],'coulisses 2'!$A$1:$B$20,2,0)","v":0},null,{"$f":"coulisses!J34","v":0},{"$f":"SUMIF(depensessep[Catégorie],T17,depensessep[Montant])","v":0},null,{"$f":"coulisses!J14","v":0},{"$f":"SUMIF(recettessep[Catégorie],W17,recettessep[Montant])","v":0}]
[null,null,null,null,null,null,null,null,null,null,null,null,null,null,null,null,null,{"$f":"VLOOKUP(recettessep[[#This Row],[Catégorie]],'coulisses 2'!$A$1:$B$20,2,0)","v":0},null,{"$f":"coulisses!J35","v":0},{"$f":"SUMIF(depensessep[Catégorie],T18,depensessep[Montant])","v":0},null,{"$f":"coulisses!J15","v":0},{"$f":"SUMIF(recettessep[Catégorie],W18,recettessep[Montant])","v":0}]
[null,null,null,null,null,null,null,null,null,null,null,null,null,null,null,null,null,{"$f":"VLOOKUP(recettessep[[#This Row],[Catégorie]],'coulisses 2'!$A$1:$B$20,2,0)","v":0},null,{"$f":"coulisses!J36","v":0},{"$f":"SUMIF(depensessep[Catégorie],T19,depensessep[Montant])","v":0},null,{"$f":"coulisses!J16","v":0},{"$f":"SUMIF(recettessep[Catégorie],W19,recettessep[Montant])","v":0}]
[null,null,null,null,null,null,null,null,null,null,null,null,null,null,null,null,null,{"$f":"VLOOKUP(recettessep[[#This Row],[Catégorie]],'coulisses 2'!$A$1:$B$20,2,0)","v":0},null,{"$f":"coulisses!J37","v":0},{"$f":"SUMIF(depensessep[Catégorie],T20,depensessep[Montant])","v":0},null,{"$f":"coulisses!J17","v":0},{"$f":"SUMIF(recettessep[Catégorie],W20,recettessep[Montant])","v":0}]
[null,null,null,null,null,null,null,null,null,null,null,null,null,null,null,null,null,{"$f":"VLOOKUP(recettessep[[#This Row],[Catégorie]],'coulisses 2'!$A$1:$B$20,2,0)","v":0},null,{"$f":"coulisses!J38","v":0},{"$f":"SUMIF(depensessep[Catégorie],T21,depensessep[Montant])","v":0},null,{"$f":"coulisses!J18","v":0},{"$f":"SUMIF(recettessep[Catégorie],W21,recettessep[Montant])","v":0}]
[null,null,null,null,null,null,null,null,null,null,null,null,null,null,null,null,null,{"$f":"VLOOKUP(recettessep[[#This Row],[Catégorie]],'coulisses 2'!$A$1:$B$20,2,0)","v":0},null,{"$f":"coulisses!J39","v":0},{"$f":"SUMIF(depensessep[Catégorie],T22,depensessep[Montant])","v":0},null,{"$f":"coulisses!J19","v":0},{"$f":"SUMIF(recettessep[Catégorie],W22,recettessep[Montant])","v":0}]
[null,null,null,null,null,null,null,null,null,null,null,null,null,null,null,null,null,{"$f":"VLOOKUP(recettessep[[#This Row],[Catégorie]],'coulisses 2'!$A$1:$B$20,2,0)","v":0},null,{"$f":"coulisses!J40","v":0},{"$f":"SUMIF(depensessep[Catégorie],T23,depensessep[Montant])","v":0},null,{"$f":"coulisses!J20","v":0},{"$f":"SUMIF(recettessep[Catégorie],W23,recettessep[Montant])","v":0}]
[null,null,null,null,null,null,null,null,null,null,null,null,null,null,null,null,null,{"$f":"VLOOKUP(recettessep[[#This Row],[Catégorie]],'coulisses 2'!$A$1:$B$20,2,0)","v":0},null,{"$f":"coulisses!J41","v":0},{"$f":"SUMIF(depensessep[Catégorie],T24,depensessep[Montant])","v":0},null,{"$f":"coulisses!J21","v":0},{"$f":"SUMIF(recettessep[Catégorie],W24,recettessep[Montant])","v":0}]
[null,null,null,null,null,null,null,null,null,null,null,null,null,null,null,null,null,{"$f":"VLOOKUP(recettessep[[#This Row],[Catégorie]],'coulisses 2'!$A$1:$B$20,2,0)","v":0},null,{"$f":"coulisses!J42","v":"Cotisations sociales"},{"$f":"SUMIF(depensessep[Catégorie],T25,depensessep[Montant])","v":0},null,{"$f":"coulisses!J22","v":0},{"$f":"SUMIF(recettessep[Catégorie],W25,recettessep[Montant])","v":0}]
[null,null,null,null,null,null,null,null,null,null,null,null,null,null,null,null,null,{"$f":"VLOOKUP(recettessep[[#This Row],[Catégorie]],'coulisses 2'!$A$1:$B$20,2,0)","v":0}]
[null,null,null,null,null,null,null,null,null,null,null,null,null,null,null,null,null,{"$f":"VLOOKUP(recettessep[[#This Row],[Catégorie]],'coulisses 2'!$A$1:$B$20,2,0)","v":0}]
[null,null,null,null,null,null,null,null,null,null,null,null,null,null,null,null,null,{"$f":"VLOOKUP(recettessep[[#This Row],[Catégorie]],'coulisses 2'!$A$1:$B$20,2,0)","v":0},null,"Estimation des charges dues sur le CA du mois",null,"CA","Taux","A payer"]
[null,null,null,null,null,null,null,null,null,null,null,null,null,null,null,null,null,{"$f":"VLOOKUP(recettessep[[#This Row],[Catégorie]],'coulisses 2'!$A$1:$B$20,2,0)","v":0},null,{"$f":"'👩🏻‍🏫 Bienvenue !'!G20","v":"Taux 1"},null,{"$f":"SUMIF(R:R,W29,H:H)","v":0},{"$f":"'👩🏻‍🏫 Bienvenue !'!I20","v":0},{"$f":"W29*V29","v":0}]
[null,null,null,null,null,null,null,null,null,null,null,null,null,null,null,null,null,{"$f":"VLOOKUP(recettessep[[#This Row],[Catégorie]],'coulisses 2'!$A$1:$B$20,2,0)","v":0},null,{"$f":"'👩🏻‍🏫 Bienvenue !'!G21","v":"Taux 2"},null,{"$f":"SUMIF(R:R,W30,H:H)","v":0},{"$f":"'👩🏻‍🏫 Bienvenue !'!I21","v":0},{"$f":"W30*V30","v":0}]
[null,null,null,null,null,null,null,null,null,null,null,null,null,null,null,null,null,{"$f":"VLOOKUP(recettessep[[#This Row],[Catégorie]],'coulisses 2'!$A$1:$B$20,2,0)","v":0},null,{"$f":"'👩🏻‍🏫 Bienvenue !'!G22","v":"Taux 3"},null,0,{"$f":"'👩🏻‍🏫 Bienvenue !'!I22","v":0},{"$f":"W31*V31","v":0}]
[null,null,null,null,null,null,null,null,null,null,null,null,null,null,null,null,null,{"$f":"VLOOKUP(recettessep[[#This Row],[Catégorie]],'coulisses 2'!$A$1:$B$20,2,0)","v":0},null,"TOTAL",null,null,null,{"$f":"SUM(X29:X31)","v":0}]
[null,null,null,null,null,null,null,null,null,null,null,null,null,null,null,null,null,{"$f":"VLOOKUP(recettessep[[#This Row],[Catégorie]],'coulisses 2'!$A$1:$B$20,2,0)","v":0}]
[null,null,null,null,null,null,null,null,null,null,null,null,null,null,null,null,null,{"$f":"VLOOKUP(recettessep[[#This Row],[Catégorie]],'coulisses 2'!$A$1:$B$20,2,0)","v":0},null,"Rapprochement bancaire"]
[null,null,null,null,null,null,null,null,null,null,null,null,null,null,null,null,null,{"$f":"VLOOKUP(recettessep[[#This Row],[Catégorie]],'coulisses 2'!$A$1:$B$20,2,0)","v":0},null,"Solde du mois précédent",{"$f":"'🏖 08'!U46","v":0}]
[null,null,null,null,null,null,null,null,null,null,null,null,null,null,null,null,null,{"$f":"VLOOKUP(recettessep[[#This Row],[Catégorie]],'coulisses 2'!$A$1:$B$20,2,0)","v":0},null,"Profit du mois",{"$f":"P1","v":0}]
[null,null,null,null,null,null,null,null,null,null,null,null,null,null,null,null,null,{"$f":"VLOOKUP(recettessep[[#This Row],[Catégorie]],'coulisses 2'!$A$1:$B$20,2,0)","v":0},null,"Ecritures à rapprocher :"]
[null,null,null,null,null,null,null,null,null,null,null,null,null,null,null,null,null,{"$f":"VLOOKUP(recettessep[[#This Row],[Catégorie]],'coulisses 2'!$A$1:$B$20,2,0)","v":0}]
[null,null,null,null,null,null,null,null,null,null,null,null,null,null,null,null,null,{"$f":"VLOOKUP(recettessep[[#This Row],[Catégorie]],'coulisses 2'!$A$1:$B$20,2,0)","v":0}]
[null,null,null,null,null,null,null,null,null,null,null,null,null,null,null,null,null,{"$f":"VLOOKUP(recettessep[[#This Row],[Catégorie]],'coulisses 2'!$A$1:$B$20,2,0)","v":0}]
[null,null,null,null,null,null,null,null,null,null,null,null,null,null,null,null,null,{"$f":"VLOOKUP(recettessep[[#This Row],[Catégorie]],'coulisses 2'!$A$1:$B$20,2,0)","v":0}]
[null,null,null,null,null,null,null,null,null,null,null,null,null,null,null,null,null,{"$f":"VLOOKUP(recettessep[[#This Row],[Catégorie]],'coulisses 2'!$A$1:$B$20,2,0)","v":0}]
[null,null,null,null,null,null,null,null,null,null,null,null,null,null,null,null,null,{"$f":"VLOOKUP(recettessep[[#This Row],[Catégorie]],'coulisses 2'!$A$1:$B$20,2,0)","v":0}]
[null,null,null,null,null,null,null,null,null,null,null,null,null,null,null,null,null,{"$f":"VLOOKUP(recettessep[[#This Row],[Catégorie]],'coulisses 2'!$A$1:$B$20,2,0)","v":0}]
[null,null,null,null,null,null,null,null,null,null,null,null,null,null,null,null,null,{"$f":"VLOOKUP(recettessep[[#This Row],[Catégorie]],'coulisses 2'!$A$1:$B$20,2,0)","v":0}]
[null,null,null,null,null,null,null,null,null,null,null,null,null,null,null,null,null,{"$f":"VLOOKUP(recettessep[[#This Row],[Catégorie]],'coulisses 2'!$A$1:$B$20,2,0)","v":0},null,"Solde final du mois",{"$f":"U35+U36+SUM(U38:U45)","v":0}]
[null,null,null,null,null,null,null,null,null,null,null,null,null,null,null,null,null,{"$f":"VLOOKUP(recettessep[[#This Row],[Catégorie]],'coulisses 2'!$A$1:$B$20,2,0)","v":0},null,"Solde du relevé bancaire"]
[null,null,null,null,null,null,null,null,null,null,null,null,null,null,null,null,null,{"$f":"VLOOKUP(recettessep[[#This Row],[Catégorie]],'coulisses 2'!$A$1:$B$20,2,0)","v":0},null,"Contrôle (doit être à 0)",{"$f":"U46-U47","v":0}]
[null,null,null,null,null,null,null,null,null,null,null,null,null,null,null,null,null,{"$f":"VLOOKUP(recettessep[[#This Row],[Catégorie]],'coulisses 2'!$A$1:$B$20,2,0)","v":0}]
[null,null,null,null,null,null,null,null,null,null,null,null,null,null,null,null,null,{"$f":"VLOOKUP(recettessep[[#This Row],[Catégorie]],'coulisses 2'!$A$1:$B$20,2,0)","v":0},null,"Résultat par axe","CA","Dépenses","Résultat"]
[null,null,null,null,null,null,null,null,null,null,null,null,null,null,null,null,null,{"$f":"VLOOKUP(recettessep[[#This Row],[Catégorie]],'coulisses 2'!$A$1:$B$20,2,0)","v":0},null,{"$f":"'👩🏻‍🏫 Bienvenue !'!I73","v":0},{"$f":"SUMIF(recettessep[Axe],T51,recettessep[Montant])","v":0},{"$f":"SUMIF(depensessep[Axe],T51,depensessep[Montant])","v":0},{"$f":"U51-V51","v":0}]
[null,null,null,null,null,null,null,null,null,null,null,null,null,null,null,null,null,{"$f":"VLOOKUP(recettessep[[#This Row],[Catégorie]],'coulisses 2'!$A$1:$B$20,2,0)","v":0},null,{"$f":"'👩🏻‍🏫 Bienvenue !'!I74","v":0},{"$f":"SUMIF(recettessep[Axe],T52,recettessep[Montant])","v":0},{"$f":"SUMIF(depensessep[Axe],T52,depensessep[Montant])","v":0},{"$f":"U52-V52","v":0}]
[null,null,null,null,null,null,null,null,null,null,null,null,null,null,null,null,null,{"$f":"VLOOKUP(recettessep[[#This Row],[Catégorie]],'coulisses 2'!$A$1:$B$20,2,0)","v":0},null,{"$f":"'👩🏻‍🏫 Bienvenue !'!I75","v":0},{"$f":"SUMIF(recettessep[Axe],T53,recettessep[Montant])","v":0},{"$f":"SUMIF(depensessep[Axe],T53,depensessep[Montant])","v":0},0]
[null,null,null,null,null,null,null,null,null,null,null,null,null,null,null,null,null,{"$f":"VLOOKUP(recettessep[[#This Row],[Catégorie]],'coulisses 2'!$A$1:$B$20,2,0)","v":0},null,{"$f":"'👩🏻‍🏫 Bienvenue !'!I76","v":0},{"$f":"SUMIF(recettessep[Axe],T54,recettessep[Montant])","v":0},{"$f":"SUMIF(depensessep[Axe],T54,depensessep[Montant])","v":0},0]
[null,null,null,null,null,null,null,null,null,null,null,null,null,null,null,null,null,{"$f":"VLOOKUP(recettessep[[#This Row],[Catégorie]],'coulisses 2'!$A$1:$B$20,2,0)","v":0},null,{"$f":"'👩🏻‍🏫 Bienvenue !'!I77","v":0},{"$f":"SUMIF(recettessep[Axe],T55,recettessep[Montant])","v":0},{"$f":"SUMIF(depensessep[Axe],T55,depensessep[Montant])","v":0},0]
[null,null,null,null,null,null,null,null,null,null,null,null,null,null,null,null,null,{"$f":"VLOOKUP(recettessep[[#This Row],[Catégorie]],'coulisses 2'!$A$1:$B$20,2,0)","v":0},null,{"$f":"'👩🏻‍🏫 Bienvenue !'!I78","v":0},{"$f":"SUMIF(recettessep[Axe],T56,recettessep[Montant])","v":0},{"$f":"SUMIF(depensessep[Axe],T56,depensessep[Montant])","v":0},0]
[null,null,null,null,null,null,null,null,null,null,null,null,null,null,null,null,null,{"$f":"VLOOKUP(recettessep[[#This Row],[Catégorie]],'coulisses 2'!$A$1:$B$20,2,0)","v":0},null,{"$f":"'👩🏻‍🏫 Bienvenue !'!I79","v":0},{"$f":"SUMIF(recettessep[Axe],T57,recettessep[Montant])","v":0},{"$f":"SUMIF(depensessep[Axe],T57,depensessep[Montant])","v":0},0]
[null,null,null,null,null,null,null,null,null,null,null,null,null,null,null,null,null,{"$f":"VLOOKUP(recettessep[[#This Row],[Catégorie]],'coulisses 2'!$A$1:$B$20,2,0)","v":0},null,{"$f":"'👩🏻‍🏫 Bienvenue !'!I80","v":0},{"$f":"SUMIF(recettessep[Axe],T58,recettessep[Montant])","v":0},{"$f":"SUMIF(depensessep[Axe],T58,depensessep[Montant])","v":0},0]
[null,null,null,null,null,null,null,null,null,null,null,null,null,null,null,null,null,{"$f":"VLOOKUP(recettessep[[#This Row],[Catégorie]],'coulisses 2'!$A$1:$B$20,2,0)","v":0},null,{"$f":"'👩🏻‍🏫 Bienvenue !'!I81","v":0},{"$f":"SUMIF(recettessep[Axe],T59,recettessep[Montant])","v":0},{"$f":"SUMIF(depensessep[Axe],T59,depensessep[Montant])","v":0},0]
[null,null,null,null,null,null,null,null,null,null,null,null,null,null,null,null,null,{"$f":"VLOOKUP(recettessep[[#This Row],[Catégorie]],'coulisses 2'!$A$1:$B$20,2,0)","v":0},null,{"$f":"'👩🏻‍🏫 Bienvenue !'!I82","v":0},{"$f":"SUMIF(recettessep[Axe],T60,recettessep[Montant])","v":0},{"$f":"SUMIF(depensessep[Axe],T60,depensessep[Montant])","v":0},0]
[null,null,null,null,null,null,null,null,null,null,null,null,null,null,null,null,null,{"$f":"VLOOKUP(recettessep[[#This Row],[Catégorie]],'coulisses 2'!$A$1:$B$20,2,0)","v":0}]
[null,null,null,null,null,null,null,null,null,null,null,null,null,null,null,null,null,{"$f":"VLOOKUP(recettessep[[#This Row],[Catégorie]],'coulisses 2'!$A$1:$B$20,2,0)","v":0}]
[null,null,null,null,null,null,null,null,null,null,null,null,null,null,null,null,null,{"$f":"VLOOKUP(recettessep[[#This Row],[Catégorie]],'coulisses 2'!$A$1:$B$20,2,0)","v":0}]
[null,null,null,null,null,null,null,null,null,null,null,null,null,null,null,null,null,{"$f":"VLOOKUP(recettessep[[#This Row],[Catégorie]],'coulisses 2'!$A$1:$B$20,2,0)","v":0}]
[null,null,null,null,null,null,null,null,null,null,null,null,null,null,null,null,null,{"$f":"VLOOKUP(recettessep[[#This Row],[Catégorie]],'coulisses 2'!$A$1:$B$20,2,0)","v":0}]
[null,null,null,null,null,null,null,null,null,null,null,null,null,null,null,null,null,{"$f":"VLOOKUP(recettessep[[#This Row],[Catégorie]],'coulisses 2'!$A$1:$B$20,2,0)","v":0}]
[null,null,null,null,null,null,null,null,null,null,null,null,null,null,null,null,null,{"$f":"VLOOKUP(recettessep[[#This Row],[Catégorie]],'coulisses 2'!$A$1:$B$20,2,0)","v":0}]
[null,null,null,null,null,null,null,null,null,null,null,null,null,null,null,null,null,{"$f":"VLOOKUP(recettessep[[#This Row],[Catégorie]],'coulisses 2'!$A$1:$B$20,2,0)","v":0}]
[null,null,null,null,null,null,null,null,null,null,null,null,null,null,null,null,null,{"$f":"VLOOKUP(recettessep[[#This Row],[Catégorie]],'coulisses 2'!$A$1:$B$20,2,0)","v":0}]
[null,null,null,null,null,null,null,null,null,null,null,null,null,null,null,null,null,{"$f":"VLOOKUP(recettessep[[#This Row],[Catégorie]],'coulisses 2'!$A$1:$B$20,2,0)","v":0}]
[null,null,null,null,null,null,null,null,null,null,null,null,null,null,null,null,null,{"$f":"VLOOKUP(recettessep[[#This Row],[Catégorie]],'coulisses 2'!$A$1:$B$20,2,0)","v":0}]
[null,null,null,null,null,null,null,null,null,null,null,null,null,null,null,null,null,{"$f":"VLOOKUP(recettessep[[#This Row],[Catégorie]],'coulisses 2'!$A$1:$B$20,2,0)","v":0}]
[null,null,null,null,null,null,null,null,null,null,null,null,null,null,null,null,null,{"$f":"VLOOKUP(recettessep[[#This Row],[Catégorie]],'coulisses 2'!$A$1:$B$20,2,0)","v":0}]
[null,null,null,null,null,null,null,null,null,null,null,null,null,null,null,null,null,{"$f":"VLOOKUP(recettessep[[#This Row],[Catégorie]],'coulisses 2'!$A$1:$B$20,2,0)","v":0}]
[null,null,null,null,null,null,null,null,null,null,null,null,null,null,null,null,null,{"$f":"VLOOKUP(recettessep[[#This Row],[Catégorie]],'coulisses 2'!$A$1:$B$20,2,0)","v":0}]
[null,null,null,null,null,null,null,null,null,null,null,null,null,null,null,null,null,{"$f":"VLOOKUP(recettessep[[#This Row],[Catégorie]],'coulisses 2'!$A$1:$B$20,2,0)","v":0}]
[null,null,null,null,null,null,null,null,null,null,null,null,null,null,null,null,null,{"$f":"VLOOKUP(recettessep[[#This Row],[Catégorie]],'coulisses 2'!$A$1:$B$20,2,0)","v":0}]
[null,null,null,null,null,null,null,null,null,null,null,null,null,null,null,null,null,{"$f":"VLOOKUP(recettessep[[#This Row],[Catégorie]],'coulisses 2'!$A$1:$B$20,2,0)","v":0}]
[null,null,null,null,null,null,null,null,null,null,null,null,null,null,null,null,null,{"$f":"VLOOKUP(recettessep[[#This Row],[Catégorie]],'coulisses 2'!$A$1:$B$20,2,0)","v":0}]
[null,null,null,null,null,null,null,null,null,null,null,null,null,null,null,null,null,{"$f":"VLOOKUP(recettessep[[#This Row],[Catégorie]],'coulisses 2'!$A$1:$B$20,2,0)","v":0}]
[null,null,null,null,null,null,null,null,null,null,null,null,null,null,null,null,null,{"$f":"VLOOKUP(recettessep[[#This Row],[Catégorie]],'coulisses 2'!$A$1:$B$20,2,0)","v":0}]
[null,null,null,null,null,null,null,null,null,null,null,null,null,null,null,null,null,{"$f":"VLOOKUP(recettessep[[#This Row],[Catégorie]],'coulisses 2'!$A$1:$B$20,2,0)","v":0}]
[null,null,null,null,null,null,null,null,null,null,null,null,null,null,null,null,null,{"$f":"VLOOKUP(recettessep[[#This Row],[Catégorie]],'coulisses 2'!$A$1:$B$20,2,0)","v":0}]
[null,null,null,null,null,null,null,null,null,null,null,null,null,null,null,null,null,{"$f":"VLOOKUP(recettessep[[#This Row],[Catégorie]],'coulisses 2'!$A$1:$B$20,2,0)","v":0}]
[null,null,null,null,null,null,null,null,null,null,null,null,null,null,null,null,null,{"$f":"VLOOKUP(recettessep[[#This Row],[Catégorie]],'coulisses 2'!$A$1:$B$20,2,0)","v":0}]
[null,null,null,null,null,null,null,null,null,null,null,null,null,null,null,null,null,{"$f":"VLOOKUP(recettessep[[#This Row],[Catégorie]],'coulisses 2'!$A$1:$B$20,2,0)","v":0}]
[null,null,null,null,null,null,null,null,null,null,null,null,null,null,null,null,null,{"$f":"VLOOKUP(recettessep[[#This Row],[Catégorie]],'coulisses 2'!$A$1:$B$20,2,0)","v":0}]
[null,null,null,null,null,null,null,null,null,null,null,null,null,null,null,null,null,{"$f":"VLOOKUP(recettessep[[#This Row],[Catégorie]],'coulisses 2'!$A$1:$B$20,2,0)","v":0}]
[null,null,null,null,null,null,null,null,null,null,null,null,null,null,null,null,null,{"$f":"VLOOKUP(recettessep[[#This Row],[Catégorie]],'coulisses 2'!$A$1:$B$20,2,0)","v":0}]
[null,null,null,null,null,null,null,null,null,null,null,null,null,null,null,null,null,{"$f":"VLOOKUP(recettessep[[#This Row],[Catégorie]],'coulisses 2'!$A$1:$B$20,2,0)","v":0}]
[null,null,null,null,null,null,null,null,null,null,null,null,null,null,null,null,null,{"$f":"VLOOKUP(recettessep[[#This Row],[Catégorie]],'coulisses 2'!$A$1:$B$20,2,0)","v":0}]
[null,null,null,null,null,null,null,null,null,null,null,null,null,null,null,null,null,{"$f":"VLOOKUP(recettessep[[#This Row],[Catégorie]],'coulisses 2'!$A$1:$B$20,2,0)","v":0}]
[null,null,null,null,null,null,null,null,null,null,null,null,null,null,null,null,null,{"$f":"VLOOKUP(recettessep[[#This Row],[Catégorie]],'coulisses 2'!$A$1:$B$20,2,0)","v":0}]
[null,null,null,null,null,null,null,null,null,null,null,null,null,null,null,null,null,{"$f":"VLOOKUP(recettessep[[#This Row],[Catégorie]],'coulisses 2'!$A$1:$B$20,2,0)","v":0}]
[null,null,null,null,null,null,null,null,null,null,null,null,null,null,null,null,null,{"$f":"VLOOKUP(recettessep[[#This Row],[Catégorie]],'coulisses 2'!$A$1:$B$20,2,0)","v":0}]
[null,null,null,null,null,null,null,null,null,null,null,null,null,null,null,null,null,{"$f":"VLOOKUP(recettessep[[#This Row],[Catégorie]],'coulisses 2'!$A$1:$B$20,2,0)","v":0}]
[null,null,null,null,null,null,null,null,null,null,null,null,null,null,null,null,null,{"$f":"VLOOKUP(recettessep[[#This Row],[Catégorie]],'coulisses 2'!$A$1:$B$20,2,0)","v":0}]
[null,null,null,null,null,null,null,null,null,null,null,null,null,null,null,null,null,{"$f":"VLOOKUP(recettessep[[#This Row],[Catégorie]],'coulisses 2'!$A$1:$B$20,2,0)","v":0}]
[null,null,null,null,null,null,null,null,null,null,null,null,null,null,null,null,null,{"$f":"VLOOKUP(recettessep[[#This Row],[Catégorie]],'coulisses 2'!$A$1:$B$20,2,0)","v":0}]
[null,null,null,null,null,null,null,null,null,null,null,null,null,null,null,null,null,{"$f":"VLOOKUP(recettessep[[#This Row],[Catégorie]],'coulisses 2'!$A$1:$B$20,2,0)","v":0}]
[null,null,null,null,null,null,null,null,null,null,null,null,null,null,null,null,null,{"$f":"VLOOKUP(recettessep[[#This Row],[Catégorie]],'coulisses 2'!$A$1:$B$20,2,0)","v":0}]
[null,null,null,null,null,null,null,null,null,null,null,null,null,null,null,null,null,{"$f":"VLOOKUP(recettessep[[#This Row],[Catégorie]],'coulisses 2'!$A$1:$B$20,2,0)","v":0}]
[null,null,null,null,null,null,null,null,null,null,null,null,null,null,null,null,null,{"$f":"VLOOKUP(recettessep[[#This Row],[Catégorie]],'coulisses 2'!$A$1:$B$20,2,0)","v":0}]
[null,null,null,null,null,null,null,null,null,null,null,null,null,null,null,null,null,{"$f":"VLOOKUP(recettessep[[#This Row],[Catégorie]],'coulisses 2'!$A$1:$B$20,2,0)","v":0}]
[null,null,null,null,null,null,null,null,null,null,null,null,null,null,null,null,null,{"$f":"VLOOKUP(recettessep[[#This Row],[Catégorie]],'coulisses 2'!$A$1:$B$20,2,0)","v":0}]
[null,null,null,null,null,null,null,null,null,null,null,null,null,null,null,null,null,{"$f":"VLOOKUP(recettessep[[#This Row],[Catégorie]],'coulisses 2'!$A$1:$B$20,2,0)","v":0}]
[null,null,null,null,null,null,null,null,null,null,null,null,null,null,null,null,null,{"$f":"VLOOKUP(recettessep[[#This Row],[Catégorie]],'coulisses 2'!$A$1:$B$20,2,0)","v":0}]
[null,null,null,null,null,null,null,null,null,null,null,null,null,null,null,null,null,{"$f":"VLOOKUP(recettessep[[#This Row],[Catégorie]],'coulisses 2'!$A$1:$B$20,2,0)","v":0}]
[null,null,null,null,null,null,null,null,null,null,null,null,null,null,null,null,null,{"$f":"VLOOKUP(recettessep[[#This Row],[Catégorie]],'coulisses 2'!$A$1:$B$20,2,0)","v":0}]
[null,null,null,null,null,null,null,null,null,null,null,null,null,null,null,null,null,{"$f":"VLOOKUP(recettessep[[#This Row],[Catégorie]],'coulisses 2'!$A$1:$B$20,2,0)","v":0}]
[null,null,null,null,null,null,null,null,null,null,null,null,null,null,null,null,null,{"$f":"VLOOKUP(recettessep[[#This Row],[Catégorie]],'coulisses 2'!$A$1:$B$20,2,0)","v":0}]
[null,null,null,null,null,null,null,null,null,null,null,null,null,null,null,null,null,{"$f":"VLOOKUP(recettessep[[#This Row],[Catégorie]],'coulisses 2'!$A$1:$B$20,2,0)","v":0}]
[null,null,null,null,null,null,null,null,null,null,null,null,null,null,null,null,null,{"$f":"VLOOKUP(recettessep[[#This Row],[Catégorie]],'coulisses 2'!$A$1:$B$20,2,0)","v":0}]
[null,null,null,null,null,null,null,null,null,null,null,null,null,null,null,null,null,{"$f":"VLOOKUP(recettessep[[#This Row],[Catégorie]],'coulisses 2'!$A$1:$B$20,2,0)","v":0}]
[null,null,null,null,null,null,null,null,null,null,null,null,null,null,null,null,null,{"$f":"VLOOKUP(recettessep[[#This Row],[Catégorie]],'coulisses 2'!$A$1:$B$20,2,0)","v":0}]
[null,null,null,null,null,null,null,null,null,null,null,null,null,null,null,null,null,{"$f":"VLOOKUP(recettessep[[#This Row],[Catégorie]],'coulisses 2'!$A$1:$B$20,2,0)","v":0}]
[null,null,null,null,null,null,null,null,null,null,null,null,null,null,null,null,null,{"$f":"VLOOKUP(recettessep[[#This Row],[Catégorie]],'coulisses 2'!$A$1:$B$20,2,0)","v":0}]
[null,null,null,null,null,null,null,null,null,null,null,null,null,null,null,null,null,{"$f":"VLOOKUP(recettessep[[#This Row],[Catégorie]],'coulisses 2'!$A$1:$B$20,2,0)","v":0}]
[null,null,null,null,null,null,null,null,null,null,null,null,null,null,null,null,null,{"$f":"VLOOKUP(recettessep[[#This Row],[Catégorie]],'coulisses 2'!$A$1:$B$20,2,0)","v":0}]
[null,null,null,null,null,null,null,null,null,null,null,null,null,null,null,null,null,{"$f":"VLOOKUP(recettessep[[#This Row],[Catégorie]],'coulisses 2'!$A$1:$B$20,2,0)","v":0}]
[null,null,null,null,null,null,null,null,null,null,null,null,null,null,null,null,null,{"$f":"VLOOKUP(recettessep[[#This Row],[Catégorie]],'coulisses 2'!$A$1:$B$20,2,0)","v":0}]
[null,null,null,null,null,null,null,null,null,null,null,null,null,null,null,null,null,{"$f":"VLOOKUP(recettessep[[#This Row],[Catégorie]],'coulisses 2'!$A$1:$B$20,2,0)","v":0}]
[null,null,null,null,null,null,null,null,null,null,null,null,null,null,null,null,null,{"$f":"VLOOKUP(recettessep[[#This Row],[Catégorie]],'coulisses 2'!$A$1:$B$20,2,0)","v":0}]
[null,null,null,null,null,null,null,null,null,null,null,null,null,null,null,null,null,{"$f":"VLOOKUP(recettessep[[#This Row],[Catégorie]],'coulisses 2'!$A$1:$B$20,2,0)","v":0}]
[null,null,null,null,null,null,null,null,null,null,null,null,null,null,null,null,null,{"$f":"VLOOKUP(recettessep[[#This Row],[Catégorie]],'coulisses 2'!$A$1:$B$20,2,0)","v":0}]
[null,null,null,null,null,null,null,null,null,null,null,null,null,null,null,null,null,{"$f":"VLOOKUP(recettessep[[#This Row],[Catégorie]],'coulisses 2'!$A$1:$B$20,2,0)","v":0}]
[null,null,null,null,null,null,null,null,null,null,null,null,null,null,null,null,null,{"$f":"VLOOKUP(recettessep[[#This Row],[Catégorie]],'coulisses 2'!$A$1:$B$20,2,0)","v":0}]
[null,null,null,null,null,null,null,null,null,null,null,null,null,null,null,null,null,{"$f":"VLOOKUP(recettessep[[#This Row],[Catégorie]],'coulisses 2'!$A$1:$B$20,2,0)","v":0}]
[null,null,null,null,null,null,null,null,null,null,null,null,null,null,null,null,null,{"$f":"VLOOKUP(recettessep[[#This Row],[Catégorie]],'coulisses 2'!$A$1:$B$20,2,0)","v":0}]
[null,null,null,null,null,null,null,null,null,null,null,null,null,null,null,null,null,{"$f":"VLOOKUP(recettessep[[#This Row],[Catégorie]],'coulisses 2'!$A$1:$B$20,2,0)","v":0}]
[null,null,null,null,null,null,null,null,null,null,null,null,null,null,null,null,null,{"$f":"VLOOKUP(recettessep[[#This Row],[Catégorie]],'coulisses 2'!$A$1:$B$20,2,0)","v":0}]
[null,null,null,null,null,null,null,null,null,null,null,null,null,null,null,null,null,{"$f":"VLOOKUP(recettessep[[#This Row],[Catégorie]],'coulisses 2'!$A$1:$B$20,2,0)","v":0}]
[null,null,null,null,null,null,null,null,null,null,null,null,null,null,null,null,null,{"$f":"VLOOKUP(recettessep[[#This Row],[Catégorie]],'coulisses 2'!$A$1:$B$20,2,0)","v":0}]
[null,null,null,null,null,null,null,null,null,null,null,null,null,null,null,null,null,{"$f":"VLOOKUP(recettessep[[#This Row],[Catégorie]],'coulisses 2'!$A$1:$B$20,2,0)","v":0}]
[null,null,null,null,null,null,null,null,null,null,null,null,null,null,null,null,null,{"$f":"VLOOKUP(recettessep[[#This Row],[Catégorie]],'coulisses 2'!$A$1:$B$20,2,0)","v":0}]
[null,null,null,null,null,null,null,null,null,null,null,null,null,null,null,null,null,{"$f":"VLOOKUP(recettessep[[#This Row],[Catégorie]],'coulisses 2'!$A$1:$B$20,2,0)","v":0}]
[null,null,null,null,null,null,null,null,null,null,null,null,null,null,null,null,null,{"$f":"VLOOKUP(recettessep[[#This Row],[Catégorie]],'coulisses 2'!$A$1:$B$20,2,0)","v":0}]
[null,null,null,null,null,null,null,null,null,null,null,null,null,null,null,null,null,{"$f":"VLOOKUP(recettessep[[#This Row],[Catégorie]],'coulisses 2'!$A$1:$B$20,2,0)","v":0}]
[null,null,null,null,null,null,null,null,null,null,null,null,null,null,null,null,null,{"$f":"VLOOKUP(recettessep[[#This Row],[Catégorie]],'coulisses 2'!$A$1:$B$20,2,0)","v":0}]
[null,null,null,null,null,null,null,null,null,null,null,null,null,null,null,null,null,{"$f":"VLOOKUP(recettessep[[#This Row],[Catégorie]],'coulisses 2'!$A$1:$B$20,2,0)","v":0}]
[null,null,null,null,null,null,null,null,null,null,null,null,null,null,null,null,null,{"$f":"VLOOKUP(recettessep[[#This Row],[Catégorie]],'coulisses 2'!$A$1:$B$20,2,0)","v":0}]
[null,null,null,null,null,null,null,null,null,null,null,null,null,null,null,null,null,{"$f":"VLOOKUP(recettessep[[#This Row],[Catégorie]],'coulisses 2'!$A$1:$B$20,2,0)","v":0}]
[null,null,null,null,null,null,null,null,null,null,null,null,null,null,null,null,null,{"$f":"VLOOKUP(recettessep[[#This Row],[Catégorie]],'coulisses 2'!$A$1:$B$20,2,0)","v":0}]
[null,null,null,null,null,null,null,null,null,null,null,null,null,null,null,null,null,{"$f":"VLOOKUP(recettessep[[#This Row],[Catégorie]],'coulisses 2'!$A$1:$B$20,2,0)","v":0}]
[null,null,null,null,null,null,null,null,null,null,null,null,null,null,null,null,null,{"$f":"VLOOKUP(recettessep[[#This Row],[Catégorie]],'coulisses 2'!$A$1:$B$20,2,0)","v":0}]
[null,null,null,null,null,null,null,null,null,null,null,null,null,null,null,null,null,{"$f":"VLOOKUP(recettessep[[#This Row],[Catégorie]],'coulisses 2'!$A$1:$B$20,2,0)","v":0}]
[null,null,null,null,null,null,null,null,null,null,null,null,null,null,null,null,null,{"$f":"VLOOKUP(recettessep[[#This Row],[Catégorie]],'coulisses 2'!$A$1:$B$20,2,0)","v":0}]
[null,null,null,null,null,null,null,null,null,null,null,null,null,null,null,null,null,{"$f":"VLOOKUP(recettessep[[#This Row],[Catégorie]],'coulisses 2'!$A$1:$B$20,2,0)","v":0}]
[null,null,null,null,null,null,null,null,null,null,null,null,null,null,null,null,null,{"$f":"VLOOKUP(recettessep[[#This Row],[Catégorie]],'coulisses 2'!$A$1:$B$20,2,0)","v":0}]
[null,null,null,null,null,null,null,null,null,null,null,null,null,null,null,null,null,{"$f":"VLOOKUP(recettessep[[#This Row],[Catégorie]],'coulisses 2'!$A$1:$B$20,2,0)","v":0}]
[null,null,null,null,null,null,null,null,null,null,null,null,null,null,null,null,null,{"$f":"VLOOKUP(recettessep[[#This Row],[Catégorie]],'coulisses 2'!$A$1:$B$20,2,0)","v":0}]
[null,null,null,null,null,null,null,null,null,null,null,null,null,null,null,null,null,{"$f":"VLOOKUP(recettessep[[#This Row],[Catégorie]],'coulisses 2'!$A$1:$B$20,2,0)","v":0}]
[null,null,null,null,null,null,null,null,null,null,null,null,null,null,null,null,null,{"$f":"VLOOKUP(recettessep[[#This Row],[Catégorie]],'coulisses 2'!$A$1:$B$20,2,0)","v":0}]
[null,null,null,null,null,null,null,null,null,null,null,null,null,null,null,null,null,{"$f":"VLOOKUP(recettessep[[#This Row],[Catégorie]],'coulisses 2'!$A$1:$B$20,2,0)","v":0}]
[null,null,null,null,null,null,null,null,null,null,null,null,null,null,null,null,null,{"$f":"VLOOKUP(recettessep[[#This Row],[Catégorie]],'coulisses 2'!$A$1:$B$20,2,0)","v":0}]
[null,null,null,null,null,null,null,null,null,null,null,null,null,null,null,null,null,{"$f":"VLOOKUP(recettessep[[#This Row],[Catégorie]],'coulisses 2'!$A$1:$B$20,2,0)","v":0}]
[null,null,null,null,null,null,null,null,null,null,null,null,null,null,null,null,null,{"$f":"VLOOKUP(recettessep[[#This Row],[Catégorie]],'coulisses 2'!$A$1:$B$20,2,0)","v":0}]
[null,null,null,null,null,null,null,null,null,null,null,null,null,null,null,null,null,{"$f":"VLOOKUP(recettessep[[#This Row],[Catégorie]],'coulisses 2'!$A$1:$B$20,2,0)","v":0}]
[null,null,null,null,null,null,null,null,null,null,null,null,null,null,null,null,null,{"$f":"VLOOKUP(recettessep[[#This Row],[Catégorie]],'coulisses 2'!$A$1:$B$20,2,0)","v":0}]
[null,null,null,null,null,null,null,null,null,null,null,null,null,null,null,null,null,{"$f":"VLOOKUP(recettessep[[#This Row],[Catégorie]],'coulisses 2'!$A$1:$B$20,2,0)","v":0}]
[null,null,null,null,null,null,null,null,null,null,null,null,null,null,null,null,null,{"$f":"VLOOKUP(recettessep[[#This Row],[Catégorie]],'coulisses 2'!$A$1:$B$20,2,0)","v":0}]
[null,null,null,null,null,null,null,null,null,null,null,null,null,null,null,null,null,{"$f":"VLOOKUP(recettessep[[#This Row],[Catégorie]],'coulisses 2'!$A$1:$B$20,2,0)","v":0}]
[null,null,null,null,null,null,null,null,null,null,null,null,null,null,null,null,null,{"$f":"VLOOKUP(recettessep[[#This Row],[Catégorie]],'coulisses 2'!$A$1:$B$20,2,0)","v":0}]
[null,null,null,null,null,null,null,null,null,null,null,null,null,null,null,null,null,{"$f":"VLOOKUP(recettessep[[#This Row],[Catégorie]],'coulisses 2'!$A$1:$B$20,2,0)","v":0}]
[null,null,null,null,null,null,null,null,null,null,null,null,null,null,null,null,null,{"$f":"VLOOKUP(recettessep[[#This Row],[Catégorie]],'coulisses 2'!$A$1:$B$20,2,0)","v":0}]
[null,null,null,null,null,null,null,null,null,null,null,null,null,null,null,null,null,{"$f":"VLOOKUP(recettessep[[#This Row],[Catégorie]],'coulisses 2'!$A$1:$B$20,2,0)","v":0}]
[null,null,null,null,null,null,null,null,null,null,null,null,null,null,null,null,null,{"$f":"VLOOKUP(recettessep[[#This Row],[Catégorie]],'coulisses 2'!$A$1:$B$20,2,0)","v":0}]
[null,null,null,null,null,null,null,null,null,null,null,null,null,null,null,null,null,{"$f":"VLOOKUP(recettessep[[#This Row],[Catégorie]],'coulisses 2'!$A$1:$B$20,2,0)","v":0}]
[null,null,null,null,null,null,null,null,null,null,null,null,null,null,null,null,null,{"$f":"VLOOKUP(recettessep[[#This Row],[Catégorie]],'coulisses 2'!$A$1:$B$20,2,0)","v":0}]
[null,null,null,null,null,null,null,null,null,null,null,null,null,null,null,null,null,{"$f":"VLOOKUP(recettessep[[#This Row],[Catégorie]],'coulisses 2'!$A$1:$B$20,2,0)","v":0}]
[null,null,null,null,null,null,null,null,null,null,null,null,null,null,null,null,null,{"$f":"VLOOKUP(recettessep[[#This Row],[Catégorie]],'coulisses 2'!$A$1:$B$20,2,0)","v":0}]
[null,null,null,null,null,null,null,null,null,null,null,null,null,null,null,null,null,{"$f":"VLOOKUP(recettessep[[#This Row],[Catégorie]],'coulisses 2'!$A$1:$B$20,2,0)","v":0}]
[null,null,null,null,null,null,null,null,null,null,null,null,null,null,null,null,null,{"$f":"VLOOKUP(recettessep[[#This Row],[Catégorie]],'coulisses 2'!$A$1:$B$20,2,0)","v":0}]
[null,null,null,null,null,null,null,null,null,null,null,null,null,null,null,null,null,{"$f":"VLOOKUP(recettessep[[#This Row],[Catégorie]],'coulisses 2'!$A$1:$B$20,2,0)","v":0}]
[null,null,null,null,null,null,null,null,null,null,null,null,null,null,null,null,null,{"$f":"VLOOKUP(recettessep[[#This Row],[Catégorie]],'coulisses 2'!$A$1:$B$20,2,0)","v":0}]
[null,null,null,null,null,null,null,null,null,null,null,null,null,null,null,null,null,{"$f":"VLOOKUP(recettessep[[#This Row],[Catégorie]],'coulisses 2'!$A$1:$B$20,2,0)","v":0}]
[null,null,null,null,null,null,null,null,null,null,null,null,null,null,null,null,null,{"$f":"VLOOKUP(recettessep[[#This Row],[Catégorie]],'coulisses 2'!$A$1:$B$20,2,0)","v":0}]
[null,null,null,null,null,null,null,null,null,null,null,null,null,null,null,null,null,{"$f":"VLOOKUP(recettessep[[#This Row],[Catégorie]],'coulisses 2'!$A$1:$B$20,2,0)","v":0}]
[null,null,null,null,null,null,null,null,null,null,null,null,null,null,null,null,null,{"$f":"VLOOKUP(recettessep[[#This Row],[Catégorie]],'coulisses 2'!$A$1:$B$20,2,0)","v":0}]
[null,null,null,null,null,null,null,null,null,null,null,null,null,null,null,null,null,{"$f":"VLOOKUP(recettessep[[#This Row],[Catégorie]],'coulisses 2'!$A$1:$B$20,2,0)","v":0}]
[null,null,null,null,null,null,null,null,null,null,null,null,null,null,null,null,null,{"$f":"VLOOKUP(recettessep[[#This Row],[Catégorie]],'coulisses 2'!$A$1:$B$20,2,0)","v":0}]
[null,null,null,null,null,null,null,null,null,null,null,null,null,null,null,null,null,{"$f":"VLOOKUP(recettessep[[#This Row],[Catégorie]],'coulisses 2'!$A$1:$B$20,2,0)","v":0}]
[null,null,null,null,null,null,null,null,null,null,null,null,null,null,null,null,null,{"$f":"VLOOKUP(recettessep[[#This Row],[Catégorie]],'coulisses 2'!$A$1:$B$20,2,0)","v":0}]
[null,null,null,null,null,null,null,null,null,null,null,null,null,null,null,null,null,{"$f":"VLOOKUP(recettessep[[#This Row],[Catégorie]],'coulisses 2'!$A$1:$B$20,2,0)","v":0}]
[null,null,null,null,null,null,null,null,null,null,null,null,null,null,null,null,null,{"$f":"VLOOKUP(recettessep[[#This Row],[Catégorie]],'coulisses 2'!$A$1:$B$20,2,0)","v":0}]
[null,null,null,null,null,null,null,null,null,null,null,null,null,null,null,null,null,{"$f":"VLOOKUP(recettessep[[#This Row],[Catégorie]],'coulisses 2'!$A$1:$B$20,2,0)","v":0}]
[null,null,null,null,null,null,null,null,null,null,null,null,null,null,null,null,null,{"$f":"VLOOKUP(recettessep[[#This Row],[Catégorie]],'coulisses 2'!$A$1:$B$20,2,0)","v":0}]
[null,null,null,null,null,null,null,null,null,null,null,null,null,null,null,null,null,{"$f":"VLOOKUP(recettessep[[#This Row],[Catégorie]],'coulisses 2'!$A$1:$B$20,2,0)","v":0}]
[null,null,null,null,null,null,null,null,null,null,null,null,null,null,null,null,null,{"$f":"VLOOKUP(recettessep[[#This Row],[Catégorie]],'coulisses 2'!$A$1:$B$20,2,0)","v":0}]
[null,null,null,null,null,null,null,null,null,null,null,null,null,null,null,null,null,{"$f":"VLOOKUP(recettessep[[#This Row],[Catégorie]],'coulisses 2'!$A$1:$B$20,2,0)","v":0}]
[null,null,null,null,null,null,null,null,null,null,null,null,null,null,null,null,null,{"$f":"VLOOKUP(recettessep[[#This Row],[Catégorie]],'coulisses 2'!$A$1:$B$20,2,0)","v":0}]
[null,null,null,null,null,null,null,null,null,null,null,null,null,null,null,null,null,{"$f":"VLOOKUP(recettessep[[#This Row],[Catégorie]],'coulisses 2'!$A$1:$B$20,2,0)","v":0}]
[null,null,null,null,null,null,null,null,null,null,null,null,null,null,null,null,null,{"$f":"VLOOKUP(recettessep[[#This Row],[Catégorie]],'coulisses 2'!$A$1:$B$20,2,0)","v":0}]
[null,null,null,null,null,null,null,null,null,null,null,null,null,null,null,null,null,{"$f":"VLOOKUP(recettessep[[#This Row],[Catégorie]],'coulisses 2'!$A$1:$B$20,2,0)","v":0}]
[null,null,null,null,null,null,null,null,null,null,null,null,null,null,null,null,null,{"$f":"VLOOKUP(recettessep[[#This Row],[Catégorie]],'coulisses 2'!$A$1:$B$20,2,0)","v":0}]
[null,null,null,null,null,null,null,null,null,null,null,null,null,null,null,null,null,{"$f":"VLOOKUP(recettessep[[#This Row],[Catégorie]],'coulisses 2'!$A$1:$B$20,2,0)","v":0}]
[null,null,null,null,null,null,null,null,null,null,null,null,null,null,null,null,null,{"$f":"VLOOKUP(recettessep[[#This Row],[Catégorie]],'coulisses 2'!$A$1:$B$20,2,0)","v":0}]
[null,null,null,null,null,null,null,null,null,null,null,null,null,null,null,null,null,{"$f":"VLOOKUP(recettessep[[#This Row],[Catégorie]],'coulisses 2'!$A$1:$B$20,2,0)","v":0}]
[null,null,null,null,null,null,null,null,null,null,null,null,null,null,null,null,null,{"$f":"VLOOKUP(recettessep[[#This Row],[Catégorie]],'coulisses 2'!$A$1:$B$20,2,0)","v":0}]
[null,null,null,null,null,null,null,null,null,null,null,null,null,null,null,null,null,{"$f":"VLOOKUP(recettessep[[#This Row],[Catégorie]],'coulisses 2'!$A$1:$B$20,2,0)","v":0}]
[null,null,null,null,null,null,null,null,null,null,null,null,null,null,null,null,null,{"$f":"VLOOKUP(recettessep[[#This Row],[Catégorie]],'coulisses 2'!$A$1:$B$20,2,0)","v":0}]
[null,null,null,null,null,null,null,null,null,null,null,null,null,null,null,null,null,{"$f":"VLOOKUP(recettessep[[#This Row],[Catégorie]],'coulisses 2'!$A$1:$B$20,2,0)","v":0}]
[null,null,null,null,null,null,null,null,null,null,null,null,null,null,null,null,null,{"$f":"VLOOKUP(recettessep[[#This Row],[Catégorie]],'coulisses 2'!$A$1:$B$20,2,0)","v":0}]
[null,null,null,null,null,null,null,null,null,null,null,null,null,null,null,null,null,{"$f":"VLOOKUP(recettessep[[#This Row],[Catégorie]],'coulisses 2'!$A$1:$B$20,2,0)","v":0}]
[null,null,null,null,null,null,null,null,null,null,null,null,null,null,null,null,null,{"$f":"VLOOKUP(recettessep[[#This Row],[Catégorie]],'coulisses 2'!$A$1:$B$20,2,0)","v":0}]
[null,null,null,null,null,null,null,null,null,null,null,null,null,null,null,null,null,{"$f":"VLOOKUP(recettessep[[#This Row],[Catégorie]],'coulisses 2'!$A$1:$B$20,2,0)","v":0}]
[null,null,null,null,null,null,null,null,null,null,null,null,null,null,null,null,null,{"$f":"VLOOKUP(recettessep[[#This Row],[Catégorie]],'coulisses 2'!$A$1:$B$20,2,0)","v":0}]
[null,null,null,null,null,null,null,null,null,null,null,null,null,null,null,null,null,{"$f":"VLOOKUP(recettessep[[#This Row],[Catégorie]],'coulisses 2'!$A$1:$B$20,2,0)","v":0}]
[null,null,null,null,null,null,null,null,null,null,null,null,null,null,null,null,null,{"$f":"VLOOKUP(recettessep[[#This Row],[Catégorie]],'coulisses 2'!$A$1:$B$20,2,0)","v":0}]
[null,null,null,null,null,null,null,null,null,null,null,null,null,null,null,null,null,{"$f":"VLOOKUP(recettessep[[#This Row],[Catégorie]],'coulisses 2'!$A$1:$B$20,2,0)","v":0}]
[null,null,null,null,null,null,null,null,null,null,null,null,null,null,null,null,null,{"$f":"VLOOKUP(recettessep[[#This Row],[Catégorie]],'coulisses 2'!$A$1:$B$20,2,0)","v":0}]
[null,null,null,null,null,null,null,null,null,null,null,null,null,null,null,null,null,{"$f":"VLOOKUP(recettessep[[#This Row],[Catégorie]],'coulisses 2'!$A$1:$B$20,2,0)","v":0}]
[null,null,null,null,null,null,null,null,null,null,null,null,null,null,null,null,null,{"$f":"VLOOKUP(recettessep[[#This Row],[Catégorie]],'coulisses 2'!$A$1:$B$20,2,0)","v":0}]
[null,null,null,null,null,null,null,null,null,null,null,null,null,null,null,null,null,{"$f":"VLOOKUP(recettessep[[#This Row],[Catégorie]],'coulisses 2'!$A$1:$B$20,2,0)","v":0}]
[null,null,null,null,null,null,null,null,null,null,null,null,null,null,null,null,null,{"$f":"VLOOKUP(recettessep[[#This Row],[Catégorie]],'coulisses 2'!$A$1:$B$20,2,0)","v":0}]
[null,null,null,null,null,null,null,null,null,null,null,null,null,null,null,null,null,{"$f":"VLOOKUP(recettessep[[#This Row],[Catégorie]],'coulisses 2'!$A$1:$B$20,2,0)","v":0}]
[null,null,null,null,null,null,null,null,null,null,null,null,null,null,null,null,null,{"$f":"VLOOKUP(recettessep[[#This Row],[Catégorie]],'coulisses 2'!$A$1:$B$20,2,0)","v":0}]
[null,null,null,null,null,null,null,null,null,null,null,null,null,null,null,null,null,{"$f":"VLOOKUP(recettessep[[#This Row],[Catégorie]],'coulisses 2'!$A$1:$B$20,2,0)","v":0}]
[null,null,null,null,null,null,null,null,null,null,null,null,null,null,null,null,null,{"$f":"VLOOKUP(recettessep[[#This Row],[Catégorie]],'coulisses 2'!$A$1:$B$20,2,0)","v":0}]
[null,null,null,null,null,null,null,null,null,null,null,null,null,null,null,null,null,{"$f":"VLOOKUP(recettessep[[#This Row],[Catégorie]],'coulisses 2'!$A$1:$B$20,2,0)","v":0}]
[null,null,null,null,null,null,null,null,null,null,null,null,null,null,null,null,null,{"$f":"VLOOKUP(recettessep[[#This Row],[Catégorie]],'coulisses 2'!$A$1:$B$20,2,0)","v":0}]
[null,null,null,null,null,null,null,null,null,null,null,null,null,null,null,null,null,{"$f":"VLOOKUP(recettessep[[#This Row],[Catégorie]],'coulisses 2'!$A$1:$B$20,2,0)","v":0}]
[null,null,null,null,null,null,null,null,null,null,null,null,null,null,null,null,null,{"$f":"VLOOKUP(recettessep[[#This Row],[Catégorie]],'coulisses 2'!$A$1:$B$20,2,0)","v":0}]
[null,null,null,null,null,null,null,null,null,null,null,null,null,null,null,null,null,{"$f":"VLOOKUP(recettessep[[#This Row],[Catégorie]],'coulisses 2'!$A$1:$B$20,2,0)","v":0}]
[null,null,null,null,null,null,null,null,null,null,null,null,null,null,null,null,null,{"$f":"VLOOKUP(recettessep[[#This Row],[Catégorie]],'coulisses 2'!$A$1:$B$20,2,0)","v":0}]
[null,null,null,null,null,null,null,null,null,null,null,null,null,null,null,null,null,{"$f":"VLOOKUP(recettessep[[#This Row],[Catégorie]],'coulisses 2'!$A$1:$B$20,2,0)","v":0}]
[null,null,null,null,null,null,null,null,null,null,null,null,null,null,null,null,null,{"$f":"VLOOKUP(recettessep[[#This Row],[Catégorie]],'coulisses 2'!$A$1:$B$20,2,0)","v":0}]
[null,null,null,null,null,null,null,null,null,null,null,null,null,null,null,null,null,{"$f":"VLOOKUP(recettessep[[#This Row],[Catégorie]],'coulisses 2'!$A$1:$B$20,2,0)","v":0}]
[null,null,null,null,null,null,null,null,null,null,null,null,null,null,null,null,null,{"$f":"VLOOKUP(recettessep[[#This Row],[Catégorie]],'coulisses 2'!$A$1:$B$20,2,0)","v":0}]
[null,null,null,null,null,null,null,null,null,null,null,null,null,null,null,null,null,{"$f":"VLOOKUP(recettessep[[#This Row],[Catégorie]],'coulisses 2'!$A$1:$B$20,2,0)","v":0}]
[null,null,null,null,null,null,null,null,null,null,null,null,null,null,null,null,null,{"$f":"VLOOKUP(recettessep[[#This Row],[Catégorie]],'coulisses 2'!$A$1:$B$20,2,0)","v":0}]
[null,null,null,null,null,null,null,null,null,null,null,null,null,null,null,null,null,{"$f":"VLOOKUP(recettessep[[#This Row],[Catégorie]],'coulisses 2'!$A$1:$B$20,2,0)","v":0}]
[null,null,null,null,null,null,null,null,null,null,null,null,null,null,null,null,null,{"$f":"VLOOKUP(recettessep[[#This Row],[Catégorie]],'coulisses 2'!$A$1:$B$20,2,0)","v":0}]
[null,null,null,null,null,null,null,null,null,null,null,null,null,null,null,null,null,{"$f":"VLOOKUP(recettessep[[#This Row],[Catégorie]],'coulisses 2'!$A$1:$B$20,2,0)","v":0}]
[null,null,null,null,null,null,null,null,null,null,null,null,null,null,null,null,null,{"$f":"VLOOKUP(recettessep[[#This Row],[Catégorie]],'coulisses 2'!$A$1:$B$20,2,0)","v":0}]
[null,null,null,null,null,null,null,null,null,null,null,null,null,null,null,null,null,{"$f":"VLOOKUP(recettessep[[#This Row],[Catégorie]],'coulisses 2'!$A$1:$B$20,2,0)","v":0}]
[null,null,null,null,null,null,null,null,null,null,null,null,null,null,null,null,null,{"$f":"VLOOKUP(recettessep[[#This Row],[Catégorie]],'coulisses 2'!$A$1:$B$20,2,0)","v":0}]
[null,null,null,null,null,null,null,null,null,null,null,null,null,null,null,null,null,{"$f":"VLOOKUP(recettessep[[#This Row],[Catégorie]],'coulisses 2'!$A$1:$B$20,2,0)","v":0}]
[null,null,null,null,null,null,null,null,null,null,null,null,null,null,null,null,null,{"$f":"VLOOKUP(recettessep[[#This Row],[Catégorie]],'coulisses 2'!$A$1:$B$20,2,0)","v":0}]
[null,null,null,null,null,null,null,null,null,null,null,null,null,null,null,null,null,{"$f":"VLOOKUP(recettessep[[#This Row],[Catégorie]],'coulisses 2'!$A$1:$B$20,2,0)","v":0}]
[null,null,null,null,null,null,null,null,null,null,null,null,null,null,null,null,null,{"$f":"VLOOKUP(recettessep[[#This Row],[Catégorie]],'coulisses 2'!$A$1:$B$20,2,0)","v":0}]
[null,null,null,null,null,null,null,null,null,null,null,null,null,null,null,null,null,{"$f":"VLOOKUP(recettessep[[#This Row],[Catégorie]],'coulisses 2'!$A$1:$B$20,2,0)","v":0}]
[null,null,null,null,null,null,null,null,null,null,null,null,null,null,null,null,null,{"$f":"VLOOKUP(recettessep[[#This Row],[Catégorie]],'coulisses 2'!$A$1:$B$20,2,0)","v":0}]
[null,null,null,null,null,null,null,null,null,null,null,null,null,null,null,null,null,{"$f":"VLOOKUP(recettessep[[#This Row],[Catégorie]],'coulisses 2'!$A$1:$B$20,2,0)","v":0}]
[null,null,null,null,null,null,null,null,null,null,null,null,null,null,null,null,null,{"$f":"VLOOKUP(recettessep[[#This Row],[Catégorie]],'coulisses 2'!$A$1:$B$20,2,0)","v":0}]
[null,null,null,null,null,null,null,null,null,null,null,null,null,null,null,null,null,{"$f":"VLOOKUP(recettessep[[#This Row],[Catégorie]],'coulisses 2'!$A$1:$B$20,2,0)","v":0}]
[null,null,null,null,null,null,null,null,null,null,null,null,null,null,null,null,null,{"$f":"VLOOKUP(recettessep[[#This Row],[Catégorie]],'coulisses 2'!$A$1:$B$20,2,0)","v":0}]
[null,null,null,null,null,null,null,null,null,null,null,null,null,null,null,null,null,{"$f":"VLOOKUP(recettessep[[#This Row],[Catégorie]],'coulisses 2'!$A$1:$B$20,2,0)","v":0}]
[null,null,null,null,null,null,null,null,null,null,null,null,null,null,null,null,null,{"$f":"VLOOKUP(recettessep[[#This Row],[Catégorie]],'coulisses 2'!$A$1:$B$20,2,0)","v":0}]
[null,null,null,null,null,null,null,null,null,null,null,null,null,null,null,null,null,{"$f":"VLOOKUP(recettessep[[#This Row],[Catégorie]],'coulisses 2'!$A$1:$B$20,2,0)","v":0}]
[null,null,null,null,null,null,null,null,null,null,null,null,null,null,null,null,null,{"$f":"VLOOKUP(recettessep[[#This Row],[Catégorie]],'coulisses 2'!$A$1:$B$20,2,0)","v":0}]
[null,null,null,null,null,null,null,null,null,null,null,null,null,null,null,null,null,{"$f":"VLOOKUP(recettessep[[#This Row],[Catégorie]],'coulisses 2'!$A$1:$B$20,2,0)","v":0}]
[null,null,null,null,null,null,null,null,null,null,null,null,null,null,null,null,null,{"$f":"VLOOKUP(recettessep[[#This Row],[Catégorie]],'coulisses 2'!$A$1:$B$20,2,0)","v":0}]
[null,null,null,null,null,null,null,null,null,null,null,null,null,null,null,null,null,{"$f":"VLOOKUP(recettessep[[#This Row],[Catégorie]],'coulisses 2'!$A$1:$B$20,2,0)","v":0}]
[null,null,null,null,null,null,null,null,null,null,null,null,null,null,null,null,null,{"$f":"VLOOKUP(recettessep[[#This Row],[Catégorie]],'coulisses 2'!$A$1:$B$20,2,0)","v":0}]
[null,null,null,null,null,null,null,null,null,null,null,null,null,null,null,null,null,{"$f":"VLOOKUP(recettessep[[#This Row],[Catégorie]],'coulisses 2'!$A$1:$B$20,2,0)","v":0}]
[null,null,null,null,null,null,null,null,null,null,null,null,null,null,null,null,null,{"$f":"VLOOKUP(recettessep[[#This Row],[Catégorie]],'coulisses 2'!$A$1:$B$20,2,0)","v":0}]
[null,null,null,null,null,null,null,null,null,null,null,null,null,null,null,null,null,{"$f":"VLOOKUP(recettessep[[#This Row],[Catégorie]],'coulisses 2'!$A$1:$B$20,2,0)","v":0}]
[null,null,null,null,null,null,null,null,null,null,null,null,null,null,null,null,null,{"$f":"VLOOKUP(recettessep[[#This Row],[Catégorie]],'coulisses 2'!$A$1:$B$20,2,0)","v":0}]
[null,null,null,null,null,null,null,null,null,null,null,null,null,null,null,null,null,{"$f":"VLOOKUP(recettessep[[#This Row],[Catégorie]],'coulisses 2'!$A$1:$B$20,2,0)","v":0}]
[null,null,null,null,null,null,null,null,null,null,null,null,null,null,null,null,null,{"$f":"VLOOKUP(recettessep[[#This Row],[Catégorie]],'coulisses 2'!$A$1:$B$20,2,0)","v":0}]
[null,null,null,null,null,null,null,null,null,null,null,null,null,null,null,null,null,{"$f":"VLOOKUP(recettessep[[#This Row],[Catégorie]],'coulisses 2'!$A$1:$B$20,2,0)","v":0}]
[null,null,null,null,null,null,null,null,null,null,null,null,null,null,null,null,null,{"$f":"VLOOKUP(recettessep[[#This Row],[Catégorie]],'coulisses 2'!$A$1:$B$20,2,0)","v":0}]
[null,null,null,null,null,null,null,null,null,null,null,null,null,null,null,null,null,{"$f":"VLOOKUP(recettessep[[#This Row],[Catégorie]],'coulisses 2'!$A$1:$B$20,2,0)","v":0}]
[null,null,null,null,null,null,null,null,null,null,null,null,null,null,null,null,null,{"$f":"VLOOKUP(recettessep[[#This Row],[Catégorie]],'coulisses 2'!$A$1:$B$20,2,0)","v":0}]
[null,null,null,null,null,null,null,null,null,null,null,null,null,null,null,null,null,{"$f":"VLOOKUP(recettessep[[#This Row],[Catégorie]],'coulisses 2'!$A$1:$B$20,2,0)","v":0}]
[null,null,null,null,null,null,null,null,null,null,null,null,null,null,null,null,null,{"$f":"VLOOKUP(recettessep[[#This Row],[Catégorie]],'coulisses 2'!$A$1:$B$20,2,0)","v":0}]
[null,null,null,null,null,null,null,null,null,null,null,null,null,null,null,null,null,{"$f":"VLOOKUP(recettessep[[#This Row],[Catégorie]],'coulisses 2'!$A$1:$B$20,2,0)","v":0}]
[null,null,null,null,null,null,null,null,null,null,null,null,null,null,null,null,null,{"$f":"VLOOKUP(recettessep[[#This Row],[Catégorie]],'coulisses 2'!$A$1:$B$20,2,0)","v":0}]
[null,null,null,null,null,null,null,null,null,null,null,null,null,null,null,null,null,{"$f":"VLOOKUP(recettessep[[#This Row],[Catégorie]],'coulisses 2'!$A$1:$B$20,2,0)","v":0}]
[null,null,null,null,null,null,null,null,null,null,null,null,null,null,null,null,null,{"$f":"VLOOKUP(recettessep[[#This Row],[Catégorie]],'coulisses 2'!$A$1:$B$20,2,0)","v":0}]
[null,null,null,null,null,null,null,null,null,null,null,null,null,null,null,null,null,{"$f":"VLOOKUP(recettessep[[#This Row],[Catégorie]],'coulisses 2'!$A$1:$B$20,2,0)","v":0}]
[null,null,null,null,null,null,null,null,null,null,null,null,null,null,null,null,null,{"$f":"VLOOKUP(recettessep[[#This Row],[Catégorie]],'coulisses 2'!$A$1:$B$20,2,0)","v":0}]
[null,null,null,null,null,null,null,null,null,null,null,null,null,null,null,null,null,{"$f":"VLOOKUP(recettessep[[#This Row],[Catégorie]],'coulisses 2'!$A$1:$B$20,2,0)","v":0}]
[null,null,null,null,null,null,null,null,null,null,null,null,null,null,null,null,null,{"$f":"VLOOKUP(recettessep[[#This Row],[Catégorie]],'coulisses 2'!$A$1:$B$20,2,0)","v":0}]
[null,null,null,null,null,null,null,null,null,null,null,null,null,null,null,null,null,{"$f":"VLOOKUP(recettessep[[#This Row],[Catégorie]],'coulisses 2'!$A$1:$B$20,2,0)","v":0}]
[null,null,null,null,null,null,null,null,null,null,null,null,null,null,null,null,null,{"$f":"VLOOKUP(recettessep[[#This Row],[Catégorie]],'coulisses 2'!$A$1:$B$20,2,0)","v":0}]
[null,null,null,null,null,null,null,null,null,null,null,null,null,null,null,null,null,{"$f":"VLOOKUP(recettessep[[#This Row],[Catégorie]],'coulisses 2'!$A$1:$B$20,2,0)","v":0}]
[null,null,null,null,null,null,null,null,null,null,null,null,null,null,null,null,null,{"$f":"VLOOKUP(recettessep[[#This Row],[Catégorie]],'coulisses 2'!$A$1:$B$20,2,0)","v":0}]
[null,null,null,null,null,null,null,null,null,null,null,null,null,null,null,null,null,{"$f":"VLOOKUP(recettessep[[#This Row],[Catégorie]],'coulisses 2'!$A$1:$B$20,2,0)","v":0}]
[null,null,null,null,null,null,null,null,null,null,null,null,null,null,null,null,null,{"$f":"VLOOKUP(recettessep[[#This Row],[Catégorie]],'coulisses 2'!$A$1:$B$20,2,0)","v":0}]
[null,null,null,null,null,null,null,null,null,null,null,null,null,null,null,null,null,{"$f":"VLOOKUP(recettessep[[#This Row],[Catégorie]],'coulisses 2'!$A$1:$B$20,2,0)","v":0}]
[null,null,null,null,null,null,null,null,null,null,null,null,null,null,null,null,null,{"$f":"VLOOKUP(recettessep[[#This Row],[Catégorie]],'coulisses 2'!$A$1:$B$20,2,0)","v":0}]
[null,null,null,null,null,null,null,null,null,null,null,null,null,null,null,null,null,{"$f":"VLOOKUP(recettessep[[#This Row],[Catégorie]],'coulisses 2'!$A$1:$B$20,2,0)","v":0}]
[null,null,null,null,null,null,null,null,null,null,null,null,null,null,null,null,null,{"$f":"VLOOKUP(recettessep[[#This Row],[Catégorie]],'coulisses 2'!$A$1:$B$20,2,0)","v":0}]
[null,null,null,null,null,null,null,null,null,null,null,null,null,null,null,null,null,{"$f":"VLOOKUP(recettessep[[#This Row],[Catégorie]],'coulisses 2'!$A$1:$B$20,2,0)","v":0}]
[null,null,null,null,null,null,null,null,null,null,null,null,null,null,null,null,null,{"$f":"VLOOKUP(recettessep[[#This Row],[Catégorie]],'coulisses 2'!$A$1:$B$20,2,0)","v":0}]
[null,null,null,null,null,null,null,null,null,null,null,null,null,null,null,null,null,{"$f":"VLOOKUP(recettessep[[#This Row],[Catégorie]],'coulisses 2'!$A$1:$B$20,2,0)","v":0}]
[null,null,null,null,null,null,null,null,null,null,null,null,null,null,null,null,null,{"$f":"VLOOKUP(recettessep[[#This Row],[Catégorie]],'coulisses 2'!$A$1:$B$20,2,0)","v":0}]
[null,null,null,null,null,null,null,null,null,null,null,null,null,null,null,null,null,{"$f":"VLOOKUP(recettessep[[#This Row],[Catégorie]],'coulisses 2'!$A$1:$B$20,2,0)","v":0}]
[null,null,null,null,null,null,null,null,null,null,null,null,null,null,null,null,null,{"$f":"VLOOKUP(recettessep[[#This Row],[Catégorie]],'coulisses 2'!$A$1:$B$20,2,0)","v":0}]
[null,null,null,null,null,null,null,null,null,null,null,null,null,null,null,null,null,{"$f":"VLOOKUP(recettessep[[#This Row],[Catégorie]],'coulisses 2'!$A$1:$B$20,2,0)","v":0}]
[null,null,null,null,null,null,null,null,null,null,null,null,null,null,null,null,null,{"$f":"VLOOKUP(recettessep[[#This Row],[Catégorie]],'coulisses 2'!$A$1:$B$20,2,0)","v":0}]
[null,null,null,null,null,null,null,null,null,null,null,null,null,null,null,null,null,{"$f":"VLOOKUP(recettessep[[#This Row],[Catégorie]],'coulisses 2'!$A$1:$B$20,2,0)","v":0}]
[null,null,null,null,null,null,null,null,null,null,null,null,null,null,null,null,null,{"$f":"VLOOKUP(recettessep[[#This Row],[Catégorie]],'coulisses 2'!$A$1:$B$20,2,0)","v":0}]
[null,null,null,null,null,null,null,null,null,null,null,null,null,null,null,null,null,{"$f":"VLOOKUP(recettessep[[#This Row],[Catégorie]],'coulisses 2'!$A$1:$B$20,2,0)","v":0}]
[null,null,null,null,null,null,null,null,null,null,null,null,null,null,null,null,null,{"$f":"VLOOKUP(recettessep[[#This Row],[Catégorie]],'coulisses 2'!$A$1:$B$20,2,0)","v":0}]
[null,null,null,null,null,null,null,null,null,null,null,null,null,null,null,null,null,{"$f":"VLOOKUP(recettessep[[#This Row],[Catégorie]],'coulisses 2'!$A$1:$B$20,2,0)","v":0}]
[null,null,null,null,null,null,null,null,null,null,null,null,null,null,null,null,null,{"$f":"VLOOKUP(recettessep[[#This Row],[Catégorie]],'coulisses 2'!$A$1:$B$20,2,0)","v":0}]
[null,null,null,null,null,null,null,null,null,null,null,null,null,null,null,null,null,{"$f":"VLOOKUP(recettessep[[#This Row],[Catégorie]],'coulisses 2'!$A$1:$B$20,2,0)","v":0}]
[null,null,null,null,null,null,null,null,null,null,null,null,null,null,null,null,null,{"$f":"VLOOKUP(recettessep[[#This Row],[Catégorie]],'coulisses 2'!$A$1:$B$20,2,0)","v":0}]
[null,null,null,null,null,null,null,null,null,null,null,null,null,null,null,null,null,{"$f":"VLOOKUP(recettessep[[#This Row],[Catégorie]],'coulisses 2'!$A$1:$B$20,2,0)","v":0}]
[null,null,null,null,null,null,null,null,null,null,null,null,null,null,null,null,null,{"$f":"VLOOKUP(recettessep[[#This Row],[Catégorie]],'coulisses 2'!$A$1:$B$20,2,0)","v":0}]
[null,null,null,null,null,null,null,null,null,null,null,null,null,null,null,null,null,{"$f":"VLOOKUP(recettessep[[#This Row],[Catégorie]],'coulisses 2'!$A$1:$B$20,2,0)","v":0}]

{"sheet":"🎃 10","index":10,"n_rows":304,"n_cols":24,"rows_kept":304,"cut":false,"hidden":false,"merged":[[1,1,1,4],[1,9,1,12]]}
[null,{"$f":"'👩🏻‍🏫 Bienvenue !'!K7","v":0},null,{"$f":" '👩🏻‍🏫 Bienvenue !'!I12&\" - \"&\"Octobre \"&'👩🏻‍🏫 Bienvenue !'!I16","v":" - Octobre "},null,null,null,null,null,null,null,null,null,null,"VOTRE PROFIT DU MOIS",{"$f":"H2-P2","v":0}]
[null,"Vos recettes 💰",null,null,null,null,"TOTAL",{"$f":"SUM(recettesoct[Montant])","v":0},null,"Vos dépenses 🧾",null,null,null,null,"TOTAL",{"$f":"SUM(depensesoct[Montant])","v":0}]
[]
[null,"Date","Mode de paiement","N°","Libellé et nom du client","Catégorie","Axe","Montant",null,"Date","Mode de paiement","N°","Libellé","Catégorie","Axe","Montant",null,"Taux"]
[null,null,null,null,null,null,null,null,null,null,null,"O1","Cotisations sociales Août - Taux 1","Cotisations sociales",null,{"$f":"'🏖 08'!X29","v":0},null,{"$f":"VLOOKUP(recettesoct[[#This Row],[Catégorie]],'coulisses 2'!$A$1:$B$20,2,0)","v":0},null,"Récapitulatif par type de dépense",{"$f":"SUM(U6:U26)","v":0},null,"Récapitulatif par type de recette",{"$f":"SUM(X6:X26)","v":0}]
[null,null,null,null,null,null,null,null,null,null,null,"O2","Cotisations sociales Août - Taux 2","Cotisations sociales",null,{"$f":"'🏖 08'!X30","v":0},null,{"$f":"VLOOKUP(recettesoct[[#This Row],[Catégorie]],'coulisses 2'!$A$1:$B$20,2,0)","v":0},null,{"$f":"coulisses!J23","v":0},{"$f":"SUMIF(depensesoct[Catégorie],T6,depensesoct[Montant])","v":0},null,{"$f":"coulisses!J3","v":0},{"$f":"SUMIF(recettesoct[Catégorie],W6,recettesoct[Montant])","v":0}]
[null,null,null,null,null,null,null,null,null,null,null,"O3","Cotisations sociales Août - Taux 3","Cotisations sociales",null,{"$f":"'🏖 08'!X31","v":0},null,{"$f":"VLOOKUP(recettesoct[[#This Row],[Catégorie]],'coulisses 2'!$A$1:$B$20,2,0)","v":0},null,{"$f":"coulisses!J24","v":0},{"$f":"SUMIF(depensesoct[Catégorie],T7,depensesoct[Montant])","v":0},null,{"$f":"coulisses!J4","v":0},{"$f":"SUMIF(recettesoct[Catégorie],W7,recettesoct[Montant])","v":0}]
[null,null,null,null,null,null,null,null,null,null,null,null,null,null,null,null,null,{"$f":"VLOOKUP(recettesoct[[#This Row],[Catégorie]],'coulisses 2'!$A$1:$B$20,2,0)","v":0},null,{"$f":"coulisses!J25","v":0},{"$f":"SUMIF(depensesoct[Catégorie],T8,depensesoct[Montant])","v":0},null,{"$f":"coulisses!J5","v":0},{"$f":"SUMIF(recettesoct[Catégorie],W8,recettesoct[Montant])","v":0}]
[null,null,null,null,null,null,null,null,null,null,null,null,null,null,null,null,null,{"$f":"VLOOKUP(recettesoct[[#This Row],[Catégorie]],'coulisses 2'!$A$1:$B$20,2,0)","v":0},null,{"$f":"coulisses!J26","v":0},{"$f":"SUMIF(depensesoct[Catégorie],T9,depensesoct[Montant])","v":0},null,{"$f":"coulisses!J6","v":0},{"$f":"SUMIF(recettesoct[Catégorie],W9,recettesoct[Montant])","v":0}]
[null,null,null,null,null,null,null,null,null,null,null,null,null,null,null,null,null,{"$f":"VLOOKUP(recettesoct[[#This Row],[Catégorie]],'coulisses 2'!$A$1:$B$20,2,0)","v":0},null,{"$f":"coulisses!J27","v":0},{"$f":"SUMIF(depensesoct[Catégorie],T10,depensesoct[Montant])","v":0},null,{"$f":"coulisses!J7","v":0},{"$f":"SUMIF(recettesoct[Catégorie],W10,recettesoct[Montant])","v":0}]
[null,null,null,null,null,null,null,null,null,null,null,null,null,null,null,null,null,{"$f":"VLOOKUP(recettesoct[[#This Row],[Catégorie]],'coulisses 2'!$A$1:$B$20,2,0)","v":0},null,{"$f":"coulisses!J28","v":0},{"$f":"SUMIF(depensesoct[Catégorie],T11,depensesoct[Montant])","v":0},null,{"$f":"coulisses!J8","v":0},{"$f":"SUMIF(recettesoct[Catégorie],W11,recettesoct[Montant])","v":0}]
[null,null,null,null,null,null,null,null,null,null,null,null,null,null,null,null,null,{"$f":"VLOOKUP(recettesoct[[#This Row],[Catégorie]],'coulisses 2'!$A$1:$B$20,2,0)","v":0},null,{"$f":"coulisses!J29","v":0},{"$f":"SUMIF(depensesoct[Catégorie],T12,depensesoct[Montant])","v":0},null,{"$f":"coulisses!J9","v":0},{"$f":"SUMIF(recettesoct[Catégorie],W12,recettesoct[Montant])","v":0}]
[null,null,null,null,null,null,null,null,null,null,null,null,null,null,null,null,null,{"$f":"VLOOKUP(recettesoct[[#This Row],[Catégorie]],'coulisses 2'!$A$1:$B$20,2,0)","v":0},null,{"$f":"coulisses!J30","v":0},{"$f":"SUMIF(depensesoct[Catégorie],T13,depensesoct[Montant])","v":0},null,{"$f":"coulisses!J10","v":0},{"$f":"SUMIF(recettesoct[Catégorie],W13,recettesoct[Montant])","v":0}]
[null,null,null,null,null,null,null,null,null,null,null,null,null,null,null,null,null,{"$f":"VLOOKUP(recettesoct[[#This Row],[Catégorie]],'coulisses 2'!$A$1:$B$20,2,0)","v":0},null,{"$f":"coulisses!J31","v":0},{"$f":"SUMIF(depensesoct[Catégorie],T14,depensesoct[Montant])","v":0},null,{"$f":"coulisses!J11","v":0},{"$f":"SUMIF(recettesoct[Catégorie],W14,recettesoct[Montant])","v":0}]
[null,null,null,null,null,null,null,null,null,null,null,null,null,null,null,null,null,{"$f":"VLOOKUP(recettesoct[[#This Row],[Catégorie]],'coulisses 2'!$A$1:$B$20,2,0)","v":0},null,{"$f":"coulisses!J32","v":0},{"$f":"SUMIF(depensesoct[Catégorie],T15,depensesoct[Montant])","v":0},null,{"$f":"coulisses!J12","v":0},{"$f":"SUMIF(recettesoct[Catégorie],W15,recettesoct[Montant])","v":0}]
[null,null,null,null,null,null,null,null,null,null,null,null,null,null,null,null,null,{"$f":"VLOOKUP(recettesoct[[#This Row],[Catégorie]],'coulisses 2'!$A$1:$B$20,2,0)","v":0},null,{"$f":"coulisses!J33","v":0},{"$f":"SUMIF(depensesoct[Catégorie],T16,depensesoct[Montant])","v":0},null,{"$f":"coulisses!J13","v":0},{"$f":"SUMIF(recettesoct[Catégorie],W16,recettesoct[Montant])","v":0}]
[null,null,null,null,null,null,null,null,null,null,null,null,null,null,null,null,null,{"$f":"VLOOKUP(recettesoct[[#This Row],[Catégorie]],'coulisses 2'!$A$1:$B$20,2,0)","v":0},null,{"$f":"coulisses!J34","v":0},{"$f":"SUMIF(depensesoct[Catégorie],T17,depensesoct[Montant])","v":0},null,{"$f":"coulisses!J14","v":0},{"$f":"SUMIF(recettesoct[Catégorie],W17,recettesoct[Montant])","v":0}]
[null,null,null,null,null,null,null,null,null,null,null,null,null,null,null,null,null,{"$f":"VLOOKUP(recettesoct[[#This Row],[Catégorie]],'coulisses 2'!$A$1:$B$20,2,0)","v":0},null,{"$f":"coulisses!J35","v":0},{"$f":"SUMIF(depensesoct[Catégorie],T18,depensesoct[Montant])","v":0},null,{"$f":"coulisses!J15","v":0},{"$f":"SUMIF(recettesoct[Catégorie],W18,recettesoct[Montant])","v":0}]
[null,null,null,null,null,null,null,null,null,null,null,null,null,null,null,null,null,{"$f":"VLOOKUP(recettesoct[[#This Row],[Catégorie]],'coulisses 2'!$A$1:$B$20,2,0)","v":0},null,{"$f":"coulisses!J36","v":0},{"$f":"SUMIF(depensesoct[Catégorie],T19,depensesoct[Montant])","v":0},null,{"$f":"coulisses!J16","v":0},{"$f":"SUMIF(recettesoct[Catégorie],W19,recettesoct[Montant])","v":0}]
[null,null,null,null,null,null,null,null,null,null,null,null,null,null,null,null,null,{"$f":"VLOOKUP(recettesoct[[#This Row],[Catégorie]],'coulisses 2'!$A$1:$B$20,2,0)","v":0},null,{"$f":"coulisses!J37","v":0},{"$f":"SUMIF(depensesoct[Catégorie],T20,depensesoct[Montant])","v":0},null,{"$f":"coulisses!J17","v":0},{"$f":"SUMIF(recettesoct[Catégorie],W20,recettesoct[Montant])","v":0}]
[null,null,null,null,null,null,null,null,null,null,null,null,null,null,null,null,null,{"$f":"VLOOKUP(recettesoct[[#This Row],[Catégorie]],'coulisses 2'!$A$1:$B$20,2,0)","v":0},null,{"$f":"coulisses!J38","v":0},{"$f":"SUMIF(depensesoct[Catégorie],T21,depensesoct[Montant])","v":0},null,{"$f":"coulisses!J18","v":0},{"$f":"SUMIF(recettesoct[Catégorie],W21,recettesoct[Montant])","v":0}]
[null,null,null,null,null,null,null,null,null,null,null,null,null,null,null,null,null,{"$f":"VLOOKUP(recettesoct[[#This Row],[Catégorie]],'coulisses 2'!$A$1:$B$20,2,0)","v":0},null,{"$f":"coulisses!J39","v":0},{"$f":"SUMIF(depensesoct[Catégorie],T22,depensesoct[Montant])","v":0},null,{"$f":"coulisses!J19","v":0},{"$f":"SUMIF(recettesoct[Catégorie],W22,recettesoct[Montant])","v":0}]
[null,null,null,null,null,null,null,null,null,null,null,null,null,null,null,null,null,{"$f":"VLOOKUP(recettesoct[[#This Row],[Catégorie]],'coulisses 2'!$A$1:$B$20,2,0)","v":0},null,{"$f":"coulisses!J40","v":0},{"$f":"SUMIF(depensesoct[Catégorie],T23,depensesoct[Montant])","v":0},null,{"$f":"coulisses!J20","v":0},{"$f":"SUMIF(recettesoct[Catégorie],W23,recettesoct[Montant])","v":0}]
[null,null,null,null,null,null,null,null,null,null,null,null,null,null,null,null,null,{"$f":"VLOOKUP(recettesoct[[#This Row],[Catégorie]],'coulisses 2'!$A$1:$B$20,2,0)","v":0},null,{"$f":"coulisses!J41","v":0},{"$f":"SUMIF(depensesoct[Catégorie],T24,depensesoct[Montant])","v":0},null,{"$f":"coulisses!J21","v":0},{"$f":"SUMIF(recettesoct[Catégorie],W24,recettesoct[Montant])","v":0}]
[null,null,null,null,null,null,null,null,null,null,null,null,null,null,null,null,null,{"$f":"VLOOKUP(recettesoct[[#This Row],[Catégorie]],'coulisses 2'!$A$1:$B$20,2,0)","v":0},null,{"$f":"coulisses!J42","v":"Cotisations sociales"},{"$f":"SUMIF(depensesoct[Catégorie],T25,depensesoct[Montant])","v":0},null,{"$f":"coulisses!J22","v":0},{"$f":"SUMIF(recettesoct[Catégorie],W25,recettesoct[Montant])","v":0}]
[null,null,null,null,null,null,null,null,null,null,null,null,null,null,null,null,null,{"$f":"VLOOKUP(recettesoct[[#This Row],[Catégorie]],'coulisses 2'!$A$1:$B$20,2,0)","v":0}]
[null,null,null,null,null,null,null,null,null,null,null,null,null,null,null,null,null,{"$f":"VLOOKUP(recettesoct[[#This Row],[Catégorie]],'coulisses 2'!$A$1:$B$20,2,0)","v":0}]
[null,null,null,null,null,null,null,null,null,null,null,null,null,null,null,null,null,{"$f":"VLOOKUP(recettesoct[[#This Row],[Catégorie]],'coulisses 2'!$A$1:$B$20,2,0)","v":0},null,"Estimation des charges dues sur le CA du mois",null,"CA","Taux","A payer"]
[null,null,null,null,null,null,null,null,null,null,null,null,null,null,null,null,null,{"$f":"VLOOKUP(recettesoct[[#This Row],[Catégorie]],'coulisses 2'!$A$1:$B$20,2,0)","v":0},null,{"$f":"'👩🏻‍🏫 Bienvenue !'!G20","v":"Taux 1"},null,{"$f":"SUMIF(R:R,W29,H:H)","v":0},{"$f":"'👩🏻‍🏫 Bienvenue !'!I20","v":0},{"$f":"W29*V29","v":0}]
[null,null,null,null,null,null,null,null,null,null,null,null,null,null,null,null,null,{"$f":"VLOOKUP(recettesoct[[#This Row],[Catégorie]],'coulisses 2'!$A$1:$B$20,2,0)","v":0},null,{"$f":"'👩🏻‍🏫 Bienvenue !'!G21","v":"Taux 2"},null,{"$f":"SUMIF(R:R,W30,H:H)","v":0},{"$f":"'👩🏻‍🏫 Bienvenue !'!I21","v":0},{"$f":"W30*V30","v":0}]
[null,null,null,null,null,null,null,null,null,null,null,null,null,null,null,null,null,{"$f":"VLOOKUP(recettesoct[[#This Row],[Catégorie]],'coulisses 2'!$A$1:$B$20,2,0)","v":0},null,{"$f":"'👩🏻‍🏫 Bienvenue !'!G22","v":"Taux 3"},null,0,{"$f":"'👩🏻‍🏫 Bienvenue !'!I22","v":0},{"$f":"W31*V31","v":0}]
[null,null,null,null,null,null,null,null,null,null,null,null,null,null,null,null,null,{"$f":"VLOOKUP(recettesoct[[#This Row],[Catégorie]],'coulisses 2'!$A$1:$B$20,2,0)","v":0},null,"TOTAL",null,null,null,{"$f":"SUM(X29:X31)","v":0}]
[null,null,null,null,null,null,null,null,null,null,null,null,null,null,null,null,null,{"$f":"VLOOKUP(recettesoct[[#This Row],[Catégorie]],'coulisses 2'!$A$1:$B$20,2,0)","v":0}]
[null,null,null,null,null,null,null,null,null,null,null,null,null,null,null,null,null,{"$f":"VLOOKUP(recettesoct[[#This Row],[Catégorie]],'coulisses 2'!$A$1:$B$20,2,0)","v":0},null,"Rapprochement bancaire"]
[null,null,null,null,null,null,null,null,null,null,null,null,null,null,null,null,null,{"$f":"VLOOKUP(recettesoct[[#This Row],[Catégorie]],'coulisses 2'!$A$1:$B$20,2,0)","v":0},null,"Solde du mois précédent",{"$f":"'📝  09'!U46","v":0}]
[null,null,null,null,null,null,null,null,null,null,null,null,null,null,null,null,null,{"$f":"VLOOKUP(recettesoct[[#This Row],[Catégorie]],'coulisses 2'!$A$1:$B$20,2,0)","v":0},null,"Profit du mois",{"$f":"P1","v":0}]
[null,null,null,null,null,null,null,null,null,null,null,null,null,null,null,null,null,{"$f":"VLOOKUP(recettesoct[[#This Row],[Catégorie]],'coulisses 2'!$A$1:$B$20,2,0)","v":0},null,"Ecritures à rapprocher :"]
[null,null,null,null,null,null,null,null,null,null,null,null,null,null,null,null,null,{"$f":"VLOOKUP(recettesoct[[#This Row],[Catégorie]],'coulisses 2'!$A$1:$B$20,2,0)","v":0}]
[null,null,null,null,null,null,null,null,null,null,null,null,null,null,null,null,null,{"$f":"VLOOKUP(recettesoct[[#This Row],[Catégorie]],'coulisses 2'!$A$1:$B$20,2,0)","v":0}]
[null,null,null,null,null,null,null,null,null,null,null,null,null,null,null,null,null,{"$f":"VLOOKUP(recettesoct[[#This Row],[Catégorie]],'coulisses 2'!$A$1:$B$20,2,0)","v":0}]
[null,null,null,null,null,null,null,null,null,null,null,null,null,null,null,null,null,{"$f":"VLOOKUP(recettesoct[[#This Row],[Catégorie]],'coulisses 2'!$A$1:$B$20,2,0)","v":0}]
[null,null,null,null,null,null,null,null,null,null,null,null,null,null,null,null,null,{"$f":"VLOOKUP(recettesoct[[#This Row],[Catégorie]],'coulisses 2'!$A$1:$B$20,2,0)","v":0}]
[null,null,null,null,null,null,null,null,null,null,null,null,null,null,null,null,null,{"$f":"VLOOKUP(recettesoct[[#This Row],[Catégorie]],'coulisses 2'!$A$1:$B$20,2,0)","v":0}]
[null,null,null,null,null,null,null,null,null,null,null,null,null,null,null,null,null,{"$f":"VLOOKUP(recettesoct[[#This Row],[Catégorie]],'coulisses 2'!$A$1:$B$20,2,0)","v":0}]
[null,null,null,null,null,null,null,null,null,null,null,null,null,null,null,null,null,{"$f":"VLOOKUP(recettesoct[[#This Row],[Catégorie]],'coulisses 2'!$A$1:$B$20,2,0)","v":0}]
[null,null,null,null,null,null,null,null,null,null,null,null,null,null,null,null,null,{"$f":"VLOOKUP(recettesoct[[#This Row],[Catégorie]],'coulisses 2'!$A$1:$B$20,2,0)","v":0},null,"Solde final du mois",{"$f":"U35+U36+SUM(U38:U45)","v":0}]
[null,null,null,null,null,null,null,null,null,null,null,null,null,null,null,null,null,{"$f":"VLOOKUP(recettesoct[[#This Row],[Catégorie]],'coulisses 2'!$A$1:$B$20,2,0)","v":0},null,"Solde du relevé bancaire"]
[null,null,null,null,null,null,null,null,null,null,null,null,null,null,null,null,null,{"$f":"VLOOKUP(recettesoct[[#This Row],[Catégorie]],'coulisses 2'!$A$1:$B$20,2,0)","v":0},null,"Contrôle (doit être à 0)",{"$f":"U46-U47","v":0}]
[null,null,null,null,null,null,null,null,null,null,null,null,null,null,null,null,null,{"$f":"VLOOKUP(recettesoct[[#This Row],[Catégorie]],'coulisses 2'!$A$1:$B$20,2,0)","v":0}]
[null,null,null,null,null,null,null,null,null,null,null,null,null,null,null,null,null,{"$f":"VLOOKUP(recettesoct[[#This Row],[Catégorie]],'coulisses 2'!$A$1:$B$20,2,0)","v":0},null,"Résultat par axe","CA","Dépenses","Résultat"]
[null,null,null,null,null,null,null,null,null,null,null,null,null,null,null,null,null,{"$f":"VLOOKUP(recettesoct[[#This Row],[Catégorie]],'coulisses 2'!$A$1:$B$20,2,0)","v":0},null,{"$f":"'👩🏻‍🏫 Bienvenue !'!I73","v":0},{"$f":"SUMIF(recettesoct[Axe],T51,recettesoct[Montant])","v":0},{"$f":"SUMIF(depensesoct[Axe],T51,depensesoct[Montant])","v":0},{"$f":"U51-V51","v":0}]
[null,null,null,null,null,null,null,null,null,null,null,null,null,null,null,null,null,{"$f":"VLOOKUP(recettesoct[[#This Row],[Catégorie]],'coulisses 2'!$A$1:$B$20,2,0)","v":0},null,{"$f":"'👩🏻‍🏫 Bienvenue !'!I74","v":0},{"$f":"SUMIF(recettesoct[Axe],T52,recettesoct[Montant])","v":0},{"$f":"SUMIF(depensesoct[Axe],T52,depensesoct[Montant])","v":0},{"$f":"U52-V52","v":0}]
[null,null,null,null,null,null,null,null,null,null,null,null,null,null,null,null,null,{"$f":"VLOOKUP(recettesoct[[#This Row],[Catégorie]],'coulisses 2'!$A$1:$B$20,2,0)","v":0},null,{"$f":"'👩🏻‍🏫 Bienvenue !'!I75","v":0},{"$f":"SUMIF(recettesoct[Axe],T53,recettesoct[Montant])","v":0},{"$f":"SUMIF(depensesoct[Axe],T53,depensesoct[Montant])","v":0},0]
[null,null,null,null,null,null,null,null,null,null,null,null,null,null,null,null,null,{"$f":"VLOOKUP(recettesoct[[#This Row],[Catégorie]],'coulisses 2'!$A$1:$B$20,2,0)","v":0},null,{"$f":"'👩🏻‍🏫 Bienvenue !'!I76","v":0},{"$f":"SUMIF(recettesoct[Axe],T54,recettesoct[Montant])","v":0},{"$f":"SUMIF(depensesoct[Axe],T54,depensesoct[Montant])","v":0},0]
[null,null,null,null,null,null,null,null,null,null,null,null,null,null,null,null,null,{"$f":"VLOOKUP(recettesoct[[#This Row],[Catégorie]],'coulisses 2'!$A$1:$B$20,2,0)","v":0},null,{"$f":"'👩🏻‍🏫 Bienvenue !'!I77","v":0},{"$f":"SUMIF(recettesoct[Axe],T55,recettesoct[Montant])","v":0},{"$f":"SUMIF(depensesoct[Axe],T55,depensesoct[Montant])","v":0},0]
[null,null,null,null,null,null,null,null,null,null,null,null,null,null,null,null,null,{"$f":"VLOOKUP(recettesoct[[#This Row],[Catégorie]],'coulisses 2'!$A$1:$B$20,2,0)","v":0},null,{"$f":"'👩🏻‍🏫 Bienvenue !'!I78","v":0},{"$f":"SUMIF(recettesoct[Axe],T56,recettesoct[Montant])","v":0},{"$f":"SUMIF(depensesoct[Axe],T56,depensesoct[Montant])","v":0},0]
[null,null,null,null,null,null,null,null,null,null,null,null,null,null,null,null,null,{"$f":"VLOOKUP(recettesoct[[#This Row],[Catégorie]],'coulisses 2'!$A$1:$B$20,2,0)","v":0},null,{"$f":"'👩🏻‍🏫 Bienvenue !'!I79","v":0},{"$f":"SUMIF(recettesoct[Axe],T57,recettesoct[Montant])","v":0},{"$f":"SUMIF(depensesoct[Axe],T57,depensesoct[Montant])","v":0},0]
[null,null,null,null,null,null,null,null,null,null,null,null,null,null,null,null,null,{"$f":"VLOOKUP(recettesoct[[#This Row],[Catégorie]],'coulisses 2'!$A$1:$B$20,2,0)","v":0},null,{"$f":"'👩🏻‍🏫 Bienvenue !'!I80","v":0},{"$f":"SUMIF(recettesoct[Axe],T58,recettesoct[Montant])","v":0},{"$f":"SUMIF(depensesoct[Axe],T58,depensesoct[Montant])","v":0},0]
[null,null,null,null,null,null,null,null,null,null,null,null,null,null,null,null,null,{"$f":"VLOOKUP(recettesoct[[#This Row],[Catégorie]],'coulisses 2'!$A$1:$B$20,2,0)","v":0},null,{"$f":"'👩🏻‍🏫 Bienvenue !'!I81","v":0},{"$f":"SUMIF(recettesoct[Axe],T59,recettesoct[Montant])","v":0},{"$f":"SUMIF(depensesoct[Axe],T59,depensesoct[Montant])","v":0},0]
[null,null,null,null,null,null,null,null,null,null,null,null,null,null,null,null,null,{"$f":"VLOOKUP(recettesoct[[#This Row],[Catégorie]],'coulisses 2'!$A$1:$B$20,2,0)","v":0},null,{"$f":"'👩🏻‍🏫 Bienvenue !'!I82","v":0},{"$f":"SUMIF(recettesoct[Axe],T60,recettesoct[Montant])","v":0},{"$f":"SUMIF(depensesoct[Axe],T60,depensesoct[Montant])","v":0},0]
[null,null,null,null,null,null,null,null,null,null,null,null,null,null,null,null,null,{"$f":"VLOOKUP(recettesoct[[#This Row],[Catégorie]],'coulisses 2'!$A$1:$B$20,2,0)","v":0}]
[null,null,null,null,null,null,null,null,null,null,null,null,null,null,null,null,null,{"$f":"VLOOKUP(recettesoct[[#This Row],[Catégorie]],'coulisses 2'!$A$1:$B$20,2,0)","v":0}]
[null,null,null,null,null,null,null,null,null,null,null,null,null,null,null,null,null,{"$f":"VLOOKUP(recettesoct[[#This Row],[Catégorie]],'coulisses 2'!$A$1:$B$20,2,0)","v":0}]
[null,null,null,null,null,null,null,null,null,null,null,null,null,null,null,null,null,{"$f":"VLOOKUP(recettesoct[[#This Row],[Catégorie]],'coulisses 2'!$A$1:$B$20,2,0)","v":0}]
[null,null,null,null,null,null,null,null,null,null,null,null,null,null,null,null,null,{"$f":"VLOOKUP(recettesoct[[#This Row],[Catégorie]],'coulisses 2'!$A$1:$B$20,2,0)","v":0}]
[null,null,null,null,null,null,null,null,null,null,null,null,null,null,null,null,null,{"$f":"VLOOKUP(recettesoct[[#This Row],[Catégorie]],'coulisses 2'!$A$1:$B$20,2,0)","v":0}]
[null,null,null,null,null,null,null,null,null,null,null,null,null,null,null,null,null,{"$f":"VLOOKUP(recettesoct[[#This Row],[Catégorie]],'coulisses 2'!$A$1:$B$20,2,0)","v":0}]
[null,null,null,null,null,null,null,null,null,null,null,null,null,null,null,null,null,{"$f":"VLOOKUP(recettesoct[[#This Row],[Catégorie]],'coulisses 2'!$A$1:$B$20,2,0)","v":0}]
[null,null,null,null,null,null,null,null,null,null,null,null,null,null,null,null,null,{"$f":"VLOOKUP(recettesoct[[#This Row],[Catégorie]],'coulisses 2'!$A$1:$B$20,2,0)","v":0}]
[null,null,null,null,null,null,null,null,null,null,null,null,null,null,null,null,null,{"$f":"VLOOKUP(recettesoct[[#This Row],[Catégorie]],'coulisses 2'!$A$1:$B$20,2,0)","v":0}]
[null,null,null,null,null,null,null,null,null,null,null,null,null,null,null,null,null,{"$f":"VLOOKUP(recettesoct[[#This Row],[Catégorie]],'coulisses 2'!$A$1:$B$20,2,0)","v":0}]
[null,null,null,null,null,null,null,null,null,null,null,null,null,null,null,null,null,{"$f":"VLOOKUP(recettesoct[[#This Row],[Catégorie]],'coulisses 2'!$A$1:$B$20,2,0)","v":0}]
[null,null,null,null,null,null,null,null,null,null,null,null,null,null,null,null,null,{"$f":"VLOOKUP(recettesoct[[#This Row],[Catégorie]],'coulisses 2'!$A$1:$B$20,2,0)","v":0}]
[null,null,null,null,null,null,null,null,null,null,null,null,null,null,null,null,null,{"$f":"VLOOKUP(recettesoct[[#This Row],[Catégorie]],'coulisses 2'!$A$1:$B$20,2,0)","v":0}]
[null,null,null,null,null,null,null,null,null,null,null,null,null,null,null,null,null,{"$f":"VLOOKUP(recettesoct[[#This Row],[Catégorie]],'coulisses 2'!$A$1:$B$20,2,0)","v":0}]
[null,null,null,null,null,null,null,null,null,null,null,null,null,null,null,null,null,{"$f":"VLOOKUP(recettesoct[[#This Row],[Catégorie]],'coulisses 2'!$A$1:$B$20,2,0)","v":0}]
[null,null,null,null,null,null,null,null,null,null,null,null,null,null,null,null,null,{"$f":"VLOOKUP(recettesoct[[#This Row],[Catégorie]],'coulisses 2'!$A$1:$B$20,2,0)","v":0}]
[null,null,null,null,null,null,null,null,null,null,null,null,null,null,null,null,null,{"$f":"VLOOKUP(recettesoct[[#This Row],[Catégorie]],'coulisses 2'!$A$1:$B$20,2,0)","v":0}]
[null,null,null,null,null,null,null,null,null,null,null,null,null,null,null,null,null,{"$f":"VLOOKUP(recettesoct[[#This Row],[Catégorie]],'coulisses 2'!$A$1:$B$20,2,0)","v":0}]
[null,null,null,null,null,null,null,null,null,null,null,null,null,null,null,null,null,{"$f":"VLOOKUP(recettesoct[[#This Row],[Catégorie]],'coulisses 2'!$A$1:$B$20,2,0)","v":0}]
[null,null,null,null,null,null,null,null,null,null,null,null,null,null,null,null,null,{"$f":"VLOOKUP(recettesoct[[#This Row],[Catégorie]],'coulisses 2'!$A$1:$B$20,2,0)","v":0}]
[null,null,null,null,null,null,null,null,null,null,null,null,null,null,null,null,null,{"$f":"VLOOKUP(recettesoct[[#This Row],[Catégorie]],'coulisses 2'!$A$1:$B$20,2,0)","v":0}]
[null,null,null,null,null,null,null,null,null,null,null,null,null,null,null,null,null,{"$f":"VLOOKUP(recettesoct[[#This Row],[Catégorie]],'coulisses 2'!$A$1:$B$20,2,0)","v":0}]
[null,null,null,null,null,null,null,null,null,null,null,null,null,null,null,null,null,{"$f":"VLOOKUP(recettesoct[[#This Row],[Catégorie]],'coulisses 2'!$A$1:$B$20,2,0)","v":0}]
[null,null,null,null,null,null,null,null,null,null,null,null,null,null,null,null,null,{"$f":"VLOOKUP(recettesoct[[#This Row],[Catégorie]],'coulisses 2'!$A$1:$B$20,2,0)","v":0}]
[null,null,null,null,null,null,null,null,null,null,null,null,null,null,null,null,null,{"$f":"VLOOKUP(recettesoct[[#This Row],[Catégorie]],'coulisses 2'!$A$1:$B$20,2,0)","v":0}]
[null,null,null,null,null,null,null,null,null,null,null,null,null,null,null,null,null,{"$f":"VLOOKUP(recettesoct[[#This Row],[Catégorie]],'coulisses 2'!$A$1:$B$20,2,0)","v":0}]
[null,null,null,null,null,null,null,null,null,null,null,null,null,null,null,null,null,{"$f":"VLOOKUP(recettesoct[[#This Row],[Catégorie]],'coulisses 2'!$A$1:$B$20,2,0)","v":0}]
[null,null,null,null,null,null,null,null,null,null,null,null,null,null,null,null,null,{"$f":"VLOOKUP(recettesoct[[#This Row],[Catégorie]],'coulisses 2'!$A$1:$B$20,2,0)","v":0}]
[null,null,null,null,null,null,null,null,null,null,null,null,null,null,null,null,null,{"$f":"VLOOKUP(recettesoct[[#This Row],[Catégorie]],'coulisses 2'!$A$1:$B$20,2,0)","v":0}]
[null,null,null,null,null,null,null,null,null,null,null,null,null,null,null,null,null,{"$f":"VLOOKUP(recettesoct[[#This Row],[Catégorie]],'coulisses 2'!$A$1:$B$20,2,0)","v":0}]
[null,null,null,null,null,null,null,null,null,null,null,null,null,null,null,null,null,{"$f":"VLOOKUP(recettesoct[[#This Row],[Catégorie]],'coulisses 2'!$A$1:$B$20,2,0)","v":0}]
[null,null,null,null,null,null,null,null,null,null,null,null,null,null,null,null,null,{"$f":"VLOOKUP(recettesoct[[#This Row],[Catégorie]],'coulisses 2'!$A$1:$B$20,2,0)","v":0}]
[null,null,null,null,null,null,null,null,null,null,null,null,null,null,null,null,null,{"$f":"VLOOKUP(recettesoct[[#This Row],[Catégorie]],'coulisses 2'!$A$1:$B$20,2,0)","v":0}]
[null,null,null,null,null,null,null,null,null,null,null,null,null,null,null,null,null,{"$f":"VLOOKUP(recettesoct[[#This Row],[Catégorie]],'coulisses 2'!$A$1:$B$20,2,0)","v":0}]
[null,null,null,null,null,null,null,null,null,null,null,null,null,null,null,null,null,{"$f":"VLOOKUP(recettesoct[[#This Row],[Catégorie]],'coulisses 2'!$A$1:$B$20,2,0)","v":0}]
[null,null,null,null,null,null,null,null,null,null,null,null,null,null,null,null,null,{"$f":"VLOOKUP(recettesoct[[#This Row],[Catégorie]],'coulisses 2'!$A$1:$B$20,2,0)","v":0}]
[null,null,null,null,null,null,null,null,null,null,null,null,null,null,null,null,null,{"$f":"VLOOKUP(recettesoct[[#This Row],[Catégorie]],'coulisses 2'!$A$1:$B$20,2,0)","v":0}]
[null,null,null,null,null,null,null,null,null,null,null,null,null,null,null,null,null,{"$f":"VLOOKUP(recettesoct[[#This Row],[Catégorie]],'coulisses 2'!$A$1:$B$20,2,0)","v":0}]
[null,null,null,null,null,null,null,null,null,null,null,null,null,null,null,null,null,{"$f":"VLOOKUP(recettesoct[[#This Row],[Catégorie]],'coulisses 2'!$A$1:$B$20,2,0)","v":0}]
[null,null,null,null,null,null,null,null,null,null,null,null,null,null,null,null,null,{"$f":"VLOOKUP(recettesoct[[#This Row],[Catégorie]],'coulisses 2'!$A$1:$B$20,2,0)","v":0}]
[null,null,null,null,null,null,null,null,null,null,null,null,null,null,null,null,null,{"$f":"VLOOKUP(recettesoct[[#This Row],[Catégorie]],'coulisses 2'!$A$1:$B$20,2,0)","v":0}]
[null,null,null,null,null,null,null,null,null,null,null,null,null,null,null,null,null,{"$f":"VLOOKUP(recettesoct[[#This Row],[Catégorie]],'coulisses 2'!$A$1:$B$20,2,0)","v":0}]
[null,null,null,null,null,null,null,null,null,null,null,null,null,null,null,null,null,{"$f":"VLOOKUP(recettesoct[[#This Row],[Catégorie]],'coulisses 2'!$A$1:$B$20,2,0)","v":0}]
[null,null,null,null,null,null,null,null,null,null,null,null,null,null,null,null,null,{"$f":"VLOOKUP(recettesoct[[#This Row],[Catégorie]],'coulisses 2'!$A$1:$B$20,2,0)","v":0}]
[null,null,null,null,null,null,null,null,null,null,null,null,null,null,null,null,null,{"$f":"VLOOKUP(recettesoct[[#This Row],[Catégorie]],'coulisses 2'!$A$1:$B$20,2,0)","v":0}]
[null,null,null,null,null,null,null,null,null,null,null,null,null,null,null,null,null,{"$f":"VLOOKUP(recettesoct[[#This Row],[Catégorie]],'coulisses 2'!$A$1:$B$20,2,0)","v":0}]
[null,null,null,null,null,null,null,null,null,null,null,null,null,null,null,null,null,{"$f":"VLOOKUP(recettesoct[[#This Row],[Catégorie]],'coulisses 2'!$A$1:$B$20,2,0)","v":0}]
[null,null,null,null,null,null,null,null,null,null,null,null,null,null,null,null,null,{"$f":"VLOOKUP(recettesoct[[#This Row],[Catégorie]],'coulisses 2'!$A$1:$B$20,2,0)","v":0}]
[null,null,null,null,null,null,null,null,null,null,null,null,null,null,null,null,null,{"$f":"VLOOKUP(recettesoct[[#This Row],[Catégorie]],'coulisses 2'!$A$1:$B$20,2,0)","v":0}]
[null,null,null,null,null,null,null,null,null,null,null,null,null,null,null,null,null,{"$f":"VLOOKUP(recettesoct[[#This Row],[Catégorie]],'coulisses 2'!$A$1:$B$20,2,0)","v":0}]
[null,null,null,null,null,null,null,null,null,null,null,null,null,null,null,null,null,{"$f":"VLOOKUP(recettesoct[[#This Row],[Catégorie]],'coulisses 2'!$A$1:$B$20,2,0)","v":0}]
[null,null,null,null,null,null,null,null,null,null,null,null,null,null,null,null,null,{"$f":"VLOOKUP(recettesoct[[#This Row],[Catégorie]],'coulisses 2'!$A$1:$B$20,2,0)","v":0}]
[null,null,null,null,null,null,null,null,null,null,null,null,null,null,null,null,null,{"$f":"VLOOKUP(recettesoct[[#This Row],[Catégorie]],'coulisses 2'!$A$1:$B$20,2,0)","v":0}]
[null,null,null,null,null,null,null,null,null,null,null,null,null,null,null,null,null,{"$f":"VLOOKUP(recettesoct[[#This Row],[Catégorie]],'coulisses 2'!$A$1:$B$20,2,0)","v":0}]
[null,null,null,null,null,null,null,null,null,null,null,null,null,null,null,null,null,{"$f":"VLOOKUP(recettesoct[[#This Row],[Catégorie]],'coulisses 2'!$A$1:$B$20,2,0)","v":0}]
[null,null,null,null,null,null,null,null,null,null,null,null,null,null,null,null,null,{"$f":"VLOOKUP(recettesoct[[#This Row],[Catégorie]],'coulisses 2'!$A$1:$B$20,2,0)","v":0}]
[null,null,null,null,null,null,null,null,null,null,null,null,null,null,null,null,null,{"$f":"VLOOKUP(recettesoct[[#This Row],[Catégorie]],'coulisses 2'!$A$1:$B$20,2,0)","v":0}]
[null,null,null,null,null,null,null,null,null,null,null,null,null,null,null,null,null,{"$f":"VLOOKUP(recettesoct[[#This Row],[Catégorie]],'coulisses 2'!$A$1:$B$20,2,0)","v":0}]
[null,null,null,null,null,null,null,null,null,null,null,null,null,null,null,null,null,{"$f":"VLOOKUP(recettesoct[[#This Row],[Catégorie]],'coulisses 2'!$A$1:$B$20,2,0)","v":0}]
[null,null,null,null,null,null,null,null,null,null,null,null,null,null,null,null,null,{"$f":"VLOOKUP(recettesoct[[#This Row],[Catégorie]],'coulisses 2'!$A$1:$B$20,2,0)","v":0}]
[null,null,null,null,null,null,null,null,null,null,null,null,null,null,null,null,null,{"$f":"VLOOKUP(recettesoct[[#This Row],[Catégorie]],'coulisses 2'!$A$1:$B$20,2,0)","v":0}]
[null,null,null,null,null,null,null,null,null,null,null,null,null,null,null,null,null,{"$f":"VLOOKUP(recettesoct[[#This Row],[Catégorie]],'coulisses 2'!$A$1:$B$20,2,0)","v":0}]
[null,null,null,null,null,null,null,null,null,null,null,null,null,null,null,null,null,{"$f":"VLOOKUP(recettesoct[[#This Row],[Catégorie]],'coulisses 2'!$A$1:$B$20,2,0)","v":0}]
[null,null,null,null,null,null,null,null,null,null,null,null,null,null,null,null,null,{"$f":"VLOOKUP(recettesoct[[#This Row],[Catégorie]],'coulisses 2'!$A$1:$B$20,2,0)","v":0}]
[null,null,null,null,null,null,null,null,null,null,null,null,null,null,null,null,null,{"$f":"VLOOKUP(recettesoct[[#This Row],[Catégorie]],'coulisses 2'!$A$1:$B$20,2,0)","v":0}]
[null,null,null,null,null,null,null,null,null,null,null,null,null,null,null,null,null,{"$f":"VLOOKUP(recettesoct[[#This Row],[Catégorie]],'coulisses 2'!$A$1:$B$20,2,0)","v":0}]
[null,null,null,null,null,null,null,null,null,null,null,null,null,null,null,null,null,{"$f":"VLOOKUP(recettesoct[[#This Row],[Catégorie]],'coulisses 2'!$A$1:$B$20,2,0)","v":0}]
[null,null,null,null,null,null,null,null,null,null,null,null,null,null,null,null,null,{"$f":"VLOOKUP(recettesoct[[#This Row],[Catégorie]],'coulisses 2'!$A$1:$B$20,2,0)","v":0}]
[null,null,null,null,null,null,null,null,null,null,null,null,null,null,null,null,null,{"$f":"VLOOKUP(recettesoct[[#This Row],[Catégorie]],'coulisses 2'!$A$1:$B$20,2,0)","v":0}]
[null,null,null,null,null,null,null,null,null,null,null,null,null,null,null,null,null,{"$f":"VLOOKUP(recettesoct[[#This Row],[Catégorie]],'coulisses 2'!$A$1:$B$20,2,0)","v":0}]
[null,null,null,null,null,null,null,null,null,null,null,null,null,null,null,null,null,{"$f":"VLOOKUP(recettesoct[[#This Row],[Catégorie]],'coulisses 2'!$A$1:$B$20,2,0)","v":0}]
[null,null,null,null,null,null,null,null,null,null,null,null,null,null,null,null,null,{"$f":"VLOOKUP(recettesoct[[#This Row],[Catégorie]],'coulisses 2'!$A$1:$B$20,2,0)","v":0}]
[null,null,null,null,null,null,null,null,null,null,null,null,null,null,null,null,null,{"$f":"VLOOKUP(recettesoct[[#This Row],[Catégorie]],'coulisses 2'!$A$1:$B$20,2,0)","v":0}]
[null,null,null,null,null,null,null,null,null,null,null,null,null,null,null,null,null,{"$f":"VLOOKUP(recettesoct[[#This Row],[Catégorie]],'coulisses 2'!$A$1:$B$20,2,0)","v":0}]
[null,null,null,null,null,null,null,null,null,null,null,null,null,null,null,null,null,{"$f":"VLOOKUP(recettesoct[[#This Row],[Catégorie]],'coulisses 2'!$A$1:$B$20,2,0)","v":0}]
[null,null,null,null,null,null,null,null,null,null,null,null,null,null,null,null,null,{"$f":"VLOOKUP(recettesoct[[#This Row],[Catégorie]],'coulisses 2'!$A$1:$B$20,2,0)","v":0}]
[null,null,null,null,null,null,null,null,null,null,null,null,null,null,null,null,null,{"$f":"VLOOKUP(recettesoct[[#This Row],[Catégorie]],'coulisses 2'!$A$1:$B$20,2,0)","v":0}]
[null,null,null,null,null,null,null,null,null,null,null,null,null,null,null,null,null,{"$f":"VLOOKUP(recettesoct[[#This Row],[Catégorie]],'coulisses 2'!$A$1:$B$20,2,0)","v":0}]
[null,null,null,null,null,null,null,null,null,null,null,null,null,null,null,null,null,{"$f":"VLOOKUP(recettesoct[[#This Row],[Catégorie]],'coulisses 2'!$A$1:$B$20,2,0)","v":0}]
[null,null,null,null,null,null,null,null,null,null,null,null,null,null,null,null,null,{"$f":"VLOOKUP(recettesoct[[#This Row],[Catégorie]],'coulisses 2'!$A$1:$B$20,2,0)","v":0}]
[null,null,null,null,null,null,null,null,null,null,null,null,null,null,null,null,null,{"$f":"VLOOKUP(recettesoct[[#This Row],[Catégorie]],'coulisses 2'!$A$1:$B$20,2,0)","v":0}]
[null,null,null,null,null,null,null,null,null,null,null,null,null,null,null,null,null,{"$f":"VLOOKUP(recettesoct[[#This Row],[Catégorie]],'coulisses 2'!$A$1:$B$20,2,0)","v":0}]
[null,null,null,null,null,null,null,null,null,null,null,null,null,null,null,null,null,{"$f":"VLOOKUP(recettesoct[[#This Row],[Catégorie]],'coulisses 2'!$A$1:$B$20,2,0)","v":0}]
[null,null,null,null,null,null,null,null,null,null,null,null,null,null,null,null,null,{"$f":"VLOOKUP(recettesoct[[#This Row],[Catégorie]],'coulisses 2'!$A$1:$B$20,2,0)","v":0}]
[null,null,null,null,null,null,null,null,null,null,null,null,null,null,null,null,null,{"$f":"VLOOKUP(recettesoct[[#This Row],[Catégorie]],'coulisses 2'!$A$1:$B$20,2,0)","v":0}]
[null,null,null,null,null,null,null,null,null,null,null,null,null,null,null,null,null,{"$f":"VLOOKUP(recettesoct[[#This Row],[Catégorie]],'coulisses 2'!$A$1:$B$20,2,0)","v":0}]
[null,null,null,null,null,null,null,null,null,null,null,null,null,null,null,null,null,{"$f":"VLOOKUP(recettesoct[[#This Row],[Catégorie]],'coulisses 2'!$A$1:$B$20,2,0)","v":0}]
[null,null,null,null,null,null,null,null,null,null,null,null,null,null,null,null,null,{"$f":"VLOOKUP(recettesoct[[#This Row],[Catégorie]],'coulisses 2'!$A$1:$B$20,2,0)","v":0}]
[null,null,null,null,null,null,null,null,null,null,null,null,null,null,null,null,null,{"$f":"VLOOKUP(recettesoct[[#This Row],[Catégorie]],'coulisses 2'!$A$1:$B$20,2,0)","v":0}]
[null,null,null,null,null,null,null,null,null,null,null,null,null,null,null,null,null,{"$f":"VLOOKUP(recettesoct[[#This Row],[Catégorie]],'coulisses 2'!$A$1:$B$20,2,0)","v":0}]
[null,null,null,null,null,null,null,null,null,null,null,null,null,null,null,null,null,{"$f":"VLOOKUP(recettesoct[[#This Row],[Catégorie]],'coulisses 2'!$A$1:$B$20,2,0)","v":0}]
[null,null,null,null,null,null,null,null,null,null,null,null,null,null,null,null,null,{"$f":"VLOOKUP(recettesoct[[#This Row],[Catégorie]],'coulisses 2'!$A$1:$B$20,2,0)","v":0}]
[null,null,null,null,null,null,null,null,null,null,null,null,null,null,null,null,null,{"$f":"VLOOKUP(recettesoct[[#This Row],[Catégorie]],'coulisses 2'!$A$1:$B$20,2,0)","v":0}]
[null,null,null,null,null,null,null,null,null,null,null,null,null,null,null,null,null,{"$f":"VLOOKUP(recettesoct[[#This Row],[Catégorie]],'coulisses 2'!$A$1:$B$20,2,0)","v":0}]
[null,null,null,null,null,null,null,null,null,null,null,null,null,null,null,null,null,{"$f":"VLOOKUP(recettesoct[[#This Row],[Catégorie]],'coulisses 2'!$A$1:$B$20,2,0)","v":0}]
[null,null,null,null,null,null,null,null,null,null,null,null,null,null,null,null,null,{"$f":"VLOOKUP(recettesoct[[#This Row],[Catégorie]],'coulisses 2'!$A$1:$B$20,2,0)","v":0}]
[null,null,null,null,null,null,null,null,null,null,null,null,null,null,null,null,null,{"$f":"VLOOKUP(recettesoct[[#This Row],[Catégorie]],'coulisses 2'!$A$1:$B$20,2,0)","v":0}]
[null,null,null,null,null,null,null,null,null,null,null,null,null,null,null,null,null,{"$f":"VLOOKUP(recettesoct[[#This Row],[Catégorie]],'coulisses 2'!$A$1:$B$20,2,0)","v":0}]
[null,null,null,null,null,null,null,null,null,null,null,null,null,null,null,null,null,{"$f":"VLOOKUP(recettesoct[[#This Row],[Catégorie]],'coulisses 2'!$A$1:$B$20,2,0)","v":0}]
[null,null,null,null,null,null,null,null,null,null,null,null,null,null,null,null,null,{"$f":"VLOOKUP(recettesoct[[#This Row],[Catégorie]],'coulisses 2'!$A$1:$B$20,2,0)","v":0}]
[null,null,null,null,null,null,null,null,null,null,null,null,null,null,null,null,null,{"$f":"VLOOKUP(recettesoct[[#This Row],[Catégorie]],'coulisses 2'!$A$1:$B$20,2,0)","v":0}]
[null,null,null,null,null,null,null,null,null,null,null,null,null,null,null,null,null,{"$f":"VLOOKUP(recettesoct[[#This Row],[Catégorie]],'coulisses 2'!$A$1:$B$20,2,0)","v":0}]
[null,null,null,null,null,null,null,null,null,null,null,null,null,null,null,null,null,{"$f":"VLOOKUP(recettesoct[[#This Row],[Catégorie]],'coulisses 2'!$A$1:$B$20,2,0)","v":0}]
[null,null,null,null,null,null,null,null,null,null,null,null,null,null,null,null,null,{"$f":"VLOOKUP(recettesoct[[#This Row],[Catégorie]],'coulisses 2'!$A$1:$B$20,2,0)","v":0}]
[null,null,null,null,null,null,null,null,null,null,null,null,null,null,null,null,null,{"$f":"VLOOKUP(recettesoct[[#This Row],[Catégorie]],'coulisses 2'!$A$1:$B$20,2,0)","v":0}]
[null,null,null,null,null,null,null,null,null,null,null,null,null,null,null,null,null,{"$f":"VLOOKUP(recettesoct[[#This Row],[Catégorie]],'coulisses 2'!$A$1:$B$20,2,0)","v":0}]
[null,null,null,null,null,null,null,null,null,null,null,null,null,null,null,null,null,{"$f":"VLOOKUP(recettesoct[[#This Row],[Catégorie]],'coulisses 2'!$A$1:$B$20,2,0)","v":0}]
[null,null,null,null,null,null,null,null,null,null,null,null,null,null,null,null,null,{"$f":"VLOOKUP(recettesoct[[#This Row],[Catégorie]],'coulisses 2'!$A$1:$B$20,2,0)","v":0}]
[null,null,null,null,null,null,null,null,null,null,null,null,null,null,null,null,null,{"$f":"VLOOKUP(recettesoct[[#This Row],[Catégorie]],'coulisses 2'!$A$1:$B$20,2,0)","v":0}]
[null,null,null,null,null,null,null,null,null,null,null,null,null,null,null,null,null,{"$f":"VLOOKUP(recettesoct[[#This Row],[Catégorie]],'coulisses 2'!$A$1:$B$20,2,0)","v":0}]
[null,null,null,null,null,null,null,null,null,null,null,null,null,null,null,null,null,{"$f":"VLOOKUP(recettesoct[[#This Row],[Catégorie]],'coulisses 2'!$A$1:$B$20,2,0)","v":0}]
[null,null,null,null,null,null,null,null,null,null,null,null,null,null,null,null,null,{"$f":"VLOOKUP(recettesoct[[#This Row],[Catégorie]],'coulisses 2'!$A$1:$B$20,2,0)","v":0}]
[null,null,null,null,null,null,null,null,null,null,null,null,null,null,null,null,null,{"$f":"VLOOKUP(recettesoct[[#This Row],[Catégorie]],'coulisses 2'!$A$1:$B$20,2,0)","v":0}]
[null,null,null,null,null,null,null,null,null,null,null,null,null,null,null,null,null,{"$f":"VLOOKUP(recettesoct[[#This Row],[Catégorie]],'coulisses 2'!$A$1:$B$20,2,0)","v":0}]
[null,null,null,null,null,null,null,null,null,null,null,null,null,null,null,null,null,{"$f":"VLOOKUP(recettesoct[[#This Row],[Catégorie]],'coulisses 2'!$A$1:$B$20,2,0)","v":0}]
[null,null,null,null,null,null,null,null,null,null,null,null,null,null,null,null,null,{"$f":"VLOOKUP(recettesoct[[#This Row],[Catégorie]],'coulisses 2'!$A$1:$B$20,2,0)","v":0}]
[null,null,null,null,null,null,null,null,null,null,null,null,null,null,null,null,null,{"$f":"VLOOKUP(recettesoct[[#This Row],[Catégorie]],'coulisses 2'!$A$1:$B$20,2,0)","v":0}]
[null,null,null,null,null,null,null,null,null,null,null,null,null,null,null,null,null,{"$f":"VLOOKUP(recettesoct[[#This Row],[Catégorie]],'coulisses 2'!$A$1:$B$20,2,0)","v":0}]
[null,null,null,null,null,null,null,null,null,null,null,null,null,null,null,null,null,{"$f":"VLOOKUP(recettesoct[[#This Row],[Catégorie]],'coulisses 2'!$A$1:$B$20,2,0)","v":0}]
[null,null,null,null,null,null,null,null,null,null,null,null,null,null,null,null,null,{"$f":"VLOOKUP(recettesoct[[#This Row],[Catégorie]],'coulisses 2'!$A$1:$B$20,2,0)","v":0}]
[null,null,null,null,null,null,null,null,null,null,null,null,null,null,null,null,null,{"$f":"VLOOKUP(recettesoct[[#This Row],[Catégorie]],'coulisses 2'!$A$1:$B$20,2,0)","v":0}]
[null,null,null,null,null,null,null,null,null,null,null,null,null,null,null,null,null,{"$f":"VLOOKUP(recettesoct[[#This Row],[Catégorie]],'coulisses 2'!$A$1:$B$20,2,0)","v":0}]
[null,null,null,null,null,null,null,null,null,null,null,null,null,null,null,null,null,{"$f":"VLOOKUP(recettesoct[[#This Row],[Catégorie]],'coulisses 2'!$A$1:$B$20,2,0)","v":0}]
[null,null,null,null,null,null,null,null,null,null,null,null,null,null,null,null,null,{"$f":"VLOOKUP(recettesoct[[#This Row],[Catégorie]],'coulisses 2'!$A$1:$B$20,2,0)","v":0}]
[null,null,null,null,null,null,null,null,null,null,null,null,null,null,null,null,null,{"$f":"VLOOKUP(recettesoct[[#This Row],[Catégorie]],'coulisses 2'!$A$1:$B$20,2,0)","v":0}]
[null,null,null,null,null,null,null,null,null,null,null,null,null,null,null,null,null,{"$f":"VLOOKUP(recettesoct[[#This Row],[Catégorie]],'coulisses 2'!$A$1:$B$20,2,0)","v":0}]
[null,null,null,null,null,null,null,null,null,null,null,null,null,null,null,null,null,{"$f":"VLOOKUP(recettesoct[[#This Row],[Catégorie]],'coulisses 2'!$A$1:$B$20,2,0)","v":0}]
[null,null,null,null,null,null,null,null,null,null,null,null,null,null,null,null,null,{"$f":"VLOOKUP(recettesoct[[#This Row],[Catégorie]],'coulisses 2'!$A$1:$B$20,2,0)","v":0}]
[null,null,null,null,null,null,null,null,null,null,null,null,null,null,null,null,null,{"$f":"VLOOKUP(recettesoct[[#This Row],[Catégorie]],'coulisses 2'!$A$1:$B$20,2,0)","v":0}]
[null,null,null,null,null,null,null,null,null,null,null,null,null,null,null,null,null,{"$f":"VLOOKUP(recettesoct[[#This Row],[Catégorie]],'coulisses 2'!$A$1:$B$20,2,0)","v":0}]
[null,null,null,null,null,null,null,null,null,null,null,null,null,null,null,null,null,{"$f":"VLOOKUP(recettesoct[[#This Row],[Catégorie]],'coulisses 2'!$A$1:$B$20,2,0)","v":0}]
[null,null,null,null,null,null,null,null,null,null,null,null,null,null,null,null,null,{"$f":"VLOOKUP(recettesoct[[#This Row],[Catégorie]],'coulisses 2'!$A$1:$B$20,2,0)","v":0}]
[null,null,null,null,null,null,null,null,null,null,null,null,null,null,null,null,null,{"$f":"VLOOKUP(recettesoct[[#This Row],[Catégorie]],'coulisses 2'!$A$1:$B$20,2,0)","v":0}]
[null,null,null,null,null,null,null,null,null,null,null,null,null,null,null,null,null,{"$f":"VLOOKUP(recettesoct[[#This Row],[Catégorie]],'coulisses 2'!$A$1:$B$20,2,0)","v":0}]
[null,null,null,null,null,null,null,null,null,null,null,null,null,null,null,null,null,{"$f":"VLOOKUP(recettesoct[[#This Row],[Catégorie]],'coulisses 2'!$A$1:$B$20,2,0)","v":0}]
[null,null,null,null,null,null,null,null,null,null,null,null,null,null,null,null,null,{"$f":"VLOOKUP(recettesoct[[#This Row],[Catégorie]],'coulisses 2'!$A$1:$B$20,2,0)","v":0}]
[null,null,null,null,null,null,null,null,null,null,null,null,null,null,null,null,null,{"$f":"VLOOKUP(recettesoct[[#This Row],[Catégorie]],'coulisses 2'!$A$1:$B$20,2,0)","v":0}]
[null,null,null,null,null,null,null,null,null,null,null,null,null,null,null,null,null,{"$f":"VLOOKUP(recettesoct[[#This Row],[Catégorie]],'coulisses 2'!$A$1:$B$20,2,0)","v":0}]
[null,null,null,null,null,null,null,null,null,null,null,null,null,null,null,null,null,{"$f":"VLOOKUP(recettesoct[[#This Row],[Catégorie]],'coulisses 2'!$A$1:$B$20,2,0)","v":0}]
[null,null,null,null,null,null,null,null,null,null,null,null,null,null,null,null,null,{"$f":"VLOOKUP(recettesoct[[#This Row],[Catégorie]],'coulisses 2'!$A$1:$B$20,2,0)","v":0}]
[null,null,null,null,null,null,null,null,null,null,null,null,null,null,null,null,null,{"$f":"VLOOKUP(recettesoct[[#This Row],[Catégorie]],'coulisses 2'!$A$1:$B$20,2,0)","v":0}]
[null,null,null,null,null,null,null,null,null,null,null,null,null,null,null,null,null,{"$f":"VLOOKUP(recettesoct[[#This Row],[Catégorie]],'coulisses 2'!$A$1:$B$20,2,0)","v":0}]
[null,null,null,null,null,null,null,null,null,null,null,null,null,null,null,null,null,{"$f":"VLOOKUP(recettesoct[[#This Row],[Catégorie]],'coulisses 2'!$A$1:$B$20,2,0)","v":0}]
[null,null,null,null,null,null,null,null,null,null,null,null,null,null,null,null,null,{"$f":"VLOOKUP(recettesoct[[#This Row],[Catégorie]],'coulisses 2'!$A$1:$B$20,2,0)","v":0}]
[null,null,null,null,null,null,null,null,null,null,null,null,null,null,null,null,null,{"$f":"VLOOKUP(recettesoct[[#This Row],[Catégorie]],'coulisses 2'!$A$1:$B$20,2,0)","v":0}]
[null,null,null,null,null,null,null,null,null,null,null,null,null,null,null,null,null,{"$f":"VLOOKUP(recettesoct[[#This Row],[Catégorie]],'coulisses 2'!$A$1:$B$20,2,0)","v":0}]
[null,null,null,null,null,null,null,null,null,null,null,null,null,null,null,null,null,{"$f":"VLOOKUP(recettesoct[[#This Row],[Catégorie]],'coulisses 2'!$A$1:$B$20,2,0)","v":0}]
[null,null,null,null,null,null,null,null,null,null,null,null,null,null,null,null,null,{"$f":"VLOOKUP(recettesoct[[#This Row],[Catégorie]],'coulisses 2'!$A$1:$B$20,2,0)","v":0}]
[null,null,null,null,null,null,null,null,null,null,null,null,null,null,null,null,null,{"$f":"VLOOKUP(recettesoct[[#This Row],[Catégorie]],'coulisses 2'!$A$1:$B$20,2,0)","v":0}]
[null,null,null,null,null,null,null,null,null,null,null,null,null,null,null,null,null,{"$f":"VLOOKUP(recettesoct[[#This Row],[Catégorie]],'coulisses 2'!$A$1:$B$20,2,0)","v":0}]
[null,null,null,null,null,null,null,null,null,null,null,null,null,null,null,null,null,{"$f":"VLOOKUP(recettesoct[[#This Row],[Catégorie]],'coulisses 2'!$A$1:$B$20,2,0)","v":0}]
[null,null,null,null,null,null,null,null,null,null,null,null,null,null,null,null,null,{"$f":"VLOOKUP(recettesoct[[#This Row],[Catégorie]],'coulisses 2'!$A$1:$B$20,2,0)","v":0}]
[null,null,null,null,null,null,null,null,null,null,null,null,null,null,null,null,null,{"$f":"VLOOKUP(recettesoct[[#This Row],[Catégorie]],'coulisses 2'!$A$1:$B$20,2,0)","v":0}]
[null,null,null,null,null,null,null,null,null,null,null,null,null,null,null,null,null,{"$f":"VLOOKUP(recettesoct[[#This Row],[Catégorie]],'coulisses 2'!$A$1:$B$20,2,0)","v":0}]
[null,null,null,null,null,null,null,null,null,null,null,null,null,null,null,null,null,{"$f":"VLOOKUP(recettesoct[[#This Row],[Catégorie]],'coulisses 2'!$A$1:$B$20,2,0)","v":0}]
[null,null,null,null,null,null,null,null,null,null,null,null,null,null,null,null,null,{"$f":"VLOOKUP(recettesoct[[#This Row],[Catégorie]],'coulisses 2'!$A$1:$B$20,2,0)","v":0}]
[null,null,null,null,null,null,null,null,null,null,null,null,null,null,null,null,null,{"$f":"VLOOKUP(recettesoct[[#This Row],[Catégorie]],'coulisses 2'!$A$1:$B$20,2,0)","v":0}]
[null,null,null,null,null,null,null,null,null,null,null,null,null,null,null,null,null,{"$f":"VLOOKUP(recettesoct[[#This Row],[Catégorie]],'coulisses 2'!$A$1:$B$20,2,0)","v":0}]
[null,null,null,null,null,null,null,null,null,null,null,null,null,null,null,null,null,{"$f":"VLOOKUP(recettesoct[[#This Row],[Catégorie]],'coulisses 2'!$A$1:$B$20,2,0)","v":0}]
[null,null,null,null,null,null,null,null,null,null,null,null,null,null,null,null,null,{"$f":"VLOOKUP(recettesoct[[#This Row],[Catégorie]],'coulisses 2'!$A$1:$B$20,2,0)","v":0}]
[null,null,null,null,null,null,null,null,null,null,null,null,null,null,null,null,null,{"$f":"VLOOKUP(recettesoct[[#This Row],[Catégorie]],'coulisses 2'!$A$1:$B$20,2,0)","v":0}]
[null,null,null,null,null,null,null,null,null,null,null,null,null,null,null,null,null,{"$f":"VLOOKUP(recettesoct[[#This Row],[Catégorie]],'coulisses 2'!$A$1:$B$20,2,0)","v":0}]
[null,null,null,null,null,null,null,null,null,null,null,null,null,null,null,null,null,{"$f":"VLOOKUP(recettesoct[[#This Row],[Catégorie]],'coulisses 2'!$A$1:$B$20,2,0)","v":0}]
[null,null,null,null,null,null,null,null,null,null,null,null,null,null,null,null,null,{"$f":"VLOOKUP(recettesoct[[#This Row],[Catégorie]],'coulisses 2'!$A$1:$B$20,2,0)","v":0}]
[null,null,null,null,null,null,null,null,null,null,null,null,null,null,null,null,null,{"$f":"VLOOKUP(recettesoct[[#This Row],[Catégorie]],'coulisses 2'!$A$1:$B$20,2,0)","v":0}]
[null,null,null,null,null,null,null,null,null,null,null,null,null,null,null,null,null,{"$f":"VLOOKUP(recettesoct[[#This Row],[Catégorie]],'coulisses 2'!$A$1:$B$20,2,0)","v":0}]
[null,null,null,null,null,null,null,null,null,null,null,null,null,null,null,null,null,{"$f":"VLOOKUP(recettesoct[[#This Row],[Catégorie]],'coulisses 2'!$A$1:$B$20,2,0)","v":0}]
[null,null,null,null,null,null,null,null,null,null,null,null,null,null,null,null,null,{"$f":"VLOOKUP(recettesoct[[#This Row],[Catégorie]],'coulisses 2'!$A$1:$B$20,2,0)","v":0}]
[null,null,null,null,null,null,null,null,null,null,null,null,null,null,null,null,null,{"$f":"VLOOKUP(recettesoct[[#This Row],[Catégorie]],'coulisses 2'!$A$1:$B$20,2,0)","v":0}]
[null,null,null,null,null,null,null,null,null,null,null,null,null,null,null,null,null,{"$f":"VLOOKUP(recettesoct[[#This Row],[Catégorie]],'coulisses 2'!$A$1:$B$20,2,0)","v":0}]
[null,null,null,null,null,null,null,null,null,null,null,null,null,null,null,null,null,{"$f":"VLOOKUP(recettesoct[[#This Row],[Catégorie]],'coulisses 2'!$A$1:$B$20,2,0)","v":0}]
[null,null,null,null,null,null,null,null,null,null,null,null,null,null,null,null,null,{"$f":"VLOOKUP(recettesoct[[#This Row],[Catégorie]],'coulisses 2'!$A$1:$B$20,2,0)","v":0}]
[null,null,null,null,null,null,null,null,null,null,null,null,null,null,null,null,null,{"$f":"VLOOKUP(recettesoct[[#This Row],[Catégorie]],'coulisses 2'!$A$1:$B$20,2,0)","v":0}]
[null,null,null,null,null,null,null,null,null,null,null,null,null,null,null,null,null,{"$f":"VLOOKUP(recettesoct[[#This Row],[Catégorie]],'coulisses 2'!$A$1:$B$20,2,0)","v":0}]
[null,null,null,null,null,null,null,null,null,null,null,null,null,null,null,null,null,{"$f":"VLOOKUP(recettesoct[[#This Row],[Catégorie]],'coulisses 2'!$A$1:$B$20,2,0)","v":0}]
[null,null,null,null,null,null,null,null,null,null,null,null,null,null,null,null,null,{"$f":"VLOOKUP(recettesoct[[#This Row],[Catégorie]],'coulisses 2'!$A$1:$B$20,2,0)","v":0}]
[null,null,null,null,null,null,null,null,null,null,null,null,null,null,null,null,null,{"$f":"VLOOKUP(recettesoct[[#This Row],[Catégorie]],'coulisses 2'!$A$1:$B$20,2,0)","v":0}]
[null,null,null,null,null,null,null,null,null,null,null,null,null,null,null,null,null,{"$f":"VLOOKUP(recettesoct[[#This Row],[Catégorie]],'coulisses 2'!$A$1:$B$20,2,0)","v":0}]
[null,null,null,null,null,null,null,null,null,null,null,null,null,null,null,null,null,{"$f":"VLOOKUP(recettesoct[[#This Row],[Catégorie]],'coulisses 2'!$A$1:$B$20,2,0)","v":0}]
[null,null,null,null,null,null,null,null,null,null,null,null,null,null,null,null,null,{"$f":"VLOOKUP(recettesoct[[#This Row],[Catégorie]],'coulisses 2'!$A$1:$B$20,2,0)","v":0}]
[null,null,null,null,null,null,null,null,null,null,null,null,null,null,null,null,null,{"$f":"VLOOKUP(recettesoct[[#This Row],[Catégorie]],'coulisses 2'!$A$1:$B$20,2,0)","v":0}]
[null,null,null,null,null,null,null,null,null,null,null,null,null,null,null,null,null,{"$f":"VLOOKUP(recettesoct[[#This Row],[Catégorie]],'coulisses 2'!$A$1:$B$20,2,0)","v":0}]
[null,null,null,null,null,null,null,null,null,null,null,null,null,null,null,null,null,{"$f":"VLOOKUP(recettesoct[[#This Row],[Catégorie]],'coulisses 2'!$A$1:$B$20,2,0)","v":0}]
[null,null,null,null,null,null,null,null,null,null,null,null,null,null,null,null,null,{"$f":"VLOOKUP(recettesoct[[#This Row],[Catégorie]],'coulisses 2'!$A$1:$B$20,2,0)","v":0}]
[null,null,null,null,null,null,null,null,null,null,null,null,null,null,null,null,null,{"$f":"VLOOKUP(recettesoct[[#This Row],[Catégorie]],'coulisses 2'!$A$1:$B$20,2,0)","v":0}]
[null,null,null,null,null,null,null,null,null,null,null,null,null,null,null,null,null,{"$f":"VLOOKUP(recettesoct[[#This Row],[Catégorie]],'coulisses 2'!$A$1:$B$20,2,0)","v":0}]
[null,null,null,null,null,null,null,null,null,null,null,null,null,null,null,null,null,{"$f":"VLOOKUP(recettesoct[[#This Row],[Catégorie]],'coulisses 2'!$A$1:$B$20,2,0)","v":0}]
[null,null,null,null,null,null,null,null,null,null,null,null,null,null,null,null,null,{"$f":"VLOOKUP(recettesoct[[#This Row],[Catégorie]],'coulisses 2'!$A$1:$B$20,2,0)","v":0}]
[null,null,null,null,null,null,null,null,null,null,null,null,null,null,null,null,null,{"$f":"VLOOKUP(recettesoct[[#This Row],[Catégorie]],'coulisses 2'!$A$1:$B$20,2,0)","v":0}]
[null,null,null,null,null,null,null,null,null,null,null,null,null,null,null,null,null,{"$f":"VLOOKUP(recettesoct[[#This Row],[Catégorie]],'coulisses 2'!$A$1:$B$20,2,0)","v":0}]
[null,null,null,null,null,null,null,null,null,null,null,null,null,null,null,null,null,{"$f":"VLOOKUP(recettesoct[[#This Row],[Catégorie]],'coulisses 2'!$A$1:$B$20,2,0)","v":0}]
[null,null,null,null,null,null,null,null,null,null,null,null,null,null,null,null,null,{"$f":"VLOOKUP(recettesoct[[#This Row],[Catégorie]],'coulisses 2'!$A$1:$B$20,2,0)","v":0}]
[null,null,null,null,null,null,null,null,null,null,null,null,null,null,null,null,null,{"$f":"VLOOKUP(recettesoct[[#This Row],[Catégorie]],'coulisses 2'!$A$1:$B$20,2,0)","v":0}]
[null,null,null,null,null,null,null,null,null,null,null,null,null,null,null,null,null,{"$f":"VLOOKUP(recettesoct[[#This Row],[Catégorie]],'coulisses 2'!$A$1:$B$20,2,0)","v":0}]
[null,null,null,null,null,null,null,null,null,null,null,null,null,null,null,null,null,{"$f":"VLOOKUP(recettesoct[[#This Row],[Catégorie]],'coulisses 2'!$A$1:$B$20,2,0)","v":0}]
[null,null,null,null,null,null,null,null,null,null,null,null,null,null,null,null,null,{"$f":"VLOOKUP(recettesoct[[#This Row],[Catégorie]],'coulisses 2'!$A$1:$B$20,2,0)","v":0}]
[null,null,null,null,null,null,null,null,null,null,null,null,null,null,null,null,null,{"$f":"VLOOKUP(recettesoct[[#This Row],[Catégorie]],'coulisses 2'!$A$1:$B$20,2,0)","v":0}]
[null,null,null,null,null,null,null,null,null,null,null,null,null,null,null,null,null,{"$f":"VLOOKUP(recettesoct[[#This Row],[Catégorie]],'coulisses 2'!$A$1:$B$20,2,0)","v":0}]
[null,null,null,null,null,null,null,null,null,null,null,null,null,null,null,null,null,{"$f":"VLOOKUP(recettesoct[[#This Row],[Catégorie]],'coulisses 2'!$A$1:$B$20,2,0)","v":0}]
[null,null,null,null,null,null,null,null,null,null,null,null,null,null,null,null,null,{"$f":"VLOOKUP(recettesoct[[#This Row],[Catégorie]],'coulisses 2'!$A$1:$B$20,2,0)","v":0}]
[null,null,null,null,null,null,null,null,null,null,null,null,null,null,null,null,null,{"$f":"VLOOKUP(recettesoct[[#This Row],[Catégorie]],'coulisses 2'!$A$1:$B$20,2,0)","v":0}]
[null,null,null,null,null,null,null,null,null,null,null,null,null,null,null,null,null,{"$f":"VLOOKUP(recettesoct[[#This Row],[Catégorie]],'coulisses 2'!$A$1:$B$20,2,0)","v":0}]
[null,null,null,null,null,null,null,null,null,null,null,null,null,null,null,null,null,{"$f":"VLOOKUP(recettesoct[[#This Row],[Catégorie]],'coulisses 2'!$A$1:$B$20,2,0)","v":0}]
[null,null,null,null,null,null,null,null,null,null,null,null,null,null,null,null,null,{"$f":"VLOOKUP(recettesoct[[#This Row],[Catégorie]],'coulisses 2'!$A$1:$B$20,2,0)","v":0}]
[null,null,null,null,null,null,null,null,null,null,null,null,null,null,null,null,null,{"$f":"VLOOKUP(recettesoct[[#This Row],[Catégorie]],'coulisses 2'!$A$1:$B$20,2,0)","v":0}]
[null,null,null,null,null,null,null,null,null,null,null,null,null,null,null,null,null,{"$f":"VLOOKUP(recettesoct[[#This Row],[Catégorie]],'coulisses 2'!$A$1:$B$20,2,0)","v":0}]
[null,null,null,null,null,null,null,null,null,null,null,null,null,null,null,null,null,{"$f":"VLOOKUP(recettesoct[[#This Row],[Catégorie]],'coulisses 2'!$A$1:$B$20,2,0)","v":0}]
[null,null,null,null,null,null,null,null,null,null,null,null,null,null,null,null,null,{"$f":"VLOOKUP(recettesoct[[#This Row],[Catégorie]],'coulisses 2'!$A$1:$B$20,2,0)","v":0}]
[null,null,null,null,null,null,null,null,null,null,null,null,null,null,null,null,null,{"$f":"VLOOKUP(recettesoct[[#This Row],[Catégorie]],'coulisses 2'!$A$1:$B$20,2,0)","v":0}]
[null,null,null,null,null,null,null,null,null,null,null,null,null,null,null,null,null,{"$f":"VLOOKUP(recettesoct[[#This Row],[Catégorie]],'coulisses 2'!$A$1:$B$20,2,0)","v":0}]
[null,null,null,null,null,null,null,null,null,null,null,null,null,null,null,null,null,{"$f":"VLOOKUP(recettesoct[[#This Row],[Catégorie]],'coulisses 2'!$A$1:$B$20,2,0)","v":0}]
[null,null,null,null,null,null,null,null,null,null,null,null,null,null,null,null,null,{"$f":"VLOOKUP(recettesoct[[#This Row],[Catégorie]],'coulisses 2'!$A$1:$B$20,2,0)","v":0}]
[null,null,null,null,null,null,null,null,null,null,null,null,null,null,null,null,null,{"$f":"VLOOKUP(recettesoct[[#This Row],[Catégorie]],'coulisses 2'!$A$1:$B$20,2,0)","v":0}]
[null,null,null,null,null,null,null,null,null,null,null,null,null,null,null,null,null,{"$f":"VLOOKUP(recettesoct[[#This Row],[Catégorie]],'coulisses 2'!$A$1:$B$20,2,0)","v":0}]
[null,null,null,null,null,null,null,null,null,null,null,null,null,null,null,null,null,{"$f":"VLOOKUP(recettesoct[[#This Row],[Catégorie]],'coulisses 2'!$A$1:$B$20,2,0)","v":0}]
[null,null,null,null,null,null,null,null,null,null,null,null,null,null,null,null,null,{"$f":"VLOOKUP(recettesoct[[#This Row],[Catégorie]],'coulisses 2'!$A$1:$B$20,2,0)","v":0}]
[null,null,null,null,null,null,null,null,null,null,null,null,null,null,null,null,null,{"$f":"VLOOKUP(recettesoct[[#This Row],[Catégorie]],'coulisses 2'!$A$1:$B$20,2,0)","v":0}]
[null,null,null,null,null,null,null,null,null,null,null,null,null,null,null,null,null,{"$f":"VLOOKUP(recettesoct[[#This Row],[Catégorie]],'coulisses 2'!$A$1:$B$20,2,0)","v":0}]
[null,null,null,null,null,null,null,null,null,null,null,null,null,null,null,null,null,{"$f":"VLOOKUP(recettesoct[[#This Row],[Catégorie]],'coulisses 2'!$A$1:$B$20,2,0)","v":0}]
[null,null,null,null,null,null,null,null,null,null,null,null,null,null,null,null,null,{"$f":"VLOOKUP(recettesoct[[#This Row],[Catégorie]],'coulisses 2'!$A$1:$B$20,2,0)","v":0}]
[null,null,null,null,null,null,null,null,null,null,null,null,null,null,null,null,null,{"$f":"VLOOKUP(recettesoct[[#This Row],[Catégorie]],'coulisses 2'!$A$1:$B$20,2,0)","v":0}]
[null,null,null,null,null,null,null,null,null,null,null,null,null,null,null,null,null,{"$f":"VLOOKUP(recettesoct[[#This Row],[Catégorie]],'coulisses 2'!$A$1:$B$20,2,0)","v":0}]
[null,null,null,null,null,null,null,null,null,null,null,null,null,null,null,null,null,{"$f":"VLOOKUP(recettesoct[[#This Row],[Catégorie]],'coulisses 2'!$A$1:$B$20,2,0)","v":0}]
[null,null,null,null,null,null,null,null,null,null,null,null,null,null,null,null,null,{"$f":"VLOOKUP(recettesoct[[#This Row],[Catégorie]],'coulisses 2'!$A$1:$B$20,2,0)","v":0}]
[null,null,null,null,null,null,null,null,null,null,null,null,null,null,null,null,null,{"$f":"VLOOKUP(recettesoct[[#This Row],[Catégorie]],'coulisses 2'!$A$1:$B$20,2,0)","v":0}]
[null,null,null,null,null,null,null,null,null,null,null,null,null,null,null,null,null,{"$f":"VLOOKUP(recettesoct[[#This Row],[Catégorie]],'coulisses 2'!$A$1:$B$20,2,0)","v":0}]
[null,null,null,null,null,null,null,null,null,null,null,null,null,null,null,null,null,{"$f":"VLOOKUP(recettesoct[[#This Row],[Catégorie]],'coulisses 2'!$A$1:$B$20,2,0)","v":0}]
[null,null,null,null,null,null,null,null,null,null,null,null,null,null,null,null,null,{"$f":"VLOOKUP(recettesoct[[#This Row],[Catégorie]],'coulisses 2'!$A$1:$B$20,2,0)","v":0}]
[null,null,null,null,null,null,null,null,null,null,null,null,null,null,null,null,null,{"$f":"VLOOKUP(recettesoct[[#This Row],[Catégorie]],'coulisses 2'!$A$1:$B$20,2,0)","v":0}]
[null,null,null,null,null,null,null,null,null,null,null,null,null,null,null,null,null,{"$f":"VLOOKUP(recettesoct[[#This Row],[Catégorie]],'coulisses 2'!$A$1:$B$20,2,0)","v":0}]
[null,null,null,null,null,null,null,null,null,null,null,null,null,null,null,null,null,{"$f":"VLOOKUP(recettesoct[[#This Row],[Catégorie]],'coulisses 2'!$A$1:$B$20,2,0)","v":0}]
[null,null,null,null,null,null,null,null,null,null,null,null,null,null,null,null,null,{"$f":"VLOOKUP(recettesoct[[#This Row],[Catégorie]],'coulisses 2'!$A$1:$B$20,2,0)","v":0}]
[null,null,null,null,null,null,null,null,null,null,null,null,null,null,null,null,null,{"$f":"VLOOKUP(recettesoct[[#This Row],[Catégorie]],'coulisses 2'!$A$1:$B$20,2,0)","v":0}]
[null,null,null,null,null,null,null,null,null,null,null,null,null,null,null,null,null,{"$f":"VLOOKUP(recettesoct[[#This Row],[Catégorie]],'coulisses 2'!$A$1:$B$20,2,0)","v":0}]
[null,null,null,null,null,null,null,null,null,null,null,null,null,null,null,null,null,{"$f":"VLOOKUP(recettesoct[[#This Row],[Catégorie]],'coulisses 2'!$A$1:$B$20,2,0)","v":0}]
[null,null,null,null,null,null,null,null,null,null,null,null,null,null,null,null,null,{"$f":"VLOOKUP(recettesoct[[#This Row],[Catégorie]],'coulisses 2'!$A$1:$B$20,2,0)","v":0}]
[null,null,null,null,null,null,null,null,null,null,null,null,null,null,null,null,null,{"$f":"VLOOKUP(recettesoct[[#This Row],[Catégorie]],'coulisses 2'!$A$1:$B$20,2,0)","v":0}]
[null,null,null,null,null,null,null,null,null,null,null,null,null,null,null,null,null,{"$f":"VLOOKUP(recettesoct[[#This Row],[Catégorie]],'coulisses 2'!$A$1:$B$20,2,0)","v":0}]
[null,null,null,null,null,null,null,null,null,null,null,null,null,null,null,null,null,{"$f":"VLOOKUP(recettesoct[[#This Row],[Catégorie]],'coulisses 2'!$A$1:$B$20,2,0)","v":0}]
[null,null,null,null,null,null,null,null,null,null,null,null,null,null,null,null,null,{"$f":"VLOOKUP(recettesoct[[#This Row],[Catégorie]],'coulisses 2'!$A$1:$B$20,2,0)","v":0}]
[null,null,null,null,null,null,null,null,null,null,null,null,null,null,null,null,null,{"$f":"VLOOKUP(recettesoct[[#This Row],[Catégorie]],'coulisses 2'!$A$1:$B$20,2,0)","v":0}]
[null,null,null,null,null,null,null,null,null,null,null,null,null,null,null,null,null,{"$f":"VLOOKUP(recettesoct[[#This Row],[Catégorie]],'coulisses 2'!$A$1:$B$20,2,0)","v":0}]
[null,null,null,null,null,null,null,null,null,null,null,null,null,null,null,null,null,{"$f":"VLOOKUP(recettesoct[[#This Row],[Catégorie]],'coulisses 2'!$A$1:$B$20,2,0)","v":0}]

{"sheet":"🍂 11","index":11,"n_rows":304,"n_cols":24,"rows_kept":304,"cut":false,"hidden":false,"merged":[[1,1,1,4],[1,9,1,12]]}
[null,{"$f":"'👩🏻‍🏫 Bienvenue !'!K7","v":0},null,{"$f":" '👩🏻‍🏫 Bienvenue !'!I12&\" - \"&\"Novembre \"&'👩🏻‍🏫 Bienvenue !'!I16","v":" - Novembre "},null,null,null,null,null,null,null,null,null,null,"VOTRE PROFIT DU MOIS",{"$f":"H2-P2","v":0}]
[null,"Vos recettes 💰",null,null,null,null,"TOTAL",{"$f":"SUM(recettesnov[Montant])","v":0},null,"Vos dépenses 🧾",null,null,null,null,"TOTAL",{"$f":"SUM(depensesnov[Montant])","v":0}]
[]
[null,"Date","Mode de paiement","N°","Libellé et nom du client","Catégorie","Axe","Montant",null,"Date","Mode de paiement","N°","Libellé","Catégorie","Axe","Montant",null,"Taux"]
[null,null,null,null,null,null,null,null,null,null,null,"N1","Cotisations sociales Septembre - Taux 1","Cotisations sociales",null,{"$f":"'📝  09'!X29","v":0},null,{"$f":"VLOOKUP(recettesnov[[#This Row],[Catégorie]],'coulisses 2'!$A$1:$B$20,2,0)","v":0},null,"Récapitulatif par type de dépense",{"$f":"SUM(U6:U26)","v":0},null,"Récapitulatif par type de recette",{"$f":"SUM(X6:X26)","v":0}]
[null,null,null,null,null,null,null,null,null,null,null,"N2","Cotisations sociales Septembre - Taux 2","Cotisations sociales",null,{"$f":"'📝  09'!X30","v":0},null,{"$f":"VLOOKUP(recettesnov[[#This Row],[Catégorie]],'coulisses 2'!$A$1:$B$20,2,0)","v":0},null,{"$f":"coulisses!J23","v":0},{"$f":"SUMIF(depensesnov[Catégorie],T6,depensesnov[Montant])","v":0},null,{"$f":"coulisses!J3","v":0},{"$f":"SUMIF(recettesnov[Catégorie],W6,recettesnov[Montant])","v":0}]
[null,null,null,null,null,null,null,null,null,null,null,"N3","Cotisations sociales Septembre - Taux 3","Cotisations sociales",null,{"$f":"'📝  09'!X31","v":0},null,{"$f":"VLOOKUP(recettesnov[[#This Row],[Catégorie]],'coulisses 2'!$A$1:$B$20,2,0)","v":0},null,{"$f":"coulisses!J24","v":0},{"$f":"SUMIF(depensesnov[Catégorie],T7,depensesnov[Montant])","v":0},null,{"$f":"coulisses!J4","v":0},{"$f":"SUMIF(recettesnov[Catégorie],W7,recettesnov[Montant])","v":0}]
[null,null,null,null,null,null,null,null,null,null,null,null,null,null,null,null,null,{"$f":"VLOOKUP(recettesnov[[#This Row],[Catégorie]],'coulisses 2'!$A$1:$B$20,2,0)","v":0},null,{"$f":"coulisses!J25","v":0},{"$f":"SUMIF(depensesnov[Catégorie],T8,depensesnov[Montant])","v":0},null,{"$f":"coulisses!J5","v":0},{"$f":"SUMIF(recettesnov[Catégorie],W8,recettesnov[Montant])","v":0}]
[null,null,null,null,null,null,null,null,null,null,null,null,null,null,null,null,null,{"$f":"VLOOKUP(recettesnov[[#This Row],[Catégorie]],'coulisses 2'!$A$1:$B$20,2,0)","v":0},null,{"$f":"coulisses!J26","v":0},{"$f":"SUMIF(depensesnov[Catégorie],T9,depensesnov[Montant])","v":0},null,{"$f":"coulisses!J6","v":0},{"$f":"SUMIF(recettesnov[Catégorie],W9,recettesnov[Montant])","v":0}]
[null,null,null,null,null,null,null,null,null,null,null,null,null,null,null,null,null,{"$f":"VLOOKUP(recettesnov[[#This Row],[Catégorie]],'coulisses 2'!$A$1:$B$20,2,0)","v":0},null,{"$f":"coulisses!J27","v":0},{"$f":"SUMIF(depensesnov[Catégorie],T10,depensesnov[Montant])","v":0},null,{"$f":"coulisses!J7","v":0},{"$f":"SUMIF(recettesnov[Catégorie],W10,recettesnov[Montant])","v":0}]
[null,null,null,null,null,null,null,null,null,null,null,null,null,null,null,null,null,{"$f":"VLOOKUP(recettesnov[[#This Row],[Catégorie]],'coulisses 2'!$A$1:$B$20,2,0)","v":0},null,{"$f":"coulisses!J28","v":0},{"$f":"SUMIF(depensesnov[Catégorie],T11,depensesnov[Montant])","v":0},null,{"$f":"coulisses!J8","v":0},{"$f":"SUMIF(recettesnov[Catégorie],W11,recettesnov[Montant])","v":0}]
[null,null,null,null,null,null,null,null,null,null,null,null,null,null,null,null,null,{"$f":"VLOOKUP(recettesnov[[#This Row],[Catégorie]],'coulisses 2'!$A$1:$B$20,2,0)","v":0},null,{"$f":"coulisses!J29","v":0},{"$f":"SUMIF(depensesnov[Catégorie],T12,depensesnov[Montant])","v":0},null,{"$f":"coulisses!J9","v":0},{"$f":"SUMIF(recettesnov[Catégorie],W12,recettesnov[Montant])","v":0}]
[null,null,null,null,null,null,null,null,null,null,null,null,null,null,null,null,null,{"$f":"VLOOKUP(recettesnov[[#This Row],[Catégorie]],'coulisses 2'!$A$1:$B$20,2,0)","v":0},null,{"$f":"coulisses!J30","v":0},{"$f":"SUMIF(depensesnov[Catégorie],T13,depensesnov[Montant])","v":0},null,{"$f":"coulisses!J10","v":0},{"$f":"SUMIF(recettesnov[Catégorie],W13,recettesnov[Montant])","v":0}]
[null,null,null,null,null,null,null,null,null,null,null,null,null,null,null,null,null,{"$f":"VLOOKUP(recettesnov[[#This Row],[Catégorie]],'coulisses 2'!$A$1:$B$20,2,0)","v":0},null,{"$f":"coulisses!J31","v":0},{"$f":"SUMIF(depensesnov[Catégorie],T14,depensesnov[Montant])","v":0},null,{"$f":"coulisses!J11","v":0},{"$f":"SUMIF(recettesnov[Catégorie],W14,recettesnov[Montant])","v":0}]
[null,null,null,null,null,null,null,null,null,null,null,null,null,null,null,null,null,{"$f":"VLOOKUP(recettesnov[[#This Row],[Catégorie]],'coulisses 2'!$A$1:$B$20,2,0)","v":0},null,{"$f":"coulisses!J32","v":0},{"$f":"SUMIF(depensesnov[Catégorie],T15,depensesnov[Montant])","v":0},null,{"$f":"coulisses!J12","v":0},{"$f":"SUMIF(recettesnov[Catégorie],W15,recettesnov[Montant])","v":0}]
[null,null,null,null,null,null,null,null,null,null,null,null,null,null,null,null,null,{"$f":"VLOOKUP(recettesnov[[#This Row],[Catégorie]],'coulisses 2'!$A$1:$B$20,2,0)","v":0},null,{"$f":"coulisses!J33","v":0},{"$f":"SUMIF(depensesnov[Catégorie],T16,depensesnov[Montant])","v":0},null,{"$f":"coulisses!J13","v":0},{"$f":"SUMIF(recettesnov[Catégorie],W16,recettesnov[Montant])","v":0}]
[null,null,null,null,null,null,null,null,null,null,null,null,null,null,null,null,null,{"$f":"VLOOKUP(recettesnov[[#This Row],[Catégorie]],'coulisses 2'!$A$1:$B$20,2,0)","v":0},null,{"$f":"coulisses!J34","v":0},{"$f":"SUMIF(depensesnov[Catégorie],T17,depensesnov[Montant])","v":0},null,{"$f":"coulisses!J14","v":0},{"$f":"SUMIF(recettesnov[Catégorie],W17,recettesnov[Montant])","v":0}]
[null,null,null,null,null,null,null,null,null,null,null,null,null,null,null,null,null,{"$f":"VLOOKUP(recettesnov[[#This Row],[Catégorie]],'coulisses 2'!$A$1:$B$20,2,0)","v":0},null,{"$f":"coulisses!J35","v":0},{"$f":"SUMIF(depensesnov[Catégorie],T18,depensesnov[Montant])","v":0},null,{"$f":"coulisses!J15","v":0},{"$f":"SUMIF(recettesnov[Catégorie],W18,recettesnov[Montant])","v":0}]
[null,null,null,null,null,null,null,null,null,null,null,null,null,null,null,null,null,{"$f":"VLOOKUP(recettesnov[[#This Row],[Catégorie]],'coulisses 2'!$A$1:$B$20,2,0)","v":0},null,{"$f":"coulisses!J36","v":0},{"$f":"SUMIF(depensesnov[Catégorie],T19,depensesnov[Montant])","v":0},null,{"$f":"coulisses!J16","v":0},{"$f":"SUMIF(recettesnov[Catégorie],W19,recettesnov[Montant])","v":0}]
[null,null,null,null,null,null,null,null,null,null,null,null,null,null,null,null,null,{"$f":"VLOOKUP(recettesnov[[#This Row],[Catégorie]],'coulisses 2'!$A$1:$B$20,2,0)","v":0},null,{"$f":"coulisses!J37","v":0},{"$f":"SUMIF(depensesnov[Catégorie],T20,depensesnov[Montant])","v":0},null,{"$f":"coulisses!J17","v":0},{"$f":"SUMIF(recettesnov[Catégorie],W20,recettesnov[Montant])","v":0}]
[null,null,null,null,null,null,null,null,null,null,null,null,null,null,null,null,null,{"$f":"VLOOKUP(recettesnov[[#This Row],[Catégorie]],'coulisses 2'!$A$1:$B$20,2,0)","v":0},null,{"$f":"coulisses!J38","v":0},{"$f":"SUMIF(depensesnov[Catégorie],T21,depensesnov[Montant])","v":0},null,{"$f":"coulisses!J18","v":0},{"$f":"SUMIF(recettesnov[Catégorie],W21,recettesnov[Montant])","v":0}]
[null,null,null,null,null,null,null,null,null,null,null,null,null,null,null,null,null,{"$f":"VLOOKUP(recettesnov[[#This Row],[Catégorie]],'coulisses 2'!$A$1:$B$20,2,0)","v":0},null,{"$f":"coulisses!J39","v":0},{"$f":"SUMIF(depensesnov[Catégorie],T22,depensesnov[Montant])","v":0},null,{"$f":"coulisses!J19","v":0},{"$f":"SUMIF(recettesnov[Catégorie],W22,recettesnov[Montant])","v":0}]
[null,null,null,null,null,null,null,null,null,null,null,null,null,null,null,null,null,{"$f":"VLOOKUP(recettesnov[[#This Row],[Catégorie]],'coulisses 2'!$A$1:$B$20,2,0)","v":0},null,{"$f":"coulisses!J40","v":0},{"$f":"SUMIF(depensesnov[Catégorie],T23,depensesnov[Montant])","v":0},null,{"$f":"coulisses!J20","v":0},{"$f":"SUMIF(recettesnov[Catégorie],W23,recettesnov[Montant])","v":0}]
[null,null,null,null,null,null,null,null,null,null,null,null,null,null,null,null,null,{"$f":"VLOOKUP(recettesnov[[#This Row],[Catégorie]],'coulisses 2'!$A$1:$B$20,2,0)","v":0},null,{"$f":"coulisses!J41","v":0},{"$f":"SUMIF(depensesnov[Catégorie],T24,depensesnov[Montant])","v":0},null,{"$f":"coulisses!J21","v":0},{"$f":"SUMIF(recettesnov[Catégorie],W24,recettesnov[Montant])","v":0}]
[null,null,null,null,null,null,null,null,null,null,null,null,null,null,null,null,null,{"$f":"VLOOKUP(recettesnov[[#This Row],[Catégorie]],'coulisses 2'!$A$1:$B$20,2,0)","v":0},null,{"$f":"coulisses!J42","v":"Cotisations sociales"},{"$f":"SUMIF(depensesnov[Catégorie],T25,depensesnov[Montant])","v":0},null,{"$f":"coulisses!J22","v":0},{"$f":"SUMIF(recettesnov[Catégorie],W25,recettesnov[Montant])","v":0}]
[null,null,null,null,null,null,null,null,null,null,null,null,null,null,null,null,null,{"$f":"VLOOKUP(recettesnov[[#This Row],[Catégorie]],'coulisses 2'!$A$1:$B$20,2,0)","v":0}]
[null,null,null,null,null,null,null,null,null,null,null,null,null,null,null,null,null,{"$f":"VLOOKUP(recettesnov[[#This Row],[Catégorie]],'coulisses 2'!$A$1:$B$20,2,0)","v":0}]
[null,null,null,null,null,null,null,null,null,null,null,null,null,null,null,null,null,{"$f":"VLOOKUP(recettesnov[[#This Row],[Catégorie]],'coulisses 2'!$A$1:$B$20,2,0)","v":0},null,"Estimation des charges dues sur le CA du mois",null,"CA","Taux","A payer"]
[null,null,null,null,null,null,null,null,null,null,null,null,null,null,null,null,null,{"$f":"VLOOKUP(recettesnov[[#This Row],[Catégorie]],'coulisses 2'!$A$1:$B$20,2,0)","v":0},null,{"$f":"'👩🏻‍🏫 Bienvenue !'!G20","v":"Taux 1"},null,{"$f":"SUMIF(R:R,W29,H:H)","v":0},{"$f":"'👩🏻‍🏫 Bienvenue !'!I20","v":0},{"$f":"W29*V29","v":0}]
[null,null,null,null,null,null,null,null,null,null,null,null,null,null,null,null,null,{"$f":"VLOOKUP(recettesnov[[#This Row],[Catégorie]],'coulisses 2'!$A$1:$B$20,2,0)","v":0},null,{"$f":"'👩🏻‍🏫 Bienvenue !'!G21","v":"Taux 2"},null,{"$f":"SUMIF(R:R,W30,H:H)","v":0},{"$f":"'👩🏻‍🏫 Bienvenue !'!I21","v":0},{"$f":"W30*V30","v":0}]
[null,null,null,null,null,null,null,null,null,null,null,null,null,null,null,null,null,{"$f":"VLOOKUP(recettesnov[[#This Row],[Catégorie]],'coulisses 2'!$A$1:$B$20,2,0)","v":0},null,{"$f":"'👩🏻‍🏫 Bienvenue !'!G22","v":"Taux 3"},null,0,{"$f":"'👩🏻‍🏫 Bienvenue !'!I22","v":0},{"$f":"W31*V31","v":0}]
[null,null,null,null,null,null,null,null,null,null,null,null,null,null,null,null,null,{"$f":"VLOOKUP(recettesnov[[#This Row],[Catégorie]],'coulisses 2'!$A$1:$B$20,2,0)","v":0},null,"TOTAL",null,null,null,{"$f":"SUM(X29:X31)","v":0}]
[null,null,null,null,null,null,null,null,null,null,null,null,null,null,null,null,null,{"$f":"VLOOKUP(recettesnov[[#This Row],[Catégorie]],'coulisses 2'!$A$1:$B$20,2,0)","v":0}]
[null,null,null,null,null,null,null,null,null,null,null,null,null,null,null,null,null,{"$f":"VLOOKUP(recettesnov[[#This Row],[Catégorie]],'coulisses 2'!$A$1:$B$20,2,0)","v":0},null,"Rapprochement bancaire"]
[null,null,null,null,null,null,null,null,null,null,null,null,null,null,null,null,null,{"$f":"VLOOKUP(recettesnov[[#This Row],[Catégorie]],'coulisses 2'!$A$1:$B$20,2,0)","v":0},null,"Solde du mois précédent",{"$f":"'🎃 10'!U46","v":0}]
[null,null,null,null,null,null,null,null,null,null,null,null,null,null,null,null,null,{"$f":"VLOOKUP(recettesnov[[#This Row],[Catégorie]],'coulisses 2'!$A$1:$B$20,2,0)","v":0},null,"Profit du mois",{"$f":"P1","v":0}]
[null,null,null,null,null,null,null,null,null,null,null,null,null,null,null,null,null,{"$f":"VLOOKUP(recettesnov[[#This Row],[Catégorie]],'coulisses 2'!$A$1:$B$20,2,0)","v":0},null,"Ecritures à rapprocher :"]
[null,null,null,null,null,null,null,null,null,null,null,null,null,null,null,null,null,{"$f":"VLOOKUP(recettesnov[[#This Row],[Catégorie]],'coulisses 2'!$A$1:$B$20,2,0)","v":0}]
[null,null,null,null,null,null,null,null,null,null,null,null,null,null,null,null,null,{"$f":"VLOOKUP(recettesnov[[#This Row],[Catégorie]],'coulisses 2'!$A$1:$B$20,2,0)","v":0}]
[null,null,null,null,null,null,null,null,null,null,null,null,null,null,null,null,null,{"$f":"VLOOKUP(recettesnov[[#This Row],[Catégorie]],'coulisses 2'!$A$1:$B$20,2,0)","v":0}]
[null,null,null,null,null,null,null,null,null,null,null,null,null,null,null,null,null,{"$f":"VLOOKUP(recettesnov[[#This Row],[Catégorie]],'coulisses 2'!$A$1:$B$20,2,0)","v":0}]
[null,null,null,null,null,null,null,null,null,null,null,null,null,null,null,null,null,{"$f":"VLOOKUP(recettesnov[[#This Row],[Catégorie]],'coulisses 2'!$A$1:$B$20,2,0)","v":0}]
[null,null,null,null,null,null,null,null,null,null,null,null,null,null,null,null,null,{"$f":"VLOOKUP(recettesnov[[#This Row],[Catégorie]],'coulisses 2'!$A$1:$B$20,2,0)","v":0}]
[null,null,null,null,null,null,null,null,null,null,null,null,null,null,null,null,null,{"$f":"VLOOKUP(recettesnov[[#This Row],[Catégorie]],'coulisses 2'!$A$1:$B$20,2,0)","v":0}]
[null,null,null,null,null,null,null,null,null,null,null,null,null,null,null,null,null,{"$f":"VLOOKUP(recettesnov[[#This Row],[Catégorie]],'coulisses 2'!$A$1:$B$20,2,0)","v":0}]
[null,null,null,null,null,null,null,null,null,null,null,null,null,null,null,null,null,{"$f":"VLOOKUP(recettesnov[[#This Row],[Catégorie]],'coulisses 2'!$A$1:$B$20,2,0)","v":0},null,"Solde final du mois",{"$f":"U35+U36+SUM(U38:U45)","v":0}]
[null,null,null,null,null,null,null,null,null,null,null,null,null,null,null,null,null,{"$f":"VLOOKUP(recettesnov[[#This Row],[Catégorie]],'coulisses 2'!$A$1:$B$20,2,0)","v":0},null,"Solde du relevé bancaire"]
[null,null,null,null,null,null,null,null,null,null,null,null,null,null,null,null,null,{"$f":"VLOOKUP(recettesnov[[#This Row],[Catégorie]],'coulisses 2'!$A$1:$B$20,2,0)","v":0},null,"Contrôle (doit être à 0)",{"$f":"U46-U47","v":0}]
[null,null,null,null,null,null,null,null,null,null,null,null,null,null,null,null,null,{"$f":"VLOOKUP(recettesnov[[#This Row],[Catégorie]],'coulisses 2'!$A$1:$B$20,2,0)","v":0}]
[null,null,null,null,null,null,null,null,null,null,null,null,null,null,null,null,null,{"$f":"VLOOKUP(recettesnov[[#This Row],[Catégorie]],'coulisses 2'!$A$1:$B$20,2,0)","v":0},null,"Résultat par axe","CA","Dépenses","Résultat"]
[null,null,null,null,null,null,null,null,null,null,null,null,null,null,null,null,null,{"$f":"VLOOKUP(recettesnov[[#This Row],[Catégorie]],'coulisses 2'!$A$1:$B$20,2,0)","v":0},null,{"$f":"'👩🏻‍🏫 Bienvenue !'!I73","v":0},{"$f":"SUMIF(recettesnov[Axe],T51,recettesnov[Montant])","v":0},{"$f":"SUMIF(depensesnov[Axe],T51,depensesnov[Montant])","v":0},{"$f":"U51-V51","v":0}]
[null,null,null,null,null,null,null,null,null,null,null,null,null,null,null,null,null,{"$f":"VLOOKUP(recettesnov[[#This Row],[Catégorie]],'coulisses 2'!$A$1:$B$20,2,0)","v":0},null,{"$f":"'👩🏻‍🏫 Bienvenue !'!I74","v":0},{"$f":"SUMIF(recettesnov[Axe],T52,recettesnov[Montant])","v":0},{"$f":"SUMIF(depensesnov[Axe],T52,depensesnov[Montant])","v":0},{"$f":"U52-V52","v":0}]
[null,null,null,null,null,null,null,null,null,null,null,null,null,null,null,null,null,{"$f":"VLOOKUP(recettesnov[[#This Row],[Catégorie]],'coulisses 2'!$A$1:$B$20,2,0)","v":0},null,{"$f":"'👩🏻‍🏫 Bienvenue !'!I75","v":0},{"$f":"SUMIF(recettesnov[Axe],T53,recettesnov[Montant])","v":0},{"$f":"SUMIF(depensesnov[Axe],T53,depensesnov[Montant])","v":0},0]
[null,null,null,null,null,null,null,null,null,null,null,null,null,null,null,null,null,{"$f":"VLOOKUP(recettesnov[[#This Row],[Catégorie]],'coulisses 2'!$A$1:$B$20,2,0)","v":0},null,{"$f":"'👩🏻‍🏫 Bienvenue !'!I76","v":0},{"$f":"SUMIF(recettesnov[Axe],T54,recettesnov[Montant])","v":0},{"$f":"SUMIF(depensesnov[Axe],T54,depensesnov[Montant])","v":0},0]
[null,null,null,null,null,null,null,null,null,null,null,null,null,null,null,null,null,{"$f":"VLOOKUP(recettesnov[[#This Row],[Catégorie]],'coulisses 2'!$A$1:$B$20,2,0)","v":0},null,{"$f":"'👩🏻‍🏫 Bienvenue !'!I77","v":0},{"$f":"SUMIF(recettesnov[Axe],T55,recettesnov[Montant])","v":0},{"$f":"SUMIF(depensesnov[Axe],T55,depensesnov[Montant])","v":0},0]
[null,null,null,null,null,null,null,null,null,null,null,null,null,null,null,null,null,{"$f":"VLOOKUP(recettesnov[[#This Row],[Catégorie]],'coulisses 2'!$A$1:$B$20,2,0)","v":0},null,{"$f":"'👩🏻‍🏫 Bienvenue !'!I78","v":0},{"$f":"SUMIF(recettesnov[Axe],T56,recettesnov[Montant])","v":0},{"$f":"SUMIF(depensesnov[Axe],T56,depensesnov[Montant])","v":0},0]
[null,null,null,null,null,null,null,null,null,null,null,null,null,null,null,null,null,{"$f":"VLOOKUP(recettesnov[[#This Row],[Catégorie]],'coulisses 2'!$A$1:$B$20,2,0)","v":0},null,{"$f":"'👩🏻‍🏫 Bienvenue !'!I79","v":0},{"$f":"SUMIF(recettesnov[Axe],T57,recettesnov[Montant])","v":0},{"$f":"SUMIF(depensesnov[Axe],T57,depensesnov[Montant])","v":0},0]
[null,null,null,null,null,null,null,null,null,null,null,null,null,null,null,null,null,{"$f":"VLOOKUP(recettesnov[[#This Row],[Catégorie]],'coulisses 2'!$A$1:$B$20,2,0)","v":0},null,{"$f":"'👩🏻‍🏫 Bienvenue !'!I80","v":0},{"$f":"SUMIF(recettesnov[Axe],T58,recettesnov[Montant])","v":0},{"$f":"SUMIF(depensesnov[Axe],T58,depensesnov[Montant])","v":0},0]
[null,null,null,null,null,null,null,null,null,null,null,null,null,null,null,null,null,{"$f":"VLOOKUP(recettesnov[[#This Row],[Catégorie]],'coulisses 2'!$A$1:$B$20,2,0)","v":0},null,{"$f":"'👩🏻‍🏫 Bienvenue !'!I81","v":0},{"$f":"SUMIF(recettesnov[Axe],T59,recettesnov[Montant])","v":0},{"$f":"SUMIF(depensesnov[Axe],T59,depensesnov[Montant])","v":0},0]
[null,null,null,null,null,null,null,null,null,null,null,null,null,null,null,null,null,{"$f":"VLOOKUP(recettesnov[[#This Row],[Catégorie]],'coulisses 2'!$A$1:$B$20,2,0)","v":0},null,{"$f":"'👩🏻‍🏫 Bienvenue !'!I82","v":0},{"$f":"SUMIF(recettesnov[Axe],T60,recettesnov[Montant])","v":0},{"$f":"SUMIF(depensesnov[Axe],T60,depensesnov[Montant])","v":0},0]
[null,null,null,null,null,null,null,null,null,null,null,null,null,null,null,null,null,{"$f":"VLOOKUP(recettesnov[[#This Row],[Catégorie]],'coulisses 2'!$A$1:$B$20,2,0)","v":0}]
[null,null,null,null,null,null,null,null,null,null,null,null,null,null,null,null,null,{"$f":"VLOOKUP(recettesnov[[#This Row],[Catégorie]],'coulisses 2'!$A$1:$B$20,2,0)","v":0}]
[null,null,null,null,null,null,null,null,null,null,null,null,null,null,null,null,null,{"$f":"VLOOKUP(recettesnov[[#This Row],[Catégorie]],'coulisses 2'!$A$1:$B$20,2,0)","v":0}]
[null,null,null,null,null,null,null,null,null,null,null,null,null,null,null,null,null,{"$f":"VLOOKUP(recettesnov[[#This Row],[Catégorie]],'coulisses 2'!$A$1:$B$20,2,0)","v":0}]
[null,null,null,null,null,null,null,null,null,null,null,null,null,null,null,null,null,{"$f":"VLOOKUP(recettesnov[[#This Row],[Catégorie]],'coulisses 2'!$A$1:$B$20,2,0)","v":0}]
[null,null,null,null,null,null,null,null,null,null,null,null,null,null,null,null,null,{"$f":"VLOOKUP(recettesnov[[#This Row],[Catégorie]],'coulisses 2'!$A$1:$B$20,2,0)","v":0}]
[null,null,null,null,null,null,null,null,null,null,null,null,null,null,null,null,null,{"$f":"VLOOKUP(recettesnov[[#This Row],[Catégorie]],'coulisses 2'!$A$1:$B$20,2,0)","v":0}]
[null,null,null,null,null,null,null,null,null,null,null,null,null,null,null,null,null,{"$f":"VLOOKUP(recettesnov[[#This Row],[Catégorie]],'coulisses 2'!$A$1:$B$20,2,0)","v":0}]
[null,null,null,null,null,null,null,null,null,null,null,null,null,null,null,null,null,{"$f":"VLOOKUP(recettesnov[[#This Row],[Catégorie]],'coulisses 2'!$A$1:$B$20,2,0)","v":0}]
[null,null,null,null,null,null,null,null,null,null,null,null,null,null,null,null,null,{"$f":"VLOOKUP(recettesnov[[#This Row],[Catégorie]],'coulisses 2'!$A$1:$B$20,2,0)","v":0}]
[null,null,null,null,null,null,null,null,null,null,null,null,null,null,null,null,null,{"$f":"VLOOKUP(recettesnov[[#This Row],[Catégorie]],'coulisses 2'!$A$1:$B$20,2,0)","v":0}]
[null,null,null,null,null,null,null,null,null,null,null,null,null,null,null,null,null,{"$f":"VLOOKUP(recettesnov[[#This Row],[Catégorie]],'coulisses 2'!$A$1:$B$20,2,0)","v":0}]
[null,null,null,null,null,null,null,null,null,null,null,null,null,null,null,null,null,{"$f":"VLOOKUP(recettesnov[[#This Row],[Catégorie]],'coulisses 2'!$A$1:$B$20,2,0)","v":0}]
[null,null,null,null,null,null,null,null,null,null,null,null,null,null,null,null,null,{"$f":"VLOOKUP(recettesnov[[#This Row],[Catégorie]],'coulisses 2'!$A$1:$B$20,2,0)","v":0}]
[null,null,null,null,null,null,null,null,null,null,null,null,null,null,null,null,null,{"$f":"VLOOKUP(recettesnov[[#This Row],[Catégorie]],'coulisses 2'!$A$1:$B$20,2,0)","v":0}]
[null,null,null,null,null,null,null,null,null,null,null,null,null,null,null,null,null,{"$f":"VLOOKUP(recettesnov[[#This Row],[Catégorie]],'coulisses 2'!$A$1:$B$20,2,0)","v":0}]
[null,null,null,null,null,null,null,null,null,null,null,null,null,null,null,null,null,{"$f":"VLOOKUP(recettesnov[[#This Row],[Catégorie]],'coulisses 2'!$A$1:$B$20,2,0)","v":0}]
[null,null,null,null,null,null,null,null,null,null,null,null,null,null,null,null,null,{"$f":"VLOOKUP(recettesnov[[#This Row],[Catégorie]],'coulisses 2'!$A$1:$B$20,2,0)","v":0}]
[null,null,null,null,null,null,null,null,null,null,null,null,null,null,null,null,null,{"$f":"VLOOKUP(recettesnov[[#This Row],[Catégorie]],'coulisses 2'!$A$1:$B$20,2,0)","v":0}]
[null,null,null,null,null,null,null,null,null,null,null,null,null,null,null,null,null,{"$f":"VLOOKUP(recettesnov[[#This Row],[Catégorie]],'coulisses 2'!$A$1:$B$20,2,0)","v":0}]
[null,null,null,null,null,null,null,null,null,null,null,null,null,null,null,null,null,{"$f":"VLOOKUP(recettesnov[[#This Row],[Catégorie]],'coulisses 2'!$A$1:$B$20,2,0)","v":0}]
[null,null,null,null,null,null,null,null,null,null,null,null,null,null,null,null,null,{"$f":"VLOOKUP(recettesnov[[#This Row],[Catégorie]],'coulisses 2'!$A$1:$B$20,2,0)","v":0}]
[null,null,null,null,null,null,null,null,null,null,null,null,null,null,null,null,null,{"$f":"VLOOKUP(recettesnov[[#This Row],[Catégorie]],'coulisses 2'!$A$1:$B$20,2,0)","v":0}]
[null,null,null,null,null,null,null,null,null,null,null,null,null,null,null,null,null,{"$f":"VLOOKUP(recettesnov[[#This Row],[Catégorie]],'coulisses 2'!$A$1:$B$20,2,0)","v":0}]
[null,null,null,null,null,null,null,null,null,null,null,null,null,null,null,null,null,{"$f":"VLOOKUP(recettesnov[[#This Row],[Catégorie]],'coulisses 2'!$A$1:$B$20,2,0)","v":0}]
[null,null,null,null,null,null,null,null,null,null,null,null,null,null,null,null,null,{"$f":"VLOOKUP(recettesnov[[#This Row],[Catégorie]],'coulisses 2'!$A$1:$B$20,2,0)","v":0}]
[null,null,null,null,null,null,null,null,null,null,null,null,null,null,null,null,null,{"$f":"VLOOKUP(recettesnov[[#This Row],[Catégorie]],'coulisses 2'!$A$1:$B$20,2,0)","v":0}]
[null,null,null,null,null,null,null,null,null,null,null,null,null,null,null,null,null,{"$f":"VLOOKUP(recettesnov[[#This Row],[Catégorie]],'coulisses 2'!$A$1:$B$20,2,0)","v":0}]
[null,null,null,null,null,null,null,null,null,null,null,null,null,null,null,null,null,{"$f":"VLOOKUP(recettesnov[[#This Row],[Catégorie]],'coulisses 2'!$A$1:$B$20,2,0)","v":0}]
[null,null,null,null,null,null,null,null,null,null,null,null,null,null,null,null,null,{"$f":"VLOOKUP(recettesnov[[#This Row],[Catégorie]],'coulisses 2'!$A$1:$B$20,2,0)","v":0}]
[null,null,null,null,null,null,null,null,null,null,null,null,null,null,null,null,null,{"$f":"VLOOKUP(recettesnov[[#This Row],[Catégorie]],'coulisses 2'!$A$1:$B$20,2,0)","v":0}]
[null,null,null,null,null,null,null,null,null,null,null,null,null,null,null,null,null,{"$f":"VLOOKUP(recettesnov[[#This Row],[Catégorie]],'coulisses 2'!$A$1:$B$20,2,0)","v":0}]
[null,null,null,null,null,null,null,null,null,null,null,null,null,null,null,null,null,{"$f":"VLOOKUP(recettesnov[[#This Row],[Catégorie]],'coulisses 2'!$A$1:$B$20,2,0)","v":0}]
[null,null,null,null,null,null,null,null,null,null,null,null,null,null,null,null,null,{"$f":"VLOOKUP(recettesnov[[#This Row],[Catégorie]],'coulisses 2'!$A$1:$B$20,2,0)","v":0}]
[null,null,null,null,null,null,null,null,null,null,null,null,null,null,null,null,null,{"$f":"VLOOKUP(recettesnov[[#This Row],[Catégorie]],'coulisses 2'!$A$1:$B$20,2,0)","v":0}]
[null,null,null,null,null,null,null,null,null,null,null,null,null,null,null,null,null,{"$f":"VLOOKUP(recettesnov[[#This Row],[Catégorie]],'coulisses 2'!$A$1:$B$20,2,0)","v":0}]
[null,null,null,null,null,null,null,null,null,null,null,null,null,null,null,null,null,{"$f":"VLOOKUP(recettesnov[[#This Row],[Catégorie]],'coulisses 2'!$A$1:$B$20,2,0)","v":0}]
[null,null,null,null,null,null,null,null,null,null,null,null,null,null,null,null,null,{"$f":"VLOOKUP(recettesnov[[#This Row],[Catégorie]],'coulisses 2'!$A$1:$B$20,2,0)","v":0}]
[null,null,null,null,null,null,null,null,null,null,null,null,null,null,null,null,null,{"$f":"VLOOKUP(recettesnov[[#This Row],[Catégorie]],'coulisses 2'!$A$1:$B$20,2,0)","v":0}]
[null,null,null,null,null,null,null,null,null,null,null,null,null,null,null,null,null,{"$f":"VLOOKUP(recettesnov[[#This Row],[Catégorie]],'coulisses 2'!$A$1:$B$20,2,0)","v":0}]
[null,null,null,null,null,null,null,null,null,null,null,null,null,null,null,null,null,{"$f":"VLOOKUP(recettesnov[[#This Row],[Catégorie]],'coulisses 2'!$A$1:$B$20,2,0)","v":0}]
[null,null,null,null,null,null,null,null,null,null,null,null,null,null,null,null,null,{"$f":"VLOOKUP(recettesnov[[#This Row],[Catégorie]],'coulisses 2'!$A$1:$B$20,2,0)","v":0}]
[null,null,null,null,null,null,null,null,null,null,null,null,null,null,null,null,null,{"$f":"VLOOKUP(recettesnov[[#This Row],[Catégorie]],'coulisses 2'!$A$1:$B$20,2,0)","v":0}]
[null,null,null,null,null,null,null,null,null,null,null,null,null,null,null,null,null,{"$f":"VLOOKUP(recettesnov[[#This Row],[Catégorie]],'coulisses 2'!$A$1:$B$20,2,0)","v":0}]
[null,null,null,null,null,null,null,null,null,null,null,null,null,null,null,null,null,{"$f":"VLOOKUP(recettesnov[[#This Row],[Catégorie]],'coulisses 2'!$A$1:$B$20,2,0)","v":0}]
[null,null,null,null,null,null,null,null,null,null,null,null,null,null,null,null,null,{"$f":"VLOOKUP(recettesnov[[#This Row],[Catégorie]],'coulisses 2'!$A$1:$B$20,2,0)","v":0}]
[null,null,null,null,null,null,null,null,null,null,null,null,null,null,null,null,null,{"$f":"VLOOKUP(recettesnov[[#This Row],[Catégorie]],'coulisses 2'!$A$1:$B$20,2,0)","v":0}]
[null,null,null,null,null,null,null,null,null,null,null,null,null,null,null,null,null,{"$f":"VLOOKUP(recettesnov[[#This Row],[Catégorie]],'coulisses 2'!$A$1:$B$20,2,0)","v":0}]
[null,null,null,null,null,null,null,null,null,null,null,null,null,null,null,null,null,{"$f":"VLOOKUP(recettesnov[[#This Row],[Catégorie]],'coulisses 2'!$A$1:$B$20,2,0)","v":0}]
[null,null,null,null,null,null,null,null,null,null,null,null,null,null,null,null,null,{"$f":"VLOOKUP(recettesnov[[#This Row],[Catégorie]],'coulisses 2'!$A$1:$B$20,2,0)","v":0}]
[null,null,null,null,null,null,null,null,null,null,null,null,null,null,null,null,null,{"$f":"VLOOKUP(recettesnov[[#This Row],[Catégorie]],'coulisses 2'!$A$1:$B$20,2,0)","v":0}]
[null,null,null,null,null,null,null,null,null,null,null,null,null,null,null,null,null,{"$f":"VLOOKUP(recettesnov[[#This Row],[Catégorie]],'coulisses 2'!$A$1:$B$20,2,0)","v":0}]
[null,null,null,null,null,null,null,null,null,null,null,null,null,null,null,null,null,{"$f":"VLOOKUP(recettesnov[[#This Row],[Catégorie]],'coulisses 2'!$A$1:$B$20,2,0)","v":0}]
[null,null,null,null,null,null,null,null,null,null,null,null,null,null,null,null,null,{"$f":"VLOOKUP(recettesnov[[#This Row],[Catégorie]],'coulisses 2'!$A$1:$B$20,2,0)","v":0}]
[null,null,null,null,null,null,null,null,null,null,null,null,null,null,null,null,null,{"$f":"VLOOKUP(recettesnov[[#This Row],[Catégorie]],'coulisses 2'!$A$1:$B$20,2,0)","v":0}]
[null,null,null,null,null,null,null,null,null,null,null,null,null,null,null,null,null,{"$f":"VLOOKUP(recettesnov[[#This Row],[Catégorie]],'coulisses 2'!$A$1:$B$20,2,0)","v":0}]
[null,null,null,null,null,null,null,null,null,null,null,null,null,null,null,null,null,{"$f":"VLOOKUP(recettesnov[[#This Row],[Catégorie]],'coulisses 2'!$A$1:$B$20,2,0)","v":0}]
[null,null,null,null,null,null,null,null,null,null,null,null,null,null,null,null,null,{"$f":"VLOOKUP(recettesnov[[#This Row],[Catégorie]],'coulisses 2'!$A$1:$B$20,2,0)","v":0}]
[null,null,null,null,null,null,null,null,null,null,null,null,null,null,null,null,null,{"$f":"VLOOKUP(recettesnov[[#This Row],[Catégorie]],'coulisses 2'!$A$1:$B$20,2,0)","v":0}]
[null,null,null,null,null,null,null,null,null,null,null,null,null,null,null,null,null,{"$f":"VLOOKUP(recettesnov[[#This Row],[Catégorie]],'coulisses 2'!$A$1:$B$20,2,0)","v":0}]
[null,null,null,null,null,null,null,null,null,null,null,null,null,null,null,null,null,{"$f":"VLOOKUP(recettesnov[[#This Row],[Catégorie]],'coulisses 2'!$A$1:$B$20,2,0)","v":0}]
[null,null,null,null,null,null,null,null,null,null,null,null,null,null,null,null,null,{"$f":"VLOOKUP(recettesnov[[#This Row],[Catégorie]],'coulisses 2'!$A$1:$B$20,2,0)","v":0}]
[null,null,null,null,null,null,null,null,null,null,null,null,null,null,null,null,null,{"$f":"VLOOKUP(recettesnov[[#This Row],[Catégorie]],'coulisses 2'!$A$1:$B$20,2,0)","v":0}]
[null,null,null,null,null,null,null,null,null,null,null,null,null,null,null,null,null,{"$f":"VLOOKUP(recettesnov[[#This Row],[Catégorie]],'coulisses 2'!$A$1:$B$20,2,0)","v":0}]
[null,null,null,null,null,null,null,null,null,null,null,null,null,null,null,null,null,{"$f":"VLOOKUP(recettesnov[[#This Row],[Catégorie]],'coulisses 2'!$A$1:$B$20,2,0)","v":0}]
[null,null,null,null,null,null,null,null,null,null,null,null,null,null,null,null,null,{"$f":"VLOOKUP(recettesnov[[#This Row],[Catégorie]],'coulisses 2'!$A$1:$B$20,2,0)","v":0}]
[null,null,null,null,null,null,null,null,null,null,null,null,null,null,null,null,null,{"$f":"VLOOKUP(recettesnov[[#This Row],[Catégorie]],'coulisses 2'!$A$1:$B$20,2,0)","v":0}]
[null,null,null,null,null,null,null,null,null,null,null,null,null,null,null,null,null,{"$f":"VLOOKUP(recettesnov[[#This Row],[Catégorie]],'coulisses 2'!$A$1:$B$20,2,0)","v":0}]
[null,null,null,null,null,null,null,null,null,null,null,null,null,null,null,null,null,{"$f":"VLOOKUP(recettesnov[[#This Row],[Catégorie]],'coulisses 2'!$A$1:$B$20,2,0)","v":0}]
[null,null,null,null,null,null,null,null,null,null,null,null,null,null,null,null,null,{"$f":"VLOOKUP(recettesnov[[#This Row],[Catégorie]],'coulisses 2'!$A$1:$B$20,2,0)","v":0}]
[null,null,null,null,null,null,null,null,null,null,null,null,null,null,null,null,null,{"$f":"VLOOKUP(recettesnov[[#This Row],[Catégorie]],'coulisses 2'!$A$1:$B$20,2,0)","v":0}]
[null,null,null,null,null,null,null,null,null,null,null,null,null,null,null,null,null,{"$f":"VLOOKUP(recettesnov[[#This Row],[Catégorie]],'coulisses 2'!$A$1:$B$20,2,0)","v":0}]
[null,null,null,null,null,null,null,null,null,null,null,null,null,null,null,null,null,{"$f":"VLOOKUP(recettesnov[[#This Row],[Catégorie]],'coulisses 2'!$A$1:$B$20,2,0)","v":0}]
[null,null,null,null,null,null,null,null,null,null,null,null,null,null,null,null,null,{"$f":"VLOOKUP(recettesnov[[#This Row],[Catégorie]],'coulisses 2'!$A$1:$B$20,2,0)","v":0}]
[null,null,null,null,null,null,null,null,null,null,null,null,null,null,null,null,null,{"$f":"VLOOKUP(recettesnov[[#This Row],[Catégorie]],'coulisses 2'!$A$1:$B$20,2,0)","v":0}]
[null,null,null,null,null,null,null,null,null,null,null,null,null,null,null,null,null,{"$f":"VLOOKUP(recettesnov[[#This Row],[Catégorie]],'coulisses 2'!$A$1:$B$20,2,0)","v":0}]
[null,null,null,null,null,null,null,null,null,null,null,null,null,null,null,null,null,{"$f":"VLOOKUP(recettesnov[[#This Row],[Catégorie]],'coulisses 2'!$A$1:$B$20,2,0)","v":0}]
[null,null,null,null,null,null,null,null,null,null,null,null,null,null,null,null,null,{"$f":"VLOOKUP(recettesnov[[#This Row],[Catégorie]],'coulisses 2'!$A$1:$B$20,2,0)","v":0}]
[null,null,null,null,null,null,null,null,null,null,null,null,null,null,null,null,null,{"$f":"VLOOKUP(recettesnov[[#This Row],[Catégorie]],'coulisses 2'!$A$1:$B$20,2,0)","v":0}]
[null,null,null,null,null,null,null,null,null,null,null,null,null,null,null,null,null,{"$f":"VLOOKUP(recettesnov[[#This Row],[Catégorie]],'coulisses 2'!$A$1:$B$20,2,0)","v":0}]
[null,null,null,null,null,null,null,null,null,null,null,null,null,null,null,null,null,{"$f":"VLOOKUP(recettesnov[[#This Row],[Catégorie]],'coulisses 2'!$A$1:$B$20,2,0)","v":0}]
[null,null,null,null,null,null,null,null,null,null,null,null,null,null,null,null,null,{"$f":"VLOOKUP(recettesnov[[#This Row],[Catégorie]],'coulisses 2'!$A$1:$B$20,2,0)","v":0}]
[null,null,null,null,null,null,null,null,null,null,null,null,null,null,null,null,null,{"$f":"VLOOKUP(recettesnov[[#This Row],[Catégorie]],'coulisses 2'!$A$1:$B$20,2,0)","v":0}]
[null,null,null,null,null,null,null,null,null,null,null,null,null,null,null,null,null,{"$f":"VLOOKUP(recettesnov[[#This Row],[Catégorie]],'coulisses 2'!$A$1:$B$20,2,0)","v":0}]
[null,null,null,null,null,null,null,null,null,null,null,null,null,null,null,null,null,{"$f":"VLOOKUP(recettesnov[[#This Row],[Catégorie]],'coulisses 2'!$A$1:$B$20,2,0)","v":0}]
[null,null,null,null,null,null,null,null,null,null,null,null,null,null,null,null,null,{"$f":"VLOOKUP(recettesnov[[#This Row],[Catégorie]],'coulisses 2'!$A$1:$B$20,2,0)","v":0}]
[null,null,null,null,null,null,null,null,null,null,null,null,null,null,null,null,null,{"$f":"VLOOKUP(recettesnov[[#This Row],[Catégorie]],'coulisses 2'!$A$1:$B$20,2,0)","v":0}]
[null,null,null,null,null,null,null,null,null,null,null,null,null,null,null,null,null,{"$f":"VLOOKUP(recettesnov[[#This Row],[Catégorie]],'coulisses 2'!$A$1:$B$20,2,0)","v":0}]
[null,null,null,null,null,null,null,null,null,null,null,null,null,null,null,null,null,{"$f":"VLOOKUP(recettesnov[[#This Row],[Catégorie]],'coulisses 2'!$A$1:$B$20,2,0)","v":0}]
[null,null,null,null,null,null,null,null,null,null,null,null,null,null,null,null,null,{"$f":"VLOOKUP(recettesnov[[#This Row],[Catégorie]],'coulisses 2'!$A$1:$B$20,2,0)","v":0}]
[null,null,null,null,null,null,null,null,null,null,null,null,null,null,null,null,null,{"$f":"VLOOKUP(recettesnov[[#This Row],[Catégorie]],'coulisses 2'!$A$1:$B$20,2,0)","v":0}]
[null,null,null,null,null,null,null,null,null,null,null,null,null,null,null,null,null,{"$f":"VLOOKUP(recettesnov[[#This Row],[Catégorie]],'coulisses 2'!$A$1:$B$20,2,0)","v":0}]
[null,null,null,null,null,null,null,null,null,null,null,null,null,null,null,null,null,{"$f":"VLOOKUP(recettesnov[[#This Row],[Catégorie]],'coulisses 2'!$A$1:$B$20,2,0)","v":0}]
[null,null,null,null,null,null,null,null,null,null,null,null,null,null,null,null,null,{"$f":"VLOOKUP(recettesnov[[#This Row],[Catégorie]],'coulisses 2'!$A$1:$B$20,2,0)","v":0}]
[null,null,null,null,null,null,null,null,null,null,null,null,null,null,null,null,null,{"$f":"VLOOKUP(recettesnov[[#This Row],[Catégorie]],'coulisses 2'!$A$1:$B$20,2,0)","v":0}]
[null,null,null,null,null,null,null,null,null,null,null,null,null,null,null,null,null,{"$f":"VLOOKUP(recettesnov[[#This Row],[Catégorie]],'coulisses 2'!$A$1:$B$20,2,0)","v":0}]
[null,null,null,null,null,null,null,null,null,null,null,null,null,null,null,null,null,{"$f":"VLOOKUP(recettesnov[[#This Row],[Catégorie]],'coulisses 2'!$A$1:$B$20,2,0)","v":0}]
[null,null,null,null,null,null,null,null,null,null,null,null,null,null,null,null,null,{"$f":"VLOOKUP(recettesnov[[#This Row],[Catégorie]],'coulisses 2'!$A$1:$B$20,2,0)","v":0}]
[null,null,null,null,null,null,null,null,null,null,null,null,null,null,null,null,null,{"$f":"VLOOKUP(recettesnov[[#This Row],[Catégorie]],'coulisses 2'!$A$1:$B$20,2,0)","v":0}]
[null,null,null,null,null,null,null,null,null,null,null,null,null,null,null,null,null,{"$f":"VLOOKUP(recettesnov[[#This Row],[Catégorie]],'coulisses 2'!$A$1:$B$20,2,0)","v":0}]
[null,null,null,null,null,null,null,null,null,null,null,null,null,null,null,null,null,{"$f":"VLOOKUP(recettesnov[[#This Row],[Catégorie]],'coulisses 2'!$A$1:$B$20,2,0)","v":0}]
[null,null,null,null,null,null,null,null,null,null,null,null,null,null,null,null,null,{"$f":"VLOOKUP(recettesnov[[#This Row],[Catégorie]],'coulisses 2'!$A$1:$B$20,2,0)","v":0}]
[null,null,null,null,null,null,null,null,null,null,null,null,null,null,null,null,null,{"$f":"VLOOKUP(recettesnov[[#This Row],[Catégorie]],'coulisses 2'!$A$1:$B$20,2,0)","v":0}]
[null,null,null,null,null,null,null,null,null,null,null,null,null,null,null,null,null,{"$f":"VLOOKUP(recettesnov[[#This Row],[Catégorie]],'coulisses 2'!$A$1:$B$20,2,0)","v":0}]
[null,null,null,null,null,null,null,null,null,null,null,null,null,null,null,null,null,{"$f":"VLOOKUP(recettesnov[[#This Row],[Catégorie]],'coulisses 2'!$A$1:$B$20,2,0)","v":0}]
[null,null,null,null,null,null,null,null,null,null,null,null,null,null,null,null,null,{"$f":"VLOOKUP(recettesnov[[#This Row],[Catégorie]],'coulisses 2'!$A$1:$B$20,2,0)","v":0}]
[null,null,null,null,null,null,null,null,null,null,null,null,null,null,null,null,null,{"$f":"VLOOKUP(recettesnov[[#This Row],[Catégorie]],'coulisses 2'!$A$1:$B$20,2,0)","v":0}]
[null,null,null,null,null,null,null,null,null,null,null,null,null,null,null,null,null,{"$f":"VLOOKUP(recettesnov[[#This Row],[Catégorie]],'coulisses 2'!$A$1:$B$20,2,0)","v":0}]
[null,null,null,null,null,null,null,null,null,null,null,null,null,null,null,null,null,{"$f":"VLOOKUP(recettesnov[[#This Row],[Catégorie]],'coulisses 2'!$A$1:$B$20,2,0)","v":0}]
[null,null,null,null,null,null,null,null,null,null,null,null,null,null,null,null,null,{"$f":"VLOOKUP(recettesnov[[#This Row],[Catégorie]],'coulisses 2'!$A$1:$B$20,2,0)","v":0}]
[null,null,null,null,null,null,null,null,null,null,null,null,null,null,null,null,null,{"$f":"VLOOKUP(recettesnov[[#This Row],[Catégorie]],'coulisses 2'!$A$1:$B$20,2,0)","v":0}]
[null,null,null,null,null,null,null,null,null,null,null,null,null,null,null,null,null,{"$f":"VLOOKUP(recettesnov[[#This Row],[Catégorie]],'coulisses 2'!$A$1:$B$20,2,0)","v":0}]
[null,null,null,null,null,null,null,null,null,null,null,null,null,null,null,null,null,{"$f":"VLOOKUP(recettesnov[[#This Row],[Catégorie]],'coulisses 2'!$A$1:$B$20,2,0)","v":0}]
[null,null,null,null,null,null,null,null,null,null,null,null,null,null,null,null,null,{"$f":"VLOOKUP(recettesnov[[#This Row],[Catégorie]],'coulisses 2'!$A$1:$B$20,2,0)","v":0}]
[null,null,null,null,null,null,null,null,null,null,null,null,null,null,null,null,null,{"$f":"VLOOKUP(recettesnov[[#This Row],[Catégorie]],'coulisses 2'!$A$1:$B$20,2,0)","v":0}]
[null,null,null,null,null,null,null,null,null,null,null,null,null,null,null,null,null,{"$f":"VLOOKUP(recettesnov[[#This Row],[Catégorie]],'coulisses 2'!$A$1:$B$20,2,0)","v":0}]
[null,null,null,null,null,null,null,null,null,null,null,null,null,null,null,null,null,{"$f":"VLOOKUP(recettesnov[[#This Row],[Catégorie]],'coulisses 2'!$A$1:$B$20,2,0)","v":0}]
[null,null,null,null,null,null,null,null,null,null,null,null,null,null,null,null,null,{"$f":"VLOOKUP(recettesnov[[#This Row],[Catégorie]],'coulisses 2'!$A$1:$B$20,2,0)","v":0}]
[null,null,null,null,null,null,null,null,null,null,null,null,null,null,null,null,null,{"$f":"VLOOKUP(recettesnov[[#This Row],[Catégorie]],'coulisses 2'!$A$1:$B$20,2,0)","v":0}]
[null,null,null,null,null,null,null,null,null,null,null,null,null,null,null,null,null,{"$f":"VLOOKUP(recettesnov[[#This Row],[Catégorie]],'coulisses 2'!$A$1:$B$20,2,0)","v":0}]
[null,null,null,null,null,null,null,null,null,null,null,null,null,null,null,null,null,{"$f":"VLOOKUP(recettesnov[[#This Row],[Catégorie]],'coulisses 2'!$A$1:$B$20,2,0)","v":0}]
[null,null,null,null,null,null,null,null,null,null,null,null,null,null,null,null,null,{"$f":"VLOOKUP(recettesnov[[#This Row],[Catégorie]],'coulisses 2'!$A$1:$B$20,2,0)","v":0}]
[null,null,null,null,null,null,null,null,null,null,null,null,null,null,null,null,null,{"$f":"VLOOKUP(recettesnov[[#This Row],[Catégorie]],'coulisses 2'!$A$1:$B$20,2,0)","v":0}]
[null,null,null,null,null,null,null,null,null,null,null,null,null,null,null,null,null,{"$f":"VLOOKUP(recettesnov[[#This Row],[Catégorie]],'coulisses 2'!$A$1:$B$20,2,0)","v":0}]
[null,null,null,null,null,null,null,null,null,null,null,null,null,null,null,null,null,{"$f":"VLOOKUP(recettesnov[[#This Row],[Catégorie]],'coulisses 2'!$A$1:$B$20,2,0)","v":0}]
[null,null,null,null,null,null,null,null,null,null,null,null,null,null,null,null,null,{"$f":"VLOOKUP(recettesnov[[#This Row],[Catégorie]],'coulisses 2'!$A$1:$B$20,2,0)","v":0}]
[null,null,null,null,null,null,null,null,null,null,null,null,null,null,null,null,null,{"$f":"VLOOKUP(recettesnov[[#This Row],[Catégorie]],'coulisses 2'!$A$1:$B$20,2,0)","v":0}]
[null,null,null,null,null,null,null,null,null,null,null,null,null,null,null,null,null,{"$f":"VLOOKUP(recettesnov[[#This Row],[Catégorie]],'coulisses 2'!$A$1:$B$20,2,0)","v":0}]
[null,null,null,null,null,null,null,null,null,null,null,null,null,null,null,null,null,{"$f":"VLOOKUP(recettesnov[[#This Row],[Catégorie]],'coulisses 2'!$A$1:$B$20,2,0)","v":0}]
[null,null,null,null,null,null,null,null,null,null,null,null,null,null,null,null,null,{"$f":"VLOOKUP(recettesnov[[#This Row],[Catégorie]],'coulisses 2'!$A$1:$B$20,2,0)","v":0}]
[null,null,null,null,null,null,null,null,null,null,null,null,null,null,null,null,null,{"$f":"VLOOKUP(recettesnov[[#This Row],[Catégorie]],'coulisses 2'!$A$1:$B$20,2,0)","v":0}]
[null,null,null,null,null,null,null,null,null,null,null,null,null,null,null,null,null,{"$f":"VLOOKUP(recettesnov[[#This Row],[Catégorie]],'coulisses 2'!$A$1:$B$20,2,0)","v":0}]
[null,null,null,null,null,null,null,null,null,null,null,null,null,null,null,null,null,{"$f":"VLOOKUP(recettesnov[[#This Row],[Catégorie]],'coulisses 2'!$A$1:$B$20,2,0)","v":0}]
[null,null,null,null,null,null,null,null,null,null,null,null,null,null,null,null,null,{"$f":"VLOOKUP(recettesnov[[#This Row],[Catégorie]],'coulisses 2'!$A$1:$B$20,2,0)","v":0}]
[null,null,null,null,null,null,null,null,null,null,null,null,null,null,null,null,null,{"$f":"VLOOKUP(recettesnov[[#This Row],[Catégorie]],'coulisses 2'!$A$1:$B$20,2,0)","v":0}]
[null,null,null,null,null,null,null,null,null,null,null,null,null,null,null,null,null,{"$f":"VLOOKUP(recettesnov[[#This Row],[Catégorie]],'coulisses 2'!$A$1:$B$20,2,0)","v":0}]
[null,null,null,null,null,null,null,null,null,null,null,null,null,null,null,null,null,{"$f":"VLOOKUP(recettesnov[[#This Row],[Catégorie]],'coulisses 2'!$A$1:$B$20,2,0)","v":0}]
[null,null,null,null,null,null,null,null,null,null,null,null,null,null,null,null,null,{"$f":"VLOOKUP(recettesnov[[#This Row],[Catégorie]],'coulisses 2'!$A$1:$B$20,2,0)","v":0}]
[null,null,null,null,null,null,null,null,null,null,null,null,null,null,null,null,null,{"$f":"VLOOKUP(recettesnov[[#This Row],[Catégorie]],'coulisses 2'!$A$1:$B$20,2,0)","v":0}]
[null,null,null,null,null,null,null,null,null,null,null,null,null,null,null,null,null,{"$f":"VLOOKUP(recettesnov[[#This Row],[Catégorie]],'coulisses 2'!$A$1:$B$20,2,0)","v":0}]
[null,null,null,null,null,null,null,null,null,null,null,null,null,null,null,null,null,{"$f":"VLOOKUP(recettesnov[[#This Row],[Catégorie]],'coulisses 2'!$A$1:$B$20,2,0)","v":0}]
[null,null,null,null,null,null,null,null,null,null,null,null,null,null,null,null,null,{"$f":"VLOOKUP(recettesnov[[#This Row],[Catégorie]],'coulisses 2'!$A$1:$B$20,2,0)","v":0}]
[null,null,null,null,null,null,null,null,null,null,null,null,null,null,null,null,null,{"$f":"VLOOKUP(recettesnov[[#This Row],[Catégorie]],'coulisses 2'!$A$1:$B$20,2,0)","v":0}]
[null,null,null,null,null,null,null,null,null,null,null,null,null,null,null,null,null,{"$f":"VLOOKUP(recettesnov[[#This Row],[Catégorie]],'coulisses 2'!$A$1:$B$20,2,0)","v":0}]
[null,null,null,null,null,null,null,null,null,null,null,null,null,null,null,null,null,{"$f":"VLOOKUP(recettesnov[[#This Row],[Catégorie]],'coulisses 2'!$A$1:$B$20,2,0)","v":0}]
[null,null,null,null,null,null,null,null,null,null,null,null,null,null,null,null,null,{"$f":"VLOOKUP(recettesnov[[#This Row],[Catégorie]],'coulisses 2'!$A$1:$B$20,2,0)","v":0}]
[null,null,null,null,null,null,null,null,null,null,null,null,null,null,null,null,null,{"$f":"VLOOKUP(recettesnov[[#This Row],[Catégorie]],'coulisses 2'!$A$1:$B$20,2,0)","v":0}]
[null,null,null,null,null,null,null,null,null,null,null,null,null,null,null,null,null,{"$f":"VLOOKUP(recettesnov[[#This Row],[Catégorie]],'coulisses 2'!$A$1:$B$20,2,0)","v":0}]
[null,null,null,null,null,null,null,null,null,null,null,null,null,null,null,null,null,{"$f":"VLOOKUP(recettesnov[[#This Row],[Catégorie]],'coulisses 2'!$A$1:$B$20,2,0)","v":0}]
[null,null,null,null,null,null,null,null,null,null,null,null,null,null,null,null,null,{"$f":"VLOOKUP(recettesnov[[#This Row],[Catégorie]],'coulisses 2'!$A$1:$B$20,2,0)","v":0}]
[null,null,null,null,null,null,null,null,null,null,null,null,null,null,null,null,null,{"$f":"VLOOKUP(recettesnov[[#This Row],[Catégorie]],'coulisses 2'!$A$1:$B$20,2,0)","v":0}]
[null,null,null,null,null,null,null,null,null,null,null,null,null,null,null,null,null,{"$f":"VLOOKUP(recettesnov[[#This Row],[Catégorie]],'coulisses 2'!$A$1:$B$20,2,0)","v":0}]
[null,null,null,null,null,null,null,null,null,null,null,null,null,null,null,null,null,{"$f":"VLOOKUP(recettesnov[[#This Row],[Catégorie]],'coulisses 2'!$A$1:$B$20,2,0)","v":0}]
[null,null,null,null,null,null,null,null,null,null,null,null,null,null,null,null,null,{"$f":"VLOOKUP(recettesnov[[#This Row],[Catégorie]],'coulisses 2'!$A$1:$B$20,2,0)","v":0}]
[null,null,null,null,null,null,null,null,null,null,null,null,null,null,null,null,null,{"$f":"VLOOKUP(recettesnov[[#This Row],[Catégorie]],'coulisses 2'!$A$1:$B$20,2,0)","v":0}]
[null,null,null,null,null,null,null,null,null,null,null,null,null,null,null,null,null,{"$f":"VLOOKUP(recettesnov[[#This Row],[Catégorie]],'coulisses 2'!$A$1:$B$20,2,0)","v":0}]
[null,null,null,null,null,null,null,null,null,null,null,null,null,null,null,null,null,{"$f":"VLOOKUP(recettesnov[[#This Row],[Catégorie]],'coulisses 2'!$A$1:$B$20,2,0)","v":0}]
[null,null,null,null,null,null,null,null,null,null,null,null,null,null,null,null,null,{"$f":"VLOOKUP(recettesnov[[#This Row],[Catégorie]],'coulisses 2'!$A$1:$B$20,2,0)","v":0}]
[null,null,null,null,null,null,null,null,null,null,null,null,null,null,null,null,null,{"$f":"VLOOKUP(recettesnov[[#This Row],[Catégorie]],'coulisses 2'!$A$1:$B$20,2,0)","v":0}]
[null,null,null,null,null,null,null,null,null,null,null,null,null,null,null,null,null,{"$f":"VLOOKUP(recettesnov[[#This Row],[Catégorie]],'coulisses 2'!$A$1:$B$20,2,0)","v":0}]
[null,null,null,null,null,null,null,null,null,null,null,null,null,null,null,null,null,{"$f":"VLOOKUP(recettesnov[[#This Row],[Catégorie]],'coulisses 2'!$A$1:$B$20,2,0)","v":0}]
[null,null,null,null,null,null,null,null,null,null,null,null,null,null,null,null,null,{"$f":"VLOOKUP(recettesnov[[#This Row],[Catégorie]],'coulisses 2'!$A$1:$B$20,2,0)","v":0}]
[null,null,null,null,null,null,null,null,null,null,null,null,null,null,null,null,null,{"$f":"VLOOKUP(recettesnov[[#This Row],[Catégorie]],'coulisses 2'!$A$1:$B$20,2,0)","v":0}]
[null,null,null,null,null,null,null,null,null,null,null,null,null,null,null,null,null,{"$f":"VLOOKUP(recettesnov[[#This Row],[Catégorie]],'coulisses 2'!$A$1:$B$20,2,0)","v":0}]
[null,null,null,null,null,null,null,null,null,null,null,null,null,null,null,null,null,{"$f":"VLOOKUP(recettesnov[[#This Row],[Catégorie]],'coulisses 2'!$A$1:$B$20,2,0)","v":0}]
[null,null,null,null,null,null,null,null,null,null,null,null,null,null,null,null,null,{"$f":"VLOOKUP(recettesnov[[#This Row],[Catégorie]],'coulisses 2'!$A$1:$B$20,2,0)","v":0}]
[null,null,null,null,null,null,null,null,null,null,null,null,null,null,null,null,null,{"$f":"VLOOKUP(recettesnov[[#This Row],[Catégorie]],'coulisses 2'!$A$1:$B$20,2,0)","v":0}]
[null,null,null,null,null,null,null,null,null,null,null,null,null,null,null,null,null,{"$f":"VLOOKUP(recettesnov[[#This Row],[Catégorie]],'coulisses 2'!$A$1:$B$20,2,0)","v":0}]
[null,null,null,null,null,null,null,null,null,null,null,null,null,null,null,null,null,{"$f":"VLOOKUP(recettesnov[[#This Row],[Catégorie]],'coulisses 2'!$A$1:$B$20,2,0)","v":0}]
[null,null,null,null,null,null,null,null,null,null,null,null,null,null,null,null,null,{"$f":"VLOOKUP(recettesnov[[#This Row],[Catégorie]],'coulisses 2'!$A$1:$B$20,2,0)","v":0}]
[null,null,null,null,null,null,null,null,null,null,null,null,null,null,null,null,null,{"$f":"VLOOKUP(recettesnov[[#This Row],[Catégorie]],'coulisses 2'!$A$1:$B$20,2,0)","v":0}]
[null,null,null,null,null,null,null,null,null,null,null,null,null,null,null,null,null,{"$f":"VLOOKUP(recettesnov[[#This Row],[Catégorie]],'coulisses 2'!$A$1:$B$20,2,0)","v":0}]
[null,null,null,null,null,null,null,null,null,null,null,null,null,null,null,null,null,{"$f":"VLOOKUP(recettesnov[[#This Row],[Catégorie]],'coulisses 2'!$A$1:$B$20,2,0)","v":0}]
[null,null,null,null,null,null,null,null,null,null,null,null,null,null,null,null,null,{"$f":"VLOOKUP(recettesnov[[#This Row],[Catégorie]],'coulisses 2'!$A$1:$B$20,2,0)","v":0}]
[null,null,null,null,null,null,null,null,null,null,null,null,null,null,null,null,null,{"$f":"VLOOKUP(recettesnov[[#This Row],[Catégorie]],'coulisses 2'!$A$1:$B$20,2,0)","v":0}]
[null,null,null,null,null,null,null,null,null,null,null,null,null,null,null,null,null,{"$f":"VLOOKUP(recettesnov[[#This Row],[Catégorie]],'coulisses 2'!$A$1:$B$20,2,0)","v":0}]
[null,null,null,null,null,null,null,null,null,null,null,null,null,null,null,null,null,{"$f":"VLOOKUP(recettesnov[[#This Row],[Catégorie]],'coulisses 2'!$A$1:$B$20,2,0)","v":0}]
[null,null,null,null,null,null,null,null,null,null,null,null,null,null,null,null,null,{"$f":"VLOOKUP(recettesnov[[#This Row],[Catégorie]],'coulisses 2'!$A$1:$B$20,2,0)","v":0}]
[null,null,null,null,null,null,null,null,null,null,null,null,null,null,null,null,null,{"$f":"VLOOKUP(recettesnov[[#This Row],[Catégorie]],'coulisses 2'!$A$1:$B$20,2,0)","v":0}]
[null,null,null,null,null,null,null,null,null,null,null,null,null,null,null,null,null,{"$f":"VLOOKUP(recettesnov[[#This Row],[Catégorie]],'coulisses 2'!$A$1:$B$20,2,0)","v":0}]
[null,null,null,null,null,null,null,null,null,null,null,null,null,null,null,null,null,{"$f":"VLOOKUP(recettesnov[[#This Row],[Catégorie]],'coulisses 2'!$A$1:$B$20,2,0)","v":0}]
[null,null,null,null,null,null,null,null,null,null,null,null,null,null,null,null,null,{"$f":"VLOOKUP(recettesnov[[#This Row],[Catégorie]],'coulisses 2'!$A$1:$B$20,2,0)","v":0}]
[null,null,null,null,null,null,null,null,null,null,null,null,null,null,null,null,null,{"$f":"VLOOKUP(recettesnov[[#This Row],[Catégorie]],'coulisses 2'!$A$1:$B$20,2,0)","v":0}]
[null,null,null,null,null,null,null,null,null,null,null,null,null,null,null,null,null,{"$f":"VLOOKUP(recettesnov[[#This Row],[Catégorie]],'coulisses 2'!$A$1:$B$20,2,0)","v":0}]
[null,null,null,null,null,null,null,null,null,null,null,null,null,null,null,null,null,{"$f":"VLOOKUP(recettesnov[[#This Row],[Catégorie]],'coulisses 2'!$A$1:$B$20,2,0)","v":0}]
[null,null,null,null,null,null,null,null,null,null,null,null,null,null,null,null,null,{"$f":"VLOOKUP(recettesnov[[#This Row],[Catégorie]],'coulisses 2'!$A$1:$B$20,2,0)","v":0}]
[null,null,null,null,null,null,null,null,null,null,null,null,null,null,null,null,null,{"$f":"VLOOKUP(recettesnov[[#This Row],[Catégorie]],'coulisses 2'!$A$1:$B$20,2,0)","v":0}]
[null,null,null,null,null,null,null,null,null,null,null,null,null,null,null,null,null,{"$f":"VLOOKUP(recettesnov[[#This Row],[Catégorie]],'coulisses 2'!$A$1:$B$20,2,0)","v":0}]
[null,null,null,null,null,null,null,null,null,null,null,null,null,null,null,null,null,{"$f":"VLOOKUP(recettesnov[[#This Row],[Catégorie]],'coulisses 2'!$A$1:$B$20,2,0)","v":0}]
[null,null,null,null,null,null,null,null,null,null,null,null,null,null,null,null,null,{"$f":"VLOOKUP(recettesnov[[#This Row],[Catégorie]],'coulisses 2'!$A$1:$B$20,2,0)","v":0}]
[null,null,null,null,null,null,null,null,null,null,null,null,null,null,null,null,null,{"$f":"VLOOKUP(recettesnov[[#This Row],[Catégorie]],'coulisses 2'!$A$1:$B$20,2,0)","v":0}]
[null,null,null,null,null,null,null,null,null,null,null,null,null,null,null,null,null,{"$f":"VLOOKUP(recettesnov[[#This Row],[Catégorie]],'coulisses 2'!$A$1:$B$20,2,0)","v":0}]
[null,null,null,null,null,null,null,null,null,null,null,null,null,null,null,null,null,{"$f":"VLOOKUP(recettesnov[[#This Row],[Catégorie]],'coulisses 2'!$A$1:$B$20,2,0)","v":0}]
[null,null,null,null,null,null,null,null,null,null,null,null,null,null,null,null,null,{"$f":"VLOOKUP(recettesnov[[#This Row],[Catégorie]],'coulisses 2'!$A$1:$B$20,2,0)","v":0}]
[null,null,null,null,null,null,null,null,null,null,null,null,null,null,null,null,null,{"$f":"VLOOKUP(recettesnov[[#This Row],[Catégorie]],'coulisses 2'!$A$1:$B$20,2,0)","v":0}]
[null,null,null,null,null,null,null,null,null,null,null,null,null,null,null,null,null,{"$f":"VLOOKUP(recettesnov[[#This Row],[Catégorie]],'coulisses 2'!$A$1:$B$20,2,0)","v":0}]
[null,null,null,null,null,null,null,null,null,null,null,null,null,null,null,null,null,{"$f":"VLOOKUP(recettesnov[[#This Row],[Catégorie]],'coulisses 2'!$A$1:$B$20,2,0)","v":0}]
[null,null,null,null,null,null,null,null,null,null,null,null,null,null,null,null,null,{"$f":"VLOOKUP(recettesnov[[#This Row],[Catégorie]],'coulisses 2'!$A$1:$B$20,2,0)","v":0}]
[null,null,null,null,null,null,null,null,null,null,null,null,null,null,null,null,null,{"$f":"VLOOKUP(recettesnov[[#This Row],[Catégorie]],'coulisses 2'!$A$1:$B$20,2,0)","v":0}]
[null,null,null,null,null,null,null,null,null,null,null,null,null,null,null,null,null,{"$f":"VLOOKUP(recettesnov[[#This Row],[Catégorie]],'coulisses 2'!$A$1:$B$20,2,0)","v":0}]
[null,null,null,null,null,null,null,null,null,null,null,null,null,null,null,null,null,{"$f":"VLOOKUP(recettesnov[[#This Row],[Catégorie]],'coulisses 2'!$A$1:$B$20,2,0)","v":0}]
[null,null,null,null,null,null,null,null,null,null,null,null,null,null,null,null,null,{"$f":"VLOOKUP(recettesnov[[#This Row],[Catégorie]],'coulisses 2'!$A$1:$B$20,2,0)","v":0}]
[null,null,null,null,null,null,null,null,null,null,null,null,null,null,null,null,null,{"$f":"VLOOKUP(recettesnov[[#This Row],[Catégorie]],'coulisses 2'!$A$1:$B$20,2,0)","v":0}]
[null,null,null,null,null,null,null,null,null,null,null,null,null,null,null,null,null,{"$f":"VLOOKUP(recettesnov[[#This Row],[Catégorie]],'coulisses 2'!$A$1:$B$20,2,0)","v":0}]
[null,null,null,null,null,null,null,null,null,null,null,null,null,null,null,null,null,{"$f":"VLOOKUP(recettesnov[[#This Row],[Catégorie]],'coulisses 2'!$A$1:$B$20,2,0)","v":0}]
[null,null,null,null,null,null,null,null,null,null,null,null,null,null,null,null,null,{"$f":"VLOOKUP(recettesnov[[#This Row],[Catégorie]],'coulisses 2'!$A$1:$B$20,2,0)","v":0}]
[null,null,null,null,null,null,null,null,null,null,null,null,null,null,null,null,null,{"$f":"VLOOKUP(recettesnov[[#This Row],[Catégorie]],'coulisses 2'!$A$1:$B$20,2,0)","v":0}]
[null,null,null,null,null,null,null,null,null,null,null,null,null,null,null,null,null,{"$f":"VLOOKUP(recettesnov[[#This Row],[Catégorie]],'coulisses 2'!$A$1:$B$20,2,0)","v":0}]
[null,null,null,null,null,null,null,null,null,null,null,null,null,null,null,null,null,{"$f":"VLOOKUP(recettesnov[[#This Row],[Catégorie]],'coulisses 2'!$A$1:$B$20,2,0)","v":0}]
[null,null,null,null,null,null,null,null,null,null,null,null,null,null,null,null,null,{"$f":"VLOOKUP(recettesnov[[#This Row],[Catégorie]],'coulisses 2'!$A$1:$B$20,2,0)","v":0}]
[null,null,null,null,null,null,null,null,null,null,null,null,null,null,null,null,null,{"$f":"VLOOKUP(recettesnov[[#This Row],[Catégorie]],'coulisses 2'!$A$1:$B$20,2,0)","v":0}]
[null,null,null,null,null,null,null,null,null,null,null,null,null,null,null,null,null,{"$f":"VLOOKUP(recettesnov[[#This Row],[Catégorie]],'coulisses 2'!$A$1:$B$20,2,0)","v":0}]
[null,null,null,null,null,null,null,null,null,null,null,null,null,null,null,null,null,{"$f":"VLOOKUP(recettesnov[[#This Row],[Catégorie]],'coulisses 2'!$A$1:$B$20,2,0)","v":0}]
[null,null,null,null,null,null,null,null,null,null,null,null,null,null,null,null,null,{"$f":"VLOOKUP(recettesnov[[#This Row],[Catégorie]],'coulisses 2'!$A$1:$B$20,2,0)","v":0}]
[null,null,null,null,null,null,null,null,null,null,null,null,null,null,null,null,null,{"$f":"VLOOKUP(recettesnov[[#This Row],[Catégorie]],'coulisses 2'!$A$1:$B$20,2,0)","v":0}]
[null,null,null,null,null,null,null,null,null,null,null,null,null,null,null,null,null,{"$f":"VLOOKUP(recettesnov[[#This Row],[Catégorie]],'coulisses 2'!$A$1:$B$20,2,0)","v":0}]
[null,null,null,null,null,null,null,null,null,null,null,null,null,null,null,null,null,{"$f":"VLOOKUP(recettesnov[[#This Row],[Catégorie]],'coulisses 2'!$A$1:$B$20,2,0)","v":0}]
[null,null,null,null,null,null,null,null,null,null,null,null,null,null,null,null,null,{"$f":"VLOOKUP(recettesnov[[#This Row],[Catégorie]],'coulisses 2'!$A$1:$B$20,2,0)","v":0}]
[null,null,null,null,null,null,null,null,null,null,null,null,null,null,null,null,null,{"$f":"VLOOKUP(recettesnov[[#This Row],[Catégorie]],'coulisses 2'!$A$1:$B$20,2,0)","v":0}]
[null,null,null,null,null,null,null,null,null,null,null,null,null,null,null,null,null,{"$f":"VLOOKUP(recettesnov[[#This Row],[Catégorie]],'coulisses 2'!$A$1:$B$20,2,0)","v":0}]
[null,null,null,null,null,null,null,null,null,null,null,null,null,null,null,null,null,{"$f":"VLOOKUP(recettesnov[[#This Row],[Catégorie]],'coulisses 2'!$A$1:$B$20,2,0)","v":0}]
[null,null,null,null,null,null,null,null,null,null,null,null,null,null,null,null,null,{"$f":"VLOOKUP(recettesnov[[#This Row],[Catégorie]],'coulisses 2'!$A$1:$B$20,2,0)","v":0}]
[null,null,null,null,null,null,null,null,null,null,null,null,null,null,null,null,null,{"$f":"VLOOKUP(recettesnov[[#This Row],[Catégorie]],'coulisses 2'!$A$1:$B$20,2,0)","v":0}]
[null,null,null,null,null,null,null,null,null,null,null,null,null,null,null,null,null,{"$f":"VLOOKUP(recettesnov[[#This Row],[Catégorie]],'coulisses 2'!$A$1:$B$20,2,0)","v":0}]
[null,null,null,null,null,null,null,null,null,null,null,null,null,null,null,null,null,{"$f":"VLOOKUP(recettesnov[[#This Row],[Catégorie]],'coulisses 2'!$A$1:$B$20,2,0)","v":0}]
[null,null,null,null,null,null,null,null,null,null,null,null,null,null,null,null,null,{"$f":"VLOOKUP(recettesnov[[#This Row],[Catégorie]],'coulisses 2'!$A$1:$B$20,2,0)","v":0}]
[null,null,null,null,null,null,null,null,null,null,null,null,null,null,null,null,null,{"$f":"VLOOKUP(recettesnov[[#This Row],[Catégorie]],'coulisses 2'!$A$1:$B$20,2,0)","v":0}]
[null,null,null,null,null,null,null,null,null,null,null,null,null,null,null,null,null,{"$f":"VLOOKUP(recettesnov[[#This Row],[Catégorie]],'coulisses 2'!$A$1:$B$20,2,0)","v":0}]
[null,null,null,null,null,null,null,null,null,null,null,null,null,null,null,null,null,{"$f":"VLOOKUP(recettesnov[[#This Row],[Catégorie]],'coulisses 2'!$A$1:$B$20,2,0)","v":0}]
[null,null,null,null,null,null,null,null,null,null,null,null,null,null,null,null,null,{"$f":"VLOOKUP(recettesnov[[#This Row],[Catégorie]],'coulisses 2'!$A$1:$B$20,2,0)","v":0}]
[null,null,null,null,null,null,null,null,null,null,null,null,null,null,null,null,null,{"$f":"VLOOKUP(recettesnov[[#This Row],[Catégorie]],'coulisses 2'!$A$1:$B$20,2,0)","v":0}]
[null,null,null,null,null,null,null,null,null,null,null,null,null,null,null,null,null,{"$f":"VLOOKUP(recettesnov[[#This Row],[Catégorie]],'coulisses 2'!$A$1:$B$20,2,0)","v":0}]
[null,null,null,null,null,null,null,null,null,null,null,null,null,null,null,null,null,{"$f":"VLOOKUP(recettesnov[[#This Row],[Catégorie]],'coulisses 2'!$A$1:$B$20,2,0)","v":0}]
[null,null,null,null,null,null,null,null,null,null,null,null,null,null,null,null,null,{"$f":"VLOOKUP(recettesnov[[#This Row],[Catégorie]],'coulisses 2'!$A$1:$B$20,2,0)","v":0}]
[null,null,null,null,null,null,null,null,null,null,null,null,null,null,null,null,null,{"$f":"VLOOKUP(recettesnov[[#This Row],[Catégorie]],'coulisses 2'!$A$1:$B$20,2,0)","v":0}]
[null,null,null,null,null,null,null,null,null,null,null,null,null,null,null,null,null,{"$f":"VLOOKUP(recettesnov[[#This Row],[Catégorie]],'coulisses 2'!$A$1:$B$20,2,0)","v":0}]
[null,null,null,null,null,null,null,null,null,null,null,null,null,null,null,null,null,{"$f":"VLOOKUP(recettesnov[[#This Row],[Catégorie]],'coulisses 2'!$A$1:$B$20,2,0)","v":0}]
[null,null,null,null,null,null,null,null,null,null,null,null,null,null,null,null,null,{"$f":"VLOOKUP(recettesnov[[#This Row],[Catégorie]],'coulisses 2'!$A$1:$B$20,2,0)","v":0}]
[null,null,null,null,null,null,null,null,null,null,null,null,null,null,null,null,null,{"$f":"VLOOKUP(recettesnov[[#This Row],[Catégorie]],'coulisses 2'!$A$1:$B$20,2,0)","v":0}]
[null,null,null,null,null,null,null,null,null,null,null,null,null,null,null,null,null,{"$f":"VLOOKUP(recettesnov[[#This Row],[Catégorie]],'coulisses 2'!$A$1:$B$20,2,0)","v":0}]
[null,null,null,null,null,null,null,null,null,null,null,null,null,null,null,null,null,{"$f":"VLOOKUP(recettesnov[[#This Row],[Catégorie]],'coulisses 2'!$A$1:$B$20,2,0)","v":0}]
[null,null,null,null,null,null,null,null,null,null,null,null,null,null,null,null,null,{"$f":"VLOOKUP(recettesnov[[#This Row],[Catégorie]],'coulisses 2'!$A$1:$B$20,2,0)","v":0}]
[null,null,null,null,null,null,null,null,null,null,null,null,null,null,null,null,null,{"$f":"VLOOKUP(recettesnov[[#This Row],[Catégorie]],'coulisses 2'!$A$1:$B$20,2,0)","v":0}]
[null,null,null,null,null,null,null,null,null,null,null,null,null,null,null,null,null,{"$f":"VLOOKUP(recettesnov[[#This Row],[Catégorie]],'coulisses 2'!$A$1:$B$20,2,0)","v":0}]

{"sheet":"🎄 12","index":12,"n_rows":304,"n_cols":24,"rows_kept":304,"cut":false,"hidden":false,"merged":[[1,1,1,4],[1,9,1,12]]}
[null,{"$f":"'👩🏻‍🏫 Bienvenue !'!K7","v":0},null,{"$f":" '👩🏻‍🏫 Bienvenue !'!I12&\" - \"&\"Décembre \"&'👩🏻‍🏫 Bienvenue !'!I16","v":" - Décembre "},null,null,null,null,null,null,null,null,null,null,"VOTRE PROFIT DU MOIS",{"$f":"H2-P2","v":0}]
[null,"Vos recettes 💰",null,null,null,null,"TOTAL",{"$f":"SUM(Recettesdec[Montant])","v":0},null,"Vos dépenses 🧾",null,null,null,null,"TOTAL",{"$f":"SUM(Depensesdec[Montant])","v":0}]
[]
[null,"Date","Mode de paiement","N°","Libellé et nom du client","Catégorie","Axe","Montant",null,"Date","Mode de paiement","N°","Libellé","Catégorie","Axe","Montant",null,"Taux"]
[null,null,null,null,null,null,null,null,null,null,null,"D1","Cotisations sociales Octobre - Taux 1","Cotisations sociales",null,{"$f":"'🎃 10'!X29","v":0},null,{"$f":"VLOOKUP(Recettesdec[[#This Row],[Catégorie]],'coulisses 2'!$A$1:$B$20,2,0)","v":0},null,"Récapitulatif par type de dépense",{"$f":"SUM(U6:U26)","v":0},null,"Récapitulatif par type de recette",{"$f":"SUM(X6:X26)","v":0}]
[null,null,null,null,null,null,null,null,null,null,null,"D2","Cotisations sociales Octobre - Taux 2","Cotisations sociales",null,{"$f":"'🎃 10'!X30","v":0},null,{"$f":"VLOOKUP(Recettesdec[[#This Row],[Catégorie]],'coulisses 2'!$A$1:$B$20,2,0)","v":0},null,{"$f":"coulisses!J23","v":0},{"$f":"SUMIF(Depensesdec[Catégorie],T6,Depensesdec[Montant])","v":0},null,{"$f":"coulisses!J3","v":0},{"$f":"SUMIF(Recettesdec[Catégorie],W6,Recettesdec[Montant])","v":0}]
[null,null,null,null,null,null,null,null,null,null,null,"D3","Cotisations sociales Octobre - Taux 3","Cotisations sociales",null,{"$f":"'🎃 10'!X31","v":0},null,{"$f":"VLOOKUP(Recettesdec[[#This Row],[Catégorie]],'coulisses 2'!$A$1:$B$20,2,0)","v":0},null,{"$f":"coulisses!J24","v":0},{"$f":"SUMIF(Depensesdec[Catégorie],T7,Depensesdec[Montant])","v":0},null,{"$f":"coulisses!J4","v":0},{"$f":"SUMIF(Recettesdec[Catégorie],W7,Recettesdec[Montant])","v":0}]
[null,null,null,null,null,null,null,null,null,null,null,null,null,null,null,null,null,{"$f":"VLOOKUP(Recettesdec[[#This Row],[Catégorie]],'coulisses 2'!$A$1:$B$20,2,0)","v":0},null,{"$f":"coulisses!J25","v":0},{"$f":"SUMIF(Depensesdec[Catégorie],T8,Depensesdec[Montant])","v":0},null,{"$f":"coulisses!J5","v":0},{"$f":"SUMIF(Recettesdec[Catégorie],W8,Recettesdec[Montant])","v":0}]
[null,null,null,null,null,null,null,null,null,null,null,null,null,null,null,null,null,{"$f":"VLOOKUP(Recettesdec[[#This Row],[Catégorie]],'coulisses 2'!$A$1:$B$20,2,0)","v":0},null,{"$f":"coulisses!J26","v":0},{"$f":"SUMIF(Depensesdec[Catégorie],T9,Depensesdec[Montant])","v":0},null,{"$f":"coulisses!J6","v":0},{"$f":"SUMIF(Recettesdec[Catégorie],W9,Recettesdec[Montant])","v":0}]
[null,null,null,null,null,null,null,null,null,null,null,null,null,null,null,null,null,{"$f":"VLOOKUP(Recettesdec[[#This Row],[Catégorie]],'coulisses 2'!$A$1:$B$20,2,0)","v":0},null,{"$f":"coulisses!J27","v":0},{"$f":"SUMIF(Depensesdec[Catégorie],T10,Depensesdec[Montant])","v":0},null,{"$f":"coulisses!J7","v":0},{"$f":"SUMIF(Recettesdec[Catégorie],W10,Recettesdec[Montant])","v":0}]
[null,null,null,null,null,null,null,null,null,null,null,null,null,null,null,null,null,{"$f":"VLOOKUP(Recettesdec[[#This Row],[Catégorie]],'coulisses 2'!$A$1:$B$20,2,0)","v":0},null,{"$f":"coulisses!J28","v":0},{"$f":"SUMIF(Depensesdec[Catégorie],T11,Depensesdec[Montant])","v":0},null,{"$f":"coulisses!J8","v":0},{"$f":"SUMIF(Recettesdec[Catégorie],W11,Recettesdec[Montant])","v":0}]
[null,null,null,null,null,null,null,null,null,null,null,null,null,null,null,null,null,{"$f":"VLOOKUP(Recettesdec[[#This Row],[Catégorie]],'coulisses 2'!$A$1:$B$20,2,0)","v":0},null,{"$f":"coulisses!J29","v":0},{"$f":"SUMIF(Depensesdec[Catégorie],T12,Depensesdec[Montant])","v":0},null,{"$f":"coulisses!J9","v":0},{"$f":"SUMIF(Recettesdec[Catégorie],W12,Recettesdec[Montant])","v":0}]
[null,null,null,null,null,null,null,null,null,null,null,null,null,null,null,null,null,{"$f":"VLOOKUP(Recettesdec[[#This Row],[Catégorie]],'coulisses 2'!$A$1:$B$20,2,0)","v":0},null,{"$f":"coulisses!J30","v":0},{"$f":"SUMIF(Depensesdec[Catégorie],T13,Depensesdec[Montant])","v":0},null,{"$f":"coulisses!J10","v":0},{"$f":"SUMIF(Recettesdec[Catégorie],W13,Recettesdec[Montant])","v":0}]
[null,null,null,null,null,null,null,null,null,null,null,null,null,null,null,null,null,{"$f":"VLOOKUP(Recettesdec[[#This Row],[Catégorie]],'coulisses 2'!$A$1:$B$20,2,0)","v":0},null,{"$f":"coulisses!J31","v":0},{"$f":"SUMIF(Depensesdec[Catégorie],T14,Depensesdec[Montant])","v":0},null,{"$f":"coulisses!J11","v":0},{"$f":"SUMIF(Recettesdec[Catégorie],W14,Recettesdec[Montant])","v":0}]
[null,null,null,null,null,null,null,null,null,null,null,null,null,null,null,null,null,{"$f":"VLOOKUP(Recettesdec[[#This Row],[Catégorie]],'coulisses 2'!$A$1:$B$20,2,0)","v":0},null,{"$f":"coulisses!J32","v":0},{"$f":"SUMIF(Depensesdec[Catégorie],T15,Depensesdec[Montant])","v":0},null,{"$f":"coulisses!J12","v":0},{"$f":"SUMIF(Recettesdec[Catégorie],W15,Recettesdec[Montant])","v":0}]
[null,null,null,null,null,null,null,null,null,null,null,null,null,null,null,null,null,{"$f":"VLOOKUP(Recettesdec[[#This Row],[Catégorie]],'coulisses 2'!$A$1:$B$20,2,0)","v":0},null,{"$f":"coulisses!J33","v":0},{"$f":"SUMIF(Depensesdec[Catégorie],T16,Depensesdec[Montant])","v":0},null,{"$f":"coulisses!J13","v":0},{"$f":"SUMIF(Recettesdec[Catégorie],W16,Recettesdec[Montant])","v":0}]
[null,null,null,null,null,null,null,null,null,null,null,null,null,null,null,null,null,{"$f":"VLOOKUP(Recettesdec[[#This Row],[Catégorie]],'coulisses 2'!$A$1:$B$20,2,0)","v":0},null,{"$f":"coulisses!J34","v":0},{"$f":"SUMIF(Depensesdec[Catégorie],T17,Depensesdec[Montant])","v":0},null,{"$f":"coulisses!J14","v":0},{"$f":"SUMIF(Recettesdec[Catégorie],W17,Recettesdec[Montant])","v":0}]
[null,null,null,null,null,null,null,null,null,null,null,null,null,null,null,null,null,{"$f":"VLOOKUP(Recettesdec[[#This Row],[Catégorie]],'coulisses 2'!$A$1:$B$20,2,0)","v":0},null,{"$f":"coulisses!J35","v":0},{"$f":"SUMIF(Depensesdec[Catégorie],T18,Depensesdec[Montant])","v":0},null,{"$f":"coulisses!J15","v":0},{"$f":"SUMIF(Recettesdec[Catégorie],W18,Recettesdec[Montant])","v":0}]
[null,null,null,null,null,null,null,null,null,null,null,null,null,null,null,null,null,{"$f":"VLOOKUP(Recettesdec[[#This Row],[Catégorie]],'coulisses 2'!$A$1:$B$20,2,0)","v":0},null,{"$f":"coulisses!J36","v":0},{"$f":"SUMIF(Depensesdec[Catégorie],T19,Depensesdec[Montant])","v":0},null,{"$f":"coulisses!J16","v":0},{"$f":"SUMIF(Recettesdec[Catégorie],W19,Recettesdec[Montant])","v":0}]
[null,null,null,null,null,null,null,null,null,null,null,null,null,null,null,null,null,{"$f":"VLOOKUP(Recettesdec[[#This Row],[Catégorie]],'coulisses 2'!$A$1:$B$20,2,0)","v":0},null,{"$f":"coulisses!J37","v":0},{"$f":"SUMIF(Depensesdec[Catégorie],T20,Depensesdec[Montant])","v":0},null,{"$f":"coulisses!J17","v":0},{"$f":"SUMIF(Recettesdec[Catégorie],W20,Recettesdec[Montant])","v":0}]
[null,null,null,null,null,null,null,null,null,null,null,null,null,null,null,null,null,{"$f":"VLOOKUP(Recettesdec[[#This Row],[Catégorie]],'coulisses 2'!$A$1:$B$20,2,0)","v":0},null,{"$f":"coulisses!J38","v":0},{"$f":"SUMIF(Depensesdec[Catégorie],T21,Depensesdec[Montant])","v":0},null,{"$f":"coulisses!J18","v":0},{"$f":"SUMIF(Recettesdec[Catégorie],W21,Recettesdec[Montant])","v":0}]
[null,null,null,null,null,null,null,null,null,null,null,null,null,null,null,null,null,{"$f":"VLOOKUP(Recettesdec[[#This Row],[Catégorie]],'coulisses 2'!$A$1:$B$20,2,0)","v":0},null,{"$f":"coulisses!J39","v":0},{"$f":"SUMIF(Depensesdec[Catégorie],T22,Depensesdec[Montant])","v":0},null,{"$f":"coulisses!J19","v":0},{"$f":"SUMIF(Recettesdec[Catégorie],W22,Recettesdec[Montant])","v":0}]
[null,null,null,null,null,null,null,null,null,null,null,null,null,null,null,null,null,{"$f":"VLOOKUP(Recettesdec[[#This Row],[Catégorie]],'coulisses 2'!$A$1:$B$20,2,0)","v":0},null,{"$f":"coulisses!J40","v":0},{"$f":"SUMIF(Depensesdec[Catégorie],T23,Depensesdec[Montant])","v":0},null,{"$f":"coulisses!J20","v":0},{"$f":"SUMIF(Recettesdec[Catégorie],W23,Recettesdec[Montant])","v":0}]
[null,null,null,null,null,null,null,null,null,null,null,null,null,null,null,null,null,{"$f":"VLOOKUP(Recettesdec[[#This Row],[Catégorie]],'coulisses 2'!$A$1:$B$20,2,0)","v":0},null,{"$f":"coulisses!J41","v":0},{"$f":"SUMIF(Depensesdec[Catégorie],T24,Depensesdec[Montant])","v":0},null,{"$f":"coulisses!J21","v":0},{"$f":"SUMIF(Recettesdec[Catégorie],W24,Recettesdec[Montant])","v":0}]
[null,null,null,null,null,null,null,null,null,null,null,null,null,null,null,null,null,{"$f":"VLOOKUP(Recettesdec[[#This Row],[Catégorie]],'coulisses 2'!$A$1:$B$20,2,0)","v":0},null,{"$f":"coulisses!J42","v":"Cotisations sociales"},{"$f":"SUMIF(Depensesdec[Catégorie],T25,Depensesdec[Montant])","v":0},null,{"$f":"coulisses!J22","v":0},{"$f":"SUMIF(Recettesdec[Catégorie],W25,Recettesdec[Montant])","v":0}]
[null,null,null,null,null,null,null,null,null,null,null,null,null,null,null,null,null,{"$f":"VLOOKUP(Recettesdec[[#This Row],[Catégorie]],'coulisses 2'!$A$1:$B$20,2,0)","v":0}]
[null,null,null,null,null,null,null,null,null,null,null,null,null,null,null,null,null,{"$f":"VLOOKUP(Recettesdec[[#This Row],[Catégorie]],'coulisses 2'!$A$1:$B$20,2,0)","v":0}]
[null,null,null,null,null,null,null,null,null,null,null,null,null,null,null,null,null,{"$f":"VLOOKUP(Recettesdec[[#This Row],[Catégorie]],'coulisses 2'!$A$1:$B$20,2,0)","v":0},null,"Estimation des charges dues sur le CA du mois",null,"CA","Taux","A payer"]
[null,null,null,null,null,null,null,null,null,null,null,null,null,null,null,null,null,{"$f":"VLOOKUP(Recettesdec[[#This Row],[Catégorie]],'coulisses 2'!$A$1:$B$20,2,0)","v":0},null,{"$f":"'👩🏻‍🏫 Bienvenue !'!G20","v":"Taux 1"},null,{"$f":"SUMIF(R:R,W29,H:H)","v":0},{"$f":"'👩🏻‍🏫 Bienvenue !'!I20","v":0},{"$f":"W29*V29","v":0}]
[null,null,null,null,null,null,null,null,null,null,null,null,null,null,null,null,null,{"$f":"VLOOKUP(Recettesdec[[#This Row],[Catégorie]],'coulisses 2'!$A$1:$B$20,2,0)","v":0},null,{"$f":"'👩🏻‍🏫 Bienvenue !'!G21","v":"Taux 2"},null,{"$f":"SUMIF(R:R,W30,H:H)","v":0},{"$f":"'👩🏻‍🏫 Bienvenue !'!I21","v":0},{"$f":"W30*V30","v":0}]
[null,null,null,null,null,null,null,null,null,null,null,null,null,null,null,null,null,{"$f":"VLOOKUP(Recettesdec[[#This Row],[Catégorie]],'coulisses 2'!$A$1:$B$20,2,0)","v":0},null,{"$f":"'👩🏻‍🏫 Bienvenue !'!G22","v":"Taux 3"},null,0,{"$f":"'👩🏻‍🏫 Bienvenue !'!I22","v":0},{"$f":"W31*V31","v":0}]
[null,null,null,null,null,null,null,null,null,null,null,null,null,null,null,null,null,{"$f":"VLOOKUP(Recettesdec[[#This Row],[Catégorie]],'coulisses 2'!$A$1:$B$20,2,0)","v":0},null,"TOTAL",null,null,null,{"$f":"SUM(X29:X31)","v":0}]
[null,null,null,null,null,null,null,null,null,null,null,null,null,null,null,null,null,{"$f":"VLOOKUP(Recettesdec[[#This Row],[Catégorie]],'coulisses 2'!$A$1:$B$20,2,0)","v":0}]
[null,null,null,null,null,null,null,null,null,null,null,null,null,null,null,null,null,{"$f":"VLOOKUP(Recettesdec[[#This Row],[Catégorie]],'coulisses 2'!$A$1:$B$20,2,0)","v":0},null,"Rapprochement bancaire"]
[null,null,null,null,null,null,null,null,null,null,null,null,null,null,null,null,null,{"$f":"VLOOKUP(Recettesdec[[#This Row],[Catégorie]],'coulisses 2'!$A$1:$B$20,2,0)","v":0},null,"Solde du mois précédent",{"$f":"'🍂 11'!U46","v":0}]
[null,null,null,null,null,null,null,null,null,null,null,null,null,null,null,null,null,{"$f":"VLOOKUP(Recettesdec[[#This Row],[Catégorie]],'coulisses 2'!$A$1:$B$20,2,0)","v":0},null,"Profit du mois",{"$f":"P1","v":0}]
[null,null,null,null,null,null,null,null,null,null,null,null,null,null,null,null,null,{"$f":"VLOOKUP(Recettesdec[[#This Row],[Catégorie]],'coulisses 2'!$A$1:$B$20,2,0)","v":0},null,"Ecritures à rapprocher :"]
[null,null,null,null,null,null,null,null,null,null,null,null,null,null,null,null,null,{"$f":"VLOOKUP(Recettesdec[[#This Row],[Catégorie]],'coulisses 2'!$A$1:$B$20,2,0)","v":0}]
[null,null,null,null,null,null,null,null,null,null,null,null,null,null,null,null,null,{"$f":"VLOOKUP(Recettesdec[[#This Row],[Catégorie]],'coulisses 2'!$A$1:$B$20,2,0)","v":0}]
[null,null,null,null,null,null,null,null,null,null,null,null,null,null,null,null,null,{"$f":"VLOOKUP(Recettesdec[[#This Row],[Catégorie]],'coulisses 2'!$A$1:$B$20,2,0)","v":0}]
[null,null,null,null,null,null,null,null,null,null,null,null,null,null,null,null,null,{"$f":"VLOOKUP(Recettesdec[[#This Row],[Catégorie]],'coulisses 2'!$A$1:$B$20,2,0)","v":0}]
[null,null,null,null,null,null,null,null,null,null,null,null,null,null,null,null,null,{"$f":"VLOOKUP(Recettesdec[[#This Row],[Catégorie]],'coulisses 2'!$A$1:$B$20,2,0)","v":0}]
[null,null,null,null,null,null,null,null,null,null,null,null,null,null,null,null,null,{"$f":"VLOOKUP(Recettesdec[[#This Row],[Catégorie]],'coulisses 2'!$A$1:$B$20,2,0)","v":0}]
[null,null,null,null,null,null,null,null,null,null,null,null,null,null,null,null,null,{"$f":"VLOOKUP(Recettesdec[[#This Row],[Catégorie]],'coulisses 2'!$A$1:$B$20,2,0)","v":0}]
[null,null,null,null,null,null,null,null,null,null,null,null,null,null,null,null,null,{"$f":"VLOOKUP(Recettesdec[[#This Row],[Catégorie]],'coulisses 2'!$A$1:$B$20,2,0)","v":0}]
[null,null,null,null,null,null,null,null,null,null,null,null,null,null,null,null,null,{"$f":"VLOOKUP(Recettesdec[[#This Row],[Catégorie]],'coulisses 2'!$A$1:$B$20,2,0)","v":0},null,"Solde final du mois",{"$f":"U35+U36+SUM(U38:U45)","v":0}]
[null,null,null,null,null,null,null,null,null,null,null,null,null,null,null,null,null,{"$f":"VLOOKUP(Recettesdec[[#This Row],[Catégorie]],'coulisses 2'!$A$1:$B$20,2,0)","v":0},null,"Solde du relevé bancaire"]
[null,null,null,null,null,null,null,null,null,null,null,null,null,null,null,null,null,{"$f":"VLOOKUP(Recettesdec[[#This Row],[Catégorie]],'coulisses 2'!$A$1:$B$20,2,0)","v":0},null,"Contrôle (doit être à 0)",{"$f":"U46-U47","v":0}]
[null,null,null,null,null,null,null,null,null,null,null,null,null,null,null,null,null,{"$f":"VLOOKUP(Recettesdec[[#This Row],[Catégorie]],'coulisses 2'!$A$1:$B$20,2,0)","v":0}]
[null,null,null,null,null,null,null,null,null,null,null,null,null,null,null,null,null,{"$f":"VLOOKUP(Recettesdec[[#This Row],[Catégorie]],'coulisses 2'!$A$1:$B$20,2,0)","v":0},null,"Résultat par axe","CA","Dépenses","Résultat"]
[null,null,null,null,null,null,null,null,null,null,null,null,null,null,null,null,null,{"$f":"VLOOKUP(Recettesdec[[#This Row],[Catégorie]],'coulisses 2'!$A$1:$B$20,2,0)","v":0},null,{"$f":"'👩🏻‍🏫 Bienvenue !'!I73","v":0},{"$f":"SUMIF(Recettesdec[Axe],T51,Recettesdec[Montant])","v":0},{"$f":"SUMIF(Depensesdec[Axe],T51,Depensesdec[Montant])","v":0},{"$f":"U51-V51","v":0}]
[null,null,null,null,null,null,null,null,null,null,null,null,null,null,null,null,null,{"$f":"VLOOKUP(Recettesdec[[#This Row],[Catégorie]],'coulisses 2'!$A$1:$B$20,2,0)","v":0},null,{"$f":"'👩🏻‍🏫 Bienvenue !'!I74","v":0},{"$f":"SUMIF(Recettesdec[Axe],T52,Recettesdec[Montant])","v":0},{"$f":"SUMIF(Depensesdec[Axe],T52,Depensesdec[Montant])","v":0},{"$f":"U52-V52","v":0}]
[null,null,null,null,null,null,null,null,null,null,null,null,null,null,null,null,null,{"$f":"VLOOKUP(Recettesdec[[#This Row],[Catégorie]],'coulisses 2'!$A$1:$B$20,2,0)","v":0},null,{"$f":"'👩🏻‍🏫 Bienvenue !'!I75","v":0},{"$f":"SUMIF(Recettesdec[Axe],T53,Recettesdec[Montant])","v":0},{"$f":"SUMIF(Depensesdec[Axe],T53,Depensesdec[Montant])","v":0},0]
[null,null,null,null,null,null,null,null,null,null,null,null,null,null,null,null,null,{"$f":"VLOOKUP(Recettesdec[[#This Row],[Catégorie]],'coulisses 2'!$A$1:$B$20,2,0)","v":0},null,{"$f":"'👩🏻‍🏫 Bienvenue !'!I76","v":0},{"$f":"SUMIF(Recettesdec[Axe],T54,Recettesdec[Montant])","v":0},{"$f":"SUMIF(Depensesdec[Axe],T54,Depensesdec[Montant])","v":0},0]
[null,null,null,null,null,null,null,null,null,null,null,null,null,null,null,null,null,{"$f":"VLOOKUP(Recettesdec[[#This Row],[Catégorie]],'coulisses 2'!$A$1:$B$20,2,0)","v":0},null,{"$f":"'👩🏻‍🏫 Bienvenue !'!I77","v":0},{"$f":"SUMIF(Recettesdec[Axe],T55,Recettesdec[Montant])","v":0},{"$f":"SUMIF(Depensesdec[Axe],T55,Depensesdec[Montant])","v":0},0]
[null,null,null,null,null,null,null,null,null,null,null,null,null,null,null,null,null,{"$f":"VLOOKUP(Recettesdec[[#This Row],[Catégorie]],'coulisses 2'!$A$1:$B$20,2,0)","v":0},null,{"$f":"'👩🏻‍🏫 Bienvenue !'!I78","v":0},{"$f":"SUMIF(Recettesdec[Axe],T56,Recettesdec[Montant])","v":0},{"$f":"SUMIF(Depensesdec[Axe],T56,Depensesdec[Montant])","v":0},0]
[null,null,null,null,null,null,null,null,null,null,null,null,null,null,null,null,null,{"$f":"VLOOKUP(Recettesdec[[#This Row],[Catégorie]],'coulisses 2'!$A$1:$B$20,2,0)","v":0},null,{"$f":"'👩🏻‍🏫 Bienvenue !'!I79","v":0},{"$f":"SUMIF(Recettesdec[Axe],T57,Recettesdec[Montant])","v":0},{"$f":"SUMIF(Depensesdec[Axe],T57,Depensesdec[Montant])","v":0},0]
[null,null,null,null,null,null,null,null,null,null,null,null,null,null,null,null,null,{"$f":"VLOOKUP(Recettesdec[[#This Row],[Catégorie]],'coulisses 2'!$A$1:$B$20,2,0)","v":0},null,{"$f":"'👩🏻‍🏫 Bienvenue !'!I80","v":0},{"$f":"SUMIF(Recettesdec[Axe],T58,Recettesdec[Montant])","v":0},{"$f":"SUMIF(Depensesdec[Axe],T58,Depensesdec[Montant])","v":0},0]
[null,null,null,null,null,null,null,null,null,null,null,null,null,null,null,null,null,{"$f":"VLOOKUP(Recettesdec[[#This Row],[Catégorie]],'coulisses 2'!$A$1:$B$20,2,0)","v":0},null,{"$f":"'👩🏻‍🏫 Bienvenue !'!I81","v":0},{"$f":"SUMIF(Recettesdec[Axe],T59,Recettesdec[Montant])","v":0},{"$f":"SUMIF(Depensesdec[Axe],T59,Depensesdec[Montant])","v":0},0]
[null,null,null,null,null,null,null,null,null,null,null,null,null,null,null,null,null,{"$f":"VLOOKUP(Recettesdec[[#This Row],[Catégorie]],'coulisses 2'!$A$1:$B$20,2,0)","v":0},null,{"$f":"'👩🏻‍🏫 Bienvenue !'!I82","v":0},{"$f":"SUMIF(Recettesdec[Axe],T60,Recettesdec[Montant])","v":0},{"$f":"SUMIF(Depensesdec[Axe],T60,Depensesdec[Montant])","v":0},0]
[null,null,null,null,null,null,null,null,null,null,null,null,null,null,null,null,null,{"$f":"VLOOKUP(Recettesdec[[#This Row],[Catégorie]],'coulisses 2'!$A$1:$B$20,2,0)","v":0}]
[null,null,null,null,null,null,null,null,null,null,null,null,null,null,null,null,null,{"$f":"VLOOKUP(Recettesdec[[#This Row],[Catégorie]],'coulisses 2'!$A$1:$B$20,2,0)","v":0}]
[null,null,null,null,null,null,null,null,null,null,null,null,null,null,null,null,null,{"$f":"VLOOKUP(Recettesdec[[#This Row],[Catégorie]],'coulisses 2'!$A$1:$B$20,2,0)","v":0}]
[null,null,null,null,null,null,null,null,null,null,null,null,null,null,null,null,null,{"$f":"VLOOKUP(Recettesdec[[#This Row],[Catégorie]],'coulisses 2'!$A$1:$B$20,2,0)","v":0}]
[null,null,null,null,null,null,null,null,null,null,null,null,null,null,null,null,null,{"$f":"VLOOKUP(Recettesdec[[#This Row],[Catégorie]],'coulisses 2'!$A$1:$B$20,2,0)","v":0}]
[null,null,null,null,null,null,null,null,null,null,null,null,null,null,null,null,null,{"$f":"VLOOKUP(Recettesdec[[#This Row],[Catégorie]],'coulisses 2'!$A$1:$B$20,2,0)","v":0}]
[null,null,null,null,null,null,null,null,null,null,null,null,null,null,null,null,null,{"$f":"VLOOKUP(Recettesdec[[#This Row],[Catégorie]],'coulisses 2'!$A$1:$B$20,2,0)","v":0}]
[null,null,null,null,null,null,null,null,null,null,null,null,null,null,null,null,null,{"$f":"VLOOKUP(Recettesdec[[#This Row],[Catégorie]],'coulisses 2'!$A$1:$B$20,2,0)","v":0}]
[null,null,null,null,null,null,null,null,null,null,null,null,null,null,null,null,null,{"$f":"VLOOKUP(Recettesdec[[#This Row],[Catégorie]],'coulisses 2'!$A$1:$B$20,2,0)","v":0}]
[null,null,null,null,null,null,null,null,null,null,null,null,null,null,null,null,null,{"$f":"VLOOKUP(Recettesdec[[#This Row],[Catégorie]],'coulisses 2'!$A$1:$B$20,2,0)","v":0}]
[null,null,null,null,null,null,null,null,null,null,null,null,null,null,null,null,null,{"$f":"VLOOKUP(Recettesdec[[#This Row],[Catégorie]],'coulisses 2'!$A$1:$B$20,2,0)","v":0}]
[null,null,null,null,null,null,null,null,null,null,null,null,null,null,null,null,null,{"$f":"VLOOKUP(Recettesdec[[#This Row],[Catégorie]],'coulisses 2'!$A$1:$B$20,2,0)","v":0}]
[null,null,null,null,null,null,null,null,null,null,null,null,null,null,null,null,null,{"$f":"VLOOKUP(Recettesdec[[#This Row],[Catégorie]],'coulisses 2'!$A$1:$B$20,2,0)","v":0}]
[null,null,null,null,null,null,null,null,null,null,null,null,null,null,null,null,null,{"$f":"VLOOKUP(Recettesdec[[#This Row],[Catégorie]],'coulisses 2'!$A$1:$B$20,2,0)","v":0}]
[null,null,null,null,null,null,null,null,null,null,null,null,null,null,null,null,null,{"$f":"VLOOKUP(Recettesdec[[#This Row],[Catégorie]],'coulisses 2'!$A$1:$B$20,2,0)","v":0}]
[null,null,null,null,null,null,null,null,null,null,null,null,null,null,null,null,null,{"$f":"VLOOKUP(Recettesdec[[#This Row],[Catégorie]],'coulisses 2'!$A$1:$B$20,2,0)","v":0}]
[null,null,null,null,null,null,null,null,null,null,null,null,null,null,null,null,null,{"$f":"VLOOKUP(Recettesdec[[#This Row],[Catégorie]],'coulisses 2'!$A$1:$B$20,2,0)","v":0}]
[null,null,null,null,null,null,null,null,null,null,null,null,null,null,null,null,null,{"$f":"VLOOKUP(Recettesdec[[#This Row],[Catégorie]],'coulisses 2'!$A$1:$B$20,2,0)","v":0}]
[null,null,null,null,null,null,null,null,null,null,null,null,null,null,null,null,null,{"$f":"VLOOKUP(Recettesdec[[#This Row],[Catégorie]],'coulisses 2'!$A$1:$B$20,2,0)","v":0}]
[null,null,null,null,null,null,null,null,null,null,null,null,null,null,null,null,null,{"$f":"VLOOKUP(Recettesdec[[#This Row],[Catégorie]],'coulisses 2'!$A$1:$B$20,2,0)","v":0}]
[null,null,null,null,null,null,null,null,null,null,null,null,null,null,null,null,null,{"$f":"VLOOKUP(Recettesdec[[#This Row],[Catégorie]],'coulisses 2'!$A$1:$B$20,2,0)","v":0}]
[null,null,null,null,null,null,null,null,null,null,null,null,null,null,null,null,null,{"$f":"VLOOKUP(Recettesdec[[#This Row],[Catégorie]],'coulisses 2'!$A$1:$B$20,2,0)","v":0}]
[null,null,null,null,null,null,null,null,null,null,null,null,null,null,null,null,null,{"$f":"VLOOKUP(Recettesdec[[#This Row],[Catégorie]],'coulisses 2'!$A$1:$B$20,2,0)","v":0}]
[null,null,null,null,null,null,null,null,null,null,null,null,null,null,null,null,null,{"$f":"VLOOKUP(Recettesdec[[#This Row],[Catégorie]],'coulisses 2'!$A$1:$B$20,2,0)","v":0}]
[null,null,null,null,null,null,null,null,null,null,null,null,null,null,null,null,null,{"$f":"VLOOKUP(Recettesdec[[#This Row],[Catégorie]],'coulisses 2'!$A$1:$B$20,2,0)","v":0}]
[null,null,null,null,null,null,null,null,null,null,null,null,null,null,null,null,null,{"$f":"VLOOKUP(Recettesdec[[#This Row],[Catégorie]],'coulisses 2'!$A$1:$B$20,2,0)","v":0}]
[null,null,null,null,null,null,null,null,null,null,null,null,null,null,null,null,null,{"$f":"VLOOKUP(Recettesdec[[#This Row],[Catégorie]],'coulisses 2'!$A$1:$B$20,2,0)","v":0}]
[null,null,null,null,null,null,null,null,null,null,null,null,null,null,null,null,null,{"$f":"VLOOKUP(Recettesdec[[#This Row],[Catégorie]],'coulisses 2'!$A$1:$B$20,2,0)","v":0}]
[null,null,null,null,null,null,null,null,null,null,null,null,null,null,null,null,null,{"$f":"VLOOKUP(Recettesdec[[#This Row],[Catégorie]],'coulisses 2'!$A$1:$B$20,2,0)","v":0}]
[null,null,null,null,null,null,null,null,null,null,null,null,null,null,null,null,null,{"$f":"VLOOKUP(Recettesdec[[#This Row],[Catégorie]],'coulisses 2'!$A$1:$B$20,2,0)","v":0}]
[null,null,null,null,null,null,null,null,null,null,null,null,null,null,null,null,null,{"$f":"VLOOKUP(Recettesdec[[#This Row],[Catégorie]],'coulisses 2'!$A$1:$B$20,2,0)","v":0}]
[null,null,null,null,null,null,null,null,null,null,null,null,null,null,null,null,null,{"$f":"VLOOKUP(Recettesdec[[#This Row],[Catégorie]],'coulisses 2'!$A$1:$B$20,2,0)","v":0}]
[null,null,null,null,null,null,null,null,null,null,null,null,null,null,null,null,null,{"$f":"VLOOKUP(Recettesdec[[#This Row],[Catégorie]],'coulisses 2'!$A$1:$B$20,2,0)","v":0}]
[null,null,null,null,null,null,null,null,null,null,null,null,null,null,null,null,null,{"$f":"VLOOKUP(Recettesdec[[#This Row],[Catégorie]],'coulisses 2'!$A$1:$B$20,2,0)","v":0}]
[null,null,null,null,null,null,null,null,null,null,null,null,null,null,null,null,null,{"$f":"VLOOKUP(Recettesdec[[#This Row],[Catégorie]],'coulisses 2'!$A$1:$B$20,2,0)","v":0}]
[null,null,null,null,null,null,null,null,null,null,null,null,null,null,null,null,null,{"$f":"VLOOKUP(Recettesdec[[#This Row],[Catégorie]],'coulisses 2'!$A$1:$B$20,2,0)","v":0}]
[null,null,null,null,null,null,null,null,null,null,null,null,null,null,null,null,null,{"$f":"VLOOKUP(Recettesdec[[#This Row],[Catégorie]],'coulisses 2'!$A$1:$B$20,2,0)","v":0}]
[null,null,null,null,null,null,null,null,null,null,null,null,null,null,null,null,null,{"$f":"VLOOKUP(Recettesdec[[#This Row],[Catégorie]],'coulisses 2'!$A$1:$B$20,2,0)","v":0}]
[null,null,null,null,null,null,null,null,null,null,null,null,null,null,null,null,null,{"$f":"VLOOKUP(Recettesdec[[#This Row],[Catégorie]],'coulisses 2'!$A$1:$B$20,2,0)","v":0}]
[null,null,null,null,null,null,null,null,null,null,null,null,null,null,null,null,null,{"$f":"VLOOKUP(Recettesdec[[#This Row],[Catégorie]],'coulisses 2'!$A$1:$B$20,2,0)","v":0}]
[null,null,null,null,null,null,null,null,null,null,null,null,null,null,null,null,null,{"$f":"VLOOKUP(Recettesdec[[#This Row],[Catégorie]],'coulisses 2'!$A$1:$B$20,2,0)","v":0}]
[null,null,null,null,null,null,null,null,null,null,null,null,null,null,null,null,null,{"$f":"VLOOKUP(Recettesdec[[#This Row],[Catégorie]],'coulisses 2'!$A$1:$B$20,2,0)","v":0}]
[null,null,null,null,null,null,null,null,null,null,null,null,null,null,null,null,null,{"$f":"VLOOKUP(Recettesdec[[#This Row],[Catégorie]],'coulisses 2'!$A$1:$B$20,2,0)","v":0}]
[null,null,null,null,null,null,null,null,null,null,null,null,null,null,null,null,null,{"$f":"VLOOKUP(Recettesdec[[#This Row],[Catégorie]],'coulisses 2'!$A$1:$B$20,2,0)","v":0}]
[null,null,null,null,null,null,null,null,null,null,null,null,null,null,null,null,null,{"$f":"VLOOKUP(Recettesdec[[#This Row],[Catégorie]],'coulisses 2'!$A$1:$B$20,2,0)","v":0}]
[null,null,null,null,null,null,null,null,null,null,null,null,null,null,null,null,null,{"$f":"VLOOKUP(Recettesdec[[#This Row],[Catégorie]],'coulisses 2'!$A$1:$B$20,2,0)","v":0}]
[null,null,null,null,null,null,null,null,null,null,null,null,null,null,null,null,null,{"$f":"VLOOKUP(Recettesdec[[#This Row],[Catégorie]],'coulisses 2'!$A$1:$B$20,2,0)","v":0}]
[null,null,null,null,null,null,null,null,null,null,null,null,null,null,null,null,null,{"$f":"VLOOKUP(Recettesdec[[#This Row],[Catégorie]],'coulisses 2'!$A$1:$B$20,2,0)","v":0}]
[null,null,null,null,null,null,null,null,null,null,null,null,null,null,null,null,null,{"$f":"VLOOKUP(Recettesdec[[#This Row],[Catégorie]],'coulisses 2'!$A$1:$B$20,2,0)","v":0}]
[null,null,null,null,null,null,null,null,null,null,null,null,null,null,null,null,null,{"$f":"VLOOKUP(Recettesdec[[#This Row],[Catégorie]],'coulisses 2'!$A$1:$B$20,2,0)","v":0}]
[null,null,null,null,null,null,null,null,null,null,null,null,null,null,null,null,null,{"$f":"VLOOKUP(Recettesdec[[#This Row],[Catégorie]],'coulisses 2'!$A$1:$B$20,2,0)","v":0}]
[null,null,null,null,null,null,null,null,null,null,null,null,null,null,null,null,null,{"$f":"VLOOKUP(Recettesdec[[#This Row],[Catégorie]],'coulisses 2'!$A$1:$B$20,2,0)","v":0}]
[null,null,null,null,null,null,null,null,null,null,null,null,null,null,null,null,null,{"$f":"VLOOKUP(Recettesdec[[#This Row],[Catégorie]],'coulisses 2'!$A$1:$B$20,2,0)","v":0}]
[null,null,null,null,null,null,null,null,null,null,null,null,null,null,null,null,null,{"$f":"VLOOKUP(Recettesdec[[#This Row],[Catégorie]],'coulisses 2'!$A$1:$B$20,2,0)","v":0}]
[null,null,null,null,null,null,null,null,null,null,null,null,null,null,null,null,null,{"$f":"VLOOKUP(Recettesdec[[#This Row],[Catégorie]],'coulisses 2'!$A$1:$B$20,2,0)","v":0}]
[null,null,null,null,null,null,null,null,null,null,null,null,null,null,null,null,null,{"$f":"VLOOKUP(Recettesdec[[#This Row],[Catégorie]],'coulisses 2'!$A$1:$B$20,2,0)","v":0}]
[null,null,null,null,null,null,null,null,null,null,null,null,null,null,null,null,null,{"$f":"VLOOKUP(Recettesdec[[#This Row],[Catégorie]],'coulisses 2'!$A$1:$B$20,2,0)","v":0}]
[null,null,null,null,null,null,null,null,null,null,null,null,null,null,null,null,null,{"$f":"VLOOKUP(Recettesdec[[#This Row],[Catégorie]],'coulisses 2'!$A$1:$B$20,2,0)","v":0}]
[null,null,null,null,null,null,null,null,null,null,null,null,null,null,null,null,null,{"$f":"VLOOKUP(Recettesdec[[#This Row],[Catégorie]],'coulisses 2'!$A$1:$B$20,2,0)","v":0}]
[null,null,null,null,null,null,null,null,null,null,null,null,null,null,null,null,null,{"$f":"VLOOKUP(Recettesdec[[#This Row],[Catégorie]],'coulisses 2'!$A$1:$B$20,2,0)","v":0}]
[null,null,null,null,null,null,null,null,null,null,null,null,null,null,null,null,null,{"$f":"VLOOKUP(Recettesdec[[#This Row],[Catégorie]],'coulisses 2'!$A$1:$B$20,2,0)","v":0}]
[null,null,null,null,null,null,null,null,null,null,null,null,null,null,null,null,null,{"$f":"VLOOKUP(Recettesdec[[#This Row],[Catégorie]],'coulisses 2'!$A$1:$B$20,2,0)","v":0}]
[null,null,null,null,null,null,null,null,null,null,null,null,null,null,null,null,null,{"$f":"VLOOKUP(Recettesdec[[#This Row],[Catégorie]],'coulisses 2'!$A$1:$B$20,2,0)","v":0}]
[null,null,null,null,null,null,null,null,null,null,null,null,null,null,null,null,null,{"$f":"VLOOKUP(Recettesdec[[#This Row],[Catégorie]],'coulisses 2'!$A$1:$B$20,2,0)","v":0}]
[null,null,null,null,null,null,null,null,null,null,null,null,null,null,null,null,null,{"$f":"VLOOKUP(Recettesdec[[#This Row],[Catégorie]],'coulisses 2'!$A$1:$B$20,2,0)","v":0}]
[null,null,null,null,null,null,null,null,null,null,null,null,null,null,null,null,null,{"$f":"VLOOKUP(Recettesdec[[#This Row],[Catégorie]],'coulisses 2'!$A$1:$B$20,2,0)","v":0}]
[null,null,null,null,null,null,null,null,null,null,null,null,null,null,null,null,null,{"$f":"VLOOKUP(Recettesdec[[#This Row],[Catégorie]],'coulisses 2'!$A$1:$B$20,2,0)","v":0}]
[null,null,null,null,null,null,null,null,null,null,null,null,null,null,null,null,null,{"$f":"VLOOKUP(Recettesdec[[#This Row],[Catégorie]],'coulisses 2'!$A$1:$B$20,2,0)","v":0}]
[null,null,null,null,null,null,null,null,null,null,null,null,null,null,null,null,null,{"$f":"VLOOKUP(Recettesdec[[#This Row],[Catégorie]],'coulisses 2'!$A$1:$B$20,2,0)","v":0}]
[null,null,null,null,null,null,null,null,null,null,null,null,null,null,null,null,null,{"$f":"VLOOKUP(Recettesdec[[#This Row],[Catégorie]],'coulisses 2'!$A$1:$B$20,2,0)","v":0}]
[null,null,null,null,null,null,null,null,null,null,null,null,null,null,null,null,null,{"$f":"VLOOKUP(Recettesdec[[#This Row],[Catégorie]],'coulisses 2'!$A$1:$B$20,2,0)","v":0}]
[null,null,null,null,null,null,null,null,null,null,null,null,null,null,null,null,null,{"$f":"VLOOKUP(Recettesdec[[#This Row],[Catégorie]],'coulisses 2'!$A$1:$B$20,2,0)","v":0}]
[null,null,null,null,null,null,null,null,null,null,null,null,null,null,null,null,null,{"$f":"VLOOKUP(Recettesdec[[#This Row],[Catégorie]],'coulisses 2'!$A$1:$B$20,2,0)","v":0}]
[null,null,null,null,null,null,null,null,null,null,null,null,null,null,null,null,null,{"$f":"VLOOKUP(Recettesdec[[#This Row],[Catégorie]],'coulisses 2'!$A$1:$B$20,2,0)","v":0}]
[null,null,null,null,null,null,null,null,null,null,null,null,null,null,null,null,null,{"$f":"VLOOKUP(Recettesdec[[#This Row],[Catégorie]],'coulisses 2'!$A$1:$B$20,2,0)","v":0}]
[null,null,null,null,null,null,null,null,null,null,null,null,null,null,null,null,null,{"$f":"VLOOKUP(Recettesdec[[#This Row],[Catégorie]],'coulisses 2'!$A$1:$B$20,2,0)","v":0}]
[null,null,null,null,null,null,null,null,null,null,null,null,null,null,null,null,null,{"$f":"VLOOKUP(Recettesdec[[#This Row],[Catégorie]],'coulisses 2'!$A$1:$B$20,2,0)","v":0}]
[null,null,null,null,null,null,null,null,null,null,null,null,null,null,null,null,null,{"$f":"VLOOKUP(Recettesdec[[#This Row],[Catégorie]],'coulisses 2'!$A$1:$B$20,2,0)","v":0}]
[null,null,null,null,null,null,null,null,null,null,null,null,null,null,null,null,null,{"$f":"VLOOKUP(Recettesdec[[#This Row],[Catégorie]],'coulisses 2'!$A$1:$B$20,2,0)","v":0}]
[null,null,null,null,null,null,null,null,null,null,null,null,null,null,null,null,null,{"$f":"VLOOKUP(Recettesdec[[#This Row],[Catégorie]],'coulisses 2'!$A$1:$B$20,2,0)","v":0}]
[null,null,null,null,null,null,null,null,null,null,null,null,null,null,null,null,null,{"$f":"VLOOKUP(Recettesdec[[#This Row],[Catégorie]],'coulisses 2'!$A$1:$B$20,2,0)","v":0}]
[null,null,null,null,null,null,null,null,null,null,null,null,null,null,null,null,null,{"$f":"VLOOKUP(Recettesdec[[#This Row],[Catégorie]],'coulisses 2'!$A$1:$B$20,2,0)","v":0}]
[null,null,null,null,null,null,null,null,null,null,null,null,null,null,null,null,null,{"$f":"VLOOKUP(Recettesdec[[#This Row],[Catégorie]],'coulisses 2'!$A$1:$B$20,2,0)","v":0}]
[null,null,null,null,null,null,null,null,null,null,null,null,null,null,null,null,null,{"$f":"VLOOKUP(Recettesdec[[#This Row],[Catégorie]],'coulisses 2'!$A$1:$B$20,2,0)","v":0}]
[null,null,null,null,null,null,null,null,null,null,null,null,null,null,null,null,null,{"$f":"VLOOKUP(Recettesdec[[#This Row],[Catégorie]],'coulisses 2'!$A$1:$B$20,2,0)","v":0}]
[null,null,null,null,null,null,null,null,null,null,null,null,null,null,null,null,null,{"$f":"VLOOKUP(Recettesdec[[#This Row],[Catégorie]],'coulisses 2'!$A$1:$B$20,2,0)","v":0}]
[null,null,null,null,null,null,null,null,null,null,null,null,null,null,null,null,null,{"$f":"VLOOKUP(Recettesdec[[#This Row],[Catégorie]],'coulisses 2'!$A$1:$B$20,2,0)","v":0}]
[null,null,null,null,null,null,null,null,null,null,null,null,null,null,null,null,null,{"$f":"VLOOKUP(Recettesdec[[#This Row],[Catégorie]],'coulisses 2'!$A$1:$B$20,2,0)","v":0}]
[null,null,null,null,null,null,null,null,null,null,null,null,null,null,null,null,null,{"$f":"VLOOKUP(Recettesdec[[#This Row],[Catégorie]],'coulisses 2'!$A$1:$B$20,2,0)","v":0}]
[null,null,null,null,null,null,null,null,null,null,null,null,null,null,null,null,null,{"$f":"VLOOKUP(Recettesdec[[#This Row],[Catégorie]],'coulisses 2'!$A$1:$B$20,2,0)","v":0}]
[null,null,null,null,null,null,null,null,null,null,null,null,null,null,null,null,null,{"$f":"VLOOKUP(Recettesdec[[#This Row],[Catégorie]],'coulisses 2'!$A$1:$B$20,2,0)","v":0}]
[null,null,null,null,null,null,null,null,null,null,null,null,null,null,null,null,null,{"$f":"VLOOKUP(Recettesdec[[#This Row],[Catégorie]],'coulisses 2'!$A$1:$B$20,2,0)","v":0}]
[null,null,null,null,null,null,null,null,null,null,null,null,null,null,null,null,null,{"$f":"VLOOKUP(Recettesdec[[#This Row],[Catégorie]],'coulisses 2'!$A$1:$B$20,2,0)","v":0}]
[null,null,null,null,null,null,null,null,null,null,null,null,null,null,null,null,null,{"$f":"VLOOKUP(Recettesdec[[#This Row],[Catégorie]],'coulisses 2'!$A$1:$B$20,2,0)","v":0}]
[null,null,null,null,null,null,null,null,null,null,null,null,null,null,null,null,null,{"$f":"VLOOKUP(Recettesdec[[#This Row],[Catégorie]],'coulisses 2'!$A$1:$B$20,2,0)","v":0}]
[null,null,null,null,null,null,null,null,null,null,null,null,null,null,null,null,null,{"$f":"VLOOKUP(Recettesdec[[#This Row],[Catégorie]],'coulisses 2'!$A$1:$B$20,2,0)","v":0}]
[null,null,null,null,null,null,null,null,null,null,null,null,null,null,null,null,null,{"$f":"VLOOKUP(Recettesdec[[#This Row],[Catégorie]],'coulisses 2'!$A$1:$B$20,2,0)","v":0}]
[null,null,null,null,null,null,null,null,null,null,null,null,null,null,null,null,null,{"$f":"VLOOKUP(Recettesdec[[#This Row],[Catégorie]],'coulisses 2'!$A$1:$B$20,2,0)","v":0}]
[null,null,null,null,null,null,null,null,null,null,null,null,null,null,null,null,null,{"$f":"VLOOKUP(Recettesdec[[#This Row],[Catégorie]],'coulisses 2'!$A$1:$B$20,2,0)","v":0}]
[null,null,null,null,null,null,null,null,null,null,null,null,null,null,null,null,null,{"$f":"VLOOKUP(Recettesdec[[#This Row],[Catégorie]],'coulisses 2'!$A$1:$B$20,2,0)","v":0}]
[null,null,null,null,null,null,null,null,null,null,null,null,null,null,null,null,null,{"$f":"VLOOKUP(Recettesdec[[#This Row],[Catégorie]],'coulisses 2'!$A$1:$B$20,2,0)","v":0}]
[null,null,null,null,null,null,null,null,null,null,null,null,null,null,null,null,null,{"$f":"VLOOKUP(Recettesdec[[#This Row],[Catégorie]],'coulisses 2'!$A$1:$B$20,2,0)","v":0}]
[null,null,null,null,null,null,null,null,null,null,null,null,null,null,null,null,null,{"$f":"VLOOKUP(Recettesdec[[#This Row],[Catégorie]],'coulisses 2'!$A$1:$B$20,2,0)","v":0}]
[null,null,null,null,null,null,null,null,null,null,null,null,null,null,null,null,null,{"$f":"VLOOKUP(Recettesdec[[#This Row],[Catégorie]],'coulisses 2'!$A$1:$B$20,2,0)","v":0}]
[null,null,null,null,null,null,null,null,null,null,null,null,null,null,null,null,null,{"$f":"VLOOKUP(Recettesdec[[#This Row],[Catégorie]],'coulisses 2'!$A$1:$B$20,2,0)","v":0}]
[null,null,null,null,null,null,null,null,null,null,null,null,null,null,null,null,null,{"$f":"VLOOKUP(Recettesdec[[#This Row],[Catégorie]],'coulisses 2'!$A$1:$B$20,2,0)","v":0}]
[null,null,null,null,null,null,null,null,null,null,null,null,null,null,null,null,null,{"$f":"VLOOKUP(Recettesdec[[#This Row],[Catégorie]],'coulisses 2'!$A$1:$B$20,2,0)","v":0}]
[null,null,null,null,null,null,null,null,null,null,null,null,null,null,null,null,null,{"$f":"VLOOKUP(Recettesdec[[#This Row],[Catégorie]],'coulisses 2'!$A$1:$B$20,2,0)","v":0}]
[null,null,null,null,null,null,null,null,null,null,null,null,null,null,null,null,null,{"$f":"VLOOKUP(Recettesdec[[#This Row],[Catégorie]],'coulisses 2'!$A$1:$B$20,2,0)","v":0}]
[null,null,null,null,null,null,null,null,null,null,null,null,null,null,null,null,null,{"$f":"VLOOKUP(Recettesdec[[#This Row],[Catégorie]],'coulisses 2'!$A$1:$B$20,2,0)","v":0}]
[null,null,null,null,null,null,null,null,null,null,null,null,null,null,null,null,null,{"$f":"VLOOKUP(Recettesdec[[#This Row],[Catégorie]],'coulisses 2'!$A$1:$B$20,2,0)","v":0}]
[null,null,null,null,null,null,null,null,null,null,null,null,null,null,null,null,null,{"$f":"VLOOKUP(Recettesdec[[#This Row],[Catégorie]],'coulisses 2'!$A$1:$B$20,2,0)","v":0}]
[null,null,null,null,null,null,null,null,null,null,null,null,null,null,null,null,null,{"$f":"VLOOKUP(Recettesdec[[#This Row],[Catégorie]],'coulisses 2'!$A$1:$B$20,2,0)","v":0}]
[null,null,null,null,null,null,null,null,null,null,null,null,null,null,null,null,null,{"$f":"VLOOKUP(Recettesdec[[#This Row],[Catégorie]],'coulisses 2'!$A$1:$B$20,2,0)","v":0}]
[null,null,null,null,null,null,null,null,null,null,null,null,null,null,null,null,null,{"$f":"VLOOKUP(Recettesdec[[#This Row],[Catégorie]],'coulisses 2'!$A$1:$B$20,2,0)","v":0}]
[null,null,null,null,null,null,null,null,null,null,null,null,null,null,null,null,null,{"$f":"VLOOKUP(Recettesdec[[#This Row],[Catégorie]],'coulisses 2'!$A$1:$B$20,2,0)","v":0}]
[null,null,null,null,null,null,null,null,null,null,null,null,null,null,null,null,null,{"$f":"VLOOKUP(Recettesdec[[#This Row],[Catégorie]],'coulisses 2'!$A$1:$B$20,2,0)","v":0}]
[null,null,null,null,null,null,null,null,null,null,null,null,null,null,null,null,null,{"$f":"VLOOKUP(Recettesdec[[#This Row],[Catégorie]],'coulisses 2'!$A$1:$B$20,2,0)","v":0}]
[null,null,null,null,null,null,null,null,null,null,null,null,null,null,null,null,null,{"$f":"VLOOKUP(Recettesdec[[#This Row],[Catégorie]],'coulisses 2'!$A$1:$B$20,2,0)","v":0}]
[null,null,null,null,null,null,null,null,null,null,null,null,null,null,null,null,null,{"$f":"VLOOKUP(Recettesdec[[#This Row],[Catégorie]],'coulisses 2'!$A$1:$B$20,2,0)","v":0}]
[null,null,null,null,null,null,null,null,null,null,null,null,null,null,null,null,null,{"$f":"VLOOKUP(Recettesdec[[#This Row],[Catégorie]],'coulisses 2'!$A$1:$B$20,2,0)","v":0}]
[null,null,null,null,null,null,null,null,null,null,null,null,null,null,null,null,null,{"$f":"VLOOKUP(Recettesdec[[#This Row],[Catégorie]],'coulisses 2'!$A$1:$B$20,2,0)","v":0}]
[null,null,null,null,null,null,null,null,null,null,null,null,null,null,null,null,null,{"$f":"VLOOKUP(Recettesdec[[#This Row],[Catégorie]],'coulisses 2'!$A$1:$B$20,2,0)","v":0}]
[null,null,null,null,null,null,null,null,null,null,null,null,null,null,null,null,null,{"$f":"VLOOKUP(Recettesdec[[#This Row],[Catégorie]],'coulisses 2'!$A$1:$B$20,2,0)","v":0}]
[null,null,null,null,null,null,null,null,null,null,null,null,null,null,null,null,null,{"$f":"VLOOKUP(Recettesdec[[#This Row],[Catégorie]],'coulisses 2'!$A$1:$B$20,2,0)","v":0}]
[null,null,null,null,null,null,null,null,null,null,null,null,null,null,null,null,null,{"$f":"VLOOKUP(Recettesdec[[#This Row],[Catégorie]],'coulisses 2'!$A$1:$B$20,2,0)","v":0}]
[null,null,null,null,null,null,null,null,null,null,null,null,null,null,null,null,null,{"$f":"VLOOKUP(Recettesdec[[#This Row],[Catégorie]],'coulisses 2'!$A$1:$B$20,2,0)","v":0}]
[null,null,null,null,null,null,null,null,null,null,null,null,null,null,null,null,null,{"$f":"VLOOKUP(Recettesdec[[#This Row],[Catégorie]],'coulisses 2'!$A$1:$B$20,2,0)","v":0}]
[null,null,null,null,null,null,null,null,null,null,null,null,null,null,null,null,null,{"$f":"VLOOKUP(Recettesdec[[#This Row],[Catégorie]],'coulisses 2'!$A$1:$B$20,2,0)","v":0}]
[null,null,null,null,null,null,null,null,null,null,null,null,null,null,null,null,null,{"$f":"VLOOKUP(Recettesdec[[#This Row],[Catégorie]],'coulisses 2'!$A$1:$B$20,2,0)","v":0}]
[null,null,null,null,null,null,null,null,null,null,null,null,null,null,null,null,null,{"$f":"VLOOKUP(Recettesdec[[#This Row],[Catégorie]],'coulisses 2'!$A$1:$B$20,2,0)","v":0}]
[null,null,null,null,null,null,null,null,null,null,null,null,null,null,null,null,null,{"$f":"VLOOKUP(Recettesdec[[#This Row],[Catégorie]],'coulisses 2'!$A$1:$B$20,2,0)","v":0}]
[null,null,null,null,null,null,null,null,null,null,null,null,null,null,null,null,null,{"$f":"VLOOKUP(Recettesdec[[#This Row],[Catégorie]],'coulisses 2'!$A$1:$B$20,2,0)","v":0}]
[null,null,null,null,null,null,null,null,null,null,null,null,null,null,null,null,null,{"$f":"VLOOKUP(Recettesdec[[#This Row],[Catégorie]],'coulisses 2'!$A$1:$B$20,2,0)","v":0}]
[null,null,null,null,null,null,null,null,null,null,null,null,null,null,null,null,null,{"$f":"VLOOKUP(Recettesdec[[#This Row],[Catégorie]],'coulisses 2'!$A$1:$B$20,2,0)","v":0}]
[null,null,null,null,null,null,null,null,null,null,null,null,null,null,null,null,null,{"$f":"VLOOKUP(Recettesdec[[#This Row],[Catégorie]],'coulisses 2'!$A$1:$B$20,2,0)","v":0}]
[null,null,null,null,null,null,null,null,null,null,null,null,null,null,null,null,null,{"$f":"VLOOKUP(Recettesdec[[#This Row],[Catégorie]],'coulisses 2'!$A$1:$B$20,2,0)","v":0}]
[null,null,null,null,null,null,null,null,null,null,null,null,null,null,null,null,null,{"$f":"VLOOKUP(Recettesdec[[#This Row],[Catégorie]],'coulisses 2'!$A$1:$B$20,2,0)","v":0}]
[null,null,null,null,null,null,null,null,null,null,null,null,null,null,null,null,null,{"$f":"VLOOKUP(Recettesdec[[#This Row],[Catégorie]],'coulisses 2'!$A$1:$B$20,2,0)","v":0}]
[null,null,null,null,null,null,null,null,null,null,null,null,null,null,null,null,null,{"$f":"VLOOKUP(Recettesdec[[#This Row],[Catégorie]],'coulisses 2'!$A$1:$B$20,2,0)","v":0}]
[null,null,null,null,null,null,null,null,null,null,null,null,null,null,null,null,null,{"$f":"VLOOKUP(Recettesdec[[#This Row],[Catégorie]],'coulisses 2'!$A$1:$B$20,2,0)","v":0}]
[null,null,null,null,null,null,null,null,null,null,null,null,null,null,null,null,null,{"$f":"VLOOKUP(Recettesdec[[#This Row],[Catégorie]],'coulisses 2'!$A$1:$B$20,2,0)","v":0}]
[null,null,null,null,null,null,null,null,null,null,null,null,null,null,null,null,null,{"$f":"VLOOKUP(Recettesdec[[#This Row],[Catégorie]],'coulisses 2'!$A$1:$B$20,2,0)","v":0}]
[null,null,null,null,null,null,null,null,null,null,null,null,null,null,null,null,null,{"$f":"VLOOKUP(Recettesdec[[#This Row],[Catégorie]],'coulisses 2'!$A$1:$B$20,2,0)","v":0}]
[null,null,null,null,null,null,null,null,null,null,null,null,null,null,null,null,null,{"$f":"VLOOKUP(Recettesdec[[#This Row],[Catégorie]],'coulisses 2'!$A$1:$B$20,2,0)","v":0}]
[null,null,null,null,null,null,null,null,null,null,null,null,null,null,null,null,null,{"$f":"VLOOKUP(Recettesdec[[#This Row],[Catégorie]],'coulisses 2'!$A$1:$B$20,2,0)","v":0}]
[null,null,null,null,null,null,null,null,null,null,null,null,null,null,null,null,null,{"$f":"VLOOKUP(Recettesdec[[#This Row],[Catégorie]],'coulisses 2'!$A$1:$B$20,2,0)","v":0}]
[null,null,null,null,null,null,null,null,null,null,null,null,null,null,null,null,null,{"$f":"VLOOKUP(Recettesdec[[#This Row],[Catégorie]],'coulisses 2'!$A$1:$B$20,2,0)","v":0}]
[null,null,null,null,null,null,null,null,null,null,null,null,null,null,null,null,null,{"$f":"VLOOKUP(Recettesdec[[#This Row],[Catégorie]],'coulisses 2'!$A$1:$B$20,2,0)","v":0}]
[null,null,null,null,null,null,null,null,null,null,null,null,null,null,null,null,null,{"$f":"VLOOKUP(Recettesdec[[#This Row],[Catégorie]],'coulisses 2'!$A$1:$B$20,2,0)","v":0}]
[null,null,null,null,null,null,null,null,null,null,null,null,null,null,null,null,null,{"$f":"VLOOKUP(Recettesdec[[#This Row],[Catégorie]],'coulisses 2'!$A$1:$B$20,2,0)","v":0}]
[null,null,null,null,null,null,null,null,null,null,null,null,null,null,null,null,null,{"$f":"VLOOKUP(Recettesdec[[#This Row],[Catégorie]],'coulisses 2'!$A$1:$B$20,2,0)","v":0}]
[null,null,null,null,null,null,null,null,null,null,null,null,null,null,null,null,null,{"$f":"VLOOKUP(Recettesdec[[#This Row],[Catégorie]],'coulisses 2'!$A$1:$B$20,2,0)","v":0}]
[null,null,null,null,null,null,null,null,null,null,null,null,null,null,null,null,null,{"$f":"VLOOKUP(Recettesdec[[#This Row],[Catégorie]],'coulisses 2'!$A$1:$B$20,2,0)","v":0}]
[null,null,null,null,null,null,null,null,null,null,null,null,null,null,null,null,null,{"$f":"VLOOKUP(Recettesdec[[#This Row],[Catégorie]],'coulisses 2'!$A$1:$B$20,2,0)","v":0}]
[null,null,null,null,null,null,null,null,null,null,null,null,null,null,null,null,null,{"$f":"VLOOKUP(Recettesdec[[#This Row],[Catégorie]],'coulisses 2'!$A$1:$B$20,2,0)","v":0}]
[null,null,null,null,null,null,null,null,null,null,null,null,null,null,null,null,null,{"$f":"VLOOKUP(Recettesdec[[#This Row],[Catégorie]],'coulisses 2'!$A$1:$B$20,2,0)","v":0}]
[null,null,null,null,null,null,null,null,null,null,null,null,null,null,null,null,null,{"$f":"VLOOKUP(Recettesdec[[#This Row],[Catégorie]],'coulisses 2'!$A$1:$B$20,2,0)","v":0}]
[null,null,null,null,null,null,null,null,null,null,null,null,null,null,null,null,null,{"$f":"VLOOKUP(Recettesdec[[#This Row],[Catégorie]],'coulisses 2'!$A$1:$B$20,2,0)","v":0}]
[null,null,null,null,null,null,null,null,null,null,null,null,null,null,null,null,null,{"$f":"VLOOKUP(Recettesdec[[#This Row],[Catégorie]],'coulisses 2'!$A$1:$B$20,2,0)","v":0}]
[null,null,null,null,null,null,null,null,null,null,null,null,null,null,null,null,null,{"$f":"VLOOKUP(Recettesdec[[#This Row],[Catégorie]],'coulisses 2'!$A$1:$B$20,2,0)","v":0}]
[null,null,null,null,null,null,null,null,null,null,null,null,null,null,null,null,null,{"$f":"VLOOKUP(Recettesdec[[#This Row],[Catégorie]],'coulisses 2'!$A$1:$B$20,2,0)","v":0}]
[null,null,null,null,null,null,null,null,null,null,null,null,null,null,null,null,null,{"$f":"VLOOKUP(Recettesdec[[#This Row],[Catégorie]],'coulisses 2'!$A$1:$B$20,2,0)","v":0}]
[null,null,null,null,null,null,null,null,null,null,null,null,null,null,null,null,null,{"$f":"VLOOKUP(Recettesdec[[#This Row],[Catégorie]],'coulisses 2'!$A$1:$B$20,2,0)","v":0}]
[null,null,null,null,null,null,null,null,null,null,null,null,null,null,null,null,null,{"$f":"VLOOKUP(Recettesdec[[#This Row],[Catégorie]],'coulisses 2'!$A$1:$B$20,2,0)","v":0}]
[null,null,null,null,null,null,null,null,null,null,null,null,null,null,null,null,null,{"$f":"VLOOKUP(Recettesdec[[#This Row],[Catégorie]],'coulisses 2'!$A$1:$B$20,2,0)","v":0}]
[null,null,null,null,null,null,null,null,null,null,null,null,null,null,null,null,null,{"$f":"VLOOKUP(Recettesdec[[#This Row],[Catégorie]],'coulisses 2'!$A$1:$B$20,2,0)","v":0}]
[null,null,null,null,null,null,null,null,null,null,null,null,null,null,null,null,null,{"$f":"VLOOKUP(Recettesdec[[#This Row],[Catégorie]],'coulisses 2'!$A$1:$B$20,2,0)","v":0}]
[null,null,null,null,null,null,null,null,null,null,null,null,null,null,null,null,null,{"$f":"VLOOKUP(Recettesdec[[#This Row],[Catégorie]],'coulisses 2'!$A$1:$B$20,2,0)","v":0}]
[null,null,null,null,null,null,null,null,null,null,null,null,null,null,null,null,null,{"$f":"VLOOKUP(Recettesdec[[#This Row],[Catégorie]],'coulisses 2'!$A$1:$B$20,2,0)","v":0}]
[null,null,null,null,null,null,null,null,null,null,null,null,null,null,null,null,null,{"$f":"VLOOKUP(Recettesdec[[#This Row],[Catégorie]],'coulisses 2'!$A$1:$B$20,2,0)","v":0}]
[null,null,null,null,null,null,null,null,null,null,null,null,null,null,null,null,null,{"$f":"VLOOKUP(Recettesdec[[#This Row],[Catégorie]],'coulisses 2'!$A$1:$B$20,2,0)","v":0}]
[null,null,null,null,null,null,null,null,null,null,null,null,null,null,null,null,null,{"$f":"VLOOKUP(Recettesdec[[#This Row],[Catégorie]],'coulisses 2'!$A$1:$B$20,2,0)","v":0}]
[null,null,null,null,null,null,null,null,null,null,null,null,null,null,null,null,null,{"$f":"VLOOKUP(Recettesdec[[#This Row],[Catégorie]],'coulisses 2'!$A$1:$B$20,2,0)","v":0}]
[null,null,null,null,null,null,null,null,null,null,null,null,null,null,null,null,null,{"$f":"VLOOKUP(Recettesdec[[#This Row],[Catégorie]],'coulisses 2'!$A$1:$B$20,2,0)","v":0}]
[null,null,null,null,null,null,null,null,null,null,null,null,null,null,null,null,null,{"$f":"VLOOKUP(Recettesdec[[#This Row],[Catégorie]],'coulisses 2'!$A$1:$B$20,2,0)","v":0}]
[null,null,null,null,null,null,null,null,null,null,null,null,null,null,null,null,null,{"$f":"VLOOKUP(Recettesdec[[#This Row],[Catégorie]],'coulisses 2'!$A$1:$B$20,2,0)","v":0}]
[null,null,null,null,null,null,null,null,null,null,null,null,null,null,null,null,null,{"$f":"VLOOKUP(Recettesdec[[#This Row],[Catégorie]],'coulisses 2'!$A$1:$B$20,2,0)","v":0}]
[null,null,null,null,null,null,null,null,null,null,null,null,null,null,null,null,null,{"$f":"VLOOKUP(Recettesdec[[#This Row],[Catégorie]],'coulisses 2'!$A$1:$B$20,2,0)","v":0}]
[null,null,null,null,null,null,null,null,null,null,null,null,null,null,null,null,null,{"$f":"VLOOKUP(Recettesdec[[#This Row],[Catégorie]],'coulisses 2'!$A$1:$B$20,2,0)","v":0}]
[null,null,null,null,null,null,null,null,null,null,null,null,null,null,null,null,null,{"$f":"VLOOKUP(Recettesdec[[#This Row],[Catégorie]],'coulisses 2'!$A$1:$B$20,2,0)","v":0}]
[null,null,null,null,null,null,null,null,null,null,null,null,null,null,null,null,null,{"$f":"VLOOKUP(Recettesdec[[#This Row],[Catégorie]],'coulisses 2'!$A$1:$B$20,2,0)","v":0}]
[null,null,null,null,null,null,null,null,null,null,null,null,null,null,null,null,null,{"$f":"VLOOKUP(Recettesdec[[#This Row],[Catégorie]],'coulisses 2'!$A$1:$B$20,2,0)","v":0}]
[null,null,null,null,null,null,null,null,null,null,null,null,null,null,null,null,null,{"$f":"VLOOKUP(Recettesdec[[#This Row],[Catégorie]],'coulisses 2'!$A$1:$B$20,2,0)","v":0}]
[null,null,null,null,null,null,null,null,null,null,null,null,null,null,null,null,null,{"$f":"VLOOKUP(Recettesdec[[#This Row],[Catégorie]],'coulisses 2'!$A$1:$B$20,2,0)","v":0}]
[null,null,null,null,null,null,null,null,null,null,null,null,null,null,null,null,null,{"$f":"VLOOKUP(Recettesdec[[#This Row],[Catégorie]],'coulisses 2'!$A$1:$B$20,2,0)","v":0}]
[null,null,null,null,null,null,null,null,null,null,null,null,null,null,null,null,null,{"$f":"VLOOKUP(Recettesdec[[#This Row],[Catégorie]],'coulisses 2'!$A$1:$B$20,2,0)","v":0}]
[null,null,null,null,null,null,null,null,null,null,null,null,null,null,null,null,null,{"$f":"VLOOKUP(Recettesdec[[#This Row],[Catégorie]],'coulisses 2'!$A$1:$B$20,2,0)","v":0}]
[null,null,null,null,null,null,null,null,null,null,null,null,null,null,null,null,null,{"$f":"VLOOKUP(Recettesdec[[#This Row],[Catégorie]],'coulisses 2'!$A$1:$B$20,2,0)","v":0}]
[null,null,null,null,null,null,null,null,null,null,null,null,null,null,null,null,null,{"$f":"VLOOKUP(Recettesdec[[#This Row],[Catégorie]],'coulisses 2'!$A$1:$B$20,2,0)","v":0}]
[null,null,null,null,null,null,null,null,null,null,null,null,null,null,null,null,null,{"$f":"VLOOKUP(Recettesdec[[#This Row],[Catégorie]],'coulisses 2'!$A$1:$B$20,2,0)","v":0}]
[null,null,null,null,null,null,null,null,null,null,null,null,null,null,null,null,null,{"$f":"VLOOKUP(Recettesdec[[#This Row],[Catégorie]],'coulisses 2'!$A$1:$B$20,2,0)","v":0}]
[null,null,null,null,null,null,null,null,null,null,null,null,null,null,null,null,null,{"$f":"VLOOKUP(Recettesdec[[#This Row],[Catégorie]],'coulisses 2'!$A$1:$B$20,2,0)","v":0}]
[null,null,null,null,null,null,null,null,null,null,null,null,null,null,null,null,null,{"$f":"VLOOKUP(Recettesdec[[#This Row],[Catégorie]],'coulisses 2'!$A$1:$B$20,2,0)","v":0}]
[null,null,null,null,null,null,null,null,null,null,null,null,null,null,null,null,null,{"$f":"VLOOKUP(Recettesdec[[#This Row],[Catégorie]],'coulisses 2'!$A$1:$B$20,2,0)","v":0}]
[null,null,null,null,null,null,null,null,null,null,null,null,null,null,null,null,null,{"$f":"VLOOKUP(Recettesdec[[#This Row],[Catégorie]],'coulisses 2'!$A$1:$B$20,2,0)","v":0}]
[null,null,null,null,null,null,null,null,null,null,null,null,null,null,null,null,null,{"$f":"VLOOKUP(Recettesdec[[#This Row],[Catégorie]],'coulisses 2'!$A$1:$B$20,2,0)","v":0}]
[null,null,null,null,null,null,null,null,null,null,null,null,null,null,null,null,null,{"$f":"VLOOKUP(Recettesdec[[#This Row],[Catégorie]],'coulisses 2'!$A$1:$B$20,2,0)","v":0}]
[null,null,null,null,null,null,null,null,null,null,null,null,null,null,null,null,null,{"$f":"VLOOKUP(Recettesdec[[#This Row],[Catégorie]],'coulisses 2'!$A$1:$B$20,2,0)","v":0}]
[null,null,null,null,null,null,null,null,null,null,null,null,null,null,null,null,null,{"$f":"VLOOKUP(Recettesdec[[#This Row],[Catégorie]],'coulisses 2'!$A$1:$B$20,2,0)","v":0}]
[null,null,null,null,null,null,null,null,null,null,null,null,null,null,null,null,null,{"$f":"VLOOKUP(Recettesdec[[#This Row],[Catégorie]],'coulisses 2'!$A$1:$B$20,2,0)","v":0}]
[null,null,null,null,null,null,null,null,null,null,null,null,null,null,null,null,null,{"$f":"VLOOKUP(Recettesdec[[#This Row],[Catégorie]],'coulisses 2'!$A$1:$B$20,2,0)","v":0}]
[null,null,null,null,null,null,null,null,null,null,null,null,null,null,null,null,null,{"$f":"VLOOKUP(Recettesdec[[#This Row],[Catégorie]],'coulisses 2'!$A$1:$B$20,2,0)","v":0}]
[null,null,null,null,null,null,null,null,null,null,null,null,null,null,null,null,null,{"$f":"VLOOKUP(Recettesdec[[#This Row],[Catégorie]],'coulisses 2'!$A$1:$B$20,2,0)","v":0}]
[null,null,null,null,null,null,null,null,null,null,null,null,null,null,null,null,null,{"$f":"VLOOKUP(Recettesdec[[#This Row],[Catégorie]],'coulisses 2'!$A$1:$B$20,2,0)","v":0}]
[null,null,null,null,null,null,null,null,null,null,null,null,null,null,null,null,null,{"$f":"VLOOKUP(Recettesdec[[#This Row],[Catégorie]],'coulisses 2'!$A$1:$B$20,2,0)","v":0}]
[null,null,null,null,null,null,null,null,null,null,null,null,null,null,null,null,null,{"$f":"VLOOKUP(Recettesdec[[#This Row],[Catégorie]],'coulisses 2'!$A$1:$B$20,2,0)","v":0}]
[null,null,null,null,null,null,null,null,null,null,null,null,null,null,null,null,null,{"$f":"VLOOKUP(Recettesdec[[#This Row],[Catégorie]],'coulisses 2'!$A$1:$B$20,2,0)","v":0}]
[null,null,null,null,null,null,null,null,null,null,null,null,null,null,null,null,null,{"$f":"VLOOKUP(Recettesdec[[#This Row],[Catégorie]],'coulisses 2'!$A$1:$B$20,2,0)","v":0}]
[null,null,null,null,null,null,null,null,null,null,null,null,null,null,null,null,null,{"$f":"VLOOKUP(Recettesdec[[#This Row],[Catégorie]],'coulisses 2'!$A$1:$B$20,2,0)","v":0}]
[null,null,null,null,null,null,null,null,null,null,null,null,null,null,null,null,null,{"$f":"VLOOKUP(Recettesdec[[#This Row],[Catégorie]],'coulisses 2'!$A$1:$B$20,2,0)","v":0}]
[null,null,null,null,null,null,null,null,null,null,null,null,null,null,null,null,null,{"$f":"VLOOKUP(Recettesdec[[#This Row],[Catégorie]],'coulisses 2'!$A$1:$B$20,2,0)","v":0}]
[null,null,null,null,null,null,null,null,null,null,null,null,null,null,null,null,null,{"$f":"VLOOKUP(Recettesdec[[#This Row],[Catégorie]],'coulisses 2'!$A$1:$B$20,2,0)","v":0}]
[null,null,null,null,null,null,null,null,null,null,null,null,null,null,null,null,null,{"$f":"VLOOKUP(Recettesdec[[#This Row],[Catégorie]],'coulisses 2'!$A$1:$B$20,2,0)","v":0}]
[null,null,null,null,null,null,null,null,null,null,null,null,null,null,null,null,null,{"$f":"VLOOKUP(Recettesdec[[#This Row],[Catégorie]],'coulisses 2'!$A$1:$B$20,2,0)","v":0}]
[null,null,null,null,null,null,null,null,null,null,null,null,null,null,null,null,null,{"$f":"VLOOKUP(Recettesdec[[#This Row],[Catégorie]],'coulisses 2'!$A$1:$B$20,2,0)","v":0}]
[null,null,null,null,null,null,null,null,null,null,null,null,null,null,null,null,null,{"$f":"VLOOKUP(Recettesdec[[#This Row],[Catégorie]],'coulisses 2'!$A$1:$B$20,2,0)","v":0}]
[null,null,null,null,null,null,null,null,null,null,null,null,null,null,null,null,null,{"$f":"VLOOKUP(Recettesdec[[#This Row],[Catégorie]],'coulisses 2'!$A$1:$B$20,2,0)","v":0}]
[null,null,null,null,null,null,null,null,null,null,null,null,null,null,null,null,null,{"$f":"VLOOKUP(Recettesdec[[#This Row],[Catégorie]],'coulisses 2'!$A$1:$B$20,2,0)","v":0}]
[null,null,null,null,null,null,null,null,null,null,null,null,null,null,null,null,null,{"$f":"VLOOKUP(Recettesdec[[#This Row],[Catégorie]],'coulisses 2'!$A$1:$B$20,2,0)","v":0}]
[null,null,null,null,null,null,null,null,null,null,null,null,null,null,null,null,null,{"$f":"VLOOKUP(Recettesdec[[#This Row],[Catégorie]],'coulisses 2'!$A$1:$B$20,2,0)","v":0}]
[null,null,null,null,null,null,null,null,null,null,null,null,null,null,null,null,null,{"$f":"VLOOKUP(Recettesdec[[#This Row],[Catégorie]],'coulisses 2'!$A$1:$B$20,2,0)","v":0}]
[null,null,null,null,null,null,null,null,null,null,null,null,null,null,null,null,null,{"$f":"VLOOKUP(Recettesdec[[#This Row],[Catégorie]],'coulisses 2'!$A$1:$B$20,2,0)","v":0}]
[null,null,null,null,null,null,null,null,null,null,null,null,null,null,null,null,null,{"$f":"VLOOKUP(Recettesdec[[#This Row],[Catégorie]],'coulisses 2'!$A$1:$B$20,2,0)","v":0}]
[null,null,null,null,null,null,null,null,null,null,null,null,null,null,null,null,null,{"$f":"VLOOKUP(Recettesdec[[#This Row],[Catégorie]],'coulisses 2'!$A$1:$B$20,2,0)","v":0}]
[null,null,null,null,null,null,null,null,null,null,null,null,null,null,null,null,null,{"$f":"VLOOKUP(Recettesdec[[#This Row],[Catégorie]],'coulisses 2'!$A$1:$B$20,2,0)","v":0}]
[null,null,null,null,null,null,null,null,null,null,null,null,null,null,null,null,null,{"$f":"VLOOKUP(Recettesdec[[#This Row],[Catégorie]],'coulisses 2'!$A$1:$B$20,2,0)","v":0}]
[null,null,null,null,null,null,null,null,null,null,null,null,null,null,null,null,null,{"$f":"VLOOKUP(Recettesdec[[#This Row],[Catégorie]],'coulisses 2'!$A$1:$B$20,2,0)","v":0}]
[null,null,null,null,null,null,null,null,null,null,null,null,null,null,null,null,null,{"$f":"VLOOKUP(Recettesdec[[#This Row],[Catégorie]],'coulisses 2'!$A$1:$B$20,2,0)","v":0}]
[null,null,null,null,null,null,null,null,null,null,null,null,null,null,null,null,null,{"$f":"VLOOKUP(Recettesdec[[#This Row],[Catégorie]],'coulisses 2'!$A$1:$B$20,2,0)","v":0}]
[null,null,null,null,null,null,null,null,null,null,null,null,null,null,null,null,null,{"$f":"VLOOKUP(Recettesdec[[#This Row],[Catégorie]],'coulisses 2'!$A$1:$B$20,2,0)","v":0}]
[null,null,null,null,null,null,null,null,null,null,null,null,null,null,null,null,null,{"$f":"VLOOKUP(Recettesdec[[#This Row],[Catégorie]],'coulisses 2'!$A$1:$B$20,2,0)","v":0}]
[null,null,null,null,null,null,null,null,null,null,null,null,null,null,null,null,null,{"$f":"VLOOKUP(Recettesdec[[#This Row],[Catégorie]],'coulisses 2'!$A$1:$B$20,2,0)","v":0}]
[null,null,null,null,null,null,null,null,null,null,null,null,null,null,null,null,null,{"$f":"VLOOKUP(Recettesdec[[#This Row],[Catégorie]],'coulisses 2'!$A$1:$B$20,2,0)","v":0}]
[null,null,null,null,null,null,null,null,null,null,null,null,null,null,null,null,null,{"$f":"VLOOKUP(Recettesdec[[#This Row],[Catégorie]],'coulisses 2'!$A$1:$B$20,2,0)","v":0}]
[null,null,null,null,null,null,null,null,null,null,null,null,null,null,null,null,null,{"$f":"VLOOKUP(Recettesdec[[#This Row],[Catégorie]],'coulisses 2'!$A$1:$B$20,2,0)","v":0}]
[null,null,null,null,null,null,null,null,null,null,null,null,null,null,null,null,null,{"$f":"VLOOKUP(Recettesdec[[#This Row],[Catégorie]],'coulisses 2'!$A$1:$B$20,2,0)","v":0}]
[null,null,null,null,null,null,null,null,null,null,null,null,null,null,null,null,null,{"$f":"VLOOKUP(Recettesdec[[#This Row],[Catégorie]],'coulisses 2'!$A$1:$B$20,2,0)","v":0}]
[null,null,null,null,null,null,null,null,null,null,null,null,null,null,null,null,null,{"$f":"VLOOKUP(Recettesdec[[#This Row],[Catégorie]],'coulisses 2'!$A$1:$B$20,2,0)","v":0}]
[null,null,null,null,null,null,null,null,null,null,null,null,null,null,null,null,null,{"$f":"VLOOKUP(Recettesdec[[#This Row],[Catégorie]],'coulisses 2'!$A$1:$B$20,2,0)","v":0}]
[null,null,null,null,null,null,null,null,null,null,null,null,null,null,null,null,null,{"$f":"VLOOKUP(Recettesdec[[#This Row],[Catégorie]],'coulisses 2'!$A$1:$B$20,2,0)","v":0}]
[null,null,null,null,null,null,null,null,null,null,null,null,null,null,null,null,null,{"$f":"VLOOKUP(Recettesdec[[#This Row],[Catégorie]],'coulisses 2'!$A$1:$B$20,2,0)","v":0}]
[null,null,null,null,null,null,null,null,null,null,null,null,null,null,null,null,null,{"$f":"VLOOKUP(Recettesdec[[#This Row],[Catégorie]],'coulisses 2'!$A$1:$B$20,2,0)","v":0}]
[null,null,null,null,null,null,null,null,null,null,null,null,null,null,null,null,null,{"$f":"VLOOKUP(Recettesdec[[#This Row],[Catégorie]],'coulisses 2'!$A$1:$B$20,2,0)","v":0}]

{"sheet":"🗂 Synthèse annuelle","index":13,"n_rows":63,"n_cols":15,"rows_kept":63,"cut":false,"hidden":false,"merged":[[0,0,0,1]]}
[{"$f":"'👩🏻‍🏫 Bienvenue !'!K7","v":0},null,{"$f":"\"Synthèse annuelle \"&'👩🏻‍🏫 Bienvenue !'!I16&\" - \"&'👩🏻‍🏫 Bienvenue !'!I12","v":"Synthèse annuelle  - "}]
[]
[]
[]
[null,null,"janvier","février","mars","avril","mai","juin","juillet","août","septembre","octobre","novembre","décembre","TOTAL"]
[null,{"$f":"'👩🏻‍🏫 Bienvenue !'!I27","v":0},{"$f":"'🥧 01'!X6","v":0},{"$f":"'🎿 02'!X6","v":0},{"$f":"'🌱 03'!X6","v":0},{"$f":"'🐟 04'!X6","v":0},{"$f":"'🎾 05'!X6","v":0},{"$f":"'☀️ 06'!X6","v":0},{"$f":"'🧳 07'!X6","v":0},{"$f":"'🏖 08'!X6","v":0},{"$f":"'📝  09'!X6","v":0},{"$f":"'🎃 10'!X6","v":0},{"$f":"'🍂 11'!X6","v":0},{"$f":"'🎄 12'!X6","v":0},{"$f":"SUM(C6:N6)","v":0}]
[null,{"$f":"'👩🏻‍🏫 Bienvenue !'!I28","v":0},{"$f":"'🥧 01'!X7","v":0},{"$f":"'🎿 02'!X7","v":0},{"$f":"'🌱 03'!X7","v":0},{"$f":"'🐟 04'!X7","v":0},{"$f":"'🎾 05'!X7","v":0},{"$f":"'☀️ 06'!X7","v":0},{"$f":"'🧳 07'!X7","v":0},{"$f":"'🏖 08'!X7","v":0},{"$f":"'📝  09'!X7","v":0},{"$f":"'🎃 10'!X7","v":0},{"$f":"'🍂 11'!X7","v":0},{"$f":"'🎄 12'!X7","v":0},{"$f":"SUM(C7:N7)","v":0}]
[null,{"$f":"'👩🏻‍🏫 Bienvenue !'!I29","v":0},{"$f":"'🥧 01'!X8","v":0},{"$f":"'🎿 02'!X8","v":0},{"$f":"'🌱 03'!X8","v":0},{"$f":"'🐟 04'!X8","v":0},{"$f":"'🎾 05'!X8","v":0},{"$f":"'☀️ 06'!X8","v":0},{"$f":"'🧳 07'!X8","v":0},{"$f":"'🏖 08'!X8","v":0},{"$f":"'📝  09'!X8","v":0},{"$f":"'🎃 10'!X8","v":0},{"$f":"'🍂 11'!X8","v":0},{"$f":"'🎄 12'!X8","v":0},0]
[null,{"$f":"'👩🏻‍🏫 Bienvenue !'!I30","v":0},{"$f":"'🥧 01'!X9","v":0},{"$f":"'🎿 02'!X9","v":0},{"$f":"'🌱 03'!X9","v":0},{"$f":"'🐟 04'!X9","v":0},{"$f":"'🎾 05'!X9","v":0},{"$f":"'☀️ 06'!X9","v":0},{"$f":"'🧳 07'!X9","v":0},{"$f":"'🏖 08'!X9","v":0},{"$f":"'📝  09'!X9","v":0},{"$f":"'🎃 10'!X9","v":0},{"$f":"'🍂 11'!X9","v":0},{"$f":"'🎄 12'!X9","v":0},0]
[null,{"$f":"'👩🏻‍🏫 Bienvenue !'!I31","v":0},{"$f":"'🥧 01'!X10","v":0},{"$f":"'🎿 02'!X10","v":0},{"$f":"'🌱 03'!X10","v":0},{"$f":"'🐟 04'!X10","v":0},{"$f":"'🎾 05'!X10","v":0},{"$f":"'☀️ 06'!X10","v":0},{"$f":"'🧳 07'!X10","v":0},{"$f":"'🏖 08'!X10","v":0},{"$f":"'📝  09'!X10","v":0},{"$f":"'🎃 10'!X10","v":0},{"$f":"'🍂 11'!X10","v":0},{"$f":"'🎄 12'!X10","v":0},0]
[null,{"$f":"'👩🏻‍🏫 Bienvenue !'!I32","v":0},{"$f":"'🥧 01'!X11","v":0},{"$f":"'🎿 02'!X11","v":0},{"$f":"'🌱 03'!X11","v":0},{"$f":"'🐟 04'!X11","v":0},{"$f":"'🎾 05'!X11","v":0},{"$f":"'☀️ 06'!X11","v":0},{"$f":"'🧳 07'!X11","v":0},{"$f":"'🏖 08'!X11","v":0},{"$f":"'📝  09'!X11","v":0},{"$f":"'🎃 10'!X11","v":0},{"$f":"'🍂 11'!X11","v":0},{"$f":"'🎄 12'!X11","v":0},0]
[null,{"$f":"'👩🏻‍🏫 Bienvenue !'!I33","v":0},{"$f":"'🥧 01'!X12","v":0},{"$f":"'🎿 02'!X12","v":0},{"$f":"'🌱 03'!X12","v":0},{"$f":"'🐟 04'!X12","v":0},{"$f":"'🎾 05'!X12","v":0},{"$f":"'☀️ 06'!X12","v":0},{"$f":"'🧳 07'!X12","v":0},{"$f":"'🏖 08'!X12","v":0},{"$f":"'📝  09'!X12","v":0},{"$f":"'🎃 10'!X12","v":0},{"$f":"'🍂 11'!X12","v":0},{"$f":"'🎄 12'!X12","v":0},0]
[null,{"$f":"'👩🏻‍🏫 Bienvenue !'!I34","v":0},{"$f":"'🥧 01'!X13","v":0},{"$f":"'🎿 02'!X13","v":0},{"$f":"'🌱 03'!X13","v":0},{"$f":"'🐟 04'!X13","v":0},{"$f":"'🎾 05'!X13","v":0},{"$f":"'☀️ 06'!X13","v":0},{"$f":"'🧳 07'!X13","v":0},{"$f":"'🏖 08'!X13","v":0},{"$f":"'📝  09'!X13","v":0},{"$f":"'🎃 10'!X13","v":0},{"$f":"'🍂 11'!X13","v":0},{"$f":"'🎄 12'!X13","v":0},0]
[null,{"$f":"'👩🏻‍🏫 Bienvenue !'!I35","v":0},{"$f":"'🥧 01'!X14","v":0},{"$f":"'🎿 02'!X14","v":0},{"$f":"'🌱 03'!X14","v":0},{"$f":"'🐟 04'!X14","v":0},{"$f":"'🎾 05'!X14","v":0},{"$f":"'☀️ 06'!X14","v":0},{"$f":"'🧳 07'!X14","v":0},{"$f":"'🏖 08'!X14","v":0},{"$f":"'📝  09'!X14","v":0},{"$f":"'🎃 10'!X14","v":0},{"$f":"'🍂 11'!X14","v":0},{"$f":"'🎄 12'!X14","v":0},0]
[null,{"$f":"'👩🏻‍🏫 Bienvenue !'!I36","v":0},{"$f":"'🥧 01'!X15","v":0},{"$f":"'🎿 02'!X15","v":0},{"$f":"'🌱 03'!X15","v":0},{"$f":"'🐟 04'!X15","v":0},{"$f":"'🎾 05'!X15","v":0},{"$f":"'☀️ 06'!X15","v":0},{"$f":"'🧳 07'!X15","v":0},{"$f":"'🏖 08'!X15","v":0},{"$f":"'📝  09'!X15","v":0},{"$f":"'🎃 10'!X15","v":0},{"$f":"'🍂 11'!X15","v":0},{"$f":"'🎄 12'!X15","v":0},0]
[null,{"$f":"'👩🏻‍🏫 Bienvenue !'!I37","v":0},{"$f":"'🥧 01'!X16","v":0},{"$f":"'🎿 02'!X16","v":0},{"$f":"'🌱 03'!X16","v":0},{"$f":"'🐟 04'!X16","v":0},{"$f":"'🎾 05'!X16","v":0},{"$f":"'☀️ 06'!X16","v":0},{"$f":"'🧳 07'!X16","v":0},{"$f":"'🏖 08'!X16","v":0},{"$f":"'📝  09'!X16","v":0},{"$f":"'🎃 10'!X16","v":0},{"$f":"'🍂 11'!X16","v":0},{"$f":"'🎄 12'!X16","v":0},0]
[null,{"$f":"'👩🏻‍🏫 Bienvenue !'!I38","v":0},{"$f":"'🥧 01'!X17","v":0},{"$f":"'🎿 02'!X17","v":0},{"$f":"'🌱 03'!X17","v":0},{"$f":"'🐟 04'!X17","v":0},{"$f":"'🎾 05'!X17","v":0},{"$f":"'☀️ 06'!X17","v":0},{"$f":"'🧳 07'!X17","v":0},{"$f":"'🏖 08'!X17","v":0},{"$f":"'📝  09'!X17","v":0},{"$f":"'🎃 10'!X17","v":0},{"$f":"'🍂 11'!X17","v":0},{"$f":"'🎄 12'!X17","v":0},0]
[null,{"$f":"'👩🏻‍🏫 Bienvenue !'!I39","v":0},{"$f":"'🥧 01'!X18","v":0},{"$f":"'🎿 02'!X18","v":0},{"$f":"'🌱 03'!X18","v":0},{"$f":"'🐟 04'!X18","v":0},{"$f":"'🎾 05'!X18","v":0},{"$f":"'☀️ 06'!X18","v":0},{"$f":"'🧳 07'!X18","v":0},{"$f":"'🏖 08'!X18","v":0},{"$f":"'📝  09'!X18","v":0},{"$f":"'🎃 10'!X18","v":0},{"$f":"'🍂 11'!X18","v":0},{"$f":"'🎄 12'!X18","v":0},0]
[null,{"$f":"'👩🏻‍🏫 Bienvenue !'!I40","v":0},{"$f":"'🥧 01'!X19","v":0},{"$f":"'🎿 02'!X19","v":0},{"$f":"'🌱 03'!X19","v":0},{"$f":"'🐟 04'!X19","v":0},{"$f":"'🎾 05'!X19","v":0},{"$f":"'☀️ 06'!X19","v":0},{"$f":"'🧳 07'!X19","v":0},{"$f":"'🏖 08'!X19","v":0},{"$f":"'📝  09'!X19","v":0},{"$f":"'🎃 10'!X19","v":0},{"$f":"'🍂 11'!X19","v":0},{"$f":"'🎄 12'!X19","v":0},0]
[null,{"$f":"'👩🏻‍🏫 Bienvenue !'!I41","v":0},{"$f":"'🥧 01'!X20","v":0},{"$f":"'🎿 02'!X20","v":0},{"$f":"'🌱 03'!X20","v":0},{"$f":"'🐟 04'!X20","v":0},{"$f":"'🎾 05'!X20","v":0},{"$f":"'☀️ 06'!X20","v":0},{"$f":"'🧳 07'!X20","v":0},{"$f":"'🏖 08'!X20","v":0},{"$f":"'📝  09'!X20","v":0},{"$f":"'🎃 10'!X20","v":0},{"$f":"'🍂 11'!X20","v":0},{"$f":"'🎄 12'!X20","v":0},0]
[null,{"$f":"'👩🏻‍🏫 Bienvenue !'!I42","v":0},{"$f":"'🥧 01'!X21","v":0},{"$f":"'🎿 02'!X21","v":0},{"$f":"'🌱 03'!X21","v":0},{"$f":"'🐟 04'!X21","v":0},{"$f":"'🎾 05'!X21","v":0},{"$f":"'☀️ 06'!X21","v":0},{"$f":"'🧳 07'!X21","v":0},{"$f":"'🏖 08'!X21","v":0},{"$f":"'📝  09'!X21","v":0},{"$f":"'🎃 10'!X21","v":0},{"$f":"'🍂 11'!X21","v":0},{"$f":"'🎄 12'!X21","v":0},0]
[null,{"$f":"'👩🏻‍🏫 Bienvenue !'!I43","v":0},{"$f":"'🥧 01'!X22","v":0},{"$f":"'🎿 02'!X22","v":0},{"$f":"'🌱 03'!X22","v":0},{"$f":"'🐟 04'!X22","v":0},{"$f":"'🎾 05'!X22","v":0},{"$f":"'☀️ 06'!X22","v":0},{"$f":"'🧳 07'!X22","v":0},{"$f":"'🏖 08'!X22","v":0},{"$f":"'📝  09'!X22","v":0},{"$f":"'🎃 10'!X22","v":0},{"$f":"'🍂 11'!X22","v":0},{"$f":"'🎄 12'!X22","v":0},0]
[null,{"$f":"'👩🏻‍🏫 Bienvenue !'!I44","v":0},{"$f":"'🥧 01'!X23","v":0},{"$f":"'🎿 02'!X23","v":0},{"$f":"'🌱 03'!X23","v":0},{"$f":"'🐟 04'!X23","v":0},{"$f":"'🎾 05'!X23","v":0},{"$f":"'☀️ 06'!X23","v":0},{"$f":"'🧳 07'!X23","v":0},{"$f":"'🏖 08'!X23","v":0},{"$f":"'📝  09'!X23","v":0},{"$f":"'🎃 10'!X23","v":0},{"$f":"'🍂 11'!X23","v":0},{"$f":"'🎄 12'!X23","v":0},0]
[null,{"$f":"'👩🏻‍🏫 Bienvenue !'!I45","v":0},{"$f":"'🥧 01'!X24","v":0},{"$f":"'🎿 02'!X24","v":0},{"$f":"'🌱 03'!X24","v":0},{"$f":"'🐟 04'!X24","v":0},{"$f":"'🎾 05'!X24","v":0},{"$f":"'☀️ 06'!X24","v":0},{"$f":"'🧳 07'!X24","v":0},{"$f":"'🏖 08'!X24","v":0},{"$f":"'📝  09'!X24","v":0},{"$f":"'🎃 10'!X24","v":0},{"$f":"'🍂 11'!X24","v":0},{"$f":"'🎄 12'!X24","v":0},0]
[null,{"$f":"'👩🏻‍🏫 Bienvenue !'!I46","v":0},{"$f":"'🥧 01'!X25","v":0},{"$f":"'🎿 02'!X25","v":0},{"$f":"'🌱 03'!X25","v":0},{"$f":"'🐟 04'!X25","v":0},{"$f":"'🎾 05'!X25","v":0},{"$f":"'☀️ 06'!X25","v":0},{"$f":"'🧳 07'!X25","v":0},{"$f":"'🏖 08'!X25","v":0},{"$f":"'📝  09'!X25","v":0},{"$f":"'🎃 10'!X25","v":0},{"$f":"'🍂 11'!X25","v":0},{"$f":"'🎄 12'!X25","v":0},0]
[null,{"$f":"\"Recettes \"&'👩🏻‍🏫 Bienvenue !'!I16","v":"Recettes "},{"$f":"SUM(C6:C25)","v":0},{"$f":"SUM(D6:D25)","v":0},0,0,0,0,0,0,0,0,0,0,{"$f":"SUM(C26:N26)","v":0}]
[null,{"$f":"'👩🏻‍🏫 Bienvenue !'!I50","v":0},{"$f":"'🥧 01'!U6","v":0},{"$f":"'🎿 02'!U6","v":0},{"$f":"'🌱 03'!U6","v":0},{"$f":"'🐟 04'!U6","v":0},{"$f":"'🎾 05'!U6","v":0},{"$f":"'☀️ 06'!U6","v":0},{"$f":"'🧳 07'!U6","v":0},{"$f":"'🏖 08'!U6","v":0},{"$f":"'📝  09'!U6","v":0},{"$f":"'🎃 10'!U6","v":0},{"$f":"'🍂 11'!U6","v":0},{"$f":"'🎄 12'!U6","v":0},{"$f":"SUM(C27:N27)","v":0}]
[null,{"$f":"'👩🏻‍🏫 Bienvenue !'!I51","v":0},{"$f":"'🥧 01'!U7","v":0},{"$f":"'🎿 02'!U7","v":0},{"$f":"'🌱 03'!U7","v":0},{"$f":"'🐟 04'!U7","v":0},{"$f":"'🎾 05'!U7","v":0},{"$f":"'☀️ 06'!U7","v":0},{"$f":"'🧳 07'!U7","v":0},{"$f":"'🏖 08'!U7","v":0},{"$f":"'📝  09'!U7","v":0},{"$f":"'🎃 10'!U7","v":0},{"$f":"'🍂 11'!U7","v":0},{"$f":"'🎄 12'!U7","v":0},{"$f":"SUM(C28:N28)","v":0}]
[null,{"$f":"'👩🏻‍🏫 Bienvenue !'!I52","v":0},{"$f":"'🥧 01'!U8","v":0},{"$f":"'🎿 02'!U8","v":0},{"$f":"'🌱 03'!U8","v":0},{"$f":"'🐟 04'!U8","v":0},{"$f":"'🎾 05'!U8","v":0},{"$f":"'☀️ 06'!U8","v":0},{"$f":"'🧳 07'!U8","v":0},{"$f":"'🏖 08'!U8","v":0},{"$f":"'📝  09'!U8","v":0},{"$f":"'🎃 10'!U8","v":0},{"$f":"'🍂 11'!U8","v":0},{"$f":"'🎄 12'!U8","v":0},0]
[null,{"$f":"'👩🏻‍🏫 Bienvenue !'!I53","v":0},{"$f":"'🥧 01'!U9","v":0},{"$f":"'🎿 02'!U9","v":0},{"$f":"'🌱 03'!U9","v":0},{"$f":"'🐟 04'!U9","v":0},{"$f":"'🎾 05'!U9","v":0},{"$f":"'☀️ 06'!U9","v":0},{"$f":"'🧳 07'!U9","v":0},{"$f":"'🏖 08'!U9","v":0},{"$f":"'📝  09'!U9","v":0},{"$f":"'🎃 10'!U9","v":0},{"$f":"'🍂 11'!U9","v":0},{"$f":"'🎄 12'!U9","v":0},0]
[null,{"$f":"'👩🏻‍🏫 Bienvenue !'!I54","v":0},{"$f":"'🥧 01'!U10","v":0},{"$f":"'🎿 02'!U10","v":0},{"$f":"'🌱 03'!U10","v":0},{"$f":"'🐟 04'!U10","v":0},{"$f":"'🎾 05'!U10","v":0},{"$f":"'☀️ 06'!U10","v":0},{"$f":"'🧳 07'!U10","v":0},{"$f":"'🏖 08'!U10","v":0},{"$f":"'📝  09'!U10","v":0},{"$f":"'🎃 10'!U10","v":0},{"$f":"'🍂 11'!U10","v":0},{"$f":"'🎄 12'!U10","v":0},0]
[null,{"$f":"'👩🏻‍🏫 Bienvenue !'!I55","v":0},{"$f":"'🥧 01'!U11","v":0},{"$f":"'🎿 02'!U11","v":0},{"$f":"'🌱 03'!U11","v":0},{"$f":"'🐟 04'!U11","v":0},{"$f":"'🎾 05'!U11","v":0},{"$f":"'☀️ 06'!U11","v":0},{"$f":"'🧳 07'!U11","v":0},{"$f":"'🏖 08'!U11","v":0},{"$f":"'📝  09'!U11","v":0},{"$f":"'🎃 10'!U11","v":0},{"$f":"'🍂 11'!U11","v":0},{"$f":"'🎄 12'!U11","v":0},0]
[null,{"$f":"'👩🏻‍🏫 Bienvenue !'!I56","v":0},{"$f":"'🥧 01'!U12","v":0},{"$f":"'🎿 02'!U12","v":0},{"$f":"'🌱 03'!U12","v":0},{"$f":"'🐟 04'!U12","v":0},{"$f":"'🎾 05'!U12","v":0},{"$f":"'☀️ 06'!U12","v":0},{"$f":"'🧳 07'!U12","v":0},{"$f":"'🏖 08'!U12","v":0},{"$f":"'📝  09'!U12","v":0},{"$f":"'🎃 10'!U12","v":0},{"$f":"'🍂 11'!U12","v":0},{"$f":"'🎄 12'!U12","v":0},0]
[null,{"$f":"'👩🏻‍🏫 Bienvenue !'!I57","v":0},{"$f":"'🥧 01'!U13","v":0},{"$f":"'🎿 02'!U13","v":0},{"$f":"'🌱 03'!U13","v":0},{"$f":"'🐟 04'!U13","v":0},{"$f":"'🎾 05'!U13","v":0},{"$f":"'☀️ 06'!U13","v":0},{"$f":"'🧳 07'!U13","v":0},{"$f":"'🏖 08'!U13","v":0},{"$f":"'📝  09'!U13","v":0},{"$f":"'🎃 10'!U13","v":0},{"$f":"'🍂 11'!U13","v":0},{"$f":"'🎄 12'!U13","v":0},0]
[null,{"$f":"'👩🏻‍🏫 Bienvenue !'!I58","v":0},{"$f":"'🥧 01'!U14","v":0},{"$f":"'🎿 02'!U14","v":0},{"$f":"'🌱 03'!U14","v":0},{"$f":"'🐟 04'!U14","v":0},{"$f":"'🎾 05'!U14","v":0},{"$f":"'☀️ 06'!U14","v":0},{"$f":"'🧳 07'!U14","v":0},{"$f":"'🏖 08'!U14","v":0},{"$f":"'📝  09'!U14","v":0},{"$f":"'🎃 10'!U14","v":0},{"$f":"'🍂 11'!U14","v":0},{"$f":"'🎄 12'!U14","v":0},0]
[null,{"$f":"'👩🏻‍🏫 Bienvenue !'!I59","v":0},{"$f":"'🥧 01'!U15","v":0},{"$f":"'🎿 02'!U15","v":0},{"$f":"'🌱 03'!U15","v":0},{"$f":"'🐟 04'!U15","v":0},{"$f":"'🎾 05'!U15","v":0},{"$f":"'☀️ 06'!U15","v":0},{"$f":"'🧳 07'!U15","v":0},{"$f":"'🏖 08'!U15","v":0},{"$f":"'📝  09'!U15","v":0},{"$f":"'🎃 10'!U15","v":0},{"$f":"'🍂 11'!U15","v":0},{"$f":"'🎄 12'!U15","v":0},0]
[null,{"$f":"'👩🏻‍🏫 Bienvenue !'!I60","v":0},{"$f":"'🥧 01'!U16","v":0},{"$f":"'🎿 02'!U16","v":0},{"$f":"'🌱 03'!U16","v":0},{"$f":"'🐟 04'!U16","v":0},{"$f":"'🎾 05'!U16","v":0},{"$f":"'☀️ 06'!U16","v":0},{"$f":"'🧳 07'!U16","v":0},{"$f":"'🏖 08'!U16","v":0},{"$f":"'📝  09'!U16","v":0},{"$f":"'🎃 10'!U16","v":0},{"$f":"'🍂 11'!U16","v":0},{"$f":"'🎄 12'!U16","v":0},0]
[null,{"$f":"'👩🏻‍🏫 Bienvenue !'!I61","v":0},{"$f":"'🥧 01'!U17","v":0},{"$f":"'🎿 02'!U17","v":0},{"$f":"'🌱 03'!U17","v":0},{"$f":"'🐟 04'!U17","v":0},{"$f":"'🎾 05'!U17","v":0},{"$f":"'☀️ 06'!U17","v":0},{"$f":"'🧳 07'!U17","v":0},{"$f":"'🏖 08'!U17","v":0},{"$f":"'📝  09'!U17","v":0},{"$f":"'🎃 10'!U17","v":0},{"$f":"'🍂 11'!U17","v":0},{"$f":"'🎄 12'!U17","v":0},0]
[null,{"$f":"'👩🏻‍🏫 Bienvenue !'!I62","v":0},{"$f":"'🥧 01'!U18","v":0},{"$f":"'🎿 02'!U18","v":0},{"$f":"'🌱 03'!U18","v":0},{"$f":"'🐟 04'!U18","v":0},{"$f":"'🎾 05'!U18","v":0},{"$f":"'☀️ 06'!U18","v":0},{"$f":"'🧳 07'!U18","v":0},{"$f":"'🏖 08'!U18","v":0},{"$f":"'📝  09'!U18","v":0},{"$f":"'🎃 10'!U18","v":0},{"$f":"'🍂 11'!U18","v":0},{"$f":"'🎄 12'!U18","v":0},0]
[null,{"$f":"'👩🏻‍🏫 Bienvenue !'!I63","v":0},{"$f":"'🥧 01'!U19","v":0},{"$f":"'🎿 02'!U19","v":0},{"$f":"'🌱 03'!U19","v":0},{"$f":"'🐟 04'!U19","v":0},{"$f":"'🎾 05'!U19","v":0},{"$f":"'☀️ 06'!U19","v":0},{"$f":"'🧳 07'!U19","v":0},{"$f":"'🏖 08'!U19","v":0},{"$f":"'📝  09'!U19","v":0},{"$f":"'🎃 10'!U19","v":0},{"$f":"'🍂 11'!U19","v":0},{"$f":"'🎄 12'!U19","v":0},0]
[null,{"$f":"'👩🏻‍🏫 Bienvenue !'!I64","v":0},{"$f":"'🥧 01'!U20","v":0},{"$f":"'🎿 02'!U20","v":0},{"$f":"'🌱 03'!U20","v":0},{"$f":"'🐟 04'!U20","v":0},{"$f":"'🎾 05'!U20","v":0},{"$f":"'☀️ 06'!U20","v":0},{"$f":"'🧳 07'!U20","v":0},{"$f":"'🏖 08'!U20","v":0},{"$f":"'📝  09'!U20","v":0},{"$f":"'🎃 10'!U20","v":0},{"$f":"'🍂 11'!U20","v":0},{"$f":"'🎄 12'!U20","v":0},0]
[null,{"$f":"'👩🏻‍🏫 Bienvenue !'!I65","v":0},{"$f":"'🥧 01'!U21","v":0},{"$f":"'🎿 02'!U21","v":0},{"$f":"'🌱 03'!U21","v":0},{"$f":"'🐟 04'!U21","v":0},{"$f":"'🎾 05'!U21","v":0},{"$f":"'☀️ 06'!U21","v":0},{"$f":"'🧳 07'!U21","v":0},{"$f":"'🏖 08'!U21","v":0},{"$f":"'📝  09'!U21","v":0},{"$f":"'🎃 10'!U21","v":0},{"$f":"'🍂 11'!U21","v":0},{"$f":"'🎄 12'!U21","v":0},{"$f":"SUM(C42:N42)","v":0}]
[null,{"$f":"'👩🏻‍🏫 Bienvenue !'!I66","v":0},{"$f":"'🥧 01'!U22","v":0},{"$f":"'🎿 02'!U22","v":0},{"$f":"'🌱 03'!U22","v":0},{"$f":"'🐟 04'!U22","v":0},{"$f":"'🎾 05'!U22","v":0},{"$f":"'☀️ 06'!U22","v":0},{"$f":"'🧳 07'!U22","v":0},{"$f":"'🏖 08'!U22","v":0},{"$f":"'📝  09'!U22","v":0},{"$f":"'🎃 10'!U22","v":0},{"$f":"'🍂 11'!U22","v":0},{"$f":"'🎄 12'!U22","v":0},0]
[null,{"$f":"'👩🏻‍🏫 Bienvenue !'!I67","v":0},{"$f":"'🥧 01'!U23","v":0},{"$f":"'🎿 02'!U23","v":0},{"$f":"'🌱 03'!U23","v":0},{"$f":"'🐟 04'!U23","v":0},{"$f":"'🎾 05'!U23","v":0},{"$f":"'☀️ 06'!U23","v":0},{"$f":"'🧳 07'!U23","v":0},{"$f":"'🏖 08'!U23","v":0},{"$f":"'📝  09'!U23","v":0},{"$f":"'🎃 10'!U23","v":0},{"$f":"'🍂 11'!U23","v":0},{"$f":"'🎄 12'!U23","v":0},0]
[null,{"$f":"'👩🏻‍🏫 Bienvenue !'!I68","v":0},{"$f":"'🥧 01'!U24","v":0},{"$f":"'🎿 02'!U24","v":0},{"$f":"'🌱 03'!U24","v":0},{"$f":"'🐟 04'!U24","v":0},{"$f":"'🎾 05'!U24","v":0},{"$f":"'☀️ 06'!U24","v":0},{"$f":"'🧳 07'!U24","v":0},{"$f":"'🏖 08'!U24","v":0},{"$f":"'📝  09'!U24","v":0},{"$f":"'🎃 10'!U24","v":0},{"$f":"'🍂 11'!U24","v":0},{"$f":"'🎄 12'!U24","v":0},{"$f":"SUM(C45:N45)","v":0}]
[null,{"$f":"\"Dépenses \"&'👩🏻‍🏫 Bienvenue !'!I16&\" (hors cotisations)\"","v":"Dépenses  (hors cotisations)"},{"$f":"SUM(C27:C45)","v":0},{"$f":"SUM(D27:D45)","v":0},0,0,0,0,0,0,0,0,0,0,{"$f":"SUM(C46:N46)","v":0}]
[null,"Résultat avant cotisations sociales",{"$f":"C26-C46","v":0},0,0,0,0,0,0,0,0,0,0,0,0]
[null,{"$f":"'👩🏻‍🏫 Bienvenue !'!I69","v":"Cotisations sociales"},{"$f":"'🥧 01'!U25","v":0},{"$f":"'🎿 02'!U25","v":0},{"$f":"'🌱 03'!U25","v":0},{"$f":"'🐟 04'!U25","v":0},{"$f":"'🎾 05'!U25","v":0},{"$f":"'☀️ 06'!U25","v":0},{"$f":"'🧳 07'!U25","v":0},{"$f":"'🏖 08'!U25","v":0},{"$f":"'📝  09'!U25","v":0},{"$f":"'🎃 10'!U25","v":0},{"$f":"'🍂 11'!U25","v":0},{"$f":"'🎄 12'!U25","v":0},{"$f":"SUM(C48:N48)","v":0}]
[null,{"$f":"\"Résultat \"&'👩🏻‍🏫 Bienvenue !'!I16","v":"Résultat "},{"$f":"C47-C48","v":0},0,{"$f":"E47-E48","v":0},{"$f":"F47-F48","v":0},0,0,0,0,0,0,0,0,{"$f":"O47-O48","v":0}]
[]
[]
[]
[null,"Profit par axe","janvier","février","mars","avril","mai","juin","juillet","août","septembre","octobre","novembre","décembre","TOTAL"]
[null,{"$f":"'👩🏻‍🏫 Bienvenue !'!I73","v":0},{"$f":"'🥧 01'!W51","v":0},{"$f":"'🎿 02'!W51","v":0},{"$f":"'🌱 03'!W51","v":0},{"$f":"'🐟 04'!W51","v":0},{"$f":"'🎾 05'!W51","v":0},{"$f":"'☀️ 06'!W51","v":0},{"$f":"'🧳 07'!W51","v":0},{"$f":"'🏖 08'!W51","v":0},{"$f":"'📝  09'!W51","v":0},{"$f":"'🎃 10'!W51","v":0},{"$f":"'🍂 11'!W51","v":0},{"$f":"'🎄 12'!W51","v":0},{"$f":"SUM(C54:N54)","v":0}]
[null,{"$f":"'👩🏻‍🏫 Bienvenue !'!I74","v":0},{"$f":"'🥧 01'!W52","v":0},{"$f":"'🎿 02'!W52","v":0},{"$f":"'🌱 03'!W52","v":0},{"$f":"'🐟 04'!W52","v":0},{"$f":"'🎾 05'!W52","v":0},{"$f":"'☀️ 06'!W52","v":0},{"$f":"'🧳 07'!W52","v":0},{"$f":"'🏖 08'!W52","v":0},{"$f":"'📝  09'!W52","v":0},{"$f":"'🎃 10'!W52","v":0},{"$f":"'🍂 11'!W52","v":0},{"$f":"'🎄 12'!W52","v":0},{"$f":"SUM(C55:N55)","v":0}]
[null,{"$f":"'👩🏻‍🏫 Bienvenue !'!I75","v":0},{"$f":"'🥧 01'!W53","v":0},{"$f":"'🎿 02'!W53","v":0},{"$f":"'🌱 03'!W53","v":0},{"$f":"'🐟 04'!W53","v":0},{"$f":"'🎾 05'!W53","v":0},{"$f":"'☀️ 06'!W53","v":0},{"$f":"'🧳 07'!W53","v":0},{"$f":"'🏖 08'!W53","v":0},{"$f":"'📝  09'!W53","v":0},{"$f":"'🎃 10'!W53","v":0},{"$f":"'🍂 11'!W53","v":0},{"$f":"'🎄 12'!W53","v":0},0]
[null,{"$f":"'👩🏻‍🏫 Bienvenue !'!I76","v":0},{"$f":"'🥧 01'!W54","v":0},{"$f":"'🎿 02'!W54","v":0},{"$f":"'🌱 03'!W54","v":0},{"$f":"'🐟 04'!W54","v":0},{"$f":"'🎾 05'!W54","v":0},{"$f":"'☀️ 06'!W54","v":0},{"$f":"'🧳 07'!W54","v":0},{"$f":"'🏖 08'!W54","v":0},{"$f":"'📝  09'!W54","v":0},{"$f":"'🎃 10'!W54","v":0},{"$f":"'🍂 11'!W54","v":0},{"$f":"'🎄 12'!W54","v":0},0]
[null,{"$f":"'👩🏻‍🏫 Bienvenue !'!I77","v":0},{"$f":"'🥧 01'!W55","v":0},{"$f":"'🎿 02'!W55","v":0},{"$f":"'🌱 03'!W55","v":0},{"$f":"'🐟 04'!W55","v":0},{"$f":"'🎾 05'!W55","v":0},{"$f":"'☀️ 06'!W55","v":0},{"$f":"'🧳 07'!W55","v":0},{"$f":"'🏖 08'!W55","v":0},{"$f":"'📝  09'!W55","v":0},{"$f":"'🎃 10'!W55","v":0},{"$f":"'🍂 11'!W55","v":0},{"$f":"'🎄 12'!W55","v":0},0]
[null,{"$f":"'👩🏻‍🏫 Bienvenue !'!I78","v":0},{"$f":"'🥧 01'!W56","v":0},{"$f":"'🎿 02'!W56","v":0},{"$f":"'🌱 03'!W56","v":0},{"$f":"'🐟 04'!W56","v":0},{"$f":"'🎾 05'!W56","v":0},{"$f":"'☀️ 06'!W56","v":0},{"$f":"'🧳 07'!W56","v":0},{"$f":"'🏖 08'!W56","v":0},{"$f":"'📝  09'!W56","v":0},{"$f":"'🎃 10'!W56","v":0},{"$f":"'🍂 11'!W56","v":0},{"$f":"'🎄 12'!W56","v":0},0]
[null,{"$f":"'👩🏻‍🏫 Bienvenue !'!I79","v":0},{"$f":"'🥧 01'!W57","v":0},{"$f":"'🎿 02'!W57","v":0},{"$f":"'🌱 03'!W57","v":0},{"$f":"'🐟 04'!W57","v":0},{"$f":"'🎾 05'!W57","v":0},{"$f":"'☀️ 06'!W57","v":0},{"$f":"'🧳 07'!W57","v":0},{"$f":"'🏖 08'!W57","v":0},{"$f":"'📝  09'!W57","v":0},{"$f":"'🎃 10'!W57","v":0},{"$f":"'🍂 11'!W57","v":0},{"$f":"'🎄 12'!W57","v":0},0]
[null,{"$f":"'👩🏻‍🏫 Bienvenue !'!I80","v":0},{"$f":"'🥧 01'!W58","v":0},{"$f":"'🎿 02'!W58","v":0},{"$f":"'🌱 03'!W58","v":0},{"$f":"'🐟 04'!W58","v":0},{"$f":"'🎾 05'!W58","v":0},{"$f":"'☀️ 06'!W58","v":0},{"$f":"'🧳 07'!W58","v":0},{"$f":"'🏖 08'!W58","v":0},{"$f":"'📝  09'!W58","v":0},{"$f":"'🎃 10'!W58","v":0},{"$f":"'🍂 11'!W58","v":0},{"$f":"'🎄 12'!W58","v":0},0]
[null,{"$f":"'👩🏻‍🏫 Bienvenue !'!I81","v":0},{"$f":"'🥧 01'!W59","v":0},{"$f":"'🎿 02'!W59","v":0},{"$f":"'🌱 03'!W59","v":0},{"$f":"'🐟 04'!W59","v":0},{"$f":"'🎾 05'!W59","v":0},{"$f":"'☀️ 06'!W59","v":0},{"$f":"'🧳 07'!W59","v":0},{"$f":"'🏖 08'!W59","v":0},{"$f":"'📝  09'!W59","v":0},{"$f":"'🎃 10'!W59","v":0},{"$f":"'🍂 11'!W59","v":0},{"$f":"'🎄 12'!W59","v":0},0]
[null,{"$f":"'👩🏻‍🏫 Bienvenue !'!I82","v":0},{"$f":"'🥧 01'!W60","v":0},{"$f":"'🎿 02'!W60","v":0},{"$f":"'🌱 03'!W60","v":0},{"$f":"'🐟 04'!W60","v":0},{"$f":"'🎾 05'!W60","v":0},{"$f":"'☀️ 06'!W60","v":0},{"$f":"'🧳 07'!W60","v":0},{"$f":"'🏖 08'!W60","v":0},{"$f":"'📝  09'!W60","v":0},{"$f":"'🎃 10'!W60","v":0},{"$f":"'🍂 11'!W60","v":0},{"$f":"'🎄 12'!W60","v":0},0]

{"sheet":"📊 Graphiques","index":14,"n_rows":229,"n_cols":19,"rows_kept":229,"cut":false,"hidden":false,"merged":[[214,1,215,1],[214,2,215,6],[224,1,224,2],[225,1,225,2],[226,1,226,2],[227,1,227,2],[228,1,228,2],[219,1,219,2],[220,1,220,2],[221,1,221,2],[222,1,222,2],[223,1,223,2],[204,1,204,2],[205,1,205,2],[206,1,206,2],[207,1,207,2],[184,1,185,1],[184,2,185,6],[199,1,199,2],[200,1,200,2],[201,1,201,2],[202,1,202,2],[203,1,203,2],[194,1,194,2],[196,1,196,2],[195,1,195,2],[197,1,197,2],[198,1,198,2],[189,1,189,2],[190,1,190,2],[191,1,191,2],[192,1,192,2],[193,1,193,2],[10,1,11,1],[10,2,11,2],[188,1,188,2],[7,1,8,1],[7,2,8,2],[13,1,16,1],[13,2,16,2],[2,14,3,14],[2,15,3,18],[4,1,5,1],[4,2,5,2],[0,0,0,1],[0,2,0,8]]}
[{"$f":"'👩🏻‍🏫 Bienvenue !'!K7","v":0},null,{"$f":"\"Tableau de bord -  \"&'👩🏻‍🏫 Bienvenue !'!I12","v":"Tableau de bord -  "}]
[]
[null,"Votre synthèse",{"$f":"'👩🏻‍🏫 Bienvenue !'!I16","v":0},null,null,null,null,null,null,null,null,null,null,null,"👩🏻‍🏫","Si vous voulez faire apparaître les deux années précédentes sur le graphique, remplissez le tableau ci-dessous !"]
[]
[null,"Chiffre d'affaires",{"$f":"'🗂 Synthèse annuelle'!O26","v":0},null,null,null,null,null,null,null,null,null,null,null,null,{"$f":"\"Recettes \"&'👩🏻‍🏫 Bienvenue !'!I16-1","v":"Recettes -1"},{"$f":"\"Recettes  \"&'👩🏻‍🏫 Bienvenue !'!I16-2","v":"Recettes  -2"},{"$f":"\"Résultat \"&'👩🏻‍🏫 Bienvenue !'!I16-1","v":"Résultat -1"},{"$f":"\"Résultat \"&'👩🏻‍🏫 Bienvenue !'!I16-2","v":"Résultat -2"}]
[null,null,null,null,null,null,null,null,null,null,null,null,null,null,"janvier"]
[null,null,null,null,null,null,null,null,null,null,null,null,null,null,"février"]
[null,"Dépenses",{"$f":"'🗂 Synthèse annuelle'!O46+'🗂 Synthèse annuelle'!O48","v":0},null,null,null,null,null,null,null,null,null,null,null,"mars"]
[null,null,null,null,null,null,null,null,null,null,null,null,null,null,"avril"]
[null,null,null,null,null,null,null,null,null,null,null,null,null,null,"mai"]
[null,"Résultat",{"$f":"C5-C8","v":0},null,null,null,null,null,null,null,null,null,null,null,"juin"]
[null,null,null,null,null,null,null,null,null,null,null,null,null,null,"juillet"]
[null,null,null,null,null,null,null,null,null,null,null,null,null,null,"août"]
[null,"👩🏻‍🏫",{"$f":"IF(C11>=0,\"Bravo, vous faites du profit ! 👍\",\"Vous perdez de l'argent, encore un effort ! 💪\")","v":"Bravo, vous faites du profit ! 👍"},null,null,null,null,null,null,null,null,null,null,null,"septembre"]
[null,null,null,null,null,null,null,null,null,null,null,null,null,null,"octobre"]
[null,null,null,null,null,null,null,null,null,null,null,null,null,null,"novembre"]
[null,null,null,null,null,null,null,null,null,null,null,null,null,null,"décembre"]
[]
[]
[]
[]
[]
[]
[]
[]
[]
[]
[]
[]
[]
[]
[]
[]
[]
[]
[]
[]
[]
[]
[]
[]
[]
[]
[]
[]
[]
[]
[]
[]
[]
[]
[]
[]
[]
[]
[]
[]
[]
[]
[]
[]
[]
[]
[]
[]
[]
[]
[]
[]
[]
[]
[]
[]
[]
[]
[]
[]
[]
[]
[]
[]
[]
[]
[]
[]
[]
[]
[]
[]
[]
[]
[]
[]
[]
[]
[]
[]
[]
[]
[]
[]
[]
[]
[]
[]
[]
[]
[]
[]
[]
[]
[]
[]
[]
[]
[" "]
[]
[]
[]
[]
[]
[]
[]
[]
[]
[]
[]
[]
[]
[]
[]
[]
[]
[]
[]
[]
[]
[]
[]
[]
[]
[]
[]
[]
[]
[]
[]
[]
[]
[]
[]
[]
[]
[]
[]
[]
[]
[]
[]
[]
[]
[]
[]
[]
[]
[]
[]
[]
[]
[]
[]
[]
[]
[]
[]
[]
[]
[]
[]
[]
[]
[]
[null,"Objectifs de ventes par types de recettes"]
[]
[null,"👩🏻‍🏫","Inscrivez vos objectifs par type de recettes pour l'année dans les cases bleues !"]
[]
[]
[null,null,null,"Objectif annuel",null,"Réalisé","Pourcentage"]
[null,{"$f":"'👩🏻‍🏫 Bienvenue !'!I27","v":0},null,null,null,{"$f":"'🗂 Synthèse annuelle'!O6","v":0},{"$f":"IFERROR(F189/D189,\"\")","v":""}]
[null,{"$f":"'👩🏻‍🏫 Bienvenue !'!I28","v":0},null,null,null,{"$f":"'🗂 Synthèse annuelle'!O7","v":0},{"$f":"IFERROR(F190/D190,\"\")","v":""}]
[null,{"$f":"'👩🏻‍🏫 Bienvenue !'!I29","v":0},null,null,null,{"$f":"'🗂 Synthèse annuelle'!O8","v":0},""]
[null,{"$f":"'👩🏻‍🏫 Bienvenue !'!I30","v":0},null,null,null,{"$f":"'🗂 Synthèse annuelle'!O9","v":0},""]
[null,{"$f":"'👩🏻‍🏫 Bienvenue !'!I31","v":0},null,null,null,{"$f":"'🗂 Synthèse annuelle'!O10","v":0},""]
[null,{"$f":"'👩🏻‍🏫 Bienvenue !'!I32","v":0},null,null,null,{"$f":"'🗂 Synthèse annuelle'!O11","v":0},""]
[null,{"$f":"'👩🏻‍🏫 Bienvenue !'!I33","v":0},null,null,null,{"$f":"'🗂 Synthèse annuelle'!O12","v":0},""]
[null,{"$f":"'👩🏻‍🏫 Bienvenue !'!I34","v":0},null,null,null,{"$f":"'🗂 Synthèse annuelle'!O13","v":0},""]
[null,{"$f":"'👩🏻‍🏫 Bienvenue !'!I35","v":0},null,null,null,{"$f":"'🗂 Synthèse annuelle'!O14","v":0},""]
[null,{"$f":"'👩🏻‍🏫 Bienvenue !'!I36","v":0},null,null,null,{"$f":"'🗂 Synthèse annuelle'!O15","v":0},""]
[null,{"$f":"'👩🏻‍🏫 Bienvenue !'!I37","v":0},null,null,null,{"$f":"'🗂 Synthèse annuelle'!O16","v":0},""]
[null,{"$f":"'👩🏻‍🏫 Bienvenue !'!I38","v":0},null,null,null,{"$f":"'🗂 Synthèse annuelle'!O17","v":0},""]
[null,{"$f":"'👩🏻‍🏫 Bienvenue !'!I39","v":0},null,null,null,{"$f":"'🗂 Synthèse annuelle'!O18","v":0},""]
[null,{"$f":"'👩🏻‍🏫 Bienvenue !'!I40","v":0},null,null,null,{"$f":"'🗂 Synthèse annuelle'!O19","v":0},""]
[null,{"$f":"'👩🏻‍🏫 Bienvenue !'!I41","v":0},null,null,null,{"$f":"'🗂 Synthèse annuelle'!O20","v":0},""]
[null,{"$f":"'👩🏻‍🏫 Bienvenue !'!I42","v":0},null,null,null,{"$f":"'🗂 Synthèse annuelle'!O21","v":0},""]
[null,{"$f":"'👩🏻‍🏫 Bienvenue !'!I43","v":0},null,null,null,{"$f":"'🗂 Synthèse annuelle'!O22","v":0},""]
[null,{"$f":"'👩🏻‍🏫 Bienvenue !'!I44","v":0},null,null,null,{"$f":"'🗂 Synthèse annuelle'!O23","v":0},""]
[null,{"$f":"'👩🏻‍🏫 Bienvenue !'!I45","v":0},null,null,null,{"$f":"'🗂 Synthèse annuelle'!O24","v":0},""]
[null,{"$f":"'👩🏻‍🏫 Bienvenue !'!I46","v":0},null,null,null,{"$f":"'🗂 Synthèse annuelle'!O25","v":0},""]
[]
[]
[]
[]
[null,"Objectifs de profit par axe"]
[]
[null,"👩🏻‍🏫","Inscrivez vos objectifs de profit par axe pour l'année dans les cases bleues !"]
[]
[]
[]
[null,null,null,"Objectif annuel",null,"Réalisé","Pourcentage"]
[null,{"$f":"'👩🏻‍🏫 Bienvenue !'!I73","v":0},null,null,null,{"$f":"'🗂 Synthèse annuelle'!O54","v":0},{"$f":"IFERROR(F220/D220,\"\")","v":""}]
[null,{"$f":"'👩🏻‍🏫 Bienvenue !'!I74","v":0},null,null,null,{"$f":"'🗂 Synthèse annuelle'!O55","v":0},{"$f":"IFERROR(F221/D221,\"\")","v":""}]
[null,{"$f":"'👩🏻‍🏫 Bienvenue !'!I75","v":0},null,null,null,{"$f":"'🗂 Synthèse annuelle'!O56","v":0},""]
[null,{"$f":"'👩🏻‍🏫 Bienvenue !'!I76","v":0},null,null,null,{"$f":"'🗂 Synthèse annuelle'!O57","v":0},""]
[null,{"$f":"'👩🏻‍🏫 Bienvenue !'!I77","v":0},null,null,null,{"$f":"'🗂 Synthèse annuelle'!O58","v":0},""]
[null,{"$f":"'👩🏻‍🏫 Bienvenue !'!I78","v":0},null,null,null,{"$f":"'🗂 Synthèse annuelle'!O59","v":0},""]
[null,{"$f":"'👩🏻‍🏫 Bienvenue !'!I79","v":0},null,null,null,{"$f":"'🗂 Synthèse annuelle'!O60","v":0},""]
[null,{"$f":"'👩🏻‍🏫 Bienvenue !'!I80","v":0},null,null,null,{"$f":"'🗂 Synthèse annuelle'!O61","v":0},""]
[null,{"$f":"'👩🏻‍🏫 Bienvenue !'!I81","v":0},null,null,null,{"$f":"'🗂 Synthèse annuelle'!O62","v":0},""]
[null,{"$f":"'👩🏻‍🏫 Bienvenue !'!I82","v":0},null,null,null,{"$f":"'🗂 Synthèse annuelle'!O63","v":0},""]

{"sheet":"🧮 Simulation","index":15,"n_rows":53,"n_cols":40,"rows_kept":53,"cut":false,"hidden":false,"merged":[[2,1,2,2],[2,3,2,4],[2,5,2,6],[2,7,2,8],[2,9,2,10],[2,21,2,22],[2,23,2,24],[2,11,2,12],[2,13,2,14],[2,15,2,16],[2,17,2,18],[2,19,2,20]]}
[{"$f":"'👩🏻‍🏫 Bienvenue !'!K7","v":0},{"$f":"\"Simulation - \"&'👩🏻‍🏫 Bienvenue !'!I16&\" - \"&'👩🏻‍🏫 Bienvenue !'!I12","v":"Simulation -  - "}]
[]
[null,"janvier",null,"février",null,"mars",null,"avril",null,"mai",null,"juin",null,"juillet",null,"août",null,"septembre",null,"octobre",null,"novembre",null,"décembre",null,"ANNEE",null,null,"janvier","février","mars","avril","mai","juin","juillet","août","septembre","octobre","novembre","décembre"]
[null,"prévu","réalisé","prévu","réalisé","prévu","réalisé","prévu","réalisé","prévu","réalisé","prévu","réalisé","prévu","réalisé","prévu","réalisé","prévu","réalisé","prévu","réalisé","prévu","réalisé","prévu","réalisé","ATTERRISSAGE"]
[]
["RECETTES",{"$f":"SUM(B8:B27)","v":0},{"$f":"SUM(C8:C27)","v":0},{"$f":"SUM(D8:D27)","v":0},0,0,0,0,0,0,0,0,0,0,0,0,0,0,0,0,0,0,0,0,0,{"$f":"SUM(Z8:Z27)","v":0}]
[]
[{"$f":"'🗂 Synthèse annuelle'!B6","v":0},null,{"$f":"'🗂 Synthèse annuelle'!C6","v":0},null,{"$f":"'🗂 Synthèse annuelle'!D6","v":0},null,{"$f":"'🗂 Synthèse annuelle'!E6","v":0},null,{"$f":"'🗂 Synthèse annuelle'!F6","v":0},null,{"$f":"'🗂 Synthèse annuelle'!G6","v":0},null,{"$f":"'🗂 Synthèse annuelle'!H6","v":0},null,{"$f":"'🗂 Synthèse annuelle'!I6","v":0},null,{"$f":"'🗂 Synthèse annuelle'!J6","v":0},null,{"$f":"'🗂 Synthèse annuelle'!K6","v":0},null,{"$f":"'🗂 Synthèse annuelle'!L6","v":0},null,{"$f":"'🗂 Synthèse annuelle'!M6","v":0},null,{"$f":"'🗂 Synthèse annuelle'!N6","v":0},{"$f":"IF(C8=0,B8,C8)+IF(E8=0,D8,E8)+IF(G8=0,F8,G8)+IF(I8=0,H8,I8)+IF(K8=0,J8,K8)+IF(M8=0,L8,M8)+IF(O8=0,N8,O8)+IF(Q8=0,P8,Q8)+IF(S8=0,R8,S8)+IF(U8=0,T8,U8)+IF(W8=0,V8,W8)+IF(Y8=0,X8,Y8)","v":0},null,null,{"$f":"VLOOKUP($A8,'coulisses 2'!$A$1:$B$20,2,0)*B8","v":0},{"$f":"VLOOKUP($A8,'coulisses 2'!$A$1:$B$20,2,0)*D8","v":0},{"$f":"VLOOKUP($A8,'coulisses 2'!$A$1:$B$20,2,0)*F8","v":0},{"$f":"VLOOKUP($A8,'coulisses 2'!$A$1:$B$20,2,0)*H8","v":0},{"$f":"VLOOKUP($A8,'coulisses 2'!$A$1:$B$20,2,0)*J8","v":0},{"$f":"VLOOKUP($A8,'coulisses 2'!$A$1:$B$20,2,0)*L8","v":0},{"$f":"VLOOKUP($A8,'coulisses 2'!$A$1:$B$20,2,0)*N8","v":0},{"$f":"VLOOKUP($A8,'coulisses 2'!$A$1:$B$20,2,0)*P8","v":0},{"$f":"VLOOKUP($A8,'coulisses 2'!$A$1:$B$20,2,0)*R8","v":0},{"$f":"VLOOKUP($A8,'coulisses 2'!$A$1:$B$20,2,0)*T8","v":0},{"$f":"VLOOKUP($A8,'coulisses 2'!$A$1:$B$20,2,0)*V8","v":0},{"$f":"VLOOKUP($A8,'coulisses 2'!$A$1:$B$20,2,0)*X8","v":0}]
[{"$f":"'🗂 Synthèse annuelle'!B7","v":0},null,{"$f":"'🗂 Synthèse annuelle'!C7","v":0},null,{"$f":"'🗂 Synthèse annuelle'!D7","v":0},null,{"$f":"'🗂 Synthèse annuelle'!E7","v":0},null,{"$f":"'🗂 Synthèse annuelle'!F7","v":0},null,{"$f":"'🗂 Synthèse annuelle'!G7","v":0},null,{"$f":"'🗂 Synthèse annuelle'!H7","v":0},null,{"$f":"'🗂 Synthèse annuelle'!I7","v":0},null,{"$f":"'🗂 Synthèse annuelle'!J7","v":0},null,{"$f":"'🗂 Synthèse annuelle'!K7","v":0},null,{"$f":"'🗂 Synthèse annuelle'!L7","v":0},null,{"$f":"'🗂 Synthèse annuelle'!M7","v":0},null,{"$f":"'🗂 Synthèse annuelle'!N7","v":0},0,null,null,{"$f":"VLOOKUP($A9,'coulisses 2'!$A$1:$B$20,2,0)*B9","v":0},{"$f":"VLOOKUP($A9,'coulisses 2'!$A$1:$B$20,2,0)*D9","v":0},{"$f":"VLOOKUP($A9,'coulisses 2'!$A$1:$B$20,2,0)*F9","v":0},{"$f":"VLOOKUP($A9,'coulisses 2'!$A$1:$B$20,2,0)*H9","v":0},{"$f":"VLOOKUP($A9,'coulisses 2'!$A$1:$B$20,2,0)*J9","v":0},{"$f":"VLOOKUP($A9,'coulisses 2'!$A$1:$B$20,2,0)*L9","v":0},{"$f":"VLOOKUP($A9,'coulisses 2'!$A$1:$B$20,2,0)*N9","v":0},{"$f":"VLOOKUP($A9,'coulisses 2'!$A$1:$B$20,2,0)*P9","v":0},{"$f":"VLOOKUP($A9,'coulisses 2'!$A$1:$B$20,2,0)*R9","v":0},{"$f":"VLOOKUP($A9,'coulisses 2'!$A$1:$B$20,2,0)*T9","v":0},{"$f":"VLOOKUP($A9,'coulisses 2'!$A$1:$B$20,2,0)*V9","v":0},{"$f":"VLOOKUP($A9,'coulisses 2'!$A$1:$B$20,2,0)*X9","v":0}]
[{"$f":"'🗂 Synthèse annuelle'!B8","v":0},null,{"$f":"'🗂 Synthèse annuelle'!C8","v":0},null,{"$f":"'🗂 Synthèse annuelle'!D8","v":0},null,{"$f":"'🗂 Synthèse annuelle'!E8","v":0},null,{"$f":"'🗂 Synthèse annuelle'!F8","v":0},null,{"$f":"'🗂 Synthèse annuelle'!G8","v":0},null,{"$f":"'🗂 Synthèse annuelle'!H8","v":0},null,{"$f":"'🗂 Synthèse annuelle'!I8","v":0},null,{"$f":"'🗂 Synthèse annuelle'!J8","v":0},null,{"$f":"'🗂 Synthèse annuelle'!K8","v":0},null,{"$f":"'🗂 Synthèse annuelle'!L8","v":0},null,{"$f":"'🗂 Synthèse annuelle'!M8","v":0},null,{"$f":"'🗂 Synthèse annuelle'!N8","v":0},0,null,null,{"$f":"VLOOKUP($A10,'coulisses 2'!$A$1:$B$20,2,0)*B10","v":0},{"$f":"VLOOKUP($A10,'coulisses 2'!$A$1:$B$20,2,0)*D10","v":0},{"$f":"VLOOKUP($A10,'coulisses 2'!$A$1:$B$20,2,0)*F10","v":0},{"$f":"VLOOKUP($A10,'coulisses 2'!$A$1:$B$20,2,0)*H10","v":0},{"$f":"VLOOKUP($A10,'coulisses 2'!$A$1:$B$20,2,0)*J10","v":0},{"$f":"VLOOKUP($A10,'coulisses 2'!$A$1:$B$20,2,0)*L10","v":0},{"$f":"VLOOKUP($A10,'coulisses 2'!$A$1:$B$20,2,0)*N10","v":0},{"$f":"VLOOKUP($A10,'coulisses 2'!$A$1:$B$20,2,0)*P10","v":0},{"$f":"VLOOKUP($A10,'coulisses 2'!$A$1:$B$20,2,0)*R10","v":0},{"$f":"VLOOKUP($A10,'coulisses 2'!$A$1:$B$20,2,0)*T10","v":0},{"$f":"VLOOKUP($A10,'coulisses 2'!$A$1:$B$20,2,0)*V10","v":0},{"$f":"VLOOKUP($A10,'coulisses 2'!$A$1:$B$20,2,0)*X10","v":0}]
[{"$f":"'🗂 Synthèse annuelle'!B9","v":0},null,{"$f":"'🗂 Synthèse annuelle'!C9","v":0},null,{"$f":"'🗂 Synthèse annuelle'!D9","v":0},null,{"$f":"'🗂 Synthèse annuelle'!E9","v":0},null,{"$f":"'🗂 Synthèse annuelle'!F9","v":0},null,{"$f":"'🗂 Synthèse annuelle'!G9","v":0},null,{"$f":"'🗂 Synthèse annuelle'!H9","v":0},null,{"$f":"'🗂 Synthèse annuelle'!I9","v":0},null,{"$f":"'🗂 Synthèse annuelle'!J9","v":0},null,{"$f":"'🗂 Synthèse annuelle'!K9","v":0},null,{"$f":"'🗂 Synthèse annuelle'!L9","v":0},null,{"$f":"'🗂 Synthèse annuelle'!M9","v":0},null,{"$f":"'🗂 Synthèse annuelle'!N9","v":0},0,null,null,{"$f":"VLOOKUP($A11,'coulisses 2'!$A$1:$B$20,2,0)*B11","v":0},{"$f":"VLOOKUP($A11,'coulisses 2'!$A$1:$B$20,2,0)*D11","v":0},{"$f":"VLOOKUP($A11,'coulisses 2'!$A$1:$B$20,2,0)*F11","v":0},{"$f":"VLOOKUP($A11,'coulisses 2'!$A$1:$B$20,2,0)*H11","v":0},{"$f":"VLOOKUP($A11,'coulisses 2'!$A$1:$B$20,2,0)*J11","v":0},{"$f":"VLOOKUP($A11,'coulisses 2'!$A$1:$B$20,2,0)*L11","v":0},{"$f":"VLOOKUP($A11,'coulisses 2'!$A$1:$B$20,2,0)*N11","v":0},{"$f":"VLOOKUP($A11,'coulisses 2'!$A$1:$B$20,2,0)*P11","v":0},{"$f":"VLOOKUP($A11,'coulisses 2'!$A$1:$B$20,2,0)*R11","v":0},{"$f":"VLOOKUP($A11,'coulisses 2'!$A$1:$B$20,2,0)*T11","v":0},{"$f":"VLOOKUP($A11,'coulisses 2'!$A$1:$B$20,2,0)*V11","v":0},{"$f":"VLOOKUP($A11,'coulisses 2'!$A$1:$B$20,2,0)*X11","v":0}]
[{"$f":"'🗂 Synthèse annuelle'!B10","v":0},null,{"$f":"'🗂 Synthèse annuelle'!C10","v":0},null,{"$f":"'🗂 Synthèse annuelle'!D10","v":0},null,{"$f":"'🗂 Synthèse annuelle'!E10","v":0},null,{"$f":"'🗂 Synthèse annuelle'!F10","v":0},null,{"$f":"'🗂 Synthèse annuelle'!G10","v":0},null,{"$f":"'🗂 Synthèse annuelle'!H10","v":0},null,{"$f":"'🗂 Synthèse annuelle'!I10","v":0},null,{"$f":"'🗂 Synthèse annuelle'!J10","v":0},null,{"$f":"'🗂 Synthèse annuelle'!K10","v":0},null,{"$f":"'🗂 Synthèse annuelle'!L10","v":0},null,{"$f":"'🗂 Synthèse annuelle'!M10","v":0},null,{"$f":"'🗂 Synthèse annuelle'!N10","v":0},0,null,null,{"$f":"VLOOKUP($A12,'coulisses 2'!$A$1:$B$20,2,0)*B12","v":0},{"$f":"VLOOKUP($A12,'coulisses 2'!$A$1:$B$20,2,0)*D12","v":0},{"$f":"VLOOKUP($A12,'coulisses 2'!$A$1:$B$20,2,0)*F12","v":0},{"$f":"VLOOKUP($A12,'coulisses 2'!$A$1:$B$20,2,0)*H12","v":0},{"$f":"VLOOKUP($A12,'coulisses 2'!$A$1:$B$20,2,0)*J12","v":0},{"$f":"VLOOKUP($A12,'coulisses 2'!$A$1:$B$20,2,0)*L12","v":0},{"$f":"VLOOKUP($A12,'coulisses 2'!$A$1:$B$20,2,0)*N12","v":0},{"$f":"VLOOKUP($A12,'coulisses 2'!$A$1:$B$20,2,0)*P12","v":0},{"$f":"VLOOKUP($A12,'coulisses 2'!$A$1:$B$20,2,0)*R12","v":0},{"$f":"VLOOKUP($A12,'coulisses 2'!$A$1:$B$20,2,0)*T12","v":0},{"$f":"VLOOKUP($A12,'coulisses 2'!$A$1:$B$20,2,0)*V12","v":0},{"$f":"VLOOKUP($A12,'coulisses 2'!$A$1:$B$20,2,0)*X12","v":0}]
[{"$f":"'🗂 Synthèse annuelle'!B11","v":0},null,{"$f":"'🗂 Synthèse annuelle'!C11","v":0},null,{"$f":"'🗂 Synthèse annuelle'!D11","v":0},null,{"$f":"'🗂 Synthèse annuelle'!E11","v":0},null,{"$f":"'🗂 Synthèse annuelle'!F11","v":0},null,{"$f":"'🗂 Synthèse annuelle'!G11","v":0},null,{"$f":"'🗂 Synthèse annuelle'!H11","v":0},null,{"$f":"'🗂 Synthèse annuelle'!I11","v":0},null,{"$f":"'🗂 Synthèse annuelle'!J11","v":0},null,{"$f":"'🗂 Synthèse annuelle'!K11","v":0},null,{"$f":"'🗂 Synthèse annuelle'!L11","v":0},null,{"$f":"'🗂 Synthèse annuelle'!M11","v":0},null,{"$f":"'🗂 Synthèse annuelle'!N11","v":0},0,null,null,{"$f":"VLOOKUP($A13,'coulisses 2'!$A$1:$B$20,2,0)*B13","v":0},{"$f":"VLOOKUP($A13,'coulisses 2'!$A$1:$B$20,2,0)*D13","v":0},{"$f":"VLOOKUP($A13,'coulisses 2'!$A$1:$B$20,2,0)*F13","v":0},{"$f":"VLOOKUP($A13,'coulisses 2'!$A$1:$B$20,2,0)*H13","v":0},{"$f":"VLOOKUP($A13,'coulisses 2'!$A$1:$B$20,2,0)*J13","v":0},{"$f":"VLOOKUP($A13,'coulisses 2'!$A$1:$B$20,2,0)*L13","v":0},{"$f":"VLOOKUP($A13,'coulisses 2'!$A$1:$B$20,2,0)*N13","v":0},{"$f":"VLOOKUP($A13,'coulisses 2'!$A$1:$B$20,2,0)*P13","v":0},{"$f":"VLOOKUP($A13,'coulisses 2'!$A$1:$B$20,2,0)*R13","v":0},{"$f":"VLOOKUP($A13,'coulisses 2'!$A$1:$B$20,2,0)*T13","v":0},{"$f":"VLOOKUP($A13,'coulisses 2'!$A$1:$B$20,2,0)*V13","v":0},{"$f":"VLOOKUP($A13,'coulisses 2'!$A$1:$B$20,2,0)*X13","v":0}]
[{"$f":"'🗂 Synthèse annuelle'!B12","v":0},null,{"$f":"'🗂 Synthèse annuelle'!C12","v":0},null,{"$f":"'🗂 Synthèse annuelle'!D12","v":0},null,{"$f":"'🗂 Synthèse annuelle'!E12","v":0},null,{"$f":"'🗂 Synthèse annuelle'!F12","v":0},null,{"$f":"'🗂 Synthèse annuelle'!G12","v":0},null,{"$f":"'🗂 Synthèse annuelle'!H12","v":0},null,{"$f":"'🗂 Synthèse annuelle'!I12","v":0},null,{"$f":"'🗂 Synthèse annuelle'!J12","v":0},null,{"$f":"'🗂 Synthèse annuelle'!K12","v":0},null,{"$f":"'🗂 Synthèse annuelle'!L12","v":0},null,{"$f":"'🗂 Synthèse annuelle'!M12","v":0},null,{"$f":"'🗂 Synthèse annuelle'!N12","v":0},0,null,null,{"$f":"VLOOKUP($A14,'coulisses 2'!$A$1:$B$20,2,0)*B14","v":0},{"$f":"VLOOKUP($A14,'coulisses 2'!$A$1:$B$20,2,0)*D14","v":0},{"$f":"VLOOKUP($A14,'coulisses 2'!$A$1:$B$20,2,0)*F14","v":0},{"$f":"VLOOKUP($A14,'coulisses 2'!$A$1:$B$20,2,0)*H14","v":0},{"$f":"VLOOKUP($A14,'coulisses 2'!$A$1:$B$20,2,0)*J14","v":0},{"$f":"VLOOKUP($A14,'coulisses 2'!$A$1:$B$20,2,0)*L14","v":0},{"$f":"VLOOKUP($A14,'coulisses 2'!$A$1:$B$20,2,0)*N14","v":0},{"$f":"VLOOKUP($A14,'coulisses 2'!$A$1:$B$20,2,0)*P14","v":0},{"$f":"VLOOKUP($A14,'coulisses 2'!$A$1:$B$20,2,0)*R14","v":0},{"$f":"VLOOKUP($A14,'coulisses 2'!$A$1:$B$20,2,0)*T14","v":0},{"$f":"VLOOKUP($A14,'coulisses 2'!$A$1:$B$20,2,0)*V14","v":0},{"$f":"VLOOKUP($A14,'coulisses 2'!$A$1:$B$20,2,0)*X14","v":0}]
[{"$f":"'🗂 Synthèse annuelle'!B13","v":0},null,{"$f":"'🗂 Synthèse annuelle'!C13","v":0},null,{"$f":"'🗂 Synthèse annuelle'!D13","v":0},null,{"$f":"'🗂 Synthèse annuelle'!E13","v":0},null,{"$f":"'🗂 Synthèse annuelle'!F13","v":0},null,{"$f":"'🗂 Synthèse annuelle'!G13","v":0},null,{"$f":"'🗂 Synthèse annuelle'!H13","v":0},null,{"$f":"'🗂 Synthèse annuelle'!I13","v":0},null,{"$f":"'🗂 Synthèse annuelle'!J13","v":0},null,{"$f":"'🗂 Synthèse annuelle'!K13","v":0},null,{"$f":"'🗂 Synthèse annuelle'!L13","v":0},null,{"$f":"'🗂 Synthèse annuelle'!M13","v":0},null,{"$f":"'🗂 Synthèse annuelle'!N13","v":0},0,null,null,{"$f":"VLOOKUP($A15,'coulisses 2'!$A$1:$B$20,2,0)*B15","v":0},{"$f":"VLOOKUP($A15,'coulisses 2'!$A$1:$B$20,2,0)*D15","v":0},{"$f":"VLOOKUP($A15,'coulisses 2'!$A$1:$B$20,2,0)*F15","v":0},{"$f":"VLOOKUP($A15,'coulisses 2'!$A$1:$B$20,2,0)*H15","v":0},{"$f":"VLOOKUP($A15,'coulisses 2'!$A$1:$B$20,2,0)*J15","v":0},{"$f":"VLOOKUP($A15,'coulisses 2'!$A$1:$B$20,2,0)*L15","v":0},{"$f":"VLOOKUP($A15,'coulisses 2'!$A$1:$B$20,2,0)*N15","v":0},{"$f":"VLOOKUP($A15,'coulisses 2'!$A$1:$B$20,2,0)*P15","v":0},{"$f":"VLOOKUP($A15,'coulisses 2'!$A$1:$B$20,2,0)*R15","v":0},{"$f":"VLOOKUP($A15,'coulisses 2'!$A$1:$B$20,2,0)*T15","v":0},{"$f":"VLOOKUP($A15,'coulisses 2'!$A$1:$B$20,2,0)*V15","v":0},{"$f":"VLOOKUP($A15,'coulisses 2'!$A$1:$B$20,2,0)*X15","v":0}]
[{"$f":"'🗂 Synthèse annuelle'!B14","v":0},null,{"$f":"'🗂 Synthèse annuelle'!C14","v":0},null,{"$f":"'🗂 Synthèse annuelle'!D14","v":0},null,{"$f":"'🗂 Synthèse annuelle'!E14","v":0},null,{"$f":"'🗂 Synthèse annuelle'!F14","v":0},null,{"$f":"'🗂 Synthèse annuelle'!G14","v":0},null,{"$f":"'🗂 Synthèse annuelle'!H14","v":0},null,{"$f":"'🗂 Synthèse annuelle'!I14","v":0},null,{"$f":"'🗂 Synthèse annuelle'!J14","v":0},null,{"$f":"'🗂 Synthèse annuelle'!K14","v":0},null,{"$f":"'🗂 Synthèse annuelle'!L14","v":0},null,{"$f":"'🗂 Synthèse annuelle'!M14","v":0},null,{"$f":"'🗂 Synthèse annuelle'!N14","v":0},0,null,null,{"$f":"VLOOKUP($A16,'coulisses 2'!$A$1:$B$20,2,0)*B16","v":0},{"$f":"VLOOKUP($A16,'coulisses 2'!$A$1:$B$20,2,0)*D16","v":0},{"$f":"VLOOKUP($A16,'coulisses 2'!$A$1:$B$20,2,0)*F16","v":0},{"$f":"VLOOKUP($A16,'coulisses 2'!$A$1:$B$20,2,0)*H16","v":0},{"$f":"VLOOKUP($A16,'coulisses 2'!$A$1:$B$20,2,0)*J16","v":0},{"$f":"VLOOKUP($A16,'coulisses 2'!$A$1:$B$20,2,0)*L16","v":0},{"$f":"VLOOKUP($A16,'coulisses 2'!$A$1:$B$20,2,0)*N16","v":0},{"$f":"VLOOKUP($A16,'coulisses 2'!$A$1:$B$20,2,0)*P16","v":0},{"$f":"VLOOKUP($A16,'coulisses 2'!$A$1:$B$20,2,0)*R16","v":0},{"$f":"VLOOKUP($A16,'coulisses 2'!$A$1:$B$20,2,0)*T16","v":0},{"$f":"VLOOKUP($A16,'coulisses 2'!$A$1:$B$20,2,0)*V16","v":0},{"$f":"VLOOKUP($A16,'coulisses 2'!$A$1:$B$20,2,0)*X16","v":0}]
[{"$f":"'🗂 Synthèse annuelle'!B15","v":0},null,{"$f":"'🗂 Synthèse annuelle'!C15","v":0},null,{"$f":"'🗂 Synthèse annuelle'!D15","v":0},null,{"$f":"'🗂 Synthèse annuelle'!E15","v":0},null,{"$f":"'🗂 Synthèse annuelle'!F15","v":0},null,{"$f":"'🗂 Synthèse annuelle'!G15","v":0},null,{"$f":"'🗂 Synthèse annuelle'!H15","v":0},null,{"$f":"'🗂 Synthèse annuelle'!I15","v":0},null,{"$f":"'🗂 Synthèse annuelle'!J15","v":0},null,{"$f":"'🗂 Synthèse annuelle'!K15","v":0},null,{"$f":"'🗂 Synthèse annuelle'!L15","v":0},null,{"$f":"'🗂 Synthèse annuelle'!M15","v":0},null,{"$f":"'🗂 Synthèse annuelle'!N15","v":0},0,null,null,{"$f":"VLOOKUP($A17,'coulisses 2'!$A$1:$B$20,2,0)*B17","v":0},{"$f":"VLOOKUP($A17,'coulisses 2'!$A$1:$B$20,2,0)*D17","v":0},{"$f":"VLOOKUP($A17,'coulisses 2'!$A$1:$B$20,2,0)*F17","v":0},{"$f":"VLOOKUP($A17,'coulisses 2'!$A$1:$B$20,2,0)*H17","v":0},{"$f":"VLOOKUP($A17,'coulisses 2'!$A$1:$B$20,2,0)*J17","v":0},{"$f":"VLOOKUP($A17,'coulisses 2'!$A$1:$B$20,2,0)*L17","v":0},{"$f":"VLOOKUP($A17,'coulisses 2'!$A$1:$B$20,2,0)*N17","v":0},{"$f":"VLOOKUP($A17,'coulisses 2'!$A$1:$B$20,2,0)*P17","v":0},{"$f":"VLOOKUP($A17,'coulisses 2'!$A$1:$B$20,2,0)*R17","v":0},{"$f":"VLOOKUP($A17,'coulisses 2'!$A$1:$B$20,2,0)*T17","v":0},{"$f":"VLOOKUP($A17,'coulisses 2'!$A$1:$B$20,2,0)*V17","v":0},{"$f":"VLOOKUP($A17,'coulisses 2'!$A$1:$B$20,2,0)*X17","v":0}]
[{"$f":"'🗂 Synthèse annuelle'!B16","v":0},null,{"$f":"'🗂 Synthèse annuelle'!C16","v":0},null,{"$f":"'🗂 Synthèse annuelle'!D16","v":0},null,{"$f":"'🗂 Synthèse annuelle'!E16","v":0},null,{"$f":"'🗂 Synthèse annuelle'!F16","v":0},null,{"$f":"'🗂 Synthèse annuelle'!G16","v":0},null,{"$f":"'🗂 Synthèse annuelle'!H16","v":0},null,{"$f":"'🗂 Synthèse annuelle'!I16","v":0},null,{"$f":"'🗂 Synthèse annuelle'!J16","v":0},null,{"$f":"'🗂 Synthèse annuelle'!K16","v":0},null,{"$f":"'🗂 Synthèse annuelle'!L16","v":0},null,{"$f":"'🗂 Synthèse annuelle'!M16","v":0},null,{"$f":"'🗂 Synthèse annuelle'!N16","v":0},0,null,null,{"$f":"VLOOKUP($A18,'coulisses 2'!$A$1:$B$20,2,0)*B18","v":0},{"$f":"VLOOKUP($A18,'coulisses 2'!$A$1:$B$20,2,0)*D18","v":0},{"$f":"VLOOKUP($A18,'coulisses 2'!$A$1:$B$20,2,0)*F18","v":0},{"$f":"VLOOKUP($A18,'coulisses 2'!$A$1:$B$20,2,0)*H18","v":0},{"$f":"VLOOKUP($A18,'coulisses 2'!$A$1:$B$20,2,0)*J18","v":0},{"$f":"VLOOKUP($A18,'coulisses 2'!$A$1:$B$20,2,0)*L18","v":0},{"$f":"VLOOKUP($A18,'coulisses 2'!$A$1:$B$20,2,0)*N18","v":0},{"$f":"VLOOKUP($A18,'coulisses 2'!$A$1:$B$20,2,0)*P18","v":0},{"$f":"VLOOKUP($A18,'coulisses 2'!$A$1:$B$20,2,0)*R18","v":0},{"$f":"VLOOKUP($A18,'coulisses 2'!$A$1:$B$20,2,0)*T18","v":0},{"$f":"VLOOKUP($A18,'coulisses 2'!$A$1:$B$20,2,0)*V18","v":0},{"$f":"VLOOKUP($A18,'coulisses 2'!$A$1:$B$20,2,0)*X18","v":0}]
[{"$f":"'🗂 Synthèse annuelle'!B17","v":0},null,{"$f":"'🗂 Synthèse annuelle'!C17","v":0},null,{"$f":"'🗂 Synthèse annuelle'!D17","v":0},null,{"$f":"'🗂 Synthèse annuelle'!E17","v":0},null,{"$f":"'🗂 Synthèse annuelle'!F17","v":0},null,{"$f":"'🗂 Synthèse annuelle'!G17","v":0},null,{"$f":"'🗂 Synthèse annuelle'!H17","v":0},null,{"$f":"'🗂 Synthèse annuelle'!I17","v":0},null,{"$f":"'🗂 Synthèse annuelle'!J17","v":0},null,{"$f":"'🗂 Synthèse annuelle'!K17","v":0},null,{"$f":"'🗂 Synthèse annuelle'!L17","v":0},null,{"$f":"'🗂 Synthèse annuelle'!M17","v":0},null,{"$f":"'🗂 Synthèse annuelle'!N17","v":0},0,null,null,{"$f":"VLOOKUP($A19,'coulisses 2'!$A$1:$B$20,2,0)*B19","v":0},{"$f":"VLOOKUP($A19,'coulisses 2'!$A$1:$B$20,2,0)*D19","v":0},{"$f":"VLOOKUP($A19,'coulisses 2'!$A$1:$B$20,2,0)*F19","v":0},{"$f":"VLOOKUP($A19,'coulisses 2'!$A$1:$B$20,2,0)*H19","v":0},{"$f":"VLOOKUP($A19,'coulisses 2'!$A$1:$B$20,2,0)*J19","v":0},{"$f":"VLOOKUP($A19,'coulisses 2'!$A$1:$B$20,2,0)*L19","v":0},{"$f":"VLOOKUP($A19,'coulisses 2'!$A$1:$B$20,2,0)*N19","v":0},{"$f":"VLOOKUP($A19,'coulisses 2'!$A$1:$B$20,2,0)*P19","v":0},{"$f":"VLOOKUP($A19,'coulisses 2'!$A$1:$B$20,2,0)*R19","v":0},{"$f":"VLOOKUP($A19,'coulisses 2'!$A$1:$B$20,2,0)*T19","v":0},{"$f":"VLOOKUP($A19,'coulisses 2'!$A$1:$B$20,2,0)*V19","v":0},{"$f":"VLOOKUP($A19,'coulisses 2'!$A$1:$B$20,2,0)*X19","v":0}]
[{"$f":"'🗂 Synthèse annuelle'!B18","v":0},null,{"$f":"'🗂 Synthèse annuelle'!C18","v":0},null,{"$f":"'🗂 Synthèse annuelle'!D18","v":0},null,{"$f":"'🗂 Synthèse annuelle'!E18","v":0},null,{"$f":"'🗂 Synthèse annuelle'!F18","v":0},null,{"$f":"'🗂 Synthèse annuelle'!G18","v":0},null,{"$f":"'🗂 Synthèse annuelle'!H18","v":0},null,{"$f":"'🗂 Synthèse annuelle'!I18","v":0},null,{"$f":"'🗂 Synthèse annuelle'!J18","v":0},null,{"$f":"'🗂 Synthèse annuelle'!K18","v":0},null,{"$f":"'🗂 Synthèse annuelle'!L18","v":0},null,{"$f":"'🗂 Synthèse annuelle'!M18","v":0},null,{"$f":"'🗂 Synthèse annuelle'!N18","v":0},{"$f":"IF(C20=0,B20,C20)+IF(E20=0,D20,E20)+IF(G20=0,F20,G20)+IF(I20=0,H20,I20)+IF(K20=0,J20,K20)+IF(M20=0,L20,M20)+IF(O20=0,N20,O20)+IF(Q20=0,P20,Q20)+IF(S20=0,R20,S20)+IF(U20=0,T20,U20)+IF(W20=0,V20,W20)+IF(Y20=0,X20,Y20)","v":0},null,null,{"$f":"VLOOKUP($A20,'coulisses 2'!$A$1:$B$20,2,0)*B20","v":0},{"$f":"VLOOKUP($A20,'coulisses 2'!$A$1:$B$20,2,0)*D20","v":0},{"$f":"VLOOKUP($A20,'coulisses 2'!$A$1:$B$20,2,0)*F20","v":0},{"$f":"VLOOKUP($A20,'coulisses 2'!$A$1:$B$20,2,0)*H20","v":0},{"$f":"VLOOKUP($A20,'coulisses 2'!$A$1:$B$20,2,0)*J20","v":0},{"$f":"VLOOKUP($A20,'coulisses 2'!$A$1:$B$20,2,0)*L20","v":0},{"$f":"VLOOKUP($A20,'coulisses 2'!$A$1:$B$20,2,0)*N20","v":0},{"$f":"VLOOKUP($A20,'coulisses 2'!$A$1:$B$20,2,0)*P20","v":0},{"$f":"VLOOKUP($A20,'coulisses 2'!$A$1:$B$20,2,0)*R20","v":0},{"$f":"VLOOKUP($A20,'coulisses 2'!$A$1:$B$20,2,0)*T20","v":0},{"$f":"VLOOKUP($A20,'coulisses 2'!$A$1:$B$20,2,0)*V20","v":0},{"$f":"VLOOKUP($A20,'coulisses 2'!$A$1:$B$20,2,0)*X20","v":0}]
[{"$f":"'🗂 Synthèse annuelle'!B19","v":0},null,{"$f":"'🗂 Synthèse annuelle'!C19","v":0},null,{"$f":"'🗂 Synthèse annuelle'!D19","v":0},null,{"$f":"'🗂 Synthèse annuelle'!E19","v":0},null,{"$f":"'🗂 Synthèse annuelle'!F19","v":0},null,{"$f":"'🗂 Synthèse annuelle'!G19","v":0},null,{"$f":"'🗂 Synthèse annuelle'!H19","v":0},null,{"$f":"'🗂 Synthèse annuelle'!I19","v":0},null,{"$f":"'🗂 Synthèse annuelle'!J19","v":0},null,{"$f":"'🗂 Synthèse annuelle'!K19","v":0},null,{"$f":"'🗂 Synthèse annuelle'!L19","v":0},null,{"$f":"'🗂 Synthèse annuelle'!M19","v":0},null,{"$f":"'🗂 Synthèse annuelle'!N19","v":0},{"$f":"IF(C21=0,B21,C21)+IF(E21=0,D21,E21)+IF(G21=0,F21,G21)+IF(I21=0,H21,I21)+IF(K21=0,J21,K21)+IF(M21=0,L21,M21)+IF(O21=0,N21,O21)+IF(Q21=0,P21,Q21)+IF(S21=0,R21,S21)+IF(U21=0,T21,U21)+IF(W21=0,V21,W21)+IF(Y21=0,X21,Y21)","v":0},null,null,{"$f":"VLOOKUP($A21,'coulisses 2'!$A$1:$B$20,2,0)*B21","v":0},{"$f":"VLOOKUP($A21,'coulisses 2'!$A$1:$B$20,2,0)*D21","v":0},{"$f":"VLOOKUP($A21,'coulisses 2'!$A$1:$B$20,2,0)*F21","v":0},{"$f":"VLOOKUP($A21,'coulisses 2'!$A$1:$B$20,2,0)*H21","v":0},{"$f":"VLOOKUP($A21,'coulisses 2'!$A$1:$B$20,2,0)*J21","v":0},{"$f":"VLOOKUP($A21,'coulisses 2'!$A$1:$B$20,2,0)*L21","v":0},{"$f":"VLOOKUP($A21,'coulisses 2'!$A$1:$B$20,2,0)*N21","v":0},{"$f":"VLOOKUP($A21,'coulisses 2'!$A$1:$B$20,2,0)*P21","v":0},{"$f":"VLOOKUP($A21,'coulisses 2'!$A$1:$B$20,2,0)*R21","v":0},{"$f":"VLOOKUP($A21,'coulisses 2'!$A$1:$B$20,2,0)*T21","v":0},{"$f":"VLOOKUP($A21,'coulisses 2'!$A$1:$B$20,2,0)*V21","v":0},{"$f":"VLOOKUP($A21,'coulisses 2'!$A$1:$B$20,2,0)*X21","v":0}]
[{"$f":"'🗂 Synthèse annuelle'!B20","v":0},null,{"$f":"'🗂 Synthèse annuelle'!C20","v":0},null,{"$f":"'🗂 Synthèse annuelle'!D20","v":0},null,{"$f":"'🗂 Synthèse annuelle'!E20","v":0},null,{"$f":"'🗂 Synthèse annuelle'!F20","v":0},null,{"$f":"'🗂 Synthèse annuelle'!G20","v":0},null,{"$f":"'🗂 Synthèse annuelle'!H20","v":0},null,{"$f":"'🗂 Synthèse annuelle'!I20","v":0},null,{"$f":"'🗂 Synthèse annuelle'!J20","v":0},null,{"$f":"'🗂 Synthèse annuelle'!K20","v":0},null,{"$f":"'🗂 Synthèse annuelle'!L20","v":0},null,{"$f":"'🗂 Synthèse annuelle'!M20","v":0},null,{"$f":"'🗂 Synthèse annuelle'!N20","v":0},{"$f":"IF(C22=0,B22,C22)+IF(E22=0,D22,E22)+IF(G22=0,F22,G22)+IF(I22=0,H22,I22)+IF(K22=0,J22,K22)+IF(M22=0,L22,M22)+IF(O22=0,N22,O22)+IF(Q22=0,P22,Q22)+IF(S22=0,R22,S22)+IF(U22=0,T22,U22)+IF(W22=0,V22,W22)+IF(Y22=0,X22,Y22)","v":0},null,null,{"$f":"VLOOKUP($A22,'coulisses 2'!$A$1:$B$20,2,0)*B22","v":0},{"$f":"VLOOKUP($A22,'coulisses 2'!$A$1:$B$20,2,0)*D22","v":0},{"$f":"VLOOKUP($A22,'coulisses 2'!$A$1:$B$20,2,0)*F22","v":0},{"$f":"VLOOKUP($A22,'coulisses 2'!$A$1:$B$20,2,0)*H22","v":0},{"$f":"VLOOKUP($A22,'coulisses 2'!$A$1:$B$20,2,0)*J22","v":0},{"$f":"VLOOKUP($A22,'coulisses 2'!$A$1:$B$20,2,0)*L22","v":0},{"$f":"VLOOKUP($A22,'coulisses 2'!$A$1:$B$20,2,0)*N22","v":0},{"$f":"VLOOKUP($A22,'coulisses 2'!$A$1:$B$20,2,0)*P22","v":0},{"$f":"VLOOKUP($A22,'coulisses 2'!$A$1:$B$20,2,0)*R22","v":0},{"$f":"VLOOKUP($A22,'coulisses 2'!$A$1:$B$20,2,0)*T22","v":0},{"$f":"VLOOKUP($A22,'coulisses 2'!$A$1:$B$20,2,0)*V22","v":0},{"$f":"VLOOKUP($A22,'coulisses 2'!$A$1:$B$20,2,0)*X22","v":0}]
[{"$f":"'🗂 Synthèse annuelle'!B21","v":0},null,{"$f":"'🗂 Synthèse annuelle'!C21","v":0},null,{"$f":"'🗂 Synthèse annuelle'!D21","v":0},null,{"$f":"'🗂 Synthèse annuelle'!E21","v":0},null,{"$f":"'🗂 Synthèse annuelle'!F21","v":0},null,{"$f":"'🗂 Synthèse annuelle'!G21","v":0},null,{"$f":"'🗂 Synthèse annuelle'!H21","v":0},null,{"$f":"'🗂 Synthèse annuelle'!I21","v":0},null,{"$f":"'🗂 Synthèse annuelle'!J21","v":0},null,{"$f":"'🗂 Synthèse annuelle'!K21","v":0},null,{"$f":"'🗂 Synthèse annuelle'!L21","v":0},null,{"$f":"'🗂 Synthèse annuelle'!M21","v":0},null,{"$f":"'🗂 Synthèse annuelle'!N21","v":0},0,null,null,{"$f":"VLOOKUP($A23,'coulisses 2'!$A$1:$B$20,2,0)*B23","v":0},{"$f":"VLOOKUP($A23,'coulisses 2'!$A$1:$B$20,2,0)*D23","v":0},{"$f":"VLOOKUP($A23,'coulisses 2'!$A$1:$B$20,2,0)*F23","v":0},{"$f":"VLOOKUP($A23,'coulisses 2'!$A$1:$B$20,2,0)*H23","v":0},{"$f":"VLOOKUP($A23,'coulisses 2'!$A$1:$B$20,2,0)*J23","v":0},{"$f":"VLOOKUP($A23,'coulisses 2'!$A$1:$B$20,2,0)*L23","v":0},{"$f":"VLOOKUP($A23,'coulisses 2'!$A$1:$B$20,2,0)*N23","v":0},{"$f":"VLOOKUP($A23,'coulisses 2'!$A$1:$B$20,2,0)*P23","v":0},{"$f":"VLOOKUP($A23,'coulisses 2'!$A$1:$B$20,2,0)*R23","v":0},{"$f":"VLOOKUP($A23,'coulisses 2'!$A$1:$B$20,2,0)*T23","v":0},{"$f":"VLOOKUP($A23,'coulisses 2'!$A$1:$B$20,2,0)*V23","v":0},{"$f":"VLOOKUP($A23,'coulisses 2'!$A$1:$B$20,2,0)*X23","v":0}]
[{"$f":"'🗂 Synthèse annuelle'!B22","v":0},null,{"$f":"'🗂 Synthèse annuelle'!C22","v":0},null,{"$f":"'🗂 Synthèse annuelle'!D22","v":0},null,{"$f":"'🗂 Synthèse annuelle'!E22","v":0},null,{"$f":"'🗂 Synthèse annuelle'!F22","v":0},null,{"$f":"'🗂 Synthèse annuelle'!G22","v":0},null,{"$f":"'🗂 Synthèse annuelle'!H22","v":0},null,{"$f":"'🗂 Synthèse annuelle'!I22","v":0},null,{"$f":"'🗂 Synthèse annuelle'!J22","v":0},null,{"$f":"'🗂 Synthèse annuelle'!K22","v":0},null,{"$f":"'🗂 Synthèse annuelle'!L22","v":0},null,{"$f":"'🗂 Synthèse annuelle'!M22","v":0},null,{"$f":"'🗂 Synthèse annuelle'!N22","v":0},0,null,null,{"$f":"VLOOKUP($A24,'coulisses 2'!$A$1:$B$20,2,0)*B24","v":0},{"$f":"VLOOKUP($A24,'coulisses 2'!$A$1:$B$20,2,0)*D24","v":0},{"$f":"VLOOKUP($A24,'coulisses 2'!$A$1:$B$20,2,0)*F24","v":0},{"$f":"VLOOKUP($A24,'coulisses 2'!$A$1:$B$20,2,0)*H24","v":0},{"$f":"VLOOKUP($A24,'coulisses 2'!$A$1:$B$20,2,0)*J24","v":0},{"$f":"VLOOKUP($A24,'coulisses 2'!$A$1:$B$20,2,0)*L24","v":0},{"$f":"VLOOKUP($A24,'coulisses 2'!$A$1:$B$20,2,0)*N24","v":0},{"$f":"VLOOKUP($A24,'coulisses 2'!$A$1:$B$20,2,0)*P24","v":0},{"$f":"VLOOKUP($A24,'coulisses 2'!$A$1:$B$20,2,0)*R24","v":0},{"$f":"VLOOKUP($A24,'coulisses 2'!$A$1:$B$20,2,0)*T24","v":0},{"$f":"VLOOKUP($A24,'coulisses 2'!$A$1:$B$20,2,0)*V24","v":0},{"$f":"VLOOKUP($A24,'coulisses 2'!$A$1:$B$20,2,0)*X24","v":0}]
[{"$f":"'🗂 Synthèse annuelle'!B23","v":0},null,{"$f":"'🗂 Synthèse annuelle'!C23","v":0},null,{"$f":"'🗂 Synthèse annuelle'!D23","v":0},null,{"$f":"'🗂 Synthèse annuelle'!E23","v":0},null,{"$f":"'🗂 Synthèse annuelle'!F23","v":0},null,{"$f":"'🗂 Synthèse annuelle'!G23","v":0},null,{"$f":"'🗂 Synthèse annuelle'!H23","v":0},null,{"$f":"'🗂 Synthèse annuelle'!I23","v":0},null,{"$f":"'🗂 Synthèse annuelle'!J23","v":0},null,{"$f":"'🗂 Synthèse annuelle'!K23","v":0},null,{"$f":"'🗂 Synthèse annuelle'!L23","v":0},null,{"$f":"'🗂 Synthèse annuelle'!M23","v":0},null,{"$f":"'🗂 Synthèse annuelle'!N23","v":0},0,null,null,{"$f":"VLOOKUP($A25,'coulisses 2'!$A$1:$B$20,2,0)*B25","v":0},{"$f":"VLOOKUP($A25,'coulisses 2'!$A$1:$B$20,2,0)*D25","v":0},{"$f":"VLOOKUP($A25,'coulisses 2'!$A$1:$B$20,2,0)*F25","v":0},{"$f":"VLOOKUP($A25,'coulisses 2'!$A$1:$B$20,2,0)*H25","v":0},{"$f":"VLOOKUP($A25,'coulisses 2'!$A$1:$B$20,2,0)*J25","v":0},{"$f":"VLOOKUP($A25,'coulisses 2'!$A$1:$B$20,2,0)*L25","v":0},{"$f":"VLOOKUP($A25,'coulisses 2'!$A$1:$B$20,2,0)*N25","v":0},{"$f":"VLOOKUP($A25,'coulisses 2'!$A$1:$B$20,2,0)*P25","v":0},{"$f":"VLOOKUP($A25,'coulisses 2'!$A$1:$B$20,2,0)*R25","v":0},{"$f":"VLOOKUP($A25,'coulisses 2'!$A$1:$B$20,2,0)*T25","v":0},{"$f":"VLOOKUP($A25,'coulisses 2'!$A$1:$B$20,2,0)*V25","v":0},{"$f":"VLOOKUP($A25,'coulisses 2'!$A$1:$B$20,2,0)*X25","v":0}]
[{"$f":"'🗂 Synthèse annuelle'!B24","v":0},null,{"$f":"'🗂 Synthèse annuelle'!C24","v":0},null,{"$f":"'🗂 Synthèse annuelle'!D24","v":0},null,{"$f":"'🗂 Synthèse annuelle'!E24","v":0},null,{"$f":"'🗂 Synthèse annuelle'!F24","v":0},null,{"$f":"'🗂 Synthèse annuelle'!G24","v":0},null,{"$f":"'🗂 Synthèse annuelle'!H24","v":0},null,{"$f":"'🗂 Synthèse annuelle'!I24","v":0},null,{"$f":"'🗂 Synthèse annuelle'!J24","v":0},null,{"$f":"'🗂 Synthèse annuelle'!K24","v":0},null,{"$f":"'🗂 Synthèse annuelle'!L24","v":0},null,{"$f":"'🗂 Synthèse annuelle'!M24","v":0},null,{"$f":"'🗂 Synthèse annuelle'!N24","v":0},0,null,null,{"$f":"VLOOKUP($A26,'coulisses 2'!$A$1:$B$20,2,0)*B26","v":0},{"$f":"VLOOKUP($A26,'coulisses 2'!$A$1:$B$20,2,0)*D26","v":0},{"$f":"VLOOKUP($A26,'coulisses 2'!$A$1:$B$20,2,0)*F26","v":0},{"$f":"VLOOKUP($A26,'coulisses 2'!$A$1:$B$20,2,0)*H26","v":0},{"$f":"VLOOKUP($A26,'coulisses 2'!$A$1:$B$20,2,0)*J26","v":0},{"$f":"VLOOKUP($A26,'coulisses 2'!$A$1:$B$20,2,0)*L26","v":0},{"$f":"VLOOKUP($A26,'coulisses 2'!$A$1:$B$20,2,0)*N26","v":0},{"$f":"VLOOKUP($A26,'coulisses 2'!$A$1:$B$20,2,0)*P26","v":0},{"$f":"VLOOKUP($A26,'coulisses 2'!$A$1:$B$20,2,0)*R26","v":0},{"$f":"VLOOKUP($A26,'coulisses 2'!$A$1:$B$20,2,0)*T26","v":0},{"$f":"VLOOKUP($A26,'coulisses 2'!$A$1:$B$20,2,0)*V26","v":0},{"$f":"VLOOKUP($A26,'coulisses 2'!$A$1:$B$20,2,0)*X26","v":0}]
[{"$f":"'🗂 Synthèse annuelle'!B25","v":0},null,{"$f":"'🗂 Synthèse annuelle'!C25","v":0},null,{"$f":"'🗂 Synthèse annuelle'!D25","v":0},null,{"$f":"'🗂 Synthèse annuelle'!E25","v":0},null,{"$f":"'🗂 Synthèse annuelle'!F25","v":0},null,{"$f":"'🗂 Synthèse annuelle'!G25","v":0},null,{"$f":"'🗂 Synthèse annuelle'!H25","v":0},null,{"$f":"'🗂 Synthèse annuelle'!I25","v":0},null,{"$f":"'🗂 Synthèse annuelle'!J25","v":0},null,{"$f":"'🗂 Synthèse annuelle'!K25","v":0},null,{"$f":"'🗂 Synthèse annuelle'!L25","v":0},null,{"$f":"'🗂 Synthèse annuelle'!M25","v":0},null,{"$f":"'🗂 Synthèse annuelle'!N25","v":0},0,null,null,{"$f":"VLOOKUP($A27,'coulisses 2'!$A$1:$B$20,2,0)*B27","v":0},{"$f":"VLOOKUP($A27,'coulisses 2'!$A$1:$B$20,2,0)*D27","v":0},{"$f":"VLOOKUP($A27,'coulisses 2'!$A$1:$B$20,2,0)*F27","v":0},{"$f":"VLOOKUP($A27,'coulisses 2'!$A$1:$B$20,2,0)*H27","v":0},{"$f":"VLOOKUP($A27,'coulisses 2'!$A$1:$B$20,2,0)*J27","v":0},{"$f":"VLOOKUP($A27,'coulisses 2'!$A$1:$B$20,2,0)*L27","v":0},{"$f":"VLOOKUP($A27,'coulisses 2'!$A$1:$B$20,2,0)*N27","v":0},{"$f":"VLOOKUP($A27,'coulisses 2'!$A$1:$B$20,2,0)*P27","v":0},{"$f":"VLOOKUP($A27,'coulisses 2'!$A$1:$B$20,2,0)*R27","v":0},{"$f":"VLOOKUP($A27,'coulisses 2'!$A$1:$B$20,2,0)*T27","v":0},{"$f":"VLOOKUP($A27,'coulisses 2'!$A$1:$B$20,2,0)*V27","v":0},{"$f":"VLOOKUP($A27,'coulisses 2'!$A$1:$B$20,2,0)*X27","v":0}]
[]
["DEPENSES",{"$f":"SUM(B31:B51)","v":0},0,0,0,0,0,0,0,0,0,0,0,0,0,0,0,0,0,0,0,0,0,0,0,0,null,null,{"$f":"SUM(AC8:AC27)","v":0},{"$f":"SUM(AD8:AD27)","v":0},0,0,0,0,0,0,0,0,0,0]
[]
[{"$f":"'🗂 Synthèse annuelle'!B27","v":0},null,{"$f":"'🗂 Synthèse annuelle'!C27","v":0},null,{"$f":"'🗂 Synthèse annuelle'!D27","v":0},null,{"$f":"'🗂 Synthèse annuelle'!E27","v":0},null,{"$f":"'🗂 Synthèse annuelle'!F27","v":0},null,{"$f":"'🗂 Synthèse annuelle'!G27","v":0},null,{"$f":"'🗂 Synthèse annuelle'!H27","v":0},null,{"$f":"'🗂 Synthèse annuelle'!I27","v":0},null,{"$f":"'🗂 Synthèse annuelle'!J27","v":0},null,{"$f":"'🗂 Synthèse annuelle'!K27","v":0},null,{"$f":"'🗂 Synthèse annuelle'!L27","v":0},null,{"$f":"'🗂 Synthèse annuelle'!M27","v":0},null,{"$f":"'🗂 Synthèse annuelle'!N27","v":0},{"$f":"IF(C31=0,B31,C31)+IF(E31=0,D31,E31)+IF(G31=0,F31,G31)+IF(I31=0,H31,I31)+IF(K31=0,J31,K31)+IF(M31=0,L31,M31)+IF(O31=0,N31,O31)+IF(Q31=0,P31,Q31)+IF(S31=0,R31,S31)+IF(U31=0,T31,U31)+IF(W31=0,V31,W31)+IF(Y31=0,X31,Y31)","v":0}]
[{"$f":"'🗂 Synthèse annuelle'!B28","v":0},null,{"$f":"'🗂 Synthèse annuelle'!C28","v":0},null,{"$f":"'🗂 Synthèse annuelle'!D28","v":0},null,{"$f":"'🗂 Synthèse annuelle'!E28","v":0},null,{"$f":"'🗂 Synthèse annuelle'!F28","v":0},null,{"$f":"'🗂 Synthèse annuelle'!G28","v":0},null,{"$f":"'🗂 Synthèse annuelle'!H28","v":0},null,{"$f":"'🗂 Synthèse annuelle'!I28","v":0},null,{"$f":"'🗂 Synthèse annuelle'!J28","v":0},null,{"$f":"'🗂 Synthèse annuelle'!K28","v":0},null,{"$f":"'🗂 Synthèse annuelle'!L28","v":0},null,{"$f":"'🗂 Synthèse annuelle'!M28","v":0},null,{"$f":"'🗂 Synthèse annuelle'!N28","v":0},0]
[{"$f":"'🗂 Synthèse annuelle'!B29","v":0},null,{"$f":"'🗂 Synthèse annuelle'!C29","v":0},null,{"$f":"'🗂 Synthèse annuelle'!D29","v":0},null,{"$f":"'🗂 Synthèse annuelle'!E29","v":0},null,{"$f":"'🗂 Synthèse annuelle'!F29","v":0},null,{"$f":"'🗂 Synthèse annuelle'!G29","v":0},null,{"$f":"'🗂 Synthèse annuelle'!H29","v":0},null,{"$f":"'🗂 Synthèse annuelle'!I29","v":0},null,{"$f":"'🗂 Synthèse annuelle'!J29","v":0},null,{"$f":"'🗂 Synthèse annuelle'!K29","v":0},null,{"$f":"'🗂 Synthèse annuelle'!L29","v":0},null,{"$f":"'🗂 Synthèse annuelle'!M29","v":0},null,{"$f":"'🗂 Synthèse annuelle'!N29","v":0},0]
[{"$f":"'🗂 Synthèse annuelle'!B30","v":0},null,{"$f":"'🗂 Synthèse annuelle'!C30","v":0},null,{"$f":"'🗂 Synthèse annuelle'!D30","v":0},null,{"$f":"'🗂 Synthèse annuelle'!E30","v":0},null,{"$f":"'🗂 Synthèse annuelle'!F30","v":0},null,{"$f":"'🗂 Synthèse annuelle'!G30","v":0},null,{"$f":"'🗂 Synthèse annuelle'!H30","v":0},null,{"$f":"'🗂 Synthèse annuelle'!I30","v":0},null,{"$f":"'🗂 Synthèse annuelle'!J30","v":0},null,{"$f":"'🗂 Synthèse annuelle'!K30","v":0},null,{"$f":"'🗂 Synthèse annuelle'!L30","v":0},null,{"$f":"'🗂 Synthèse annuelle'!M30","v":0},null,{"$f":"'🗂 Synthèse annuelle'!N30","v":0},0]
[{"$f":"'🗂 Synthèse annuelle'!B31","v":0},null,{"$f":"'🗂 Synthèse annuelle'!C31","v":0},null,{"$f":"'🗂 Synthèse annuelle'!D31","v":0},null,{"$f":"'🗂 Synthèse annuelle'!E31","v":0},null,{"$f":"'🗂 Synthèse annuelle'!F31","v":0},null,{"$f":"'🗂 Synthèse annuelle'!G31","v":0},null,{"$f":"'🗂 Synthèse annuelle'!H31","v":0},null,{"$f":"'🗂 Synthèse annuelle'!I31","v":0},null,{"$f":"'🗂 Synthèse annuelle'!J31","v":0},null,{"$f":"'🗂 Synthèse annuelle'!K31","v":0},null,{"$f":"'🗂 Synthèse annuelle'!L31","v":0},null,{"$f":"'🗂 Synthèse annuelle'!M31","v":0},null,{"$f":"'🗂 Synthèse annuelle'!N31","v":0},0]
[{"$f":"'🗂 Synthèse annuelle'!B32","v":0},null,{"$f":"'🗂 Synthèse annuelle'!C32","v":0},null,{"$f":"'🗂 Synthèse annuelle'!D32","v":0},null,{"$f":"'🗂 Synthèse annuelle'!E32","v":0},null,{"$f":"'🗂 Synthèse annuelle'!F32","v":0},null,{"$f":"'🗂 Synthèse annuelle'!G32","v":0},null,{"$f":"'🗂 Synthèse annuelle'!H32","v":0},null,{"$f":"'🗂 Synthèse annuelle'!I32","v":0},null,{"$f":"'🗂 Synthèse annuelle'!J32","v":0},null,{"$f":"'🗂 Synthèse annuelle'!K32","v":0},null,{"$f":"'🗂 Synthèse annuelle'!L32","v":0},null,{"$f":"'🗂 Synthèse annuelle'!M32","v":0},null,{"$f":"'🗂 Synthèse annuelle'!N32","v":0},0]
[{"$f":"'🗂 Synthèse annuelle'!B33","v":0},null,{"$f":"'🗂 Synthèse annuelle'!C33","v":0},null,{"$f":"'🗂 Synthèse annuelle'!D33","v":0},null,{"$f":"'🗂 Synthèse annuelle'!E33","v":0},null,{"$f":"'🗂 Synthèse annuelle'!F33","v":0},null,{"$f":"'🗂 Synthèse annuelle'!G33","v":0},null,{"$f":"'🗂 Synthèse annuelle'!H33","v":0},null,{"$f":"'🗂 Synthèse annuelle'!I33","v":0},null,{"$f":"'🗂 Synthèse annuelle'!J33","v":0},null,{"$f":"'🗂 Synthèse annuelle'!K33","v":0},null,{"$f":"'🗂 Synthèse annuelle'!L33","v":0},null,{"$f":"'🗂 Synthèse annuelle'!M33","v":0},null,{"$f":"'🗂 Synthèse annuelle'!N33","v":0},0]
[{"$f":"'🗂 Synthèse annuelle'!B34","v":0},null,{"$f":"'🗂 Synthèse annuelle'!C34","v":0},null,{"$f":"'🗂 Synthèse annuelle'!D34","v":0},null,{"$f":"'🗂 Synthèse annuelle'!E34","v":0},null,{"$f":"'🗂 Synthèse annuelle'!F34","v":0},null,{"$f":"'🗂 Synthèse annuelle'!G34","v":0},null,{"$f":"'🗂 Synthèse annuelle'!H34","v":0},null,{"$f":"'🗂 Synthèse annuelle'!I34","v":0},null,{"$f":"'🗂 Synthèse annuelle'!J34","v":0},null,{"$f":"'🗂 Synthèse annuelle'!K34","v":0},null,{"$f":"'🗂 Synthèse annuelle'!L34","v":0},null,{"$f":"'🗂 Synthèse annuelle'!M34","v":0},null,{"$f":"'🗂 Synthèse annuelle'!N34","v":0},0]
[{"$f":"'🗂 Synthèse annuelle'!B35","v":0},null,{"$f":"'🗂 Synthèse annuelle'!C35","v":0},null,{"$f":"'🗂 Synthèse annuelle'!D35","v":0},null,{"$f":"'🗂 Synthèse annuelle'!E35","v":0},null,{"$f":"'🗂 Synthèse annuelle'!F35","v":0},null,{"$f":"'🗂 Synthèse annuelle'!G35","v":0},null,{"$f":"'🗂 Synthèse annuelle'!H35","v":0},null,{"$f":"'🗂 Synthèse annuelle'!I35","v":0},null,{"$f":"'🗂 Synthèse annuelle'!J35","v":0},null,{"$f":"'🗂 Synthèse annuelle'!K35","v":0},null,{"$f":"'🗂 Synthèse annuelle'!L35","v":0},null,{"$f":"'🗂 Synthèse annuelle'!M35","v":0},null,{"$f":"'🗂 Synthèse annuelle'!N35","v":0},0]
[{"$f":"'🗂 Synthèse annuelle'!B36","v":0},null,{"$f":"'🗂 Synthèse annuelle'!C36","v":0},null,{"$f":"'🗂 Synthèse annuelle'!D36","v":0},null,{"$f":"'🗂 Synthèse annuelle'!E36","v":0},null,{"$f":"'🗂 Synthèse annuelle'!F36","v":0},null,{"$f":"'🗂 Synthèse annuelle'!G36","v":0},null,{"$f":"'🗂 Synthèse annuelle'!H36","v":0},null,{"$f":"'🗂 Synthèse annuelle'!I36","v":0},null,{"$f":"'🗂 Synthèse annuelle'!J36","v":0},null,{"$f":"'🗂 Synthèse annuelle'!K36","v":0},null,{"$f":"'🗂 Synthèse annuelle'!L36","v":0},null,{"$f":"'🗂 Synthèse annuelle'!M36","v":0},null,{"$f":"'🗂 Synthèse annuelle'!N36","v":0},0]
[{"$f":"'🗂 Synthèse annuelle'!B37","v":0},null,{"$f":"'🗂 Synthèse annuelle'!C37","v":0},null,{"$f":"'🗂 Synthèse annuelle'!D37","v":0},null,{"$f":"'🗂 Synthèse annuelle'!E37","v":0},null,{"$f":"'🗂 Synthèse annuelle'!F37","v":0},null,{"$f":"'🗂 Synthèse annuelle'!G37","v":0},null,{"$f":"'🗂 Synthèse annuelle'!H37","v":0},null,{"$f":"'🗂 Synthèse annuelle'!I37","v":0},null,{"$f":"'🗂 Synthèse annuelle'!J37","v":0},null,{"$f":"'🗂 Synthèse annuelle'!K37","v":0},null,{"$f":"'🗂 Synthèse annuelle'!L37","v":0},null,{"$f":"'🗂 Synthèse annuelle'!M37","v":0},null,{"$f":"'🗂 Synthèse annuelle'!N37","v":0},0]
[{"$f":"'🗂 Synthèse annuelle'!B38","v":0},null,{"$f":"'🗂 Synthèse annuelle'!C38","v":0},null,{"$f":"'🗂 Synthèse annuelle'!D38","v":0},null,{"$f":"'🗂 Synthèse annuelle'!E38","v":0},null,{"$f":"'🗂 Synthèse annuelle'!F38","v":0},null,{"$f":"'🗂 Synthèse annuelle'!G38","v":0},null,{"$f":"'🗂 Synthèse annuelle'!H38","v":0},null,{"$f":"'🗂 Synthèse annuelle'!I38","v":0},null,{"$f":"'🗂 Synthèse annuelle'!J38","v":0},null,{"$f":"'🗂 Synthèse annuelle'!K38","v":0},null,{"$f":"'🗂 Synthèse annuelle'!L38","v":0},null,{"$f":"'🗂 Synthèse annuelle'!M38","v":0},null,{"$f":"'🗂 Synthèse annuelle'!N38","v":0},{"$f":"IF(C42=0,B42,C42)+IF(E42=0,D42,E42)+IF(G42=0,F42,G42)+IF(I42=0,H42,I42)+IF(K42=0,J42,K42)+IF(M42=0,L42,M42)+IF(O42=0,N42,O42)+IF(Q42=0,P42,Q42)+IF(S42=0,R42,S42)+IF(U42=0,T42,U42)+IF(W42=0,V42,W42)+IF(Y42=0,X42,Y42)","v":0}]
[{"$f":"'🗂 Synthèse annuelle'!B39","v":0},null,{"$f":"'🗂 Synthèse annuelle'!C39","v":0},null,{"$f":"'🗂 Synthèse annuelle'!D39","v":0},null,{"$f":"'🗂 Synthèse annuelle'!E39","v":0},null,{"$f":"'🗂 Synthèse annuelle'!F39","v":0},null,{"$f":"'🗂 Synthèse annuelle'!G39","v":0},null,{"$f":"'🗂 Synthèse annuelle'!H39","v":0},null,{"$f":"'🗂 Synthèse annuelle'!I39","v":0},null,{"$f":"'🗂 Synthèse annuelle'!J39","v":0},null,{"$f":"'🗂 Synthèse annuelle'!K39","v":0},null,{"$f":"'🗂 Synthèse annuelle'!L39","v":0},null,{"$f":"'🗂 Synthèse annuelle'!M39","v":0},null,{"$f":"'🗂 Synthèse annuelle'!N39","v":0},0]
[{"$f":"'🗂 Synthèse annuelle'!B40","v":0},null,{"$f":"'🗂 Synthèse annuelle'!C40","v":0},null,{"$f":"'🗂 Synthèse annuelle'!D40","v":0},null,{"$f":"'🗂 Synthèse annuelle'!E40","v":0},null,{"$f":"'🗂 Synthèse annuelle'!F40","v":0},null,{"$f":"'🗂 Synthèse annuelle'!G40","v":0},null,{"$f":"'🗂 Synthèse annuelle'!H40","v":0},null,{"$f":"'🗂 Synthèse annuelle'!I40","v":0},null,{"$f":"'🗂 Synthèse annuelle'!J40","v":0},null,{"$f":"'🗂 Synthèse annuelle'!K40","v":0},null,{"$f":"'🗂 Synthèse annuelle'!L40","v":0},null,{"$f":"'🗂 Synthèse annuelle'!M40","v":0},null,{"$f":"'🗂 Synthèse annuelle'!N40","v":0},0]
[{"$f":"'🗂 Synthèse annuelle'!B41","v":0},null,{"$f":"'🗂 Synthèse annuelle'!C41","v":0},null,{"$f":"'🗂 Synthèse annuelle'!D41","v":0},null,{"$f":"'🗂 Synthèse annuelle'!E41","v":0},null,{"$f":"'🗂 Synthèse annuelle'!F41","v":0},null,{"$f":"'🗂 Synthèse annuelle'!G41","v":0},null,{"$f":"'🗂 Synthèse annuelle'!H41","v":0},null,{"$f":"'🗂 Synthèse annuelle'!I41","v":0},null,{"$f":"'🗂 Synthèse annuelle'!J41","v":0},null,{"$f":"'🗂 Synthèse annuelle'!K41","v":0},null,{"$f":"'🗂 Synthèse annuelle'!L41","v":0},null,{"$f":"'🗂 Synthèse annuelle'!M41","v":0},null,{"$f":"'🗂 Synthèse annuelle'!N41","v":0},0]
[{"$f":"'🗂 Synthèse annuelle'!B42","v":0},null,{"$f":"'🗂 Synthèse annuelle'!C42","v":0},null,{"$f":"'🗂 Synthèse annuelle'!D42","v":0},null,{"$f":"'🗂 Synthèse annuelle'!E42","v":0},null,{"$f":"'🗂 Synthèse annuelle'!F42","v":0},null,{"$f":"'🗂 Synthèse annuelle'!G42","v":0},null,{"$f":"'🗂 Synthèse annuelle'!H42","v":0},null,{"$f":"'🗂 Synthèse annuelle'!I42","v":0},null,{"$f":"'🗂 Synthèse annuelle'!J42","v":0},null,{"$f":"'🗂 Synthèse annuelle'!K42","v":0},null,{"$f":"'🗂 Synthèse annuelle'!L42","v":0},null,{"$f":"'🗂 Synthèse annuelle'!M42","v":0},null,{"$f":"'🗂 Synthèse annuelle'!N42","v":0},0]
[{"$f":"'🗂 Synthèse annuelle'!B43","v":0},null,{"$f":"'🗂 Synthèse annuelle'!C43","v":0},null,{"$f":"'🗂 Synthèse annuelle'!D43","v":0},null,{"$f":"'🗂 Synthèse annuelle'!E43","v":0},null,{"$f":"'🗂 Synthèse annuelle'!F43","v":0},null,{"$f":"'🗂 Synthèse annuelle'!G43","v":0},null,{"$f":"'🗂 Synthèse annuelle'!H43","v":0},null,{"$f":"'🗂 Synthèse annuelle'!I43","v":0},null,{"$f":"'🗂 Synthèse annuelle'!J43","v":0},null,{"$f":"'🗂 Synthèse annuelle'!K43","v":0},null,{"$f":"'🗂 Synthèse annuelle'!L43","v":0},null,{"$f":"'🗂 Synthèse annuelle'!M43","v":0},null,{"$f":"'🗂 Synthèse annuelle'!N43","v":0},0]
[{"$f":"'🗂 Synthèse annuelle'!B44","v":0},null,{"$f":"'🗂 Synthèse annuelle'!C44","v":0},null,{"$f":"'🗂 Synthèse annuelle'!D44","v":0},null,{"$f":"'🗂 Synthèse annuelle'!E44","v":0},null,{"$f":"'🗂 Synthèse annuelle'!F44","v":0},null,{"$f":"'🗂 Synthèse annuelle'!G44","v":0},null,{"$f":"'🗂 Synthèse annuelle'!H44","v":0},null,{"$f":"'🗂 Synthèse annuelle'!I44","v":0},null,{"$f":"'🗂 Synthèse annuelle'!J44","v":0},null,{"$f":"'🗂 Synthèse annuelle'!K44","v":0},null,{"$f":"'🗂 Synthèse annuelle'!L44","v":0},null,{"$f":"'🗂 Synthèse annuelle'!M44","v":0},null,{"$f":"'🗂 Synthèse annuelle'!N44","v":0},0]
[{"$f":"'🗂 Synthèse annuelle'!B45","v":0},null,{"$f":"'🗂 Synthèse annuelle'!C45","v":0},null,{"$f":"'🗂 Synthèse annuelle'!D45","v":0},null,{"$f":"'🗂 Synthèse annuelle'!E45","v":0},null,{"$f":"'🗂 Synthèse annuelle'!F45","v":0},null,{"$f":"'🗂 Synthèse annuelle'!G45","v":0},null,{"$f":"'🗂 Synthèse annuelle'!H45","v":0},null,{"$f":"'🗂 Synthèse annuelle'!I45","v":0},null,{"$f":"'🗂 Synthèse annuelle'!J45","v":0},null,{"$f":"'🗂 Synthèse annuelle'!K45","v":0},null,{"$f":"'🗂 Synthèse annuelle'!L45","v":0},null,{"$f":"'🗂 Synthèse annuelle'!M45","v":0},null,{"$f":"'🗂 Synthèse annuelle'!N45","v":0},0]
[]
["Cotisations sociales",null,{"$f":"'🗂 Synthèse annuelle'!C48","v":0},null,{"$f":"'🗂 Synthèse annuelle'!D48","v":0},{"$f":"AC29","v":0},{"$f":"'🗂 Synthèse annuelle'!E48","v":0},{"$f":"AD29","v":0},{"$f":"'🗂 Synthèse annuelle'!F48","v":0},{"$f":"AE29","v":0},{"$f":"'🗂 Synthèse annuelle'!G48","v":0},{"$f":"AF29","v":0},{"$f":"'🗂 Synthèse annuelle'!H48","v":0},{"$f":"AG29","v":0},{"$f":"'🗂 Synthèse annuelle'!I48","v":0},{"$f":"AH29","v":0},{"$f":"'🗂 Synthèse annuelle'!J48","v":0},{"$f":"AI29","v":0},{"$f":"'🗂 Synthèse annuelle'!K48","v":0},{"$f":"AJ29","v":0},{"$f":"'🗂 Synthèse annuelle'!L48","v":0},{"$f":"AK29","v":0},{"$f":"'🗂 Synthèse annuelle'!M48","v":0},{"$f":"AL29","v":0},{"$f":"'🗂 Synthèse annuelle'!N48","v":0},{"$f":"IF(C51=0,B51,C51)+IF(E51=0,D51,E51)+IF(G51=0,F51,G51)+IF(I51=0,H51,I51)+IF(K51=0,J51,K51)+IF(M51=0,L51,M51)+IF(O51=0,N51,O51)+IF(Q51=0,P51,Q51)+IF(S51=0,R51,S51)+IF(U51=0,T51,U51)+IF(W51=0,V51,W51)+IF(Y51=0,X51,Y51)","v":0}]
[]
["ESTIMATION RESULTAT NET",{"$f":"B6-B29","v":0},{"$f":"C6-C29","v":0},{"$f":"D6-D29","v":0},0,0,0,0,0,0,0,0,0,0,0,0,0,0,0,0,0,0,0,0,0,{"$f":"Z6-Z29","v":0}]

{"sheet":"🧾 Facture","index":16,"n_rows":34,"n_cols":9,"rows_kept":34,"cut":false,"hidden":false,"merged":[[45,1,45,8],[44,1,44,8],[34,1,35,8],[1,6,2,7],[33,1,33,8],[14,1,15,1],[14,2,15,5],[14,6,15,6],[14,7,15,7],[14,8,15,8],[16,2,16,5],[17,2,17,5],[18,2,18,5],[19,2,19,5],[20,2,20,5],[21,2,21,5],[26,1,26,2],[26,6,26,8]]}
[]
[null,"Votre nom",null,null,null,null,"FACTURE N° "]
[null,"Votre adresse"]
[null,"Votre adresse"]
[]
[null,null,null,null,null,null,"Client"]
[null,"Votre mail",null,null,null,null,"Adresse"]
[null,"Votre téléphone",null,null,null,null,"Adresse"]
[null,"SIRET : ",null,null,null,null,"Adresse"]
[]
[]
[]
[null,null,null,null,null,null,null,"Lieu","date"]
[]
[null,"Date","Libellé",null,null,null,"Qté (heures)","Prix unitaire","Total"]
[]
[null,null,null,null,null,null,null,null,{"$f":"G17*H17","v":0}]
[null,null,null,null,null,null,null,null,{"$f":"G18*H18","v":0}]
[null,null,null,null,null,null,null,null,0]
[null,null,null,null,null,null,null,null,0]
[null,null,null,null,null,null,null,null,{"$f":"G21*H21","v":0}]
[null,null,null,null,null,null,null,null,0]
[null,null,null,null,null,null,null,"TOTAL HT",{"$f":"SUM(I17:I22)","v":0}]
[null,null,null,null,null,null,null,"ACOMPTE"]
[null,null,null,null,null,null,null,"REMISE"]
[null,null,null,null,null,null,null,"NET A PAYER",{"$f":"I23-I24-I25","v":0}]
[null,null,null,null,null,null,"TVA non applicable, article 293B du code général des impôts"]
[null,"Conditions de règlement :"]
[null,"Echéance de paiement :"]
[null,"IBAN :"]
[]
[null,"> Taux de pénalités de retard : 11% et indemnité forfaitaire de 40€HT pour frais de recouvrement"]
[null,"> Pas d'escompte pour paiement anticipé"]
[null,"Dispensé d'immatriculation au registre de commerce et des sociétés (RCS) et au répertoire des métiers (RM)"]

{"sheet":"coulisses 2","index":17,"n_rows":20,"n_cols":2,"rows_kept":20,"cut":false,"hidden":true,"merged":[]}
[{"$f":"'👩🏻‍🏫 Bienvenue !'!I27","v":0},{"$f":"'👩🏻‍🏫 Bienvenue !'!G27","v":0}]
[{"$f":"'👩🏻‍🏫 Bienvenue !'!I28","v":0},{"$f":"'👩🏻‍🏫 Bienvenue !'!G28","v":0}]
[{"$f":"'👩🏻‍🏫 Bienvenue !'!I29","v":0},{"$f":"'👩🏻‍🏫 Bienvenue !'!G29","v":0}]
[{"$f":"'👩🏻‍🏫 Bienvenue !'!I30","v":0},{"$f":"'👩🏻‍🏫 Bienvenue !'!G30","v":0}]
[{"$f":"'👩🏻‍🏫 Bienvenue !'!I31","v":0},{"$f":"'👩🏻‍🏫 Bienvenue !'!G31","v":0}]
[{"$f":"'👩🏻‍🏫 Bienvenue !'!I32","v":0},{"$f":"'👩🏻‍🏫 Bienvenue !'!G32","v":0}]
[{"$f":"'👩🏻‍🏫 Bienvenue !'!I33","v":0},{"$f":"'👩🏻‍🏫 Bienvenue !'!G33","v":0}]
[{"$f":"'👩🏻‍🏫 Bienvenue !'!I34","v":0},{"$f":"'👩🏻‍🏫 Bienvenue !'!G34","v":0}]
[{"$f":"'👩🏻‍🏫 Bienvenue !'!I35","v":0},{"$f":"'👩🏻‍🏫 Bienvenue !'!G35","v":0}]
[{"$f":"'👩🏻‍🏫 Bienvenue !'!I36","v":0},{"$f":"'👩🏻‍🏫 Bienvenue !'!G36","v":0}]
[{"$f":"'👩🏻‍🏫 Bienvenue !'!I37","v":0},{"$f":"'👩🏻‍🏫 Bienvenue !'!G37","v":0}]
[{"$f":"'👩🏻‍🏫 Bienvenue !'!I38","v":0},{"$f":"'👩🏻‍🏫 Bienvenue !'!G38","v":0}]
[{"$f":"'👩🏻‍🏫 Bienvenue !'!I39","v":0},{"$f":"'👩🏻‍🏫 Bienvenue !'!G39","v":0}]
[{"$f":"'👩🏻‍🏫 Bienvenue !'!I40","v":0},{"$f":"'👩🏻‍🏫 Bienvenue !'!G40","v":0}]
[{"$f":"'👩🏻‍🏫 Bienvenue !'!I41","v":0},{"$f":"'👩🏻‍🏫 Bienvenue !'!G41","v":0}]
[{"$f":"'👩🏻‍🏫 Bienvenue !'!I42","v":0},{"$f":"'👩🏻‍🏫 Bienvenue !'!G42","v":0}]
[{"$f":"'👩🏻‍🏫 Bienvenue !'!I43","v":0},{"$f":"'👩🏻‍🏫 Bienvenue !'!G43","v":0}]
[{"$f":"'👩🏻‍🏫 Bienvenue !'!I44","v":0},{"$f":"'👩🏻‍🏫 Bienvenue !'!G44","v":0}]
[{"$f":"'👩🏻‍🏫 Bienvenue !'!I45","v":0},{"$f":"'👩🏻‍🏫 Bienvenue !'!G45","v":0}]
[{"$f":"'👩🏻‍🏫 Bienvenue !'!I46","v":0},{"$f":"'👩🏻‍🏫 Bienvenue !'!G46","v":0}]

{"sheet":"coulisses","index":18,"n_rows":46,"n_cols":10,"rows_kept":46,"cut":false,"hidden":true,"merged":[]}
[null,null,null,null,null,null,null,null,"Paypal","Catégories"]
[null,null,null,null,null,null,null,null,"Stripe"]
[null,null,null,null,null,null,null,null,"CB",{"$f":"'👩🏻‍🏫 Bienvenue !'!I27","v":0}]
[null,null,null,null,null,null,null,null,"Espèces",{"$f":"'👩🏻‍🏫 Bienvenue !'!I28","v":0}]
[null,null,null,null,null,null,null,null,"Chèque",{"$f":"'👩🏻‍🏫 Bienvenue !'!I29","v":0}]
[null,null,null,null,null,null,null,null,"Virement",{"$f":"'👩🏻‍🏫 Bienvenue !'!I30","v":0}]
[null,null,null,null,null,null,null,null,null,{"$f":"'👩🏻‍🏫 Bienvenue !'!I31","v":0}]
[null,null,null,null,null,null,null,null,null,{"$f":"'👩🏻‍🏫 Bienvenue !'!I32","v":0}]
[null,null,null,null,null,null,null,null,null,{"$f":"'👩🏻‍🏫 Bienvenue !'!I33","v":0}]
[null,null,null,null,null,null,null,null,null,{"$f":"'👩🏻‍🏫 Bienvenue !'!I34","v":0}]
[null,null,null,null,null,null,null,null,null,{"$f":"'👩🏻‍🏫 Bienvenue !'!I35","v":0}]
[null,null,null,null,null,null,null,null,null,{"$f":"'👩🏻‍🏫 Bienvenue !'!I36","v":0}]
[null,null,null,null,null,null,null,null,null,{"$f":"'👩🏻‍🏫 Bienvenue !'!I37","v":0}]
[null,null,null,null,null,null,null,null,null,{"$f":"'👩🏻‍🏫 Bienvenue !'!I38","v":0}]
[null,null,null,null,null,null,null,null,null,{"$f":"'👩🏻‍🏫 Bienvenue !'!I39","v":0}]
[null,null,null,null,null,null,null,null,null,{"$f":"'👩🏻‍🏫 Bienvenue !'!I40","v":0}]
[null,null,null,null,null,null,null,null,null,{"$f":"'👩🏻‍🏫 Bienvenue !'!I41","v":0}]
[null,null,null,null,null,null,null,null,null,{"$f":"'👩🏻‍🏫 Bienvenue !'!I42","v":0}]
[null,null,null,null,null,null,null,null,null,{"$f":"'👩🏻‍🏫 Bienvenue !'!I43","v":0}]
[null,null,null,null,null,null,null,null,null,{"$f":"'👩🏻‍🏫 Bienvenue !'!I44","v":0}]
[null,null,null,null,null,null,null,null,null,{"$f":"'👩🏻‍🏫 Bienvenue !'!I45","v":0}]
[null,null,null,null,null,null,null,null,null,{"$f":"'👩🏻‍🏫 Bienvenue !'!I46","v":0}]
[null,null,null,null,null,null,null,null,null,{"$f":"'👩🏻‍🏫 Bienvenue !'!I50","v":0}]
[null,null,null,null,null,null,null,null,null,{"$f":"'👩🏻‍🏫 Bienvenue !'!I51","v":0}]
[null,null,null,null,null,null,null,null,null,{"$f":"'👩🏻‍🏫 Bienvenue !'!I52","v":0}]
[null,null,null,null,null,null,null,null,null,{"$f":"'👩🏻‍🏫 Bienvenue !'!I53","v":0}]
["🧔🏽",null,null,null,null,null,null,null,null,{"$f":"'👩🏻‍🏫 Bienvenue !'!I54","v":0}]
["🧔🏼",null,null,null,null,null,null,null,null,{"$f":"'👩🏻‍🏫 Bienvenue !'!I55","v":0}]
["👩🏾‍🦰 ",null,null,null,null,null,null,null,null,{"$f":"'👩🏻‍🏫 Bienvenue !'!I56","v":0}]
["👵🏻",null,null,null,null,null,null,null,null,{"$f":"'👩🏻‍🏫 Bienvenue !'!I57","v":0}]
["👱🏼",null,null,null,null,null,null,null,null,{"$f":"'👩🏻‍🏫 Bienvenue !'!I58","v":0}]
["👩🏿‍🦱",null,null,null,null,null,null,null,null,{"$f":"'👩🏻‍🏫 Bienvenue !'!I59","v":0}]
["🧑🏼‍🦱",null,null,null,null,null,null,null,null,{"$f":"'👩🏻‍🏫 Bienvenue !'!I60","v":0}]
["👨🏼‍🦰",null,null,null,null,null,null,null,null,{"$f":"'👩🏻‍🏫 Bienvenue !'!I61","v":0}]
["👩🏽‍🦱",null,null,null,null,null,null,null,null,{"$f":"'👩🏻‍🏫 Bienvenue !'!I62","v":0}]
["👩🏻‍🦱 ",null,null,null,null,null,null,null,null,{"$f":"'👩🏻‍🏫 Bienvenue !'!I63","v":0}]
["👨🏾‍🦲",null,null,null,null,null,null,null,null,{"$f":"'👩🏻‍🏫 Bienvenue !'!I64","v":0}]
["👨🏼‍🦲",null,null,null,null,null,null,null,null,{"$f":"'👩🏻‍🏫 Bienvenue !'!I65","v":0}]
["👩🏼",null,null,null,null,null,null,null,null,{"$f":"'👩🏻‍🏫 Bienvenue !'!I66","v":0}]
["🧕🏾",null,null,null,null,null,null,null,null,{"$f":"'👩🏻‍🏫 Bienvenue !'!I67","v":0}]
["👩🏻",null,null,null,null,null,null,null,null,{"$f":"'👩🏻‍🏫 Bienvenue !'!I68","v":0}]
["👨🏿‍🦱",null,null,null,null,null,null,null,null,{"$f":"'👩🏻‍🏫 Bienvenue !'!I69","v":"Cotisations sociales"}]
["👨🏻‍🦳"]
["👩🏾"]
["👨🏻‍🦱"]
["🧑🏾‍🦱"]