Workbook

Sheet Paramêtres
F1: Bienvenue | G1: =$I$7&" !" -> ! | I1: =K7 -> 0
B5: 👩🏻‍🏫 | D5: Bonjour et merci d'avoir téléchargé ce fichier ! Je m'appelle Laure, et vous ? Tapez votre nom dans la case violette et choisissez votre icône dans la liste en cliquant sur l'emoji ! Vous pouvez aussi en copier-coller un du site getemoji.com par exemple.
G7: Bonjour ! Je m'appelle
B9: =$B$5 -> 👩🏻‍🏫 | D9: ="Enchantée "&I7&" !" -> Enchantée !
D10: Comment s'appelle votre micro-entreprise ?
G12: Ma micro-entreprise s'appelle | K12: =$K$7 -> 0
B14: =B9 -> 👩🏻‍🏫 | D14: Parlons maintenant de vos produits et services. Dans ce fichier, vous pouvez saisir jusqu'à dix catégories de produits et services.
D15: Chaque catégorie doit regrouper des produits qui ont des coûts similaires et le même prix de vente.
G17: Catégorie 1 : | K17: =$K$7 -> 0
G18: Catégorie 2 :
G19: Catégorie 3 :
G20: Catégorie 4 :
G21: Catégorie 5 :
G22: Catégorie 6 :
G23: Catégorie 7 :
G24: Catégorie 8 :
G25: Catégorie 9 :
G26: Catégorie 10 :
B28: =$B$5 -> 👩🏻‍🏫 | D28: Vous pouvez utiliser jusqu'à trois taux de cotisations pour vos différents types de produits ou services. Les taux applicables dépendent de l'ACRE, de vos choix d'imposition (prélèvement libératoire ou non) et du type de produits et de services que vous offrez. Ces taux apparaîtront dans la liste déroulante de l'onglet suivant.
D29: Si vous avez besoin de plus d'informations, cliquez ici !
G31: Taux 1
G32: Taux 2
G33: Taux 3
B35: =B5 -> 👩🏻‍🏫 | D35: Ok, c'est noté ! Souvenez-vous que les cellules jaunes sont celles que vous devez remplir.
D37: OK, merci ! | K37: =$K$7 -> 0
B39: =B5 -> 👩🏻‍🏫 | D39: Vous pouvez maintenant passer à l'étape suivante : remplir les coûts pour chacune de vos catégories et fixer un prix de vente.
D40: ="Je vous souhaite plein de succès avec"&" "&I12&" ! " -> Je vous souhaite plein de succès avec !
B41: Ce contenu est soumis au droit d’auteur et est la propriété de Comptes & Formules. Toute représentation ou reproduction non autorisée est passible d’une action en contrefaçon.

Sheet Vos produits & services
B2: =Paramêtres!I1&" "&"Les produits et services de "&Paramêtres!I12 -> 0 Les produits et services de
B4: =Paramêtres!I17 -> 0 | E4: =Paramêtres!I18 -> 0 | H4: =Paramêtres!I19 -> 0 | K4: =Paramêtres!I20 -> 0 | N4: =Paramêtres!I21 -> 0
B5: Taux de cotisation applicable | C5: 0.128 | E5: Taux de cotisation applicable | H5: Taux de cotisation applicable | K5: Taux de cotisation applicable | N5: Taux de cotisation applicable
B6: Coûts | C6: =SUM(C7:C18) -> 0 | E6: Coûts | F6: =SUM(F7:F18) -> 0 | H6: Coûts | I6: =SUM(I7:I18) -> 0 | K6: Coûts | L6: =SUM(L7:L18) -> 0 | N6: Coûts | O6: =SUM(O7:O18) -> 0
B18: Cotisations | C18: =C19*C5 -> 0 | E18: Cotisations | F18: =F19*F5 -> 0 | H18: Cotisations | I18: =I19*I5 -> 0 | K18: Cotisations | L18: =L19*L5 -> 0 | N18: Cotisations | O18: =O19*O5 -> 0
B19: Prix de vente | E19: Prix de vente | H19: Prix de vente | K19: Prix de vente | N19: Prix de vente
B20: Marge | C20: =C19-C6 -> 0 | E20: Marge | F20: =F19-F6 -> 0 | H20: Marge | I20: =I19-I6 -> 0 | K20: Marge | L20: =L19-L6 -> 0 | N20: Marge | O20: =O19-O6 -> 0
B22: =Paramêtres!I22 -> 0 | E22: =Paramêtres!I23 -> 0 | H22: =Paramêtres!I24 -> 0 | K22: =Paramêtres!I25 -> 0 | N22: =Paramêtres!I26 -> 0
B23: Taux de cotisation applicable | E23: Taux de cotisation applicable | H23: Taux de cotisation applicable | K23: Taux de cotisation applicable | N23: Taux de cotisation applicable
B24: Coûts | C24: =SUM(C25:C36) -> 0 | E24: Coûts | F24: =SUM(F25:F36) -> 0 | H24: Coûts | I24: =SUM(I25:I36) -> 0 | K24: Coûts | L24: =SUM(L25:L36) -> 0 | N24: Coûts | O24: =SUM(O25:O36) -> 0
B36: Cotisations | C36: =C37*C23 -> 0 | E36: Cotisations | F36: =F37*F23 -> 0 | H36: Cotisations | I36: =I37*I23 -> 0 | K36: Cotisations | L36: =L37*L23 -> 0 | N36: Cotisations | O36: =O37*O23 -> 0
B37: Prix de vente | E37: Prix de vente | H37: Prix de vente | K37: Prix de vente | N37: Prix de vente
B38: Marge | C38: =C37-C24 -> 0 | E38: Marge | F38: =F37-F24 -> 0 | H38: Marge | I38: =I37-I24 -> 0 | K38: Marge | L38: =L37-L24 -> 0 | N38: Marge | O38: =O37-O24 -> 0
B42: 👩🏻‍🏫 | C42: Gardez en tête plusieurs conseils quand vous travaillez sur ces tableaux :
C44: - cet article peut vous aider,
C45: - si vous vendez en ligne, n'oubliez pas l'emballage et l'envoi, - si vous vendez en ligne et en direct, vous pouvez utiliser deux catégories pour les mêmes produits car les coûts sont différents, - votre marge sur le produit doit toujours être supérieure à zéro, sinon, vous perdez de l'argent dès la première étape.

Sheet Votre mois type
B2: =Paramêtres!I1&" "&"Un mois type chez "&Paramêtres!I12 -> 0 Un mois type chez
B4: Quantités vendues | C4: =SUM(C5:C14) -> 0 | E4: 👩🏻‍🏫 | F4: Pour chaque catégorie de produit, estimez combien vous en vendez en moyenne en un mois.
B5: =Paramêtres!I17 -> 0
B6: =Paramêtres!I18 -> 0
B7: =Paramêtres!I19 -> 0
B8: =Paramêtres!I20 -> 0
B9: =Paramêtres!I21 -> 0
B10: =Paramêtres!I22 -> 0
B11: =Paramêtres!I23 -> 0
B12: =Paramêtres!I24 -> 0
B13: =Paramêtres!I25 -> 0
B14: =Paramêtres!I26 -> 0
B17: Chiffre d'affaires | C17: =SUM(C18:C27) -> 0 | E17: 👩🏻‍🏫 | F17: Ici, votre chiffre d'affaires estimé pour chaque catégorie se calcule automatiquement.
B18: =B5 -> 0 | C18: =C5*'Vos produits & services'!C19 -> 0
B19: =B6 -> 0 | C19: =C6*'Vos produits & services'!F19 -> 0
B20: =B7 -> 0 | C20: =C7*'Vos produits & services'!I19 -> 0
B21: =B8 -> 0 | C21: =C8*'Vos produits & services'!L19 -> 0
B22: =B9 -> 0 | C22: ='Votre mois type'!C9*'Vos produits & services'!O19 -> 0
B23: =B10 -> 0 | C23: =C10*'Vos produits & services'!C37 -> 0
B24: =B11 -> 0 | C24: =C11*'Vos produits & services'!F37 -> 0
B25: =B12 -> 0 | C25: =C12*'Vos produits & services'!I37 -> 0
B26: =B13 -> 0 | C26: =C13*'Vos produits & services'!L37 -> 0
B27: =B14 -> 0 | C27: =C14*'Vos produits & services'!O37 -> 0
B30: Vos coûts liés directement aux produits | C30: =SUM(C31:C40) -> 0 | E30: 👩🏻‍🏫 | F30: Ici, vos dépenses liées à la fabrication des produits et services pour le mois se calculent automatiquement.
B31: =B18 -> 0 | C31: =C5*'Vos produits & services'!C6 -> 0
B32: =B19 -> 0 | C32: =C6*'Vos produits & services'!F6 -> 0
B33: =B20 -> 0 | C33: =C7*'Vos produits & services'!I6 -> 0
B34: =B21 -> 0 | C34: =C8*'Vos produits & services'!L6 -> 0
B35: =B22 -> 0 | C35: =C9*'Vos produits & services'!O6 -> 0
B36: =B23 -> 0 | C36: =C10*'Vos produits & services'!C24 -> 0
B37: =B24 -> 0 | C37: =C11*'Vos produits & services'!F24 -> 0
B38: =B25 -> 0 | C38: =C12*'Vos produits & services'!I24 -> 0
B39: =B26 -> 0 | C39: =C13*'Vos produits & services'!L24 -> 0
B40: =B27 -> 0 | C40: =C14*'Vos produits & services'!O24 -> 0
B41: MARGE BRUTE | C41: =C17-C30 -> 0
B43: Vos autres dépenses du mois | C43: =SUM(C44:C69) -> 0 | E43: 👩🏻‍🏫 | F43: Les autres dépenses sont les dépenses de fonctionnement que vous ne pouvez pas attribuer directement à un produit ou un service. Il s'agit par exemple de vos abonnements, de la publicité, de vos frais bancaires, d'achat de petit matériel, de vos frais de networking.
B71: Résultat avant impôts | C71: =C41-C43 -> 0
B73: Impôts et taxes | C73: =SUM(C75:C79) -> 0
B75: Cotisations sociales taux à :
B76: =Paramêtres!I31 -> 0 | C76: =SUMIF(coulisses!$H$4:$H$13,'Votre mois type'!B76,coulisses!$J$4:$J$13) -> 0
...

Sheet coulisses
G1: Calcul montant cotisations par taux
G3: Produits | H3: Taux | I3: CA du mois | J3: Montant cotisations
G4: =Paramêtres!I17 -> 0 | H4: ='Vos produits & services'!C5 -> 0.128 | I4: ='Votre mois type'!C18 -> 0 | J4: =I4*H4 -> 0
G5: =Paramêtres!I18 -> 0 | H5: ='Vos produits & services'!F5 -> 0 | I5: ='Votre mois type'!C19 -> 0 | J5: =I5*H5 -> 0
G6: =Paramêtres!I19 -> 0 | H6: ='Vos produits & services'!I5 -> 0 | I6: ='Votre mois type'!C20 -> 0 | J6: =I6*H6 -> 0
G7: =Paramêtres!I20 -> 0 | H7: ='Vos produits & services'!L5 -> 0 | I7: ='Votre mois type'!C21 -> 0 | J7: =I7*H7 -> 0
G8: =Paramêtres!I21 -> 0 | H8: ='Vos produits & services'!O5 -> 0 | I8: ='Votre mois type'!C22 -> 0 | J8: =I8*H8 -> 0
G9: =Paramêtres!I22 -> 0 | H9: ='Vos produits & services'!C23 -> 0 | I9: ='Votre mois type'!C23 -> 0 | J9: =I9*H9 -> 0
G10: =Paramêtres!I23 -> 0 | H10: ='Vos produits & services'!F23 -> 0 | I10: ='Votre mois type'!C24 -> 0 | J10: =I10*H10 -> 0
G11: =Paramêtres!I24 -> 0 | H11: ='Vos produits & services'!I23 -> 0 | I11: ='Votre mois type'!C25 -> 0 | J11: =I11*H11 -> 0
G12: =Paramêtres!I25 -> 0 | H12: ='Vos produits & services'!L23 -> 0 | I12: ='Votre mois type'!C26 -> 0 | J12: =I12*H12 -> 0
G13: =Paramêtres!I26 -> 0 | H13: ='Vos produits & services'!O23 -> 0 | I13: ='Votre mois type'!C27 -> 0 | J13: =I13*H13 -> 0
A18: 🧔🏽
A19: 🧔🏼
A20: 🧑🏾
A21: 👵🏻
A22: 👱🏼
A23: 👩🏿‍🦱
A24: 👩🏼‍🦰
A25: 🧑🏼‍🦱
A26: 👨🏼‍🦰
A27: 👩🏽‍🦱
A28: 👩🏻‍🦱
A29: 👨🏾‍🦲
... A38: 🧑🏾‍🦱
